Workbook
Name Kollegen: Personaldaten!$J$3:$J$22
Name Urlaubskalender: Übersicht!$Q$1:$CV$28

Sheet Erläuterungen
B1: 1 | C1: 2 | D1: 3 | E1: 4 | F1: 5 | G1: 6 | H1: 7 | I1: 8 | J1: 9 | K1: 10 | L1: 11 | M1: 12 | N1: 13 | O1: 14 | P1: 15 | Q1: 16 | R1: 17 | S1: 18 | T1: 19 | U1: 20 | V1: 21 | W1: 22 | X1: 23 | Y1: 24 | Z1: 25 | AA1: 26 | AB1: 27 | AC1: 28 | AD1: 29 | AE1: 30 | AF1: 31 | AG1: 32 | AH1: 33 | AI1: 34 | AJ1: 35 | AK1: 36 | AL1: 37 | AM1: 38 | AN1: 39 | AO1: 40 | AP1: 41 | AQ1: 42 | AR1: 43 | AS1: 44 | AT1: 45 | AU1: 46 | AV1: 47 | AW1: 48 | AX1: 49 | AY1: 50 | AZ1: 51 | BA1: 52 | BB1: 53 | BC1: 54 | BD1: 55 | BE1: 56 | BF1: 57 | BG1: 58 | BH1: 59 | BI1: 60 | BJ1: 61 | BK1: 62 | BL1: 63 | BM1: 64 | BN1: 65 | BO1: 66 | BP1: 67 | BQ1: 68 | BR1: 69 | BS1: 70 | BT1: 71 | BU1: 72 | BV1: 73 | BW1: 74 | BX1: 75 | BY1: 76 | BZ1: 77 | CA1: 78 | CB1: 79 | CC1: 80 | CD1: 81 | CE1: 82 | CF1: 83 | CG1: 84 | CH1: 85 | CI1: 86 | CJ1: 87 | CK1: 88 | CL1: 89 | CM1: 90 | CN1: 91 | CO1: 92 | CP1: 93 | CQ1: 94 | CR1: 95 | CS1: 96 | CT1: 97 | CU1: 98 | CV1: 99 | CW1: 100 | CX1: 101 | CY1: 102 | CZ1: 103 | DA1: 104 | DB1: 105 | DC1: 106 | DD1: 107 | DE1: 108 | DF1: 109 | DG1: 110 | DH1: 111 | DI1: 112 | DJ1: 113 | DK1: 114 | DL1: 115 | DM1: 116 | DN1: 117 | DO1: 118 | DP1: 119 | DQ1: 120 | DR1: 121 | DS1: 122 | DT1: 123 | DU1: 124 | DV1: 125 | DW1: 126 | DX1: 127 | DY1: 128 | DZ1: 129 | EA1: 130 | EB1: 131 | EC1: 132 | ED1: 133 | EE1: 134 | EF1: 135 | EG1: 136 | EH1: 137 | EI1: 138 | EJ1: 139 | EK1: 140 | EL1: 141 | EM1: 142 | EN1: 143 | EO1: 144 | EP1: 145 | EQ1: 146 | ER1: 147 | ES1: 148 | ET1: 149 | EU1: 150 | EV1: 151 | EW1: 152 | EX1: 153 | EY1: 154 | EZ1: 155 | FA1: 156 | FB1: 157 | FC1: 158 | FD1: 159 | FE1: 160 | FF1: 161 | FG1: 162 | FH1: 163 | FI1: 164 | FJ1: 165 | FK1: 166 | FL1: 167 | FM1: 168 | FN1: 169 | FO1: 170 | FP1: 171 | FQ1: 172 | FR1: 173 | FS1: 174 | FT1: 175 | FU1: 176 | FV1: 177 | FW1: 178 | FX1: 179 | FY1: 180 | FZ1: 181 | GA1: 182 | GB1: 183 | GC1: 184 | GD1: 185 | GE1: 186 | GF1: 187 | GG1: 188 | GH1: 189 | GI1: 190 | GJ1: 191 | GK1: 192 | GL1: 193 | GM1: 194 | GN1: 195 | GO1: 196 | GP1: 197 | GQ1: 198 | GR1: 199 | GS1: 200 | GT1: 201 | GU1: 202 | GV1: 203 | GW1: 204 | GX1: 205 | GY1: 206 | GZ1: 207 | HA1: 208 | HB1: 209 | HC1: 210 | HD1: 211 | HE1: 212 | HF1: 213 | HG1: 214 | HH1: 215 | HI1: 216 | HJ1: 217 | HK1: 218 | HL1: 219 | HM1: 220 | HN1: 221 | HO1: 222 | HP1: 223 | HQ1: 224 | HR1: 225 | HS1: 226 | HT1: 227 | HU1: 228 | HV1: 229 | HW1: 230 | HX1: 231 | HY1: 232 | HZ1: 233 | IA1: 234 | IB1: 235 | IC1: 236 | ID1: 237 | IE1: 238 | IF1: 239 | IG1: 240 | IH1: 241 | II1: 242 | IJ1: 243 | IK1: 244 | IL1: 245 | IM1: 246 | IN1: 247 | IO1: 248 | IP1: 249 | IQ1: 250 | IR1: 251 | IS1: 252 | IT1: 253 | IU1: 254 | IV1: 255 | IW1: 256 | IX1: 257 | IY1: 258 | IZ1: 259 | JA1: 260 | JB1: 261 | JC1: 262 | JD1: 263 | JE1: 264 | JF1: 265 | JG1: 266 | JH1: 267 | JI1: 268 | JJ1: 269 | JK1: 270 | JL1: 271 | JM1: 272 | JN1: 273 | JO1: 274 | JP1: 275 | JQ1: 276 | JR1: 277 | JS1: 278 | JT1: 279 | JU1: 280 | JV1: 281 | JW1: 282 | JX1: 283 | JY1: 284 | JZ1: 285 | KA1: 286 | KB1: 287 | KC1: 288 | KD1: 289 | KE1: 290 | KF1: 291 | KG1: 292 | KH1: 293 | KI1: 294 | KJ1: 295 | KK1: 296 | KL1: 297 | KM1: 298 | KN1: 299 | KO1: 300 | KP1: 301 | KQ1: 302 | KR1: 303 | KS1: 304 | KT1: 305 | KU1: 306 | KV1: 307 | KW1: 308 | KX1: 309 | KY1: 310 | KZ1: 311 | LA1: 312 | LB1: 313 | LC1: 314 | LD1: 315 | LE1: 316 | LF1: 317 | LG1: 318 | LH1: 319 | LI1: 320 | LJ1: 321 | LK1: 322 | LL1: 323 | LM1: 324 | LN1: 325 | LO1: 326 | LP1: 327 | LQ1: 328 | LR1: 329 | LS1: 330 | LT1: 331 | LU1: 332 | LV1: 333 | LW1: 334 | LX1: 335 | LY1: 336 | LZ1: 337 | MA1: 338 | MB1: 339 | MC1: 340 | MD1: 341 | ME1: 342 | MF1: 343 | MG1: 344 | MH1: 345 | MI1: 346 | MJ1: 347 | MK1: 348 | ML1: 349 | MM1: 350
A3: Tabelle Personaldaten
A4: In Spalte A wird ein Name mit Personalnummer (eindeutiges Suchkriterium für SVERWEIS) und dem Namen generiert,
A5: der in der Tabelle "Meine Kollegen" verwendet wird.
A6: Diese Spalte kann ausgeblendet werden, oder die Schriftfarbe auf Schwarz gestellt werden.
A7: Du kannst natürlich auch nur mit dem Namen suchen, das kann aber zu falschen Ergebnissen führen, wenn mehrere Mitarbeiter
A8: den gleichen Nachnamen haben.
A10: Meine Kollegen
A11: Die SVERWEIS-Formel für die bedingte Formatierung für den Januar lautet:
A12: =SVERWEIS(WERT(LINKS($M$2;2));Übersicht!$B$9:$NR$22;15+TAG(B6);FALSCH)>0
A14: Diese Formel muss für alle Monate angepasst werden.
A15: Für Februar sieht diese Formel so aus:
A17: =SVERWEIS(WERT(LINKS($M$2;2));Übersicht!$B$9:$NR$22;46+TAG(J6);FALSCH)>0
A19: Mit dem Teil
A20: Januar | B20: 15+TAG(B6)
A21: Februar | B21: 46+TAG(J6)
A23: wird die entsprechende Rückgabespalte ermittelt. Diese muss für jeden Monat angepasst werden.
A24: Januar | B24: 15+1 | C24: ergibt die 16. Spalte in der Ausgabematrix, die erst bei Spalte 2 beginnt, somit die Spalte Q, den 1. Januar in der Tabelle Übersicht
A25: Februar | B25: 46+1 | C25: ergibt die 47. Spalte in der Ausgabematrix, die erst bei Spalte 2 beginnt, somit die Spalte AV, den 1. Februar in der Tabelle Übersicht
A26: Für die anderen Monate kannst du dir die Formel entsprechend anpassen; siehe hierzu die Zahlenreihe in der ersten Zeilen auf diesem Blatt :-)
A28: Mit Tag(B6) wird die Zahl des entsprechenden Tages ermittelt; bezieht sich immer auf den ersten Montag in deinem Monatskalender

Sheet Übersicht
Q1: 2022
Q2: 44562 | R2: 44563 | S2: 44564 | T2: 44565 | U2: 44566 | V2: 44567 | W2: 44568 | X2: 44569 | Y2: 44570 | Z2: 44571 | AA2: 44572 | AB2: 44573 | AC2: 44574 | AD2: 44575 | AE2: 44576 | AF2: 44577 | AG2: 44578 | AH2: 44579 | AI2: 44580 | AJ2: 44581 | AK2: 44582 | AL2: 44583 | AM2: 44584 | AN2: 44585 | AO2: 44586 | AP2: 44587 | AQ2: 44588 | AR2: 44589 | AS2: 44590 | AT2: 44591 | AU2: 44592 | AV2: 44593 | AW2: 44594 | AX2: 44595 | AY2: 44596 | AZ2: 44597 | BA2: 44598 | BB2: 44599 | BC2: 44600 | BD2: 44601 | BE2: 44602 | BF2: 44603 | BG2: 44604 | BH2: 44605 | BI2: 44606 | BJ2: 44607 | BK2: 44608 | BL2: 44609 | BM2: 44610 | BN2: 44611 | BO2: 44612 | BP2: 44613 | BQ2: 44614 | BR2: 44615 | BS2: 44616 | BT2: 44617 | BU2: 44618 | BV2: 44619 | BW2: 44620 | BX2: 44621 | BY2: 44622 | BZ2: 44623 | CA2: 44624 | CB2: 44625 | CC2: 44626 | CD2: 44627 | CE2: 44628 | CF2: 44629 | CG2: 44630 | CH2: 44631 | CI2: 44632 | CJ2: 44633 | CK2: 44634 | CL2: 44635 | CM2: 44636 | CN2: 44637 | CO2: 44638 | CP2: 44639 | CQ2: 44640 | CR2: 44641 | CS2: 44642 | CT2: 44643 | CU2: 44644 | CV2: 44645 | CW2: 44646 | CX2: 44647 | CY2: 44648 | CZ2: 44649 | DA2: 44650 | DB2: 44651 | DC2: 44652 | DD2: 44653 | DE2: 44654 | DF2: 44655 | DG2: 44656 | DH2: 44657 | DI2: 44658 | DJ2: 44659 | DK2: 44660 | DL2: 44661 | DM2: 44662 | DN2: 44663 | DO2: 44664 | DP2: 44665 | DQ2: 44666 | DR2: 44667 | DS2: 44668 | DT2: 44669 | DU2: 44670 | DV2: 44671 | DW2: 44672 | DX2: 44673 | DY2: 44674 | DZ2: 44675 | EA2: 44676 | EB2: 44677 | EC2: 44678 | ED2: 44679 | EE2: 44680 | EF2: 44681 | EG2: 44682 | EH2: 44683 | EI2: 44684 | EJ2: 44685 | EK2: 44686 | EL2: 44687 | EM2: 44688 | EN2: 44689 | EO2: 44690 | EP2: 44691 | EQ2: 44692 | ER2: 44693 | ES2: 44694 | ET2: 44695 | EU2: 44696 | EV2: 44697 | EW2: 44698 | EX2: 44699 | EY2: 44700 | EZ2: 44701 | FA2: 44702 | FB2: 44703 | FC2: 44704 | FD2: 44705 | FE2: 44706 | FF2: 44707 | FG2: 44708 | FH2: 44709 | FI2: 44710 | FJ2: 44711 | FK2: 44712 | FL2: 44713 | FM2: 44714 | FN2: 44715 | FO2: 44716 | FP2: 44717 | FQ2: 44718 | FR2: 44719 | FS2: 44720 | FT2: 44721 | FU2: 44722 | FV2: 44723 | FW2: 44724 | FX2: 44725 | FY2: 44726 | FZ2: 44727 | GA2: 44728 | GB2: 44729 | GC2: 44730 | GD2: 44731 | GE2: 44732 | GF2: 44733 | GG2: 44734 | GH2: 44735 | GI2: 44736 | GJ2: 44737 | GK2: 44738 | GL2: 44739 | GM2: 44740 | GN2: 44741 | GO2: 44742 | GP2: 44743 | GQ2: 44744 | GR2: 44745 | GS2: 44746 | GT2: 44747 | GU2: 44748 | GV2: 44749 | GW2: 44750 | GX2: 44751 | GY2: 44752 | GZ2: 44753 | HA2: 44754 | HB2: 44755 | HC2: 44756 | HD2: 44757 | HE2: 44758 | HF2: 44759 | HG2: 44760 | HH2: 44761 | HI2: 44762 | HJ2: 44763 | HK2: 44764 | HL2: 44765 | HM2: 44766 | HN2: 44767 | HO2: 44768 | HP2: 44769 | HQ2: 44770 | HR2: 44771 | HS2: 44772 | HT2: 44773 | HU2: 44774 | HV2: 44775 | HW2: 44776 | HX2: 44777 | HY2: 44778 | HZ2: 44779 | IA2: 44780 | IB2: 44781 | IC2: 44782 | ID2: 44783 | IE2: 44784 | IF2: 44785 | IG2: 44786 | IH2: 44787 | II2: 44788 | IJ2: 44789 | IK2: 44790 | IL2: 44791 | IM2: 44792 | IN2: 44793 | IO2: 44794 | IP2: 44795 | IQ2: 44796 | IR2: 44797 | IS2: 44798 | IT2: 44799 | IU2: 44800 | IV2: 44801 | IW2: 44802 | IX2: 44803 | IY2: 44804 | IZ2: 44805 | JA2: 44806 | JB2: 44807 | JC2: 44808 | JD2: 44809 | JE2: 44810 | JF2: 44811 | JG2: 44812 | JH2: 44813 | JI2: 44814 | JJ2: 44815 | JK2: 44816 | JL2: 44817 | JM2: 44818 | JN2: 44819 | JO2: 44820 | JP2: 44821 | JQ2: 44822 | JR2: 44823 | JS2: 44824 | JT2: 44825 | JU2: 44826 | JV2: 44827 | JW2: 44828 | JX2: 44829 | JY2: 44830 | JZ2: 44831 | KA2: 44832 | KB2: 44833 | KC2: 44834 | KD2: 44835 | KE2: 44836 | KF2: 44837 | KG2: 44838 | KH2: 44839 | KI2: 44840 | KJ2: 44841 | KK2: 44842 | KL2: 44843 | KM2: 44844 | KN2: 44845 | KO2: 44846 | KP2: 44847 | KQ2: 44848 | KR2: 44849 | KS2: 44850 | KT2: 44851 | KU2: 44852 | KV2: 44853 | KW2: 44854 | KX2: 44855 | KY2: 44856 | KZ2: 44857 | LA2: 44858 | LB2: 44859 | LC2: 44860 | LD2: 44861 | LE2: 44862 | LF2: 44863 | LG2: 44864 | LH2: 44865 | LI2: 44866 | LJ2: 44867 | LK2: 44868 | LL2: 44869 | LM2: 44870 | LN2: 44871 | LO2: 44872 | LP2: 44873 | LQ2: 44874 | LR2: 44875 | LS2: 44876 | LT2: 44877 | LU2: 44878 | LV2: 44879 | LW2: 44880 | LX2: 44881 | LY2: 44882 | LZ2: 44883 | MA2: 44884 | MB2: 44885 | MC2: 44886 | MD2: 44887 | ME2: 44888 | MF2: 44889 | MG2: 44890 | MH2: 44891 | MI2: 44892 | MJ2: 44893 | MK2: 44894 | ML2: 44895 | MM2: 44896 | MN2: 44897 | MO2: 44898 | MP2: 44899 | MQ2: 44900 | MR2: 44901 | MS2: 44902 | MT2: 44903 | MU2: 44904 | MV2: 44905 | MW2: 44906 | MX2: 44907 | MY2: 44908 | MZ2: 44909 | NA2: 44910 | NB2: 44911 | NC2: 44912 | ND2: 44913 | NE2: 44914 | NF2: 44915 | NG2: 44916 | NH2: 44917 | NI2: 44918 | NJ2: 44919 | NK2: 44920 | NL2: 44921 | NM2: 44922 | NN2: 44923 | NO2: 44924 | NP2: 44925 | NQ2: 44926 | NR2: 44927
F3: =Personaldaten!F2 -> Urlaubsanspruch | G3: =Personaldaten!G2 -> Resturlaub | H3: Urlaub Gesamt | I3: Urlaubstage verbleiben | J3: =[1]Einstellungen!D6 -> halbe Urlaubstage | K3: =[1]Einstellungen!D5 -> ganze Urlaubstage | L3: =[1]Einstellungen!D8 -> Elternzeit | M3: =[1]Einstellungen!D7 -> Freigebener Sonderurlaub | N3: =[1]Einstellungen!D9 -> Andere Abwesenheit | O3: =[1]Einstellungen!D10 -> Krank | Q3: =Q8 -> 44562 | R3: =R8 -> 44563 | S3: =S8 -> 44564 | T3: =T8 -> 44565 | U3: =U8 -> 44566 | V3: =V8 -> 44567 | W3: =W8 -> 44568 | X3: =X8 -> 44569 | ... NR3: =NR8 -> 44927
Q7: =Q8 -> 44562 | R7: =R8 -> 44563 | S7: =S8 -> 44564 | T7: =T8 -> 44565 | U7: =U8 -> 44566 | V7: =V8 -> 44567 | W7: =W8 -> 44568 | X7: =X8 -> 44569 | ... NR7: =NR8 -> 44927
B8: Nr. | C8: Kollegen | Q8: =DATE(Q1,1,1) -> 44562 | R8: =Q8+1 -> 44563 | S8: =R8+1 -> 44564 | T8: =S8+1 -> 44565 | U8: =T8+1 -> 44566 | V8: =U8+1 -> 44567 | W8: =V8+1 -> 44568 | X8: =W8+1 -> 44569 | Y8: =X8+1 -> 44570 | ... NR8: =NQ8+1 -> 44927
A9: Test1 | B9: 1 | C9: =IF(VLOOKUP(B9,Personaldaten!$B$3:$J$22,9,FALSE)="","",VLOOKUP(B9,Personaldaten!$B$3:$J$22,9,FALSE)) -> Test1 Test 1 | F9: =IF(VLOOKUP(B9,Personaldaten!$B$3:$G$22,5,FALSE)=0,"",VLOOKUP(B9,Personaldaten!$B$3:$G$22,5,FALSE)) -> 30 | G9: =IF(C9="","",IF(ISBLANK(VLOOKUP(B9,Personaldaten!$B$3:$G$22,6,FALSE)),"",VLOOKUP(B9,Personaldaten!$B$3:$G$22,6,FALSE))) -> 1.5 | H9: =IF(C9="","",IF(F9="","",IF(G9="","",F9+G9))) -> 31.5 | I9: =IF(G9="","",H9-K9) -> -0.5 | J9: =IF(C9="","",SUM(COUNTIF(Q9:NR9,[1]Einstellungen!$E$6))) -> 0 | K9: =SUM(Q9:NR9) -> 32 | L9: =IF(C9="","",COUNTIF(O9:NQ9,[1]Einstellungen!$E$8)) -> 0 | M9: =IF(C9="","",COUNTIF(O9:NQ9,[1]Einstellungen!$E$7)) -> 0 | N9: =IF(C9="","",COUNTIF(R9:NS9,[1]Einstellungen!$E$9)) -> 0 | O9: =IF(C9="","",COUNTIF(Q9:NR9,[1]Einstellungen!$E$10)) -> 0 | S9: =SUMIFS(Ausleitung!$G:$G,Ausleitung!$L:$L,Übersicht!$A9,Ausleitung!$A:$A,Übersicht!S$2) -> 8 | T9: =SUMIFS(Ausleitung!$G:$G,Ausleitung!$L:$L,Übersicht!$A9,Ausleitung!$A:$A,Übersicht!T$2) -> 8 | U9: =SUMIFS(Ausleitung!$G:$G,Ausleitung!$L:$L,Übersicht!$A9,Ausleitung!$A:$A,Übersicht!U$2) -> 0 | V9: =SUMIFS(Ausleitung!$G:$G,Ausleitung!$L:$L,Übersicht!$A9,Ausleitung!$A:$A,Übersicht!V$2) -> 0 | W9: =SUMIFS(Ausleitung!$G:$G,Ausleitung!$L:$L,Übersicht!$A9,Ausleitung!$A:$A,Übersicht!W$2) -> 0 | X9: =SUMIFS(Ausleitung!$G:$G,Ausleitung!$L:$L,Übersicht!$A9,Ausleitung!$A:$A,Übersicht!X$2) -> 0 | Y9: =SUMIFS(Ausleitung!$G:$G,Ausleitung!$L:$L,Übersicht!$A9,Ausleitung!$A:$A,Übersicht!Y$2) -> 0 | Z9: =SUMIFS(Ausleitung!$G:$G,Ausleitung!$L:$L,Übersicht!$A9,Ausleitung!$A:$A,Übersicht!Z$2) -> 0 | ... NR9: =SUMIFS(Ausleitung!$G:$G,Ausleitung!$L:$L,Übersicht!$A9,Ausleitung!$A:$A,Übersicht!NR$2) -> 0
A10: Test2 | B10: 2 | C10: =IF(VLOOKUP(B10,Personaldaten!$B$3:$J$22,9,FALSE)="","",VLOOKUP(B10,Personaldaten!$B$3:$J$22,9,FALSE)) -> Test2 Test 2 | F10: =IF(VLOOKUP(B10,Personaldaten!$B$3:$G$22,5,FALSE)=0,"",VLOOKUP(B10,Personaldaten!$B$3:$G$22,5,FALSE)) -> 28 | G10: =IF(C10="","",IF(ISBLANK(VLOOKUP(B10,Personaldaten!$B$3:$G$22,6,FALSE)),"",VLOOKUP(B10,Personaldaten!$B$3:$G$22,6,FALSE))) -> 0 | H10: =IF(C10="","",IF(F10="","",IF(G10="","",F10+G10))) -> 28 | I10: =IF(G10="","",H10-K10) -> -8 | J10: =IF(C10="","",SUM(COUNTIF(Q10:NR10,[1]Einstellungen!$E$6))) -> 0 | K10: =SUM(Q10:NR10) -> 36 | L10: =IF(C10="","",COUNTIF(O10:NQ10,[1]Einstellungen!$E$8)) -> 0 | M10: =IF(C10="","",COUNTIF(O10:NQ10,[1]Einstellungen!$E$7)) -> 0 | N10: =IF(C10="","",COUNTIF(R10:NS10,[1]Einstellungen!$E$9)) -> 0 | O10: =IF(C10="","",COUNTIF(Q10:NR10,[1]Einstellungen!$E$10)) -> 0 | S10: =SUMIFS(Ausleitung!$G:$G,Ausleitung!$L:$L,Übersicht!$A10,Ausleitung!$A:$A,Übersicht!S$2) -> 8 | T10: =SUMIFS(Ausleitung!$G:$G,Ausleitung!$L:$L,Übersicht!$A10,Ausleitung!$A:$A,Übersicht!T$2) -> 8 | U10: =SUMIFS(Ausleitung!$G:$G,Ausleitung!$L:$L,Übersicht!$A10,Ausleitung!$A:$A,Übersicht!U$2) -> 0 | V10: =SUMIFS(Ausleitung!$G:$G,Ausleitung!$L:$L,Übersicht!$A10,Ausleitung!$A:$A,Übersicht!V$2) -> 0 | W10: =SUMIFS(Ausleitung!$G:$G,Ausleitung!$L:$L,Übersicht!$A10,Ausleitung!$A:$A,Übersicht!W$2) -> 0 | X10: =SUMIFS(Ausleitung!$G:$G,Ausleitung!$L:$L,Übersicht!$A10,Ausleitung!$A:$A,Übersicht!X$2) -> 0 | Y10: =SUMIFS(Ausleitung!$G:$G,Ausleitung!$L:$L,Übersicht!$A10,Ausleitung!$A:$A,Übersicht!Y$2) -> 0 | Z10: =SUMIFS(Ausleitung!$G:$G,Ausleitung!$L:$L,Übersicht!$A10,Ausleitung!$A:$A,Übersicht!Z$2) -> 0 | ... NR10: =SUMIFS(Ausleitung!$G:$G,Ausleitung!$L:$L,Übersicht!$A10,Ausleitung!$A:$A,Übersicht!NR$2) -> 0
B11: 3 | C11: =IF(VLOOKUP(B11,Personaldaten!$B$3:$J$22,9,FALSE)="","",VLOOKUP(B11,Personaldaten!$B$3:$J$22,9,FALSE)) -> Test 3 Test 3 | F11: =IF(VLOOKUP(B11,Personaldaten!$B$3:$G$22,5,FALSE)=0,"",VLOOKUP(B11,Personaldaten!$B$3:$G$22,5,FALSE)) | G11: =IF(C11="","",IF(ISBLANK(VLOOKUP(B11,Personaldaten!$B$3:$G$22,6,FALSE)),"",VLOOKUP(B11,Personaldaten!$B$3:$G$22,6,FALSE))) | H11: =IF(C11="","",IF(F11="","",IF(G11="","",F11+G11))) | I11: =IF(G11="","",H11-K11) | J11: =IF(C11="","",SUM(COUNTIF(Q11:NR11,[1]Einstellungen!$E$6))) -> 0 | K11: =SUM(Q11:NR11) -> 0 | L11: =IF(C11="","",COUNTIF(O11:NQ11,[1]Einstellungen!$E$8)) -> 0 | M11: =IF(C11="","",COUNTIF(O11:NQ11,[1]Einstellungen!$E$7)) -> 0 | N11: =IF(C11="","",COUNTIF(R11:NS11,[1]Einstellungen!$E$9)) -> 0 | O11: =IF(C11="","",COUNTIF(Q11:NR11,[1]Einstellungen!$E$10)) -> 0
B12: 4 | C12: =IF(VLOOKUP(B12,Personaldaten!$B$3:$J$22,9,FALSE)="","",VLOOKUP(B12,Personaldaten!$B$3:$J$22,9,FALSE)) | F12: =IF(VLOOKUP(B12,Personaldaten!$B$3:$G$22,5,FALSE)=0,"",VLOOKUP(B12,Personaldaten!$B$3:$G$22,5,FALSE)) | G12: =IF(C12="","",IF(ISBLANK(VLOOKUP(B12,Personaldaten!$B$3:$G$22,6,FALSE)),"",VLOOKUP(B12,Personaldaten!$B$3:$G$22,6,FALSE))) | H12: =IF(C12="","",IF(F12="","",IF(G12="","",F12+G12))) | I12: =IF(G12="","",H12-K12) | J12: =IF(C12="","",SUM(COUNTIF(Q12:NR12,[1]Einstellungen!$E$6))) | K12: =SUM(Q12:NR12) -> 0 | L12: =IF(C12="","",COUNTIF(O12:NQ12,[1]Einstellungen!$E$8)) | M12: =IF(C12="","",COUNTIF(O12:NQ12,[1]Einstellungen!$E$7)) | N12: =IF(C12="","",COUNTIF(R12:NS12,[1]Einstellungen!$E$9)) | O12: =IF(C12="","",COUNTIF(Q12:NR12,[1]Einstellungen!$E$10))
B13: 5 | C13: =IF(VLOOKUP(B13,Personaldaten!$B$3:$J$22,9,FALSE)="","",VLOOKUP(B13,Personaldaten!$B$3:$J$22,9,FALSE)) | F13: =IF(VLOOKUP(B13,Personaldaten!$B$3:$G$22,5,FALSE)=0,"",VLOOKUP(B13,Personaldaten!$B$3:$G$22,5,FALSE)) | G13: =IF(C13="","",IF(ISBLANK(VLOOKUP(B13,Personaldaten!$B$3:$G$22,6,FALSE)),"",VLOOKUP(B13,Personaldaten!$B$3:$G$22,6,FALSE))) | H13: =IF(C13="","",IF(F13="","",IF(G13="","",F13+G13))) | I13: =IF(G13="","",H13-K13) | J13: =IF(C13="","",SUM(COUNTIF(Q13:NR13,[1]Einstellungen!$E$6))) | K13: =SUM(Q13:NR13) -> 0 | L13: =IF(C13="","",COUNTIF(O13:NQ13,[1]Einstellungen!$E$8)) | M13: =IF(C13="","",COUNTIF(O13:NQ13,[1]Einstellungen!$E$7)) | N13: =IF(C13="","",COUNTIF(R13:NS13,[1]Einstellungen!$E$9)) | O13: =IF(C13="","",COUNTIF(Q13:NR13,[1]Einstellungen!$E$10))
B14: 6 | C14: =IF(VLOOKUP(B14,Personaldaten!$B$3:$J$22,9,FALSE)="","",VLOOKUP(B14,Personaldaten!$B$3:$J$22,9,FALSE)) | F14: =IF(VLOOKUP(B14,Personaldaten!$B$3:$G$22,5,FALSE)=0,"",VLOOKUP(B14,Personaldaten!$B$3:$G$22,5,FALSE)) | G14: =IF(C14="","",IF(ISBLANK(VLOOKUP(B14,Personaldaten!$B$3:$G$22,6,FALSE)),"",VLOOKUP(B14,Personaldaten!$B$3:$G$22,6,FALSE))) | H14: =IF(C14="","",IF(F14="","",IF(G14="","",F14+G14))) | I14: =IF(G14="","",H14-K14) | J14: =IF(C14="","",SUM(COUNTIF(Q14:NR14,[1]Einstellungen!$E$6))) | K14: =SUM(Q14:NR14) -> 0 | L14: =IF(C14="","",COUNTIF(O14:NQ14,[1]Einstellungen!$E$8)) | M14: =IF(C14="","",COUNTIF(O14:NQ14,[1]Einstellungen!$E$7)) | N14: =IF(C14="","",COUNTIF(R14:NS14,[1]Einstellungen!$E$9)) | O14: =IF(C14="","",COUNTIF(Q14:NR14,[1]Einstellungen!$E$10))
B15: 7 | C15: =IF(VLOOKUP(B15,Personaldaten!$B$3:$J$22,9,FALSE)="","",VLOOKUP(B15,Personaldaten!$B$3:$J$22,9,FALSE)) | F15: =IF(VLOOKUP(B15,Personaldaten!$B$3:$G$22,5,FALSE)=0,"",VLOOKUP(B15,Personaldaten!$B$3:$G$22,5,FALSE)) | G15: =IF(C15="","",IF(ISBLANK(VLOOKUP(B15,Personaldaten!$B$3:$G$22,6,FALSE)),"",VLOOKUP(B15,Personaldaten!$B$3:$G$22,6,FALSE))) | H15: =IF(C15="","",IF(F15="","",IF(G15="","",F15+G15))) | I15: =IF(G15="","",H15-K15) | J15: =IF(C15="","",SUM(COUNTIF(Q15:NR15,[1]Einstellungen!$E$6))) | K15: =SUM(Q15:NR15) -> 0 | L15: =IF(C15="","",COUNTIF(O15:NQ15,[1]Einstellungen!$E$8)) | M15: =IF(C15="","",COUNTIF(O15:NQ15,[1]Einstellungen!$E$7)) | N15: =IF(C15="","",COUNTIF(R15:NS15,[1]Einstellungen!$E$9)) | O15: =IF(C15="","",COUNTIF(Q15:NR15,[1]Einstellungen!$E$10))
B16: 8 | C16: =IF(VLOOKUP(B16,Personaldaten!$B$3:$J$22,9,FALSE)="","",VLOOKUP(B16,Personaldaten!$B$3:$J$22,9,FALSE)) | F16: =IF(VLOOKUP(B16,Personaldaten!$B$3:$G$22,5,FALSE)=0,"",VLOOKUP(B16,Personaldaten!$B$3:$G$22,5,FALSE)) | G16: =IF(C16="","",IF(ISBLANK(VLOOKUP(B16,Personaldaten!$B$3:$G$22,6,FALSE)),"",VLOOKUP(B16,Personaldaten!$B$3:$G$22,6,FALSE))) | H16: =IF(C16="","",IF(F16="","",IF(G16="","",F16+G16))) | I16: =IF(G16="","",H16-K16) | J16: =IF(C16="","",SUM(COUNTIF(Q16:NR16,[1]Einstellungen!$E$6))) | K16: =SUM(Q16:NR16) -> 0 | L16: =IF(C16="","",COUNTIF(O16:NQ16,[1]Einstellungen!$E$8)) | M16: =IF(C16="","",COUNTIF(O16:NQ16,[1]Einstellungen!$E$7)) | N16: =IF(C16="","",COUNTIF(R16:NS16,[1]Einstellungen!$E$9)) | O16: =IF(C16="","",COUNTIF(Q16:NR16,[1]Einstellungen!$E$10))
B17: 9 | C17: =IF(VLOOKUP(B17,Personaldaten!$B$3:$J$22,9,FALSE)="","",VLOOKUP(B17,Personaldaten!$B$3:$J$22,9,FALSE)) | F17: =IF(VLOOKUP(B17,Personaldaten!$B$3:$G$22,5,FALSE)=0,"",VLOOKUP(B17,Personaldaten!$B$3:$G$22,5,FALSE)) | G17: =IF(C17="","",IF(ISBLANK(VLOOKUP(B17,Personaldaten!$B$3:$G$22,6,FALSE)),"",VLOOKUP(B17,Personaldaten!$B$3:$G$22,6,FALSE))) | H17: =IF(C17="","",IF(F17="","",IF(G17="","",F17+G17))) | I17: =IF(G17="","",H17-K17) | J17: =IF(C17="","",SUM(COUNTIF(Q17:NR17,[1]Einstellungen!$E$6))) | K17: =SUM(Q17:NR17) -> 0 | L17: =IF(C17="","",COUNTIF(O17:NQ17,[1]Einstellungen!$E$8)) | M17: =IF(C17="","",COUNTIF(O17:NQ17,[1]Einstellungen!$E$7)) | N17: =IF(C17="","",COUNTIF(R17:NS17,[1]Einstellungen!$E$9)) | O17: =IF(C17="","",COUNTIF(Q17:NR17,[1]Einstellungen!$E$10))
B18: 10 | C18: =IF(VLOOKUP(B18,Personaldaten!$B$3:$J$22,9,FALSE)="","",VLOOKUP(B18,Personaldaten!$B$3:$J$22,9,FALSE)) | F18: =IF(VLOOKUP(B18,Personaldaten!$B$3:$G$22,5,FALSE)=0,"",VLOOKUP(B18,Personaldaten!$B$3:$G$22,5,FALSE)) | G18: =IF(C18="","",IF(ISBLANK(VLOOKUP(B18,Personaldaten!$B$3:$G$22,6,FALSE)),"",VLOOKUP(B18,Personaldaten!$B$3:$G$22,6,FALSE))) | H18: =IF(C18="","",IF(F18="","",IF(G18="","",F18+G18))) | I18: =IF(G18="","",H18-K18) | J18: =IF(C18="","",SUM(COUNTIF(Q18:NR18,[1]Einstellungen!$E$6))) | K18: =SUM(Q18:NR18) -> 0 | L18: =IF(C18="","",COUNTIF(O18:NQ18,[1]Einstellungen!$E$8)) | M18: =IF(C18="","",COUNTIF(O18:NQ18,[1]Einstellungen!$E$7)) | N18: =IF(C18="","",COUNTIF(R18:NS18,[1]Einstellungen!$E$9)) | O18: =IF(C18="","",COUNTIF(Q18:NR18,[1]Einstellungen!$E$10))
B19: 11 | C19: =IF(VLOOKUP(B19,Personaldaten!$B$3:$J$22,9,FALSE)="","",VLOOKUP(B19,Personaldaten!$B$3:$J$22,9,FALSE)) | F19: =IF(VLOOKUP(B19,Personaldaten!$B$3:$G$22,5,FALSE)=0,"",VLOOKUP(B19,Personaldaten!$B$3:$G$22,5,FALSE)) | G19: =IF(C19="","",IF(ISBLANK(VLOOKUP(B19,Personaldaten!$B$3:$G$22,6,FALSE)),"",VLOOKUP(B19,Personaldaten!$B$3:$G$22,6,FALSE))) | H19: =IF(C19="","",IF(F19="","",IF(G19="","",F19+G19))) | I19: =IF(G19="","",H19-K19) | J19: =IF(C19="","",SUM(COUNTIF(Q19:NR19,[1]Einstellungen!$E$6))) | K19: =SUM(Q19:NR19) -> 0 | L19: =IF(C19="","",COUNTIF(O19:NQ19,[1]Einstellungen!$E$8)) | M19: =IF(C19="","",COUNTIF(O19:NQ19,[1]Einstellungen!$E$7)) | N19: =IF(C19="","",COUNTIF(R19:NS19,[1]Einstellungen!$E$9)) | O19: =IF(C19="","",COUNTIF(Q19:NR19,[1]Einstellungen!$E$10))
B20: 12 | C20: =IF(VLOOKUP(B20,Personaldaten!$B$3:$J$22,9,FALSE)="","",VLOOKUP(B20,Personaldaten!$B$3:$J$22,9,FALSE)) | F20: =IF(VLOOKUP(B20,Personaldaten!$B$3:$G$22,5,FALSE)=0,"",VLOOKUP(B20,Personaldaten!$B$3:$G$22,5,FALSE)) | G20: =IF(C20="","",IF(ISBLANK(VLOOKUP(B20,Personaldaten!$B$3:$G$22,6,FALSE)),"",VLOOKUP(B20,Personaldaten!$B$3:$G$22,6,FALSE))) | H20: =IF(C20="","",IF(F20="","",IF(G20="","",F20+G20))) | I20: =IF(G20="","",H20-K20) | J20: =IF(C20="","",SUM(COUNTIF(Q20:NR20,[1]Einstellungen!$E$6))) | K20: =SUM(Q20:NR20) -> 0 | L20: =IF(C20="","",COUNTIF(O20:NQ20,[1]Einstellungen!$E$8)) | M20: =IF(C20="","",COUNTIF(O20:NQ20,[1]Einstellungen!$E$7)) | N20: =IF(C20="","",COUNTIF(R20:NS20,[1]Einstellungen!$E$9)) | O20: =IF(C20="","",COUNTIF(Q20:NR20,[1]Einstellungen!$E$10))
B21: 13 | C21: =IF(VLOOKUP(B21,Personaldaten!$B$3:$J$22,9,FALSE)="","",VLOOKUP(B21,Personaldaten!$B$3:$J$22,9,FALSE)) | F21: =IF(VLOOKUP(B21,Personaldaten!$B$3:$G$22,5,FALSE)=0,"",VLOOKUP(B21,Personaldaten!$B$3:$G$22,5,FALSE)) | G21: =IF(C21="","",IF(ISBLANK(VLOOKUP(B21,Personaldaten!$B$3:$G$22,6,FALSE)),"",VLOOKUP(B21,Personaldaten!$B$3:$G$22,6,FALSE))) | H21: =IF(C21="","",IF(F21="","",IF(G21="","",F21+G21))) | I21: =IF(G21="","",H21-K21) | J21: =IF(C21="","",SUM(COUNTIF(Q21:NR21,[1]Einstellungen!$E$6))) | K21: =SUM(Q21:NR21) -> 0 | L21: =IF(C21="","",COUNTIF(O21:NQ21,[1]Einstellungen!$E$8)) | M21: =IF(C21="","",COUNTIF(O21:NQ21,[1]Einstellungen!$E$7)) | N21: =IF(C21="","",COUNTIF(R21:NS21,[1]Einstellungen!$E$9)) | O21: =IF(C21="","",COUNTIF(Q21:NR21,[1]Einstellungen!$E$10))
B22: 14 | C22: =IF(VLOOKUP(B22,Personaldaten!$B$3:$J$22,9,FALSE)="","",VLOOKUP(B22,Personaldaten!$B$3:$J$22,9,FALSE)) | F22: =IF(VLOOKUP(B22,Personaldaten!$B$3:$G$22,5,FALSE)=0,"",VLOOKUP(B22,Personaldaten!$B$3:$G$22,5,FALSE)) | G22: =IF(C22="","",IF(ISBLANK(VLOOKUP(B22,Personaldaten!$B$3:$G$22,6,FALSE)),"",VLOOKUP(B22,Personaldaten!$B$3:$G$22,6,FALSE))) | H22: =IF(C22="","",IF(F22="","",IF(G22="","",F22+G22))) | I22: =IF(G22="","",H22-K22) | J22: =IF(C22="","",SUM(COUNTIF(Q22:NR22,[1]Einstellungen!$E$6))) | K22: =SUM(Q22:NR22) -> 0 | L22: =IF(C22="","",COUNTIF(O22:NQ22,[1]Einstellungen!$E$8)) | M22: =IF(C22="","",COUNTIF(O22:NQ22,[1]Einstellungen!$E$7)) | N22: =IF(C22="","",COUNTIF(R22:NS22,[1]Einstellungen!$E$9)) | O22: =IF(C22="","",COUNTIF(Q22:NR22,[1]Einstellungen!$E$10))
... B28: 20 | C28: =IF(VLOOKUP(B28,Personaldaten!$B$3:$J$22,9,FALSE)="","",VLOOKUP(B28,Personaldaten!$B$3:$J$22,9,FALSE)) | F28: =IF(VLOOKUP(B28,Personaldaten!$B$3:$G$22,5,FALSE)=0,"",VLOOKUP(B28,Personaldaten!$B$3:$G$22,5,FALSE)) | G28: =IF(C28="","",IF(ISBLANK(VLOOKUP(B28,Personaldaten!$B$3:$G$22,6,FALSE)),"",VLOOKUP(B28,Personaldaten!$B$3:$G$22,6,FALSE))) | H28: =IF(C28="","",IF(F28="","",IF(G28="","",F28+G28))) | I28: =IF(G28="","",H28-K28) | J28: =IF(C28="","",SUM(COUNTIF(Q28:NR28,[1]Einstellungen!$E$6))) | K28: =SUM(Q28:NR28) -> 0 | L28: =IF(C28="","",COUNTIF(O28:NQ28,[1]Einstellungen!$E$8)) | M28: =IF(C28="","",COUNTIF(O28:NQ28,[1]Einstellungen!$E$7)) | N28: =IF(C28="","",COUNTIF(R28:NS28,[1]Einstellungen!$E$9)) | O28: =IF(C28="","",COUNTIF(Q28:NR28,[1]Einstellungen!$E$10))
Q30: =VLOOKUP(Q2,[1]Dropdowns!$A$24:$B$37,2,FALSE) -> Neujahr | R30: =VLOOKUP(R2,[1]Dropdowns!$A$24:$B$37,2,FALSE) -> #N/A | S30: =VLOOKUP(S2,[1]Dropdowns!$A$24:$B$37,2,FALSE) -> #N/A | T30: =VLOOKUP(T2,[1]Dropdowns!$A$24:$B$37,2,FALSE) -> #N/A | U30: =VLOOKUP(U2,[1]Dropdowns!$A$24:$B$37,2,FALSE) -> #N/A | V30: =VLOOKUP(V2,[1]Dropdowns!$A$24:$B$37,2,FALSE) -> Heilige drei Könige | W30: =VLOOKUP(W2,[1]Dropdowns!$A$24:$B$37,2,FALSE) -> #N/A | X30: =VLOOKUP(X2,[1]Dropdowns!$A$24:$B$37,2,FALSE) -> #N/A | ... NR30: =VLOOKUP(NR2,[1]Dropdowns!$A$24:$B$37,2,FALSE) -> #N/A

Sheet Meine Kollegen
A1: Kollegen
C2: 2022 | M2: 2 Test2
B4: 44562 | J4: =DATE(YEAR(B4+42),MONTH(B4+42),1) -> 44593 | R4: =DATE(YEAR(J4+42),MONTH(J4+42),1) -> 44621 | Z4: =DATE(YEAR(R4+42),MONTH(R4+42),1) -> 44652
B5: =CHOOSE(1+MOD(2+1-2,7), "SO","MO","DI","MI","DO","FR","SA") -> MO | C5: =CHOOSE(1+MOD(2+2-2,7), "SO","MO","DI","MI","DO","FR","SA") -> DI | D5: =CHOOSE(1+MOD(2+3-2,7), "SO","MO","DI","MI","DO","FR","SA") -> MI | E5: =CHOOSE(1+MOD(2+4-2,7), "SO","MO","DI","MI","DO","FR","SA") -> DO | F5: =CHOOSE(1+MOD(2+5-2,7), "SO","MO","DI","MI","DO","FR","SA") -> FR | G5: =CHOOSE(1+MOD(2+6-2,7), "SO","MO","DI","MI","DO","FR","SA") -> SA | H5: =CHOOSE(1+MOD(2+7-2,7), "SO","MO","DI","MI","DO","FR","SA") -> SO | J5: =CHOOSE(1+MOD(2+1-2,7), "SO","MO","DI","MI","DO","FR","SA") -> MO | K5: =CHOOSE(1+MOD(2+2-2,7), "SO","MO","DI","MI","DO","FR","SA") -> DI | L5: =CHOOSE(1+MOD(2+3-2,7), "SO","MO","DI","MI","DO","FR","SA") -> MI | M5: =CHOOSE(1+MOD(2+4-2,7), "SO","MO","DI","MI","DO","FR","SA") -> DO | N5: =CHOOSE(1+MOD(2+5-2,7), "SO","MO","DI","MI","DO","FR","SA") -> FR | O5: =CHOOSE(1+MOD(2+6-2,7), "SO","MO","DI","MI","DO","FR","SA") -> SA | P5: =CHOOSE(1+MOD(2+7-2,7), "SO","MO","DI","MI","DO","FR","SA") -> SO | R5: =CHOOSE(1+MOD(2+1-2,7), "SO","MO","DI","MI","DO","FR","SA") -> MO | S5: =CHOOSE(1+MOD(2+2-2,7), "SO","MO","DI","MI","DO","FR","SA") -> DI | T5: =CHOOSE(1+MOD(2+3-2,7), "SO","MO","DI","MI","DO","FR","SA") -> MI | U5: =CHOOSE(1+MOD(2+4-2,7), "SO","MO","DI","MI","DO","FR","SA") -> DO | V5: =CHOOSE(1+MOD(2+5-2,7), "SO","MO","DI","MI","DO","FR","SA") -> FR | W5: =CHOOSE(1+MOD(2+6-2,7), "SO","MO","DI","MI","DO","FR","SA") -> SA | X5: =CHOOSE(1+MOD(2+7-2,7), "SO","MO","DI","MI","DO","FR","SA") -> SO | Z5: =CHOOSE(1+MOD(2+1-2,7), "SO","MO","DI","MI","DO","FR","SA") -> MO | AA5: =CHOOSE(1+MOD(2+2-2,7), "SO","MO","DI","MI","DO","FR","SA") -> DI | AB5: =CHOOSE(1+MOD(2+3-2,7), "SO","MO","DI","MI","DO","FR","SA") -> MI | AC5: =CHOOSE(1+MOD(2+4-2,7), "SO","MO","DI","MI","DO","FR","SA") -> DO | AD5: =CHOOSE(1+MOD(2+5-2,7), "SO","MO","DI","MI","DO","FR","SA") -> FR | AE5: =CHOOSE(1+MOD(2+6-2,7), "SO","MO","DI","MI","DO","FR","SA") -> SA | AF5: =CHOOSE(1+MOD(2+7-2,7), "SO","MO","DI","MI","DO","FR","SA") -> SO | AH5: {=IF(AND([1]Übersicht!C11='Meine Kollegen'!M2:T2,[1]Übersicht!Q4='Meine Kollegen'!B7),[1]Übersicht!Q11:BB30,"")} -> #REF!
B6: =IF(WEEKDAY(B4,1)=MOD(2,7),B4,"") | C6: =IF(B6="",IF(WEEKDAY(B4,1)=MOD(2,7)+1,B4,""),B6+1) | D6: =IF(C6="",IF(WEEKDAY(B4,1)=MOD(2+1,7)+1,B4,""),C6+1) | E6: =IF(D6="",IF(WEEKDAY(B4,1)=MOD(2+2,7)+1,B4,""),D6+1) | F6: =IF(E6="",IF(WEEKDAY(B4,1)=MOD(2+3,7)+1,B4,""),E6+1) | G6: =IF(F6="",IF(WEEKDAY(B4,1)=MOD(2+4,7)+1,B4,""),F6+1) -> 44562 | H6: =IF(G6="",IF(WEEKDAY(B4,1)=MOD(2+5,7)+1,B4,""),G6+1) -> 44563 | J6: =IF(WEEKDAY(J4,1)=MOD(2,7),J4,"") | K6: =IF(J6="",IF(WEEKDAY(J4,1)=MOD(2,7)+1,J4,""),J6+1) -> 44593 | L6: =IF(K6="",IF(WEEKDAY(J4,1)=MOD(2+1,7)+1,J4,""),K6+1) -> 44594 | M6: =IF(L6="",IF(WEEKDAY(J4,1)=MOD(2+2,7)+1,J4,""),L6+1) -> 44595 | N6: =IF(M6="",IF(WEEKDAY(J4,1)=MOD(2+3,7)+1,J4,""),M6+1) -> 44596 | O6: =IF(N6="",IF(WEEKDAY(J4,1)=MOD(2+4,7)+1,J4,""),N6+1) -> 44597 | P6: =IF(O6="",IF(WEEKDAY(J4,1)=MOD(2+5,7)+1,J4,""),O6+1) -> 44598 | R6: =IF(WEEKDAY(R4,1)=MOD(2,7),R4,"") | S6: =IF(R6="",IF(WEEKDAY(R4,1)=MOD(2,7)+1,R4,""),R6+1) -> 44621 | T6: =IF(S6="",IF(WEEKDAY(R4,1)=MOD(2+1,7)+1,R4,""),S6+1) -> 44622 | U6: =IF(T6="",IF(WEEKDAY(R4,1)=MOD(2+2,7)+1,R4,""),T6+1) -> 44623 | V6: =IF(U6="",IF(WEEKDAY(R4,1)=MOD(2+3,7)+1,R4,""),U6+1) -> 44624 | W6: =IF(V6="",IF(WEEKDAY(R4,1)=MOD(2+4,7)+1,R4,""),V6+1) -> 44625 | X6: =IF(W6="",IF(WEEKDAY(R4,1)=MOD(2+5,7)+1,R4,""),W6+1) -> 44626 | Z6: =IF(WEEKDAY(Z4,1)=MOD(2,7),Z4,"") | AA6: =IF(Z6="",IF(WEEKDAY(Z4,1)=MOD(2,7)+1,Z4,""),Z6+1) | AB6: =IF(AA6="",IF(WEEKDAY(Z4,1)=MOD(2+1,7)+1,Z4,""),AA6+1) | AC6: =IF(AB6="",IF(WEEKDAY(Z4,1)=MOD(2+2,7)+1,Z4,""),AB6+1) | AD6: =IF(AC6="",IF(WEEKDAY(Z4,1)=MOD(2+3,7)+1,Z4,""),AC6+1) -> 44652 | AE6: =IF(AD6="",IF(WEEKDAY(Z4,1)=MOD(2+4,7)+1,Z4,""),AD6+1) -> 44653 | AF6: =IF(AE6="",IF(WEEKDAY(Z4,1)=MOD(2+5,7)+1,Z4,""),AE6+1) -> 44654
B7: =IF(H6="","",IF(MONTH(H6+1)<>MONTH(H6),"",H6+1)) -> 44564 | C7: =IF(B7="","",IF(MONTH(B7+1)<>MONTH(B7),"",B7+1)) -> 44565 | D7: =IF(C7="","",IF(MONTH(C7+1)<>MONTH(C7),"",C7+1)) -> 44566 | E7: =IF(D7="","",IF(MONTH(D7+1)<>MONTH(D7),"",D7+1)) -> 44567 | F7: =IF(E7="","",IF(MONTH(E7+1)<>MONTH(E7),"",E7+1)) -> 44568 | G7: =IF(F7="","",IF(MONTH(F7+1)<>MONTH(F7),"",F7+1)) -> 44569 | H7: =IF(G7="","",IF(MONTH(G7+1)<>MONTH(G7),"",G7+1)) -> 44570 | J7: =IF(P6="","",IF(MONTH(P6+1)<>MONTH(P6),"",P6+1)) -> 44599 | K7: =IF(J7="","",IF(MONTH(J7+1)<>MONTH(J7),"",J7+1)) -> 44600 | L7: =IF(K7="","",IF(MONTH(K7+1)<>MONTH(K7),"",K7+1)) -> 44601 | M7: =IF(L7="","",IF(MONTH(L7+1)<>MONTH(L7),"",L7+1)) -> 44602 | N7: =IF(M7="","",IF(MONTH(M7+1)<>MONTH(M7),"",M7+1)) -> 44603 | O7: =IF(N7="","",IF(MONTH(N7+1)<>MONTH(N7),"",N7+1)) -> 44604 | P7: =IF(O7="","",IF(MONTH(O7+1)<>MONTH(O7),"",O7+1)) -> 44605 | R7: =IF(X6="","",IF(MONTH(X6+1)<>MONTH(X6),"",X6+1)) -> 44627 | S7: =IF(R7="","",IF(MONTH(R7+1)<>MONTH(R7),"",R7+1)) -> 44628 | T7: =IF(S7="","",IF(MONTH(S7+1)<>MONTH(S7),"",S7+1)) -> 44629 | U7: =IF(T7="","",IF(MONTH(T7+1)<>MONTH(T7),"",T7+1)) -> 44630 | V7: =IF(U7="","",IF(MONTH(U7+1)<>MONTH(U7),"",U7+1)) -> 44631 | W7: =IF(V7="","",IF(MONTH(V7+1)<>MONTH(V7),"",V7+1)) -> 44632 | X7: =IF(W7="","",IF(MONTH(W7+1)<>MONTH(W7),"",W7+1)) -> 44633 | Z7: =IF(AF6="","",IF(MONTH(AF6+1)<>MONTH(AF6),"",AF6+1)) -> 44655 | AA7: =IF(Z7="","",IF(MONTH(Z7+1)<>MONTH(Z7),"",Z7+1)) -> 44656 | AB7: =IF(AA7="","",IF(MONTH(AA7+1)<>MONTH(AA7),"",AA7+1)) -> 44657 | AC7: =IF(AB7="","",IF(MONTH(AB7+1)<>MONTH(AB7),"",AB7+1)) -> 44658 | AD7: =IF(AC7="","",IF(MONTH(AC7+1)<>MONTH(AC7),"",AC7+1)) -> 44659 | AE7: =IF(AD7="","",IF(MONTH(AD7+1)<>MONTH(AD7),"",AD7+1)) -> 44660 | AF7: =IF(AE7="","",IF(MONTH(AE7+1)<>MONTH(AE7),"",AE7+1)) -> 44661
B8: =IF(H7="","",IF(MONTH(H7+1)<>MONTH(H7),"",H7+1)) -> 44571 | C8: =IF(B8="","",IF(MONTH(B8+1)<>MONTH(B8),"",B8+1)) -> 44572 | D8: =IF(C8="","",IF(MONTH(C8+1)<>MONTH(C8),"",C8+1)) -> 44573 | E8: =IF(D8="","",IF(MONTH(D8+1)<>MONTH(D8),"",D8+1)) -> 44574 | F8: =IF(E8="","",IF(MONTH(E8+1)<>MONTH(E8),"",E8+1)) -> 44575 | G8: =IF(F8="","",IF(MONTH(F8+1)<>MONTH(F8),"",F8+1)) -> 44576 | H8: =IF(G8="","",IF(MONTH(G8+1)<>MONTH(G8),"",G8+1)) -> 44577 | J8: =IF(P7="","",IF(MONTH(P7+1)<>MONTH(P7),"",P7+1)) -> 44606 | K8: =IF(J8="","",IF(MONTH(J8+1)<>MONTH(J8),"",J8+1)) -> 44607 | L8: =IF(K8="","",IF(MONTH(K8+1)<>MONTH(K8),"",K8+1)) -> 44608 | M8: =IF(L8="","",IF(MONTH(L8+1)<>MONTH(L8),"",L8+1)) -> 44609 | N8: =IF(M8="","",IF(MONTH(M8+1)<>MONTH(M8),"",M8+1)) -> 44610 | O8: =IF(N8="","",IF(MONTH(N8+1)<>MONTH(N8),"",N8+1)) -> 44611 | P8: =IF(O8="","",IF(MONTH(O8+1)<>MONTH(O8),"",O8+1)) -> 44612 | R8: =IF(X7="","",IF(MONTH(X7+1)<>MONTH(X7),"",X7+1)) -> 44634 | S8: =IF(R8="","",IF(MONTH(R8+1)<>MONTH(R8),"",R8+1)) -> 44635 | T8: =IF(S8="","",IF(MONTH(S8+1)<>MONTH(S8),"",S8+1)) -> 44636 | U8: =IF(T8="","",IF(MONTH(T8+1)<>MONTH(T8),"",T8+1)) -> 44637 | V8: =IF(U8="","",IF(MONTH(U8+1)<>MONTH(U8),"",U8+1)) -> 44638 | W8: =IF(V8="","",IF(MONTH(V8+1)<>MONTH(V8),"",V8+1)) -> 44639 | X8: =IF(W8="","",IF(MONTH(W8+1)<>MONTH(W8),"",W8+1)) -> 44640 | Z8: =IF(AF7="","",IF(MONTH(AF7+1)<>MONTH(AF7),"",AF7+1)) -> 44662 | AA8: =IF(Z8="","",IF(MONTH(Z8+1)<>MONTH(Z8),"",Z8+1)) -> 44663 | AB8: =IF(AA8="","",IF(MONTH(AA8+1)<>MONTH(AA8),"",AA8+1)) -> 44664 | AC8: =IF(AB8="","",IF(MONTH(AB8+1)<>MONTH(AB8),"",AB8+1)) -> 44665 | AD8: =IF(AC8="","",IF(MONTH(AC8+1)<>MONTH(AC8),"",AC8+1)) -> 44666 | AE8: =IF(AD8="","",IF(MONTH(AD8+1)<>MONTH(AD8),"",AD8+1)) -> 44667 | AF8: =IF(AE8="","",IF(MONTH(AE8+1)<>MONTH(AE8),"",AE8+1)) -> 44668
B9: =IF(H8="","",IF(MONTH(H8+1)<>MONTH(H8),"",H8+1)) -> 44578 | C9: =IF(B9="","",IF(MONTH(B9+1)<>MONTH(B9),"",B9+1)) -> 44579 | D9: =IF(C9="","",IF(MONTH(C9+1)<>MONTH(C9),"",C9+1)) -> 44580 | E9: =IF(D9="","",IF(MONTH(D9+1)<>MONTH(D9),"",D9+1)) -> 44581 | F9: =IF(E9="","",IF(MONTH(E9+1)<>MONTH(E9),"",E9+1)) -> 44582 | G9: =IF(F9="","",IF(MONTH(F9+1)<>MONTH(F9),"",F9+1)) -> 44583 | H9: =IF(G9="","",IF(MONTH(G9+1)<>MONTH(G9),"",G9+1)) -> 44584 | J9: =IF(P8="","",IF(MONTH(P8+1)<>MONTH(P8),"",P8+1)) -> 44613 | K9: =IF(J9="","",IF(MONTH(J9+1)<>MONTH(J9),"",J9+1)) -> 44614 | L9: =IF(K9="","",IF(MONTH(K9+1)<>MONTH(K9),"",K9+1)) -> 44615 | M9: =IF(L9="","",IF(MONTH(L9+1)<>MONTH(L9),"",L9+1)) -> 44616 | N9: =IF(M9="","",IF(MONTH(M9+1)<>MONTH(M9),"",M9+1)) -> 44617 | O9: =IF(N9="","",IF(MONTH(N9+1)<>MONTH(N9),"",N9+1)) -> 44618 | P9: =IF(O9="","",IF(MONTH(O9+1)<>MONTH(O9),"",O9+1)) -> 44619 | R9: =IF(X8="","",IF(MONTH(X8+1)<>MONTH(X8),"",X8+1)) -> 44641 | S9: =IF(R9="","",IF(MONTH(R9+1)<>MONTH(R9),"",R9+1)) -> 44642 | T9: =IF(S9="","",IF(MONTH(S9+1)<>MONTH(S9),"",S9+1)) -> 44643 | U9: =IF(T9="","",IF(MONTH(T9+1)<>MONTH(T9),"",T9+1)) -> 44644 | V9: =IF(U9="","",IF(MONTH(U9+1)<>MONTH(U9),"",U9+1)) -> 44645 | W9: =IF(V9="","",IF(MONTH(V9+1)<>MONTH(V9),"",V9+1)) -> 44646 | X9: =IF(W9="","",IF(MONTH(W9+1)<>MONTH(W9),"",W9+1)) -> 44647 | Z9: =IF(AF8="","",IF(MONTH(AF8+1)<>MONTH(AF8),"",AF8+1)) -> 44669 | AA9: =IF(Z9="","",IF(MONTH(Z9+1)<>MONTH(Z9),"",Z9+1)) -> 44670 | AB9: =IF(AA9="","",IF(MONTH(AA9+1)<>MONTH(AA9),"",AA9+1)) -> 44671 | AC9: =IF(AB9="","",IF(MONTH(AB9+1)<>MONTH(AB9),"",AB9+1)) -> 44672 | AD9: =IF(AC9="","",IF(MONTH(AC9+1)<>MONTH(AC9),"",AC9+1)) -> 44673 | AE9: =IF(AD9="","",IF(MONTH(AD9+1)<>MONTH(AD9),"",AD9+1)) -> 44674 | AF9: =IF(AE9="","",IF(MONTH(AE9+1)<>MONTH(AE9),"",AE9+1)) -> 44675
B10: =IF(H9="","",IF(MONTH(H9+1)<>MONTH(H9),"",H9+1)) -> 44585 | C10: =IF(B10="","",IF(MONTH(B10+1)<>MONTH(B10),"",B10+1)) -> 44586 | D10: =IF(C10="","",IF(MONTH(C10+1)<>MONTH(C10),"",C10+1)) -> 44587 | E10: =IF(D10="","",IF(MONTH(D10+1)<>MONTH(D10),"",D10+1)) -> 44588 | F10: =IF(E10="","",IF(MONTH(E10+1)<>MONTH(E10),"",E10+1)) -> 44589 | G10: =IF(F10="","",IF(MONTH(F10+1)<>MONTH(F10),"",F10+1)) -> 44590 | H10: =IF(G10="","",IF(MONTH(G10+1)<>MONTH(G10),"",G10+1)) -> 44591 | J10: =IF(P9="","",IF(MONTH(P9+1)<>MONTH(P9),"",P9+1)) -> 44620 | K10: =IF(J10="","",IF(MONTH(J10+1)<>MONTH(J10),"",J10+1)) | L10: =IF(K10="","",IF(MONTH(K10+1)<>MONTH(K10),"",K10+1)) | M10: =IF(L10="","",IF(MONTH(L10+1)<>MONTH(L10),"",L10+1)) | N10: =IF(M10="","",IF(MONTH(M10+1)<>MONTH(M10),"",M10+1)) | O10: =IF(N10="","",IF(MONTH(N10+1)<>MONTH(N10),"",N10+1)) | P10: =IF(O10="","",IF(MONTH(O10+1)<>MONTH(O10),"",O10+1)) | R10: =IF(X9="","",IF(MONTH(X9+1)<>MONTH(X9),"",X9+1)) -> 44648 | S10: =IF(R10="","",IF(MONTH(R10+1)<>MONTH(R10),"",R10+1)) -> 44649 | T10: =IF(S10="","",IF(MONTH(S10+1)<>MONTH(S10),"",S10+1)) -> 44650 | U10: =IF(T10="","",IF(MONTH(T10+1)<>MONTH(T10),"",T10+1)) -> 44651 | V10: =IF(U10="","",IF(MONTH(U10+1)<>MONTH(U10),"",U10+1)) | W10: =IF(V10="","",IF(MONTH(V10+1)<>MONTH(V10),"",V10+1)) | X10: =IF(W10="","",IF(MONTH(W10+1)<>MONTH(W10),"",W10+1)) | Z10: =IF(AF9="","",IF(MONTH(AF9+1)<>MONTH(AF9),"",AF9+1)) -> 44676 | AA10: =IF(Z10="","",IF(MONTH(Z10+1)<>MONTH(Z10),"",Z10+1)) -> 44677 | AB10: =IF(AA10="","",IF(MONTH(AA10+1)<>MONTH(AA10),"",AA10+1)) -> 44678 | AC10: =IF(AB10="","",IF(MONTH(AB10+1)<>MONTH(AB10),"",AB10+1)) -> 44679 | AD10: =IF(AC10="","",IF(MONTH(AC10+1)<>MONTH(AC10),"",AC10+1)) -> 44680 | AE10: =IF(AD10="","",IF(MONTH(AD10+1)<>MONTH(AD10),"",AD10+1)) -> 44681 | AF10: =IF(AE10="","",IF(MONTH(AE10+1)<>MONTH(AE10),"",AE10+1))
B11: =IF(H10="","",IF(MONTH(H10+1)<>MONTH(H10),"",H10+1)) -> 44592 | C11: =IF(B11="","",IF(MONTH(B11+1)<>MONTH(B11),"",B11+1)) | D11: =IF(C11="","",IF(MONTH(C11+1)<>MONTH(C11),"",C11+1)) | E11: =IF(D11="","",IF(MONTH(D11+1)<>MONTH(D11),"",D11+1)) | F11: =IF(E11="","",IF(MONTH(E11+1)<>MONTH(E11),"",E11+1)) | G11: =IF(F11="","",IF(MONTH(F11+1)<>MONTH(F11),"",F11+1)) | H11: =IF(G11="","",IF(MONTH(G11+1)<>MONTH(G11),"",G11+1)) | J11: =IF(P10="","",IF(MONTH(P10+1)<>MONTH(P10),"",P10+1)) | K11: =IF(J11="","",IF(MONTH(J11+1)<>MONTH(J11),"",J11+1)) | L11: =IF(K11="","",IF(MONTH(K11+1)<>MONTH(K11),"",K11+1)) | M11: =IF(L11="","",IF(MONTH(L11+1)<>MONTH(L11),"",L11+1)) | N11: =IF(M11="","",IF(MONTH(M11+1)<>MONTH(M11),"",M11+1)) | O11: =IF(N11="","",IF(MONTH(N11+1)<>MONTH(N11),"",N11+1)) | P11: =IF(O11="","",IF(MONTH(O11+1)<>MONTH(O11),"",O11+1)) | R11: =IF(X10="","",IF(MONTH(X10+1)<>MONTH(X10),"",X10+1)) | S11: =IF(R11="","",IF(MONTH(R11+1)<>MONTH(R11),"",R11+1)) | T11: =IF(S11="","",IF(MONTH(S11+1)<>MONTH(S11),"",S11+1)) | U11: =IF(T11="","",IF(MONTH(T11+1)<>MONTH(T11),"",T11+1)) | V11: =IF(U11="","",IF(MONTH(U11+1)<>MONTH(U11),"",U11+1)) | W11: =IF(V11="","",IF(MONTH(V11+1)<>MONTH(V11),"",V11+1)) | X11: =IF(W11="","",IF(MONTH(W11+1)<>MONTH(W11),"",W11+1)) | Z11: =IF(AF10="","",IF(MONTH(AF10+1)<>MONTH(AF10),"",AF10+1)) | AA11: =IF(Z11="","",IF(MONTH(Z11+1)<>MONTH(Z11),"",Z11+1)) | AB11: =IF(AA11="","",IF(MONTH(AA11+1)<>MONTH(AA11),"",AA11+1)) | AC11: =IF(AB11="","",IF(MONTH(AB11+1)<>MONTH(AB11),"",AB11+1)) | AD11: =IF(AC11="","",IF(MONTH(AC11+1)<>MONTH(AC11),"",AC11+1)) | AE11: =IF(AD11="","",IF(MONTH(AD11+1)<>MONTH(AD11),"",AD11+1)) | AF11: =IF(AE11="","",IF(MONTH(AE11+1)<>MONTH(AE11),"",AE11+1))
B13: =DATE(YEAR(Z4+42),MONTH(Z4+42),1) -> 44682 | J13: =DATE(YEAR(B13+42),MONTH(B13+42),1) -> 44713 | R13: =DATE(YEAR(J13+42),MONTH(J13+42),1) -> 44743 | Z13: =DATE(YEAR(R13+42),MONTH(R13+42),1) -> 44774
B14: =CHOOSE(1+MOD(2+1-2,7), "SO","MO","DI","MI","DO","FR","SA") -> MO | C14: =CHOOSE(1+MOD(2+2-2,7), "SO","MO","DI","MI","DO","FR","SA") -> DI | D14: =CHOOSE(1+MOD(2+3-2,7), "SO","MO","DI","MI","DO","FR","SA") -> MI | E14: =CHOOSE(1+MOD(2+4-2,7), "SO","MO","DI","MI","DO","FR","SA") -> DO | F14: =CHOOSE(1+MOD(2+5-2,7), "SO","MO","DI","MI","DO","FR","SA") -> FR | G14: =CHOOSE(1+MOD(2+6-2,7), "SO","MO","DI","MI","DO","FR","SA") -> SA | H14: =CHOOSE(1+MOD(2+7-2,7), "SO","MO","DI","MI","DO","FR","SA") -> SO | J14: =CHOOSE(1+MOD(2+1-2,7), "SO","MO","DI","MI","DO","FR","SA") -> MO | K14: =CHOOSE(1+MOD(2+2-2,7), "SO","MO","DI","MI","DO","FR","SA") -> DI | L14: =CHOOSE(1+MOD(2+3-2,7), "SO","MO","DI","MI","DO","FR","SA") -> MI | M14: =CHOOSE(1+MOD(2+4-2,7), "SO","MO","DI","MI","DO","FR","SA") -> DO | N14: =CHOOSE(1+MOD(2+5-2,7), "SO","MO","DI","MI","DO","FR","SA") -> FR | O14: =CHOOSE(1+MOD(2+6-2,7), "SO","MO","DI","MI","DO","FR","SA") -> SA | P14: =CHOOSE(1+MOD(2+7-2,7), "SO","MO","DI","MI","DO","FR","SA") -> SO | R14: =CHOOSE(1+MOD(2+1-2,7), "SO","MO","DI","MI","DO","FR","SA") -> MO | S14: =CHOOSE(1+MOD(2+2-2,7), "SO","MO","DI","MI","DO","FR","SA") -> DI | T14: =CHOOSE(1+MOD(2+3-2,7), "SO","MO","DI","MI","DO","FR","SA") -> MI | U14: =CHOOSE(1+MOD(2+4-2,7), "SO","MO","DI","MI","DO","FR","SA") -> DO | V14: =CHOOSE(1+MOD(2+5-2,7), "SO","MO","DI","MI","DO","FR","SA") -> FR | W14: =CHOOSE(1+MOD(2+6-2,7), "SO","MO","DI","MI","DO","FR","SA") -> SA | X14: =CHOOSE(1+MOD(2+7-2,7), "SO","MO","DI","MI","DO","FR","SA") -> SO | Z14: =CHOOSE(1+MOD(2+1-2,7), "SO","MO","DI","MI","DO","FR","SA") -> MO | AA14: =CHOOSE(1+MOD(2+2-2,7), "SO","MO","DI","MI","DO","FR","SA") -> DI | AB14: =CHOOSE(1+MOD(2+3-2,7), "SO","MO","DI","MI","DO","FR","SA") -> MI | AC14: =CHOOSE(1+MOD(2+4-2,7), "SO","MO","DI","MI","DO","FR","SA") -> DO | AD14: =CHOOSE(1+MOD(2+5-2,7), "SO","MO","DI","MI","DO","FR","SA") -> FR | AE14: =CHOOSE(1+MOD(2+6-2,7), "SO","MO","DI","MI","DO","FR","SA") -> SA | AF14: =CHOOSE(1+MOD(2+7-2,7), "SO","MO","DI","MI","DO","FR","SA") -> SO
B15: =IF(WEEKDAY(B13,1)=MOD(2,7),B13,"") | C15: =IF(B15="",IF(WEEKDAY(B13,1)=MOD(2,7)+1,B13,""),B15+1) | D15: =IF(C15="",IF(WEEKDAY(B13,1)=MOD(2+1,7)+1,B13,""),C15+1) | E15: =IF(D15="",IF(WEEKDAY(B13,1)=MOD(2+2,7)+1,B13,""),D15+1) | F15: =IF(E15="",IF(WEEKDAY(B13,1)=MOD(2+3,7)+1,B13,""),E15+1) | G15: =IF(F15="",IF(WEEKDAY(B13,1)=MOD(2+4,7)+1,B13,""),F15+1) | H15: =IF(G15="",IF(WEEKDAY(B13,1)=MOD(2+5,7)+1,B13,""),G15+1) -> 44682 | J15: =IF(WEEKDAY(J13,1)=MOD(2,7),J13,"") | K15: =IF(J15="",IF(WEEKDAY(J13,1)=MOD(2,7)+1,J13,""),J15+1) | L15: =IF(K15="",IF(WEEKDAY(J13,1)=MOD(2+1,7)+1,J13,""),K15+1) -> 44713 | M15: =IF(L15="",IF(WEEKDAY(J13,1)=MOD(2+2,7)+1,J13,""),L15+1) -> 44714 | N15: =IF(M15="",IF(WEEKDAY(J13,1)=MOD(2+3,7)+1,J13,""),M15+1) -> 44715 | O15: =IF(N15="",IF(WEEKDAY(J13,1)=MOD(2+4,7)+1,J13,""),N15+1) -> 44716 | P15: =IF(O15="",IF(WEEKDAY(J13,1)=MOD(2+5,7)+1,J13,""),O15+1) -> 44717 | R15: =IF(WEEKDAY(R13,1)=MOD(2,7),R13,"") | S15: =IF(R15="",IF(WEEKDAY(R13,1)=MOD(2,7)+1,R13,""),R15+1) | T15: =IF(S15="",IF(WEEKDAY(R13,1)=MOD(2+1,7)+1,R13,""),S15+1) | U15: =IF(T15="",IF(WEEKDAY(R13,1)=MOD(2+2,7)+1,R13,""),T15+1) | V15: =IF(U15="",IF(WEEKDAY(R13,1)=MOD(2+3,7)+1,R13,""),U15+1) -> 44743 | W15: =IF(V15="",IF(WEEKDAY(R13,1)=MOD(2+4,7)+1,R13,""),V15+1) -> 44744 | X15: =IF(W15="",IF(WEEKDAY(R13,1)=MOD(2+5,7)+1,R13,""),W15+1) -> 44745 | Z15: =IF(WEEKDAY(Z13,1)=MOD(2,7),Z13,"") -> 44774 | AA15: =IF(Z15="",IF(WEEKDAY(Z13,1)=MOD(2,7)+1,Z13,""),Z15+1) -> 44775 | AB15: =IF(AA15="",IF(WEEKDAY(Z13,1)=MOD(2+1,7)+1,Z13,""),AA15+1) -> 44776 | AC15: =IF(AB15="",IF(WEEKDAY(Z13,1)=MOD(2+2,7)+1,Z13,""),AB15+1) -> 44777 | AD15: =IF(AC15="",IF(WEEKDAY(Z13,1)=MOD(2+3,7)+1,Z13,""),AC15+1) -> 44778 | AE15: =IF(AD15="",IF(WEEKDAY(Z13,1)=MOD(2+4,7)+1,Z13,""),AD15+1) -> 44779 | AF15: =IF(AE15="",IF(WEEKDAY(Z13,1)=MOD(2+5,7)+1,Z13,""),AE15+1) -> 44780
B16: =IF(H15="","",IF(MONTH(H15+1)<>MONTH(H15),"",H15+1)) -> 44683 | C16: =IF(B16="","",IF(MONTH(B16+1)<>MONTH(B16),"",B16+1)) -> 44684 | D16: =IF(C16="","",IF(MONTH(C16+1)<>MONTH(C16),"",C16+1)) -> 44685 | E16: =IF(D16="","",IF(MONTH(D16+1)<>MONTH(D16),"",D16+1)) -> 44686 | F16: =IF(E16="","",IF(MONTH(E16+1)<>MONTH(E16),"",E16+1)) -> 44687 | G16: =IF(F16="","",IF(MONTH(F16+1)<>MONTH(F16),"",F16+1)) -> 44688 | H16: =IF(G16="","",IF(MONTH(G16+1)<>MONTH(G16),"",G16+1)) -> 44689 | J16: =IF(P15="","",IF(MONTH(P15+1)<>MONTH(P15),"",P15+1)) -> 44718 | K16: =IF(J16="","",IF(MONTH(J16+1)<>MONTH(J16),"",J16+1)) -> 44719 | L16: =IF(K16="","",IF(MONTH(K16+1)<>MONTH(K16),"",K16+1)) -> 44720 | M16: =IF(L16="","",IF(MONTH(L16+1)<>MONTH(L16),"",L16+1)) -> 44721 | N16: =IF(M16="","",IF(MONTH(M16+1)<>MONTH(M16),"",M16+1)) -> 44722 | O16: =IF(N16="","",IF(MONTH(N16+1)<>MONTH(N16),"",N16+1)) -> 44723 | P16: =IF(O16="","",IF(MONTH(O16+1)<>MONTH(O16),"",O16+1)) -> 44724 | R16: =IF(X15="","",IF(MONTH(X15+1)<>MONTH(X15),"",X15+1)) -> 44746 | S16: =IF(R16="","",IF(MONTH(R16+1)<>MONTH(R16),"",R16+1)) -> 44747 | T16: =IF(S16="","",IF(MONTH(S16+1)<>MONTH(S16),"",S16+1)) -> 44748 | U16: =IF(T16="","",IF(MONTH(T16+1)<>MONTH(T16),"",T16+1)) -> 44749 | V16: =IF(U16="","",IF(MONTH(U16+1)<>MONTH(U16),"",U16+1)) -> 44750 | W16: =IF(V16="","",IF(MONTH(V16+1)<>MONTH(V16),"",V16+1)) -> 44751 | X16: =IF(W16="","",IF(MONTH(W16+1)<>MONTH(W16),"",W16+1)) -> 44752 | Z16: =IF(AF15="","",IF(MONTH(AF15+1)<>MONTH(AF15),"",AF15+1)) -> 44781 | AA16: =IF(Z16="","",IF(MONTH(Z16+1)<>MONTH(Z16),"",Z16+1)) -> 44782 | AB16: =IF(AA16="","",IF(MONTH(AA16+1)<>MONTH(AA16),"",AA16+1)) -> 44783 | AC16: =IF(AB16="","",IF(MONTH(AB16+1)<>MONTH(AB16),"",AB16+1)) -> 44784 | AD16: =IF(AC16="","",IF(MONTH(AC16+1)<>MONTH(AC16),"",AC16+1)) -> 44785 | AE16: =IF(AD16="","",IF(MONTH(AD16+1)<>MONTH(AD16),"",AD16+1)) -> 44786 | AF16: =IF(AE16="","",IF(MONTH(AE16+1)<>MONTH(AE16),"",AE16+1)) -> 44787
B17: =IF(H16="","",IF(MONTH(H16+1)<>MONTH(H16),"",H16+1)) -> 44690 | C17: =IF(B17="","",IF(MONTH(B17+1)<>MONTH(B17),"",B17+1)) -> 44691 | D17: =IF(C17="","",IF(MONTH(C17+1)<>MONTH(C17),"",C17+1)) -> 44692 | E17: =IF(D17="","",IF(MONTH(D17+1)<>MONTH(D17),"",D17+1)) -> 44693 | F17: =IF(E17="","",IF(MONTH(E17+1)<>MONTH(E17),"",E17+1)) -> 44694 | G17: =IF(F17="","",IF(MONTH(F17+1)<>MONTH(F17),"",F17+1)) -> 44695 | H17: =IF(G17="","",IF(MONTH(G17+1)<>MONTH(G17),"",G17+1)) -> 44696 | J17: =IF(P16="","",IF(MONTH(P16+1)<>MONTH(P16),"",P16+1)) -> 44725 | K17: =IF(J17="","",IF(MONTH(J17+1)<>MONTH(J17),"",J17+1)) -> 44726 | L17: =IF(K17="","",IF(MONTH(K17+1)<>MONTH(K17),"",K17+1)) -> 44727 | M17: =IF(L17="","",IF(MONTH(L17+1)<>MONTH(L17),"",L17+1)) -> 44728 | N17: =IF(M17="","",IF(MONTH(M17+1)<>MONTH(M17),"",M17+1)) -> 44729 | O17: =IF(N17="","",IF(MONTH(N17+1)<>MONTH(N17),"",N17+1)) -> 44730 | P17: =IF(O17="","",IF(MONTH(O17+1)<>MONTH(O17),"",O17+1)) -> 44731 | R17: =IF(X16="","",IF(MONTH(X16+1)<>MONTH(X16),"",X16+1)) -> 44753 | S17: =IF(R17="","",IF(MONTH(R17+1)<>MONTH(R17),"",R17+1)) -> 44754 | T17: =IF(S17="","",IF(MONTH(S17+1)<>MONTH(S17),"",S17+1)) -> 44755 | U17: =IF(T17="","",IF(MONTH(T17+1)<>MONTH(T17),"",T17+1)) -> 44756 | V17: =IF(U17="","",IF(MONTH(U17+1)<>MONTH(U17),"",U17+1)) -> 44757 | W17: =IF(V17="","",IF(MONTH(V17+1)<>MONTH(V17),"",V17+1)) -> 44758 | X17: =IF(W17="","",IF(MONTH(W17+1)<>MONTH(W17),"",W17+1)) -> 44759 | Z17: =IF(AF16="","",IF(MONTH(AF16+1)<>MONTH(AF16),"",AF16+1)) -> 44788 | AA17: =IF(Z17="","",IF(MONTH(Z17+1)<>MONTH(Z17),"",Z17+1)) -> 44789 | AB17: =IF(AA17="","",IF(MONTH(AA17+1)<>MONTH(AA17),"",AA17+1)) -> 44790 | AC17: =IF(AB17="","",IF(MONTH(AB17+1)<>MONTH(AB17),"",AB17+1)) -> 44791 | AD17: =IF(AC17="","",IF(MONTH(AC17+1)<>MONTH(AC17),"",AC17+1)) -> 44792 | AE17: =IF(AD17="","",IF(MONTH(AD17+1)<>MONTH(AD17),"",AD17+1)) -> 44793 | AF17: =IF(AE17="","",IF(MONTH(AE17+1)<>MONTH(AE17),"",AE17+1)) -> 44794
B18: =IF(H17="","",IF(MONTH(H17+1)<>MONTH(H17),"",H17+1)) -> 44697 | C18: =IF(B18="","",IF(MONTH(B18+1)<>MONTH(B18),"",B18+1)) -> 44698 | D18: =IF(C18="","",IF(MONTH(C18+1)<>MONTH(C18),"",C18+1)) -> 44699 | E18: =IF(D18="","",IF(MONTH(D18+1)<>MONTH(D18),"",D18+1)) -> 44700 | F18: =IF(E18="","",IF(MONTH(E18+1)<>MONTH(E18),"",E18+1)) -> 44701 | G18: =IF(F18="","",IF(MONTH(F18+1)<>MONTH(F18),"",F18+1)) -> 44702 | H18: =IF(G18="","",IF(MONTH(G18+1)<>MONTH(G18),"",G18+1)) -> 44703 | J18: =IF(P17="","",IF(MONTH(P17+1)<>MONTH(P17),"",P17+1)) -> 44732 | K18: =IF(J18="","",IF(MONTH(J18+1)<>MONTH(J18),"",J18+1)) -> 44733 | L18: =IF(K18="","",IF(MONTH(K18+1)<>MONTH(K18),"",K18+1)) -> 44734 | M18: =IF(L18="","",IF(MONTH(L18+1)<>MONTH(L18),"",L18+1)) -> 44735 | N18: =IF(M18="","",IF(MONTH(M18+1)<>MONTH(M18),"",M18+1)) -> 44736 | O18: =IF(N18="","",IF(MONTH(N18+1)<>MONTH(N18),"",N18+1)) -> 44737 | P18: =IF(O18="","",IF(MONTH(O18+1)<>MONTH(O18),"",O18+1)) -> 44738 | R18: =IF(X17="","",IF(MONTH(X17+1)<>MONTH(X17),"",X17+1)) -> 44760 | S18: =IF(R18="","",IF(MONTH(R18+1)<>MONTH(R18),"",R18+1)) -> 44761 | T18: =IF(S18="","",IF(MONTH(S18+1)<>MONTH(S18),"",S18+1)) -> 44762 | U18: =IF(T18="","",IF(MONTH(T18+1)<>MONTH(T18),"",T18+1)) -> 44763 | V18: =IF(U18="","",IF(MONTH(U18+1)<>MONTH(U18),"",U18+1)) -> 44764 | W18: =IF(V18="","",IF(MONTH(V18+1)<>MONTH(V18),"",V18+1)) -> 44765 | X18: =IF(W18="","",IF(MONTH(W18+1)<>MONTH(W18),"",W18+1)) -> 44766 | Z18: =IF(AF17="","",IF(MONTH(AF17+1)<>MONTH(AF17),"",AF17+1)) -> 44795 | AA18: =IF(Z18="","",IF(MONTH(Z18+1)<>MONTH(Z18),"",Z18+1)) -> 44796 | AB18: =IF(AA18="","",IF(MONTH(AA18+1)<>MONTH(AA18),"",AA18+1)) -> 44797 | AC18: =IF(AB18="","",IF(MONTH(AB18+1)<>MONTH(AB18),"",AB18+1)) -> 44798 | AD18: =IF(AC18="","",IF(MONTH(AC18+1)<>MONTH(AC18),"",AC18+1)) -> 44799 | AE18: =IF(AD18="","",IF(MONTH(AD18+1)<>MONTH(AD18),"",AD18+1)) -> 44800 | AF18: =IF(AE18="","",IF(MONTH(AE18+1)<>MONTH(AE18),"",AE18+1)) -> 44801
B19: =IF(H18="","",IF(MONTH(H18+1)<>MONTH(H18),"",H18+1)) -> 44704 | C19: =IF(B19="","",IF(MONTH(B19+1)<>MONTH(B19),"",B19+1)) -> 44705 | D19: =IF(C19="","",IF(MONTH(C19+1)<>MONTH(C19),"",C19+1)) -> 44706 | E19: =IF(D19="","",IF(MONTH(D19+1)<>MONTH(D19),"",D19+1)) -> 44707 | F19: =IF(E19="","",IF(MONTH(E19+1)<>MONTH(E19),"",E19+1)) -> 44708 | G19: =IF(F19="","",IF(MONTH(F19+1)<>MONTH(F19),"",F19+1)) -> 44709 | H19: =IF(G19="","",IF(MONTH(G19+1)<>MONTH(G19),"",G19+1)) -> 44710 | J19: =IF(P18="","",IF(MONTH(P18+1)<>MONTH(P18),"",P18+1)) -> 44739 | K19: =IF(J19="","",IF(MONTH(J19+1)<>MONTH(J19),"",J19+1)) -> 44740 | L19: =IF(K19="","",IF(MONTH(K19+1)<>MONTH(K19),"",K19+1)) -> 44741 | M19: =IF(L19="","",IF(MONTH(L19+1)<>MONTH(L19),"",L19+1)) -> 44742 | N19: =IF(M19="","",IF(MONTH(M19+1)<>MONTH(M19),"",M19+1)) | O19: =IF(N19="","",IF(MONTH(N19+1)<>MONTH(N19),"",N19+1)) | P19: =IF(O19="","",IF(MONTH(O19+1)<>MONTH(O19),"",O19+1)) | R19: =IF(X18="","",IF(MONTH(X18+1)<>MONTH(X18),"",X18+1)) -> 44767 | S19: =IF(R19="","",IF(MONTH(R19+1)<>MONTH(R19),"",R19+1)) -> 44768 | T19: =IF(S19="","",IF(MONTH(S19+1)<>MONTH(S19),"",S19+1)) -> 44769 | U19: =IF(T19="","",IF(MONTH(T19+1)<>MONTH(T19),"",T19+1)) -> 44770 | V19: =IF(U19="","",IF(MONTH(U19+1)<>MONTH(U19),"",U19+1)) -> 44771 | W19: =IF(V19="","",IF(MONTH(V19+1)<>MONTH(V19),"",V19+1)) -> 44772 | X19: =IF(W19="","",IF(MONTH(W19+1)<>MONTH(W19),"",W19+1)) -> 44773 | Z19: =IF(AF18="","",IF(MONTH(AF18+1)<>MONTH(AF18),"",AF18+1)) -> 44802 | AA19: =IF(Z19="","",IF(MONTH(Z19+1)<>MONTH(Z19),"",Z19+1)) -> 44803 | AB19: =IF(AA19="","",IF(MONTH(AA19+1)<>MONTH(AA19),"",AA19+1)) -> 44804 | AC19: =IF(AB19="","",IF(MONTH(AB19+1)<>MONTH(AB19),"",AB19+1)) | AD19: =IF(AC19="","",IF(MONTH(AC19+1)<>MONTH(AC19),"",AC19+1)) | AE19: =IF(AD19="","",IF(MONTH(AD19+1)<>MONTH(AD19),"",AD19+1)) | AF19: =IF(AE19="","",IF(MONTH(AE19+1)<>MONTH(AE19),"",AE19+1))
B20: =IF(H19="","",IF(MONTH(H19+1)<>MONTH(H19),"",H19+1)) -> 44711 | C20: =IF(B20="","",IF(MONTH(B20+1)<>MONTH(B20),"",B20+1)) -> 44712 | D20: =IF(C20="","",IF(MONTH(C20+1)<>MONTH(C20),"",C20+1)) | E20: =IF(D20="","",IF(MONTH(D20+1)<>MONTH(D20),"",D20+1)) | F20: =IF(E20="","",IF(MONTH(E20+1)<>MONTH(E20),"",E20+1)) | G20: =IF(F20="","",IF(MONTH(F20+1)<>MONTH(F20),"",F20+1)) | H20: =IF(G20="","",IF(MONTH(G20+1)<>MONTH(G20),"",G20+1)) | J20: =IF(P19="","",IF(MONTH(P19+1)<>MONTH(P19),"",P19+1)) | K20: =IF(J20="","",IF(MONTH(J20+1)<>MONTH(J20),"",J20+1)) | L20: =IF(K20="","",IF(MONTH(K20+1)<>MONTH(K20),"",K20+1)) | M20: =IF(L20="","",IF(MONTH(L20+1)<>MONTH(L20),"",L20+1)) | N20: =IF(M20="","",IF(MONTH(M20+1)<>MONTH(M20),"",M20+1)) | O20: =IF(N20="","",IF(MONTH(N20+1)<>MONTH(N20),"",N20+1)) | P20: =IF(O20="","",IF(MONTH(O20+1)<>MONTH(O20),"",O20+1))
B22: =DATE(YEAR(Z13+42),MONTH(Z13+42),1) -> 44805 | J22: =DATE(YEAR(B22+42),MONTH(B22+42),1) -> 44835 | R22: =DATE(YEAR(J22+42),MONTH(J22+42),1) -> 44866 | Z22: =DATE(YEAR(R22+42),MONTH(R22+42),1) -> 44896
B23: =CHOOSE(1+MOD(2+1-2,7), "SO","MO","DI","MI","DO","FR","SA") -> MO | C23: =CHOOSE(1+MOD(2+2-2,7), "SO","MO","DI","MI","DO","FR","SA") -> DI | D23: =CHOOSE(1+MOD(2+3-2,7), "SO","MO","DI","MI","DO","FR","SA") -> MI | E23: =CHOOSE(1+MOD(2+4-2,7), "SO","MO","DI","MI","DO","FR","SA") -> DO | F23: =CHOOSE(1+MOD(2+5-2,7), "SO","MO","DI","MI","DO","FR","SA") -> FR | G23: =CHOOSE(1+MOD(2+6-2,7), "SO","MO","DI","MI","DO","FR","SA") -> SA | H23: =CHOOSE(1+MOD(2+7-2,7), "SO","MO","DI","MI","DO","FR","SA") -> SO | J23: =CHOOSE(1+MOD(2+1-2,7), "SO","MO","DI","MI","DO","FR","SA") -> MO | K23: =CHOOSE(1+MOD(2+2-2,7), "SO","MO","DI","MI","DO","FR","SA") -> DI | L23: =CHOOSE(1+MOD(2+3-2,7), "SO","MO","DI","MI","DO","FR","SA") -> MI | M23: =CHOOSE(1+MOD(2+4-2,7), "SO","MO","DI","MI","DO","FR","SA") -> DO | N23: =CHOOSE(1+MOD(2+5-2,7), "SO","MO","DI","MI","DO","FR","SA") -> FR | O23: =CHOOSE(1+MOD(2+6-2,7), "SO","MO","DI","MI","DO","FR","SA") -> SA | P23: =CHOOSE(1+MOD(2+7-2,7), "SO","MO","DI","MI","DO","FR","SA") -> SO | R23: =CHOOSE(1+MOD(2+1-2,7), "SO","MO","DI","MI","DO","FR","SA") -> MO | S23: =CHOOSE(1+MOD(2+2-2,7), "SO","MO","DI","MI","DO","FR","SA") -> DI | T23: =CHOOSE(1+MOD(2+3-2,7), "SO","MO","DI","MI","DO","FR","SA") -> MI | U23: =CHOOSE(1+MOD(2+4-2,7), "SO","MO","DI","MI","DO","FR","SA") -> DO | V23: =CHOOSE(1+MOD(2+5-2,7), "SO","MO","DI","MI","DO","FR","SA") -> FR | W23: =CHOOSE(1+MOD(2+6-2,7), "SO","MO","DI","MI","DO","FR","SA") -> SA | X23: =CHOOSE(1+MOD(2+7-2,7), "SO","MO","DI","MI","DO","FR","SA") -> SO | Z23: =CHOOSE(1+MOD(2+1-2,7), "SO","MO","DI","MI","DO","FR","SA") -> MO | AA23: =CHOOSE(1+MOD(2+2-2,7), "SO","MO","DI","MI","DO","FR","SA") -> DI | AB23: =CHOOSE(1+MOD(2+3-2,7), "SO","MO","DI","MI","DO","FR","SA") -> MI | AC23: =CHOOSE(1+MOD(2+4-2,7), "SO","MO","DI","MI","DO","FR","SA") -> DO | AD23: =CHOOSE(1+MOD(2+5-2,7), "SO","MO","DI","MI","DO","FR","SA") -> FR | AE23: =CHOOSE(1+MOD(2+6-2,7), "SO","MO","DI","MI","DO","FR","SA") -> SA | AF23: =CHOOSE(1+MOD(2+7-2,7), "SO","MO","DI","MI","DO","FR","SA") -> SO
B24: =IF(WEEKDAY(B22,1)=MOD(2,7),B22,"") | C24: =IF(B24="",IF(WEEKDAY(B22,1)=MOD(2,7)+1,B22,""),B24+1) | D24: =IF(C24="",IF(WEEKDAY(B22,1)=MOD(2+1,7)+1,B22,""),C24+1) | E24: =IF(D24="",IF(WEEKDAY(B22,1)=MOD(2+2,7)+1,B22,""),D24+1) -> 44805 | F24: =IF(E24="",IF(WEEKDAY(B22,1)=MOD(2+3,7)+1,B22,""),E24+1) -> 44806 | G24: =IF(F24="",IF(WEEKDAY(B22,1)=MOD(2+4,7)+1,B22,""),F24+1) -> 44807 | H24: =IF(G24="",IF(WEEKDAY(B22,1)=MOD(2+5,7)+1,B22,""),G24+1) -> 44808 | J24: =IF(WEEKDAY(J22,1)=MOD(2,7),J22,"") | K24: =IF(J24="",IF(WEEKDAY(J22,1)=MOD(2,7)+1,J22,""),J24+1) | L24: =IF(K24="",IF(WEEKDAY(J22,1)=MOD(2+1,7)+1,J22,""),K24+1) | M24: =IF(L24="",IF(WEEKDAY(J22,1)=MOD(2+2,7)+1,J22,""),L24+1) | N24: =IF(M24="",IF(WEEKDAY(J22,1)=MOD(2+3,7)+1,J22,""),M24+1) | O24: =IF(N24="",IF(WEEKDAY(J22,1)=MOD(2+4,7)+1,J22,""),N24+1) -> 44835 | P24: =IF(O24="",IF(WEEKDAY(J22,1)=MOD(2+5,7)+1,J22,""),O24+1) -> 44836 | R24: =IF(WEEKDAY(R22,1)=MOD(2,7),R22,"") | S24: =IF(R24="",IF(WEEKDAY(R22,1)=MOD(2,7)+1,R22,""),R24+1) -> 44866 | T24: =IF(S24="",IF(WEEKDAY(R22,1)=MOD(2+1,7)+1,R22,""),S24+1) -> 44867 | U24: =IF(T24="",IF(WEEKDAY(R22,1)=MOD(2+2,7)+1,R22,""),T24+1) -> 44868 | V24: =IF(U24="",IF(WEEKDAY(R22,1)=MOD(2+3,7)+1,R22,""),U24+1) -> 44869 | W24: =IF(V24="",IF(WEEKDAY(R22,1)=MOD(2+4,7)+1,R22,""),V24+1) -> 44870 | X24: =IF(W24="",IF(WEEKDAY(R22,1)=MOD(2+5,7)+1,R22,""),W24+1) -> 44871 | Z24: =IF(WEEKDAY(Z22,1)=MOD(2,7),Z22,"") | AA24: =IF(Z24="",IF(WEEKDAY(Z22,1)=MOD(2,7)+1,Z22,""),Z24+1) | AB24: =IF(AA24="",IF(WEEKDAY(Z22,1)=MOD(2+1,7)+1,Z22,""),AA24+1) | AC24: =IF(AB24="",IF(WEEKDAY(Z22,1)=MOD(2+2,7)+1,Z22,""),AB24+1) -> 44896 | AD24: =IF(AC24="",IF(WEEKDAY(Z22,1)=MOD(2+3,7)+1,Z22,""),AC24+1) -> 44897 | AE24: =IF(AD24="",IF(WEEKDAY(Z22,1)=MOD(2+4,7)+1,Z22,""),AD24+1) -> 44898 | AF24: =IF(AE24="",IF(WEEKDAY(Z22,1)=MOD(2+5,7)+1,Z22,""),AE24+1) -> 44899
B25: =IF(H24="","",IF(MONTH(H24+1)<>MONTH(H24),"",H24+1)) -> 44809 | C25: =IF(B25="","",IF(MONTH(B25+1)<>MONTH(B25),"",B25+1)) -> 44810 | D25: =IF(C25="","",IF(MONTH(C25+1)<>MONTH(C25),"",C25+1)) -> 44811 | E25: =IF(D25="","",IF(MONTH(D25+1)<>MONTH(D25),"",D25+1)) -> 44812 | F25: =IF(E25="","",IF(MONTH(E25+1)<>MONTH(E25),"",E25+1)) -> 44813 | G25: =IF(F25="","",IF(MONTH(F25+1)<>MONTH(F25),"",F25+1)) -> 44814 | H25: =IF(G25="","",IF(MONTH(G25+1)<>MONTH(G25),"",G25+1)) -> 44815 | J25: =IF(P24="","",IF(MONTH(P24+1)<>MONTH(P24),"",P24+1)) -> 44837 | K25: =IF(J25="","",IF(MONTH(J25+1)<>MONTH(J25),"",J25+1)) -> 44838 | L25: =IF(K25="","",IF(MONTH(K25+1)<>MONTH(K25),"",K25+1)) -> 44839 | M25: =IF(L25="","",IF(MONTH(L25+1)<>MONTH(L25),"",L25+1)) -> 44840 | N25: =IF(M25="","",IF(MONTH(M25+1)<>MONTH(M25),"",M25+1)) -> 44841 | O25: =IF(N25="","",IF(MONTH(N25+1)<>MONTH(N25),"",N25+1)) -> 44842 | P25: =IF(O25="","",IF(MONTH(O25+1)<>MONTH(O25),"",O25+1)) -> 44843 | R25: =IF(X24="","",IF(MONTH(X24+1)<>MONTH(X24),"",X24+1)) -> 44872 | S25: =IF(R25="","",IF(MONTH(R25+1)<>MONTH(R25),"",R25+1)) -> 44873 | T25: =IF(S25="","",IF(MONTH(S25+1)<>MONTH(S25),"",S25+1)) -> 44874 | U25: =IF(T25="","",IF(MONTH(T25+1)<>MONTH(T25),"",T25+1)) -> 44875 | V25: =IF(U25="","",IF(MONTH(U25+1)<>MONTH(U25),"",U25+1)) -> 44876 | W25: =IF(V25="","",IF(MONTH(V25+1)<>MONTH(V25),"",V25+1)) -> 44877 | X25: =IF(W25="","",IF(MONTH(W25+1)<>MONTH(W25),"",W25+1)) -> 44878 | Z25: =IF(AF24="","",IF(MONTH(AF24+1)<>MONTH(AF24),"",AF24+1)) -> 44900 | AA25: =IF(Z25="","",IF(MONTH(Z25+1)<>MONTH(Z25),"",Z25+1)) -> 44901 | AB25: =IF(AA25="","",IF(MONTH(AA25+1)<>MONTH(AA25),"",AA25+1)) -> 44902 | AC25: =IF(AB25="","",IF(MONTH(AB25+1)<>MONTH(AB25),"",AB25+1)) -> 44903 | AD25: =IF(AC25="","",IF(MONTH(AC25+1)<>MONTH(AC25),"",AC25+1)) -> 44904 | AE25: =IF(AD25="","",IF(MONTH(AD25+1)<>MONTH(AD25),"",AD25+1)) -> 44905 | AF25: =IF(AE25="","",IF(MONTH(AE25+1)<>MONTH(AE25),"",AE25+1)) -> 44906
B26: =IF(H25="","",IF(MONTH(H25+1)<>MONTH(H25),"",H25+1)) -> 44816 | C26: =IF(B26="","",IF(MONTH(B26+1)<>MONTH(B26),"",B26+1)) -> 44817 | D26: =IF(C26="","",IF(MONTH(C26+1)<>MONTH(C26),"",C26+1)) -> 44818 | E26: =IF(D26="","",IF(MONTH(D26+1)<>MONTH(D26),"",D26+1)) -> 44819 | F26: =IF(E26="","",IF(MONTH(E26+1)<>MONTH(E26),"",E26+1)) -> 44820 | G26: =IF(F26="","",IF(MONTH(F26+1)<>MONTH(F26),"",F26+1)) -> 44821 | H26: =IF(G26="","",IF(MONTH(G26+1)<>MONTH(G26),"",G26+1)) -> 44822 | J26: =IF(P25="","",IF(MONTH(P25+1)<>MONTH(P25),"",P25+1)) -> 44844 | K26: =IF(J26="","",IF(MONTH(J26+1)<>MONTH(J26),"",J26+1)) -> 44845 | L26: =IF(K26="","",IF(MONTH(K26+1)<>MONTH(K26),"",K26+1)) -> 44846 | M26: =IF(L26="","",IF(MONTH(L26+1)<>MONTH(L26),"",L26+1)) -> 44847 | N26: =IF(M26="","",IF(MONTH(M26+1)<>MONTH(M26),"",M26+1)) -> 44848 | O26: =IF(N26="","",IF(MONTH(N26+1)<>MONTH(N26),"",N26+1)) -> 44849 | P26: =IF(O26="","",IF(MONTH(O26+1)<>MONTH(O26),"",O26+1)) -> 44850 | R26: =IF(X25="","",IF(MONTH(X25+1)<>MONTH(X25),"",X25+1)) -> 44879 | S26: =IF(R26="","",IF(MONTH(R26+1)<>MONTH(R26),"",R26+1)) -> 44880 | T26: =IF(S26="","",IF(MONTH(S26+1)<>MONTH(S26),"",S26+1)) -> 44881 | U26: =IF(T26="","",IF(MONTH(T26+1)<>MONTH(T26),"",T26+1)) -> 44882 | V26: =IF(U26="","",IF(MONTH(U26+1)<>MONTH(U26),"",U26+1)) -> 44883 | W26: =IF(V26="","",IF(MONTH(V26+1)<>MONTH(V26),"",V26+1)) -> 44884 | X26: =IF(W26="","",IF(MONTH(W26+1)<>MONTH(W26),"",W26+1)) -> 44885 | Z26: =IF(AF25="","",IF(MONTH(AF25+1)<>MONTH(AF25),"",AF25+1)) -> 44907 | AA26: =IF(Z26="","",IF(MONTH(Z26+1)<>MONTH(Z26),"",Z26+1)) -> 44908 | AB26: =IF(AA26="","",IF(MONTH(AA26+1)<>MONTH(AA26),"",AA26+1)) -> 44909 | AC26: =IF(AB26="","",IF(MONTH(AB26+1)<>MONTH(AB26),"",AB26+1)) -> 44910 | AD26: =IF(AC26="","",IF(MONTH(AC26+1)<>MONTH(AC26),"",AC26+1)) -> 44911 | AE26: =IF(AD26="","",IF(MONTH(AD26+1)<>MONTH(AD26),"",AD26+1)) -> 44912 | AF26: =IF(AE26="","",IF(MONTH(AE26+1)<>MONTH(AE26),"",AE26+1)) -> 44913
