Workbook

Sheet Bedienung
A1: Bei Neueinrichtung des Kalenders das neue Jahr nur im Januar eintragen,
A2: alles andere wird automatisch übernommen!
A4: Auch Änderungen bei Name, Fachbereich, Monat oder Jahr nur im Januar eintragen!
A8: Bei folgenden Eintragungen unter Bemerkungen:
A10: Urlaub
A11: Krank
A13: werden nur die Sollstunden in die "Stunden pro Tag" übernommen
A15: Bei folgenden Eintragungen unter Bemerkungen:
A17: Feiertag | M17: Urlaub
A18: Karfreitag | M18: Feiertag
A19: Ostern | M19: Neujahr
A20: Himmelfahrt | M20: Karfreitag
A21: Pfingsten | M21: Himmelfahrt
A22: Fronleichnam | M22: Pfingsten
M23: Weihnachten
A25: werden die Sollstunden plus die eingegebenen Arbeitszeiten in die "Stunden pro Tag"übernommen
A27: Fällt ein Feiertag auf Samstag oder Sonntag werden die tats. Arbeitsstunden verdoppelt.
A47: =IF(B3<=TODAY(),"x","") -> x

Sheet Januar
A1: Wo.- tag | B1: Dat. | C1: KW | D1: Arbeitszeit | J1: Pause | K1: Std. pro Tag | L1: Std. pro Woche | M1: Bemerkungen | N1: davon Über- std. | O1: Ü.Std. pro Woche | P1: abgef. Std. | Q1: Nacht-arbeit | R1: Rufbereitschaft | W1: Stundenzettel | AB1: Soll std. | AC1: Std. pro Tag | AD1: Rufbereitschaft
D2: von | E2: bis | F2: von | G2: bis | H2: von | I2: bis | R2: von | S2: bis | T2: von | U2: bis | V2: Std./ Tag | W2: Thomas Werner | AD2: Std. pro Tag
A3: =B3 -> 44927 | B3: =DATE(W10,1,1) -> 44927 | C3: =TRUNC((B3-DATE(YEAR(B3+3-MOD(B3-2,7)),1,MOD(B3-2,7)-9))/7) -> 52 | K3: =AC3*24 -> 0 | M3: Neujahr | N3: =IF(B3<=TODAY(),K3-AB3,"") -> 0 | V3: =AD3*24 -> 0 | W3: Freibad | AA3: =IF(COUNTIF(Feiertage!$B$5:$B$16,B3),INDEX(Feiertage!$A$5:$A$16,MATCH(B3,Feiertage!$B$5:$B$16,0)),"") -> Neujahr | AB3: =IF(WEEKDAY(A3,2)<=4,(8.25),IF(WEEKDAY(A3,2)=5,(6),(0))) -> 0 | AC3: =IF(OR(M3="Urlaub",M3="Krank"),IF(WEEKDAY(A3,2)<=4,TIME(8,15,0),IF(WEEKDAY(A3,2)=5,TIME(6,0,0),TIME(0,0,0))), IF(OR(M3="Feiertag",M3="Neujahr",M3="Ostersonntag",M3="Ostermontag",M3="Maifeiertag",M3="Pfingstsonntag",M3="Pfingstmontag",M3="Karfreitag",M3="Himmelfahrt",M3="Fronleichnam",M3="Tag der d. Einh.",M3="Weihnachten"),IF(WEEKDAY(A3,2)<=4,TIME(8,15,0),IF(WEEKDAY(A3,2)=5,TIME(6,0,0),TIME(0,0,0)))+(E3-D3)+(G3-F3)+(I3-H3)-J3,(E3-D3)+(G3-F3)+(I3-H3)-J3)) -> 0 | AD3: =MOD(S3-R3,1)+MOD(U3-T3,1) -> 0
A4: =B4 -> 44928 | B4: =B3+1 -> 44928 | C4: =IF($B4="","",IF(WEEKDAY(B4,2)=1,TRUNC((B4-DATE(YEAR(B4+3-MOD(B4-2,7)),1,MOD(B4-2,7)-9))/7),"")) -> 1 | K4: =AC4*24 -> 0 | N4: =IF(B4<=TODAY(),K4-AB4,"") -> -8.25 | V4: =AD4*24 -> 0 | AA4: =IF(COUNTIF(Feiertage!$B$5:$B$16,B4),INDEX(Feiertage!$A$5:$A$16,MATCH(B4,Feiertage!$B$5:$B$16,0)),"") | AB4: =IF(WEEKDAY(A4,2)<=4,(8.25),IF(WEEKDAY(A4,2)=5,(6),(0))) -> 8.25 | AC4: =IF(OR(M4="Urlaub",M4="Krank"),IF(WEEKDAY(A4,2)<=4,TIME(8,15,0),IF(WEEKDAY(A4,2)=5,TIME(6,0,0),TIME(0,0,0))), IF(OR(M4="Feiertag",M4="Neujahr",M4="Ostersonntag",M4="Ostermontag",M4="Maifeiertag",M4="Pfingstsonntag",M4="Pfingstmontag",M4="Karfreitag",M4="Himmelfahrt",M4="Fronleichnam",M4="Tag der d. Einh.",M4="Weihnachten"),IF(WEEKDAY(A4,2)<=4,TIME(8,15,0),IF(WEEKDAY(A4,2)=5,TIME(6,0,0),TIME(0,0,0)))+(E4-D4)+(G4-F4)+(I4-H4)-J4,(E4-D4)+(G4-F4)+(I4-H4)-J4)) -> 0 | AD4: =MOD(S4-R4,1)+MOD(U4-T4,1) -> 0
A5: =B5 -> 44929 | B5: =B4+1 -> 44929 | C5: =IF($B5="","",IF(WEEKDAY(B5,2)=1,TRUNC((B5-DATE(YEAR(B5+3-MOD(B5-2,7)),1,MOD(B5-2,7)-9))/7),"")) | K5: =AC5*24 -> 0 | N5: =IF(B5<=TODAY(),K5-AB5,"") -> -8.25 | V5: =AD5*24 -> 0 | AA5: =IF(COUNTIF(Feiertage!$B$5:$B$16,B5),INDEX(Feiertage!$A$5:$A$16,MATCH(B5,Feiertage!$B$5:$B$16,0)),"") | AB5: =IF(WEEKDAY(A5,2)<=4,(8.25),IF(WEEKDAY(A5,2)=5,(6),(0))) -> 8.25 | AC5: =IF(OR(M5="Urlaub",M5="Krank"),IF(WEEKDAY(A5,2)<=4,TIME(8,15,0),IF(WEEKDAY(A5,2)=5,TIME(6,0,0),TIME(0,0,0))), IF(OR(M5="Feiertag",M5="Neujahr",M5="Ostersonntag",M5="Ostermontag",M5="Maifeiertag",M5="Pfingstsonntag",M5="Pfingstmontag",M5="Karfreitag",M5="Himmelfahrt",M5="Fronleichnam",M5="Tag der d. Einh.",M5="Weihnachten"),IF(WEEKDAY(A5,2)<=4,TIME(8,15,0),IF(WEEKDAY(A5,2)=5,TIME(6,0,0),TIME(0,0,0)))+(E5-D5)+(G5-F5)+(I5-H5)-J5,(E5-D5)+(G5-F5)+(I5-H5)-J5)) -> 0 | AD5: =MOD(S5-R5,1)+MOD(U5-T5,1) -> 0
A6: =B6 -> 44930 | B6: =B5+1 -> 44930 | C6: =IF($B6="","",IF(WEEKDAY(B6,2)=1,TRUNC((B6-DATE(YEAR(B6+3-MOD(B6-2,7)),1,MOD(B6-2,7)-9))/7),"")) | K6: =AC6*24 -> 0 | N6: =IF(B6<=TODAY(),K6-AB6,"") -> -8.25 | V6: =AD6*24 -> 0 | W6: Fachbereich | AA6: =IF(COUNTIF(Feiertage!$B$5:$B$16,B6),INDEX(Feiertage!$A$5:$A$16,MATCH(B6,Feiertage!$B$5:$B$16,0)),"") | AB6: =IF(WEEKDAY(A6,2)<=4,(8.25),IF(WEEKDAY(A6,2)=5,(6),(0))) -> 8.25 | AC6: =IF(OR(M6="Urlaub",M6="Krank"),IF(WEEKDAY(A6,2)<=4,TIME(8,15,0),IF(WEEKDAY(A6,2)=5,TIME(6,0,0),TIME(0,0,0))), IF(OR(M6="Feiertag",M6="Neujahr",M6="Ostersonntag",M6="Ostermontag",M6="Maifeiertag",M6="Pfingstsonntag",M6="Pfingstmontag",M6="Karfreitag",M6="Himmelfahrt",M6="Fronleichnam",M6="Tag der d. Einh.",M6="Weihnachten"),IF(WEEKDAY(A6,2)<=4,TIME(8,15,0),IF(WEEKDAY(A6,2)=5,TIME(6,0,0),TIME(0,0,0)))+(E6-D6)+(G6-F6)+(I6-H6)-J6,(E6-D6)+(G6-F6)+(I6-H6)-J6)) -> 0 | AD6: =MOD(S6-R6,1)+MOD(U6-T6,1) -> 0
A7: =B7 -> 44931 | B7: =B6+1 -> 44931 | C7: =IF($B7="","",IF(WEEKDAY(B7,2)=1,TRUNC((B7-DATE(YEAR(B7+3-MOD(B7-2,7)),1,MOD(B7-2,7)-9))/7),"")) | K7: =AC7*24 -> 0 | N7: =IF(B7<=TODAY(),K7-AB7,"") -> -8.25 | V7: =AD7*24 -> 0 | W7: Januar | AA7: =IF(COUNTIF(Feiertage!$B$5:$B$16,B7),INDEX(Feiertage!$A$5:$A$16,MATCH(B7,Feiertage!$B$5:$B$16,0)),"") | AB7: =IF(WEEKDAY(A7,2)<=4,(8.25),IF(WEEKDAY(A7,2)=5,(6),(0))) -> 8.25 | AC7: =IF(OR(M7="Urlaub",M7="Krank"),IF(WEEKDAY(A7,2)<=4,TIME(8,15,0),IF(WEEKDAY(A7,2)=5,TIME(6,0,0),TIME(0,0,0))), IF(OR(M7="Feiertag",M7="Neujahr",M7="Ostersonntag",M7="Ostermontag",M7="Maifeiertag",M7="Pfingstsonntag",M7="Pfingstmontag",M7="Karfreitag",M7="Himmelfahrt",M7="Fronleichnam",M7="Tag der d. Einh.",M7="Weihnachten"),IF(WEEKDAY(A7,2)<=4,TIME(8,15,0),IF(WEEKDAY(A7,2)=5,TIME(6,0,0),TIME(0,0,0)))+(E7-D7)+(G7-F7)+(I7-H7)-J7,(E7-D7)+(G7-F7)+(I7-H7)-J7)) -> 0 | AD7: =MOD(S7-R7,1)+MOD(U7-T7,1) -> 0
A8: =B8 -> 44932 | B8: =B7+1 -> 44932 | C8: =IF($B8="","",IF(WEEKDAY(B8,2)=1,TRUNC((B8-DATE(YEAR(B8+3-MOD(B8-2,7)),1,MOD(B8-2,7)-9))/7),"")) | K8: =AC8*24 -> 0 | N8: =IF(B8<=TODAY(),K8-AB8,"") -> -6 | V8: =AD8*24 -> 0 | AA8: =IF(COUNTIF(Feiertage!$B$5:$B$16,B8),INDEX(Feiertage!$A$5:$A$16,MATCH(B8,Feiertage!$B$5:$B$16,0)),"") | AB8: =IF(WEEKDAY(A8,2)<=4,(8.25),IF(WEEKDAY(A8,2)=5,(6),(0))) -> 6 | AC8: =IF(OR(M8="Urlaub",M8="Krank"),IF(WEEKDAY(A8,2)<=4,TIME(8,15,0),IF(WEEKDAY(A8,2)=5,TIME(6,0,0),TIME(0,0,0))), IF(OR(M8="Feiertag",M8="Neujahr",M8="Ostersonntag",M8="Ostermontag",M8="Maifeiertag",M8="Pfingstsonntag",M8="Pfingstmontag",M8="Karfreitag",M8="Himmelfahrt",M8="Fronleichnam",M8="Tag der d. Einh.",M8="Weihnachten"),IF(WEEKDAY(A8,2)<=4,TIME(8,15,0),IF(WEEKDAY(A8,2)=5,TIME(6,0,0),TIME(0,0,0)))+(E8-D8)+(G8-F8)+(I8-H8)-J8,(E8-D8)+(G8-F8)+(I8-H8)-J8)) -> 0 | AD8: =MOD(S8-R8,1)+MOD(U8-T8,1) -> 0
A9: =B9 -> 44933 | B9: =B8+1 -> 44933 | C9: =IF($B9="","",IF(WEEKDAY(B9,2)=1,TRUNC((B9-DATE(YEAR(B9+3-MOD(B9-2,7)),1,MOD(B9-2,7)-9))/7),"")) | K9: =AC9*24 -> 0 | L9: =IF($B9="","",IF(WEEKDAY(B9,1)=1,K3+K4+K5+K6+K7+K8+K9,"")) | N9: =IF(B9<=TODAY(),K9-AB9,"") -> 0 | O9: =IF($N9="","",IF(WEEKDAY(B9,1)=1,N3+N4+N5+N6+N7+N8+N9,"")) | V9: =AD9*24 -> 0 | W9: Monat / Jahr | AA9: =IF(COUNTIF(Feiertage!$B$5:$B$16,B9),INDEX(Feiertage!$A$5:$A$16,MATCH(B9,Feiertage!$B$5:$B$16,0)),"") | AB9: =IF(WEEKDAY(A9,2)<=4,(8.25),IF(WEEKDAY(A9,2)=5,(6),(0))) -> 0 | AC9: =IF(OR(M9="Urlaub",M9="Krank"),IF(WEEKDAY(A9,2)<=4,TIME(8,15,0),IF(WEEKDAY(A9,2)=5,TIME(6,0,0),TIME(0,0,0))), IF(OR(M9="Feiertag",M9="Neujahr",M9="Ostersonntag",M9="Ostermontag",M9="Maifeiertag",M9="Pfingstsonntag",M9="Pfingstmontag",M9="Karfreitag",M9="Himmelfahrt",M9="Fronleichnam",M9="Tag der d. Einh.",M9="Weihnachten"),IF(WEEKDAY(A9,2)<=4,TIME(8,15,0),IF(WEEKDAY(A9,2)=5,TIME(6,0,0),TIME(0,0,0)))+(E9-D9)+(G9-F9)+(I9-H9)-J9,(E9-D9)+(G9-F9)+(I9-H9)-J9)) -> 0 | AD9: =MOD(S9-R9,1)+MOD(U9-T9,1) -> 0
A10: =B10 -> 44934 | B10: =B9+1 -> 44934 | C10: =IF($B10="","",IF(WEEKDAY(B10,2)=1,TRUNC((B10-DATE(YEAR(B10+3-MOD(B10-2,7)),1,MOD(B10-2,7)-9))/7),"")) | K10: =AC10*24 -> 0 | L10: =IF($B10="","",IF(WEEKDAY(B10,1)=1,K4+K5+K6+K7+K8+K9+K10,"")) -> 0 | N10: =IF(B10<=TODAY(),K10-AB10,"") -> 0 | O10: =IF($N10="","",IF(WEEKDAY(B10,1)=1,N4+N5+N6+N7+N8+N9+N10,"")) -> -39 | V10: =AD10*24 -> 0 | W10: 2023 | AA10: =IF(COUNTIF(Feiertage!$B$5:$B$16,B10),INDEX(Feiertage!$A$5:$A$16,MATCH(B10,Feiertage!$B$5:$B$16,0)),"") | AB10: =IF(WEEKDAY(A10,2)<=4,(8.25),IF(WEEKDAY(A10,2)=5,(6),(0))) -> 0 | AC10: =IF(OR(M10="Urlaub",M10="Krank"),IF(WEEKDAY(A10,2)<=4,TIME(8,15,0),IF(WEEKDAY(A10,2)=5,TIME(6,0,0),TIME(0,0,0))), IF(OR(M10="Feiertag",M10="Neujahr",M10="Ostersonntag",M10="Ostermontag",M10="Maifeiertag",M10="Pfingstsonntag",M10="Pfingstmontag",M10="Karfreitag",M10="Himmelfahrt",M10="Fronleichnam",M10="Tag der d. Einh.",M10="Weihnachten"),IF(WEEKDAY(A10,2)<=4,TIME(8,15,0),IF(WEEKDAY(A10,2)=5,TIME(6,0,0),TIME(0,0,0)))+(E10-D10)+(G10-F10)+(I10-H10)-J10,(E10-D10)+(G10-F10)+(I10-H10)-J10)) -> 0 | AD10: =MOD(S10-R10,1)+MOD(U10-T10,1) -> 0
A11: =B11 -> 44935 | B11: =B10+1 -> 44935 | C11: =IF($B11="","",IF(WEEKDAY(B11,2)=1,TRUNC((B11-DATE(YEAR(B11+3-MOD(B11-2,7)),1,MOD(B11-2,7)-9))/7),"")) -> 2 | K11: =AC11*24 -> 0 | L11: =IF($B11="","",IF(WEEKDAY(B11,1)=1,K5+K6+K7+K8+K9+K10+K11,"")) | N11: =IF(B11<=TODAY(),K11-AB11,"") -> -8.25 | O11: =IF($N11="","",IF(WEEKDAY(B11,1)=1,N5+N6+N7+N8+N9+N10+N11,"")) | V11: =AD11*24 -> 0 | AA11: =IF(COUNTIF(Feiertage!$B$5:$B$16,B11),INDEX(Feiertage!$A$5:$A$16,MATCH(B11,Feiertage!$B$5:$B$16,0)),"") | AB11: =IF(WEEKDAY(A11,2)<=4,(8.25),IF(WEEKDAY(A11,2)=5,(6),(0))) -> 8.25 | AC11: =IF(OR(M11="Urlaub",M11="Krank"),IF(WEEKDAY(A11,2)<=4,TIME(8,15,0),IF(WEEKDAY(A11,2)=5,TIME(6,0,0),TIME(0,0,0))), IF(OR(M11="Feiertag",M11="Neujahr",M11="Ostersonntag",M11="Ostermontag",M11="Maifeiertag",M11="Pfingstsonntag",M11="Pfingstmontag",M11="Karfreitag",M11="Himmelfahrt",M11="Fronleichnam",M11="Tag der d. Einh.",M11="Weihnachten"),IF(WEEKDAY(A11,2)<=4,TIME(8,15,0),IF(WEEKDAY(A11,2)=5,TIME(6,0,0),TIME(0,0,0)))+(E11-D11)+(G11-F11)+(I11-H11)-J11,(E11-D11)+(G11-F11)+(I11-H11)-J11)) -> 0 | AD11: =MOD(S11-R11,1)+MOD(U11-T11,1) -> 0
A12: =B12 -> 44936 | B12: =B11+1 -> 44936 | C12: =IF($B12="","",IF(WEEKDAY(B12,2)=1,TRUNC((B12-DATE(YEAR(B12+3-MOD(B12-2,7)),1,MOD(B12-2,7)-9))/7),"")) | K12: =AC12*24 -> 0 | L12: =IF($B12="","",IF(WEEKDAY(B12,1)=1,K6+K7+K8+K9+K10+K11+K12,"")) | N12: =IF(B12<=TODAY(),K12-AB12,"") -> -8.25 | O12: =IF($N12="","",IF(WEEKDAY(B12,1)=1,N6+N7+N8+N9+N10+N11+N12,"")) | V12: =AD12*24 -> 0 | W12: Zuschläge / Bemerkungen: | AA12: =IF(COUNTIF(Feiertage!$B$5:$B$16,B12),INDEX(Feiertage!$A$5:$A$16,MATCH(B12,Feiertage!$B$5:$B$16,0)),"") | AB12: =IF(WEEKDAY(A12,2)<=4,(8.25),IF(WEEKDAY(A12,2)=5,(6),(0))) -> 8.25 | AC12: =IF(OR(M12="Urlaub",M12="Krank"),IF(WEEKDAY(A12,2)<=4,TIME(8,15,0),IF(WEEKDAY(A12,2)=5,TIME(6,0,0),TIME(0,0,0))), IF(OR(M12="Feiertag",M12="Neujahr",M12="Ostersonntag",M12="Ostermontag",M12="Maifeiertag",M12="Pfingstsonntag",M12="Pfingstmontag",M12="Karfreitag",M12="Himmelfahrt",M12="Fronleichnam",M12="Tag der d. Einh.",M12="Weihnachten"),IF(WEEKDAY(A12,2)<=4,TIME(8,15,0),IF(WEEKDAY(A12,2)=5,TIME(6,0,0),TIME(0,0,0)))+(E12-D12)+(G12-F12)+(I12-H12)-J12,(E12-D12)+(G12-F12)+(I12-H12)-J12)) -> 0 | AD12: =MOD(S12-R12,1)+MOD(U12-T12,1) -> 0
A13: =B13 -> 44937 | B13: =B12+1 -> 44937 | C13: =IF($B13="","",IF(WEEKDAY(B13,2)=1,TRUNC((B13-DATE(YEAR(B13+3-MOD(B13-2,7)),1,MOD(B13-2,7)-9))/7),"")) | K13: =AC13*24 -> 0 | L13: =IF($B13="","",IF(WEEKDAY(B13,1)=1,K7+K8+K9+K10+K11+K12+K13,"")) | N13: =IF(B13<=TODAY(),K13-AB13,"") -> -8.25 | O13: =IF($N13="","",IF(WEEKDAY(B13,1)=1,N7+N8+N9+N10+N11+N12+N13,"")) | V13: =AD13*24 -> 0 | AA13: =IF(COUNTIF(Feiertage!$B$5:$B$16,B13),INDEX(Feiertage!$A$5:$A$16,MATCH(B13,Feiertage!$B$5:$B$16,0)),"") | AB13: =IF(WEEKDAY(A13,2)<=4,(8.25),IF(WEEKDAY(A13,2)=5,(6),(0))) -> 8.25 | AC13: =IF(OR(M13="Urlaub",M13="Krank"),IF(WEEKDAY(A13,2)<=4,TIME(8,15,0),IF(WEEKDAY(A13,2)=5,TIME(6,0,0),TIME(0,0,0))), IF(OR(M13="Feiertag",M13="Neujahr",M13="Ostersonntag",M13="Ostermontag",M13="Maifeiertag",M13="Pfingstsonntag",M13="Pfingstmontag",M13="Karfreitag",M13="Himmelfahrt",M13="Fronleichnam",M13="Tag der d. Einh.",M13="Weihnachten"),IF(WEEKDAY(A13,2)<=4,TIME(8,15,0),IF(WEEKDAY(A13,2)=5,TIME(6,0,0),TIME(0,0,0)))+(E13-D13)+(G13-F13)+(I13-H13)-J13,(E13-D13)+(G13-F13)+(I13-H13)-J13)) -> 0 | AD13: =MOD(S13-R13,1)+MOD(U13-T13,1) -> 0
A14: =B14 -> 44938 | B14: =B13+1 -> 44938 | C14: =IF($B14="","",IF(WEEKDAY(B14,2)=1,TRUNC((B14-DATE(YEAR(B14+3-MOD(B14-2,7)),1,MOD(B14-2,7)-9))/7),"")) | K14: =AC14*24 -> 0 | L14: =IF($B14="","",IF(WEEKDAY(B14,1)=1,K8+K9+K10+K11+K12+K13+K14,"")) | N14: =IF(B14<=TODAY(),K14-AB14,"") -> -8.25 | O14: =IF($N14="","",IF(WEEKDAY(B14,1)=1,N8+N9+N10+N11+N12+N13+N14,"")) | V14: =AD14*24 -> 0 | AA14: =IF(COUNTIF(Feiertage!$B$5:$B$16,B14),INDEX(Feiertage!$A$5:$A$16,MATCH(B14,Feiertage!$B$5:$B$16,0)),"") | AB14: =IF(WEEKDAY(A14,2)<=4,(8.25),IF(WEEKDAY(A14,2)=5,(6),(0))) -> 8.25 | AC14: =IF(OR(M14="Urlaub",M14="Krank"),IF(WEEKDAY(A14,2)<=4,TIME(8,15,0),IF(WEEKDAY(A14,2)=5,TIME(6,0,0),TIME(0,0,0))), IF(OR(M14="Feiertag",M14="Neujahr",M14="Ostersonntag",M14="Ostermontag",M14="Maifeiertag",M14="Pfingstsonntag",M14="Pfingstmontag",M14="Karfreitag",M14="Himmelfahrt",M14="Fronleichnam",M14="Tag der d. Einh.",M14="Weihnachten"),IF(WEEKDAY(A14,2)<=4,TIME(8,15,0),IF(WEEKDAY(A14,2)=5,TIME(6,0,0),TIME(0,0,0)))+(E14-D14)+(G14-F14)+(I14-H14)-J14,(E14-D14)+(G14-F14)+(I14-H14)-J14)) -> 0 | AD14: =MOD(S14-R14,1)+MOD(U14-T14,1) -> 0
A15: =B15 -> 44939 | B15: =B14+1 -> 44939 | C15: =IF($B15="","",IF(WEEKDAY(B15,2)=1,TRUNC((B15-DATE(YEAR(B15+3-MOD(B15-2,7)),1,MOD(B15-2,7)-9))/7),"")) | K15: =AC15*24 -> 0 | L15: =IF($B15="","",IF(WEEKDAY(B15,1)=1,K9+K10+K11+K12+K13+K14+K15,"")) | N15: =IF(B15<=TODAY(),K15-AB15,"") -> -6 | O15: =IF($N15="","",IF(WEEKDAY(B15,1)=1,N9+N10+N11+N12+N13+N14+N15,"")) | V15: =AD15*24 -> 0 | AA15: =IF(COUNTIF(Feiertage!$B$5:$B$16,B15),INDEX(Feiertage!$A$5:$A$16,MATCH(B15,Feiertage!$B$5:$B$16,0)),"") | AB15: =IF(WEEKDAY(A15,2)<=4,(8.25),IF(WEEKDAY(A15,2)=5,(6),(0))) -> 6 | AC15: =IF(OR(M15="Urlaub",M15="Krank"),IF(WEEKDAY(A15,2)<=4,TIME(8,15,0),IF(WEEKDAY(A15,2)=5,TIME(6,0,0),TIME(0,0,0))), IF(OR(M15="Feiertag",M15="Neujahr",M15="Ostersonntag",M15="Ostermontag",M15="Maifeiertag",M15="Pfingstsonntag",M15="Pfingstmontag",M15="Karfreitag",M15="Himmelfahrt",M15="Fronleichnam",M15="Tag der d. Einh.",M15="Weihnachten"),IF(WEEKDAY(A15,2)<=4,TIME(8,15,0),IF(WEEKDAY(A15,2)=5,TIME(6,0,0),TIME(0,0,0)))+(E15-D15)+(G15-F15)+(I15-H15)-J15,(E15-D15)+(G15-F15)+(I15-H15)-J15)) -> 0 | AD15: =MOD(S15-R15,1)+MOD(U15-T15,1) -> 0
A16: =B16 -> 44940 | B16: =B15+1 -> 44940 | C16: =IF($B16="","",IF(WEEKDAY(B16,2)=1,TRUNC((B16-DATE(YEAR(B16+3-MOD(B16-2,7)),1,MOD(B16-2,7)-9))/7),"")) | K16: =AC16*24 -> 0 | L16: =IF($B16="","",IF(WEEKDAY(B16,1)=1,K10+K11+K12+K13+K14+K15+K16,"")) | N16: =IF(B16<=TODAY(),K16-AB16,"") -> 0 | O16: =IF($N16="","",IF(WEEKDAY(B16,1)=1,N10+N11+N12+N13+N14+N15+N16,"")) | V16: =AD16*24 -> 0 | AA16: =IF(COUNTIF(Feiertage!$B$5:$B$16,B16),INDEX(Feiertage!$A$5:$A$16,MATCH(B16,Feiertage!$B$5:$B$16,0)),"") | AB16: =IF(WEEKDAY(A16,2)<=4,(8.25),IF(WEEKDAY(A16,2)=5,(6),(0))) -> 0 | AC16: =IF(OR(M16="Urlaub",M16="Krank"),IF(WEEKDAY(A16,2)<=4,TIME(8,15,0),IF(WEEKDAY(A16,2)=5,TIME(6,0,0),TIME(0,0,0))), IF(OR(M16="Feiertag",M16="Neujahr",M16="Ostersonntag",M16="Ostermontag",M16="Maifeiertag",M16="Pfingstsonntag",M16="Pfingstmontag",M16="Karfreitag",M16="Himmelfahrt",M16="Fronleichnam",M16="Tag der d. Einh.",M16="Weihnachten"),IF(WEEKDAY(A16,2)<=4,TIME(8,15,0),IF(WEEKDAY(A16,2)=5,TIME(6,0,0),TIME(0,0,0)))+(E16-D16)+(G16-F16)+(I16-H16)-J16,(E16-D16)+(G16-F16)+(I16-H16)-J16)) -> 0 | AD16: =MOD(S16-R16,1)+MOD(U16-T16,1) -> 0
A17: =B17 -> 44941 | B17: =B16+1 -> 44941 | C17: =IF($B17="","",IF(WEEKDAY(B17,2)=1,TRUNC((B17-DATE(YEAR(B17+3-MOD(B17-2,7)),1,MOD(B17-2,7)-9))/7),"")) | K17: =AC17*24 -> 0 | L17: =IF($B17="","",IF(WEEKDAY(B17,1)=1,K11+K12+K13+K14+K15+K16+K17,"")) -> 0 | N17: =IF(B17<=TODAY(),K17-AB17,"") -> 0 | O17: =IF($N17="","",IF(WEEKDAY(B17,1)=1,N11+N12+N13+N14+N15+N16+N17,"")) -> -39 | V17: =AD17*24 -> 0 | AA17: =IF(COUNTIF(Feiertage!$B$5:$B$16,B17),INDEX(Feiertage!$A$5:$A$16,MATCH(B17,Feiertage!$B$5:$B$16,0)),"") | AB17: =IF(WEEKDAY(A17,2)<=4,(8.25),IF(WEEKDAY(A17,2)=5,(6),(0))) -> 0 | AC17: =IF(OR(M17="Urlaub",M17="Krank"),IF(WEEKDAY(A17,2)<=4,TIME(8,15,0),IF(WEEKDAY(A17,2)=5,TIME(6,0,0),TIME(0,0,0))), IF(OR(M17="Feiertag",M17="Neujahr",M17="Ostersonntag",M17="Ostermontag",M17="Maifeiertag",M17="Pfingstsonntag",M17="Pfingstmontag",M17="Karfreitag",M17="Himmelfahrt",M17="Fronleichnam",M17="Tag der d. Einh.",M17="Weihnachten"),IF(WEEKDAY(A17,2)<=4,TIME(8,15,0),IF(WEEKDAY(A17,2)=5,TIME(6,0,0),TIME(0,0,0)))+(E17-D17)+(G17-F17)+(I17-H17)-J17,(E17-D17)+(G17-F17)+(I17-H17)-J17)) -> 0 | AD17: =MOD(S17-R17,1)+MOD(U17-T17,1) -> 0
A18: =B18 -> 44942 | B18: =B17+1 -> 44942 | C18: =IF($B18="","",IF(WEEKDAY(B18,2)=1,TRUNC((B18-DATE(YEAR(B18+3-MOD(B18-2,7)),1,MOD(B18-2,7)-9))/7),"")) -> 3 | K18: =AC18*24 -> 0 | L18: =IF($B18="","",IF(WEEKDAY(B18,1)=1,K12+K13+K14+K15+K16+K17+K18,"")) | N18: =IF(B18<=TODAY(),K18-AB18,"") -> -8.25 | O18: =IF($N18="","",IF(WEEKDAY(B18,1)=1,N12+N13+N14+N15+N16+N17+N18,"")) | V18: =AD18*24 -> 0 | AA18: =IF(COUNTIF(Feiertage!$B$5:$B$16,B18),INDEX(Feiertage!$A$5:$A$16,MATCH(B18,Feiertage!$B$5:$B$16,0)),"") | AB18: =IF(WEEKDAY(A18,2)<=4,(8.25),IF(WEEKDAY(A18,2)=5,(6),(0))) -> 8.25 | AC18: =IF(OR(M18="Urlaub",M18="Krank"),IF(WEEKDAY(A18,2)<=4,TIME(8,15,0),IF(WEEKDAY(A18,2)=5,TIME(6,0,0),TIME(0,0,0))), IF(OR(M18="Feiertag",M18="Neujahr",M18="Ostersonntag",M18="Ostermontag",M18="Maifeiertag",M18="Pfingstsonntag",M18="Pfingstmontag",M18="Karfreitag",M18="Himmelfahrt",M18="Fronleichnam",M18="Tag der d. Einh.",M18="Weihnachten"),IF(WEEKDAY(A18,2)<=4,TIME(8,15,0),IF(WEEKDAY(A18,2)=5,TIME(6,0,0),TIME(0,0,0)))+(E18-D18)+(G18-F18)+(I18-H18)-J18,(E18-D18)+(G18-F18)+(I18-H18)-J18)) -> 0 | AD18: =MOD(S18-R18,1)+MOD(U18-T18,1) -> 0
A19: =B19 -> 44943 | B19: =B18+1 -> 44943 | C19: =IF($B19="","",IF(WEEKDAY(B19,2)=1,TRUNC((B19-DATE(YEAR(B19+3-MOD(B19-2,7)),1,MOD(B19-2,7)-9))/7),"")) | K19: =AC19*24 -> 0 | L19: =IF($B19="","",IF(WEEKDAY(B19,1)=1,K13+K14+K15+K16+K17+K18+K19,"")) | N19: =IF(B19<=TODAY(),K19-AB19,"") -> -8.25 | O19: =IF($N19="","",IF(WEEKDAY(B19,1)=1,N13+N14+N15+N16+N17+N18+N19,"")) | V19: =AD19*24 -> 0 | AA19: =IF(COUNTIF(Feiertage!$B$5:$B$16,B19),INDEX(Feiertage!$A$5:$A$16,MATCH(B19,Feiertage!$B$5:$B$16,0)),"") | AB19: =IF(WEEKDAY(A19,2)<=4,(8.25),IF(WEEKDAY(A19,2)=5,(6),(0))) -> 8.25 | AC19: =IF(OR(M19="Urlaub",M19="Krank"),IF(WEEKDAY(A19,2)<=4,TIME(8,15,0),IF(WEEKDAY(A19,2)=5,TIME(6,0,0),TIME(0,0,0))), IF(OR(M19="Feiertag",M19="Neujahr",M19="Ostersonntag",M19="Ostermontag",M19="Maifeiertag",M19="Pfingstsonntag",M19="Pfingstmontag",M19="Karfreitag",M19="Himmelfahrt",M19="Fronleichnam",M19="Tag der d. Einh.",M19="Weihnachten"),IF(WEEKDAY(A19,2)<=4,TIME(8,15,0),IF(WEEKDAY(A19,2)=5,TIME(6,0,0),TIME(0,0,0)))+(E19-D19)+(G19-F19)+(I19-H19)-J19,(E19-D19)+(G19-F19)+(I19-H19)-J19)) -> 0 | AD19: =MOD(S19-R19,1)+MOD(U19-T19,1) -> 0
A20: =B20 -> 44944 | B20: =B19+1 -> 44944 | C20: =IF($B20="","",IF(WEEKDAY(B20,2)=1,TRUNC((B20-DATE(YEAR(B20+3-MOD(B20-2,7)),1,MOD(B20-2,7)-9))/7),"")) | K20: =AC20*24 -> 0 | L20: =IF($B20="","",IF(WEEKDAY(B20,1)=1,K14+K15+K16+K17+K18+K19+K20,"")) | N20: =IF(B20<=TODAY(),K20-AB20,"") -> -8.25 | O20: =IF($N20="","",IF(WEEKDAY(B20,1)=1,N14+N15+N16+N17+N18+N19+N20,"")) | V20: =AD20*24 -> 0 | AA20: =IF(COUNTIF(Feiertage!$B$5:$B$16,B20),INDEX(Feiertage!$A$5:$A$16,MATCH(B20,Feiertage!$B$5:$B$16,0)),"") | AB20: =IF(WEEKDAY(A20,2)<=4,(8.25),IF(WEEKDAY(A20,2)=5,(6),(0))) -> 8.25 | AC20: =IF(OR(M20="Urlaub",M20="Krank"),IF(WEEKDAY(A20,2)<=4,TIME(8,15,0),IF(WEEKDAY(A20,2)=5,TIME(6,0,0),TIME(0,0,0))), IF(OR(M20="Feiertag",M20="Neujahr",M20="Ostersonntag",M20="Ostermontag",M20="Maifeiertag",M20="Pfingstsonntag",M20="Pfingstmontag",M20="Karfreitag",M20="Himmelfahrt",M20="Fronleichnam",M20="Tag der d. Einh.",M20="Weihnachten"),IF(WEEKDAY(A20,2)<=4,TIME(8,15,0),IF(WEEKDAY(A20,2)=5,TIME(6,0,0),TIME(0,0,0)))+(E20-D20)+(G20-F20)+(I20-H20)-J20,(E20-D20)+(G20-F20)+(I20-H20)-J20)) -> 0 | AD20: =MOD(S20-R20,1)+MOD(U20-T20,1) -> 0
A21: =B21 -> 44945 | B21: =B20+1 -> 44945 | C21: =IF($B21="","",IF(WEEKDAY(B21,2)=1,TRUNC((B21-DATE(YEAR(B21+3-MOD(B21-2,7)),1,MOD(B21-2,7)-9))/7),"")) | K21: =AC21*24 -> 0 | L21: =IF($B21="","",IF(WEEKDAY(B21,1)=1,K15+K16+K17+K18+K19+K20+K21,"")) | N21: =IF(B21<=TODAY(),K21-AB21,"") -> -8.25 | O21: =IF($N21="","",IF(WEEKDAY(B21,1)=1,N15+N16+N17+N18+N19+N20+N21,"")) | V21: =AD21*24 -> 0 | AA21: =IF(COUNTIF(Feiertage!$B$5:$B$16,B21),INDEX(Feiertage!$A$5:$A$16,MATCH(B21,Feiertage!$B$5:$B$16,0)),"") | AB21: =IF(WEEKDAY(A21,2)<=4,(8.25),IF(WEEKDAY(A21,2)=5,(6),(0))) -> 8.25 | AC21: =IF(OR(M21="Urlaub",M21="Krank"),IF(WEEKDAY(A21,2)<=4,TIME(8,15,0),IF(WEEKDAY(A21,2)=5,TIME(6,0,0),TIME(0,0,0))), IF(OR(M21="Feiertag",M21="Neujahr",M21="Ostersonntag",M21="Ostermontag",M21="Maifeiertag",M21="Pfingstsonntag",M21="Pfingstmontag",M21="Karfreitag",M21="Himmelfahrt",M21="Fronleichnam",M21="Tag der d. Einh.",M21="Weihnachten"),IF(WEEKDAY(A21,2)<=4,TIME(8,15,0),IF(WEEKDAY(A21,2)=5,TIME(6,0,0),TIME(0,0,0)))+(E21-D21)+(G21-F21)+(I21-H21)-J21,(E21-D21)+(G21-F21)+(I21-H21)-J21)) -> 0 | AD21: =MOD(S21-R21,1)+MOD(U21-T21,1) -> 0
A22: =B22 -> 44946 | B22: =B21+1 -> 44946 | C22: =IF($B22="","",IF(WEEKDAY(B22,2)=1,TRUNC((B22-DATE(YEAR(B22+3-MOD(B22-2,7)),1,MOD(B22-2,7)-9))/7),"")) | K22: =AC22*24 -> 0 | L22: =IF($B22="","",IF(WEEKDAY(B22,1)=1,K16+K17+K18+K19+K20+K21+K22,"")) | N22: =IF(B22<=TODAY(),K22-AB22,"") -> -6 | O22: =IF($N22="","",IF(WEEKDAY(B22,1)=1,N16+N17+N18+N19+N20+N21+N22,"")) | V22: =AD22*24 -> 0 | AA22: =IF(COUNTIF(Feiertage!$B$5:$B$16,B22),INDEX(Feiertage!$A$5:$A$16,MATCH(B22,Feiertage!$B$5:$B$16,0)),"") | AB22: =IF(WEEKDAY(A22,2)<=4,(8.25),IF(WEEKDAY(A22,2)=5,(6),(0))) -> 6 | AC22: =IF(OR(M22="Urlaub",M22="Krank"),IF(WEEKDAY(A22,2)<=4,TIME(8,15,0),IF(WEEKDAY(A22,2)=5,TIME(6,0,0),TIME(0,0,0))), IF(OR(M22="Feiertag",M22="Neujahr",M22="Ostersonntag",M22="Ostermontag",M22="Maifeiertag",M22="Pfingstsonntag",M22="Pfingstmontag",M22="Karfreitag",M22="Himmelfahrt",M22="Fronleichnam",M22="Tag der d. Einh.",M22="Weihnachten"),IF(WEEKDAY(A22,2)<=4,TIME(8,15,0),IF(WEEKDAY(A22,2)=5,TIME(6,0,0),TIME(0,0,0)))+(E22-D22)+(G22-F22)+(I22-H22)-J22,(E22-D22)+(G22-F22)+(I22-H22)-J22)) -> 0 | AD22: =MOD(S22-R22,1)+MOD(U22-T22,1) -> 0
A23: =B23 -> 44947 | B23: =B22+1 -> 44947 | C23: =IF($B23="","",IF(WEEKDAY(B23,2)=1,TRUNC((B23-DATE(YEAR(B23+3-MOD(B23-2,7)),1,MOD(B23-2,7)-9))/7),"")) | K23: =AC23*24 -> 0 | L23: =IF($B23="","",IF(WEEKDAY(B23,1)=1,K17+K18+K19+K20+K21+K22+K23,"")) | N23: =IF(B23<=TODAY(),K23-AB23,"") -> 0 | O23: =IF($N23="","",IF(WEEKDAY(B23,1)=1,N17+N18+N19+N20+N21+N22+N23,"")) | V23: =AD23*24 -> 0 | AA23: =IF(COUNTIF(Feiertage!$B$5:$B$16,B23),INDEX(Feiertage!$A$5:$A$16,MATCH(B23,Feiertage!$B$5:$B$16,0)),"") | AB23: =IF(WEEKDAY(A23,2)<=4,(8.25),IF(WEEKDAY(A23,2)=5,(6),(0))) -> 0 | AC23: =IF(OR(M23="Urlaub",M23="Krank"),IF(WEEKDAY(A23,2)<=4,TIME(8,15,0),IF(WEEKDAY(A23,2)=5,TIME(6,0,0),TIME(0,0,0))), IF(OR(M23="Feiertag",M23="Neujahr",M23="Ostersonntag",M23="Ostermontag",M23="Maifeiertag",M23="Pfingstsonntag",M23="Pfingstmontag",M23="Karfreitag",M23="Himmelfahrt",M23="Fronleichnam",M23="Tag der d. Einh.",M23="Weihnachten"),IF(WEEKDAY(A23,2)<=4,TIME(8,15,0),IF(WEEKDAY(A23,2)=5,TIME(6,0,0),TIME(0,0,0)))+(E23-D23)+(G23-F23)+(I23-H23)-J23,(E23-D23)+(G23-F23)+(I23-H23)-J23)) -> 0 | AD23: =MOD(S23-R23,1)+MOD(U23-T23,1) -> 0
A24: =B24 -> 44948 | B24: =B23+1 -> 44948 | C24: =IF($B24="","",IF(WEEKDAY(B24,2)=1,TRUNC((B24-DATE(YEAR(B24+3-MOD(B24-2,7)),1,MOD(B24-2,7)-9))/7),"")) | K24: =AC24*24 -> 0 | L24: =IF($B24="","",IF(WEEKDAY(B24,1)=1,K18+K19+K20+K21+K22+K23+K24,"")) -> 0 | N24: =IF(B24<=TODAY(),K24-AB24,"") -> 0 | O24: =IF($N24="","",IF(WEEKDAY(B24,1)=1,N18+N19+N20+N21+N22+N23+N24,"")) -> -39 | V24: =AD24*24 -> 0 | AA24: =IF(COUNTIF(Feiertage!$B$5:$B$16,B24),INDEX(Feiertage!$A$5:$A$16,MATCH(B24,Feiertage!$B$5:$B$16,0)),"") | AB24: =IF(WEEKDAY(A24,2)<=4,(8.25),IF(WEEKDAY(A24,2)=5,(6),(0))) -> 0 | AC24: =IF(OR(M24="Urlaub",M24="Krank"),IF(WEEKDAY(A24,2)<=4,TIME(8,15,0),IF(WEEKDAY(A24,2)=5,TIME(6,0,0),TIME(0,0,0))), IF(OR(M24="Feiertag",M24="Neujahr",M24="Ostersonntag",M24="Ostermontag",M24="Maifeiertag",M24="Pfingstsonntag",M24="Pfingstmontag",M24="Karfreitag",M24="Himmelfahrt",M24="Fronleichnam",M24="Tag der d. Einh.",M24="Weihnachten"),IF(WEEKDAY(A24,2)<=4,TIME(8,15,0),IF(WEEKDAY(A24,2)=5,TIME(6,0,0),TIME(0,0,0)))+(E24-D24)+(G24-F24)+(I24-H24)-J24,(E24-D24)+(G24-F24)+(I24-H24)-J24)) -> 0 | AD24: =MOD(S24-R24,1)+MOD(U24-T24,1) -> 0
A25: =B25 -> 44949 | B25: =B24+1 -> 44949 | C25: =IF($B25="","",IF(WEEKDAY(B25,2)=1,TRUNC((B25-DATE(YEAR(B25+3-MOD(B25-2,7)),1,MOD(B25-2,7)-9))/7),"")) -> 4 | K25: =AC25*24 -> 0 | L25: =IF($B25="","",IF(WEEKDAY(B25,1)=1,K19+K20+K21+K22+K23+K24+K25,"")) | N25: =IF(B25<=TODAY(),K25-AB25,"") -> -8.25 | O25: =IF($N25="","",IF(WEEKDAY(B25,1)=1,N19+N20+N21+N22+N23+N24+N25,"")) | V25: =AD25*24 -> 0 | AA25: =IF(COUNTIF(Feiertage!$B$5:$B$16,B25),INDEX(Feiertage!$A$5:$A$16,MATCH(B25,Feiertage!$B$5:$B$16,0)),"") | AB25: =IF(WEEKDAY(A25,2)<=4,(8.25),IF(WEEKDAY(A25,2)=5,(6),(0))) -> 8.25 | AC25: =IF(OR(M25="Urlaub",M25="Krank"),IF(WEEKDAY(A25,2)<=4,TIME(8,15,0),IF(WEEKDAY(A25,2)=5,TIME(6,0,0),TIME(0,0,0))), IF(OR(M25="Feiertag",M25="Neujahr",M25="Ostersonntag",M25="Ostermontag",M25="Maifeiertag",M25="Pfingstsonntag",M25="Pfingstmontag",M25="Karfreitag",M25="Himmelfahrt",M25="Fronleichnam",M25="Tag der d. Einh.",M25="Weihnachten"),IF(WEEKDAY(A25,2)<=4,TIME(8,15,0),IF(WEEKDAY(A25,2)=5,TIME(6,0,0),TIME(0,0,0)))+(E25-D25)+(G25-F25)+(I25-H25)-J25,(E25-D25)+(G25-F25)+(I25-H25)-J25)) -> 0 | AD25: =MOD(S25-R25,1)+MOD(U25-T25,1) -> 0
A26: =B26 -> 44950 | B26: =B25+1 -> 44950 | C26: =IF($B26="","",IF(WEEKDAY(B26,2)=1,TRUNC((B26-DATE(YEAR(B26+3-MOD(B26-2,7)),1,MOD(B26-2,7)-9))/7),"")) | K26: =AC26*24 -> 0 | L26: =IF($B26="","",IF(WEEKDAY(B26,1)=1,K20+K21+K22+K23+K24+K25+K26,"")) | N26: =IF(B26<=TODAY(),K26-AB26,"") -> -8.25 | O26: =IF($N26="","",IF(WEEKDAY(B26,1)=1,N20+N21+N22+N23+N24+N25+N26,"")) | V26: =AD26*24 -> 0 | W26: Unterschrift des Arbeitnehmers | AA26: =IF(COUNTIF(Feiertage!$B$5:$B$16,B26),INDEX(Feiertage!$A$5:$A$16,MATCH(B26,Feiertage!$B$5:$B$16,0)),"") | AB26: =IF(WEEKDAY(A26,2)<=4,(8.25),IF(WEEKDAY(A26,2)=5,(6),(0))) -> 8.25 | AC26: =IF(OR(M26="Urlaub",M26="Krank"),IF(WEEKDAY(A26,2)<=4,TIME(8,15,0),IF(WEEKDAY(A26,2)=5,TIME(6,0,0),TIME(0,0,0))), IF(OR(M26="Feiertag",M26="Neujahr",M26="Ostersonntag",M26="Ostermontag",M26="Maifeiertag",M26="Pfingstsonntag",M26="Pfingstmontag",M26="Karfreitag",M26="Himmelfahrt",M26="Fronleichnam",M26="Tag der d. Einh.",M26="Weihnachten"),IF(WEEKDAY(A26,2)<=4,TIME(8,15,0),IF(WEEKDAY(A26,2)=5,TIME(6,0,0),TIME(0,0,0)))+(E26-D26)+(G26-F26)+(I26-H26)-J26,(E26-D26)+(G26-F26)+(I26-H26)-J26)) -> 0 | AD26: =MOD(S26-R26,1)+MOD(U26-T26,1) -> 0
A27: =B27 -> 44951 | B27: =B26+1 -> 44951 | C27: =IF($B27="","",IF(WEEKDAY(B27,2)=1,TRUNC((B27-DATE(YEAR(B27+3-MOD(B27-2,7)),1,MOD(B27-2,7)-9))/7),"")) | K27: =AC27*24 -> 0 | L27: =IF($B27="","",IF(WEEKDAY(B27,1)=1,K21+K22+K23+K24+K25+K26+K27,"")) | N27: =IF(B27<=TODAY(),K27-AB27,"") -> -8.25 | O27: =IF($N27="","",IF(WEEKDAY(B27,1)=1,N21+N22+N23+N24+N25+N26+N27,"")) | V27: =AD27*24 -> 0 | AA27: =IF(COUNTIF(Feiertage!$B$5:$B$16,B27),INDEX(Feiertage!$A$5:$A$16,MATCH(B27,Feiertage!$B$5:$B$16,0)),"") | AB27: =IF(WEEKDAY(A27,2)<=4,(8.25),IF(WEEKDAY(A27,2)=5,(6),(0))) -> 8.25 | AC27: =IF(OR(M27="Urlaub",M27="Krank"),IF(WEEKDAY(A27,2)<=4,TIME(8,15,0),IF(WEEKDAY(A27,2)=5,TIME(6,0,0),TIME(0,0,0))), IF(OR(M27="Feiertag",M27="Neujahr",M27="Ostersonntag",M27="Ostermontag",M27="Maifeiertag",M27="Pfingstsonntag",M27="Pfingstmontag",M27="Karfreitag",M27="Himmelfahrt",M27="Fronleichnam",M27="Tag der d. Einh.",M27="Weihnachten"),IF(WEEKDAY(A27,2)<=4,TIME(8,15,0),IF(WEEKDAY(A27,2)=5,TIME(6,0,0),TIME(0,0,0)))+(E27-D27)+(G27-F27)+(I27-H27)-J27,(E27-D27)+(G27-F27)+(I27-H27)-J27)) -> 0 | AD27: =MOD(S27-R27,1)+MOD(U27-T27,1) -> 0
A28: =B28 -> 44952 | B28: =B27+1 -> 44952 | C28: =IF($B28="","",IF(WEEKDAY(B28,2)=1,TRUNC((B28-DATE(YEAR(B28+3-MOD(B28-2,7)),1,MOD(B28-2,7)-9))/7),"")) | K28: =AC28*24 -> 0 | L28: =IF($B28="","",IF(WEEKDAY(B28,1)=1,K22+K23+K24+K25+K26+K27+K28,"")) | N28: =IF(B28<=TODAY(),K28-AB28,"") -> -8.25 | O28: =IF($N28="","",IF(WEEKDAY(B28,1)=1,N22+N23+N24+N25+N26+N27+N28,"")) | V28: =AD28*24 -> 0 | AA28: =IF(COUNTIF(Feiertage!$B$5:$B$16,B28),INDEX(Feiertage!$A$5:$A$16,MATCH(B28,Feiertage!$B$5:$B$16,0)),"") | AB28: =IF(WEEKDAY(A28,2)<=4,(8.25),IF(WEEKDAY(A28,2)=5,(6),(0))) -> 8.25 | AC28: =IF(OR(M28="Urlaub",M28="Krank"),IF(WEEKDAY(A28,2)<=4,TIME(8,15,0),IF(WEEKDAY(A28,2)=5,TIME(6,0,0),TIME(0,0,0))), IF(OR(M28="Feiertag",M28="Neujahr",M28="Ostersonntag",M28="Ostermontag",M28="Maifeiertag",M28="Pfingstsonntag",M28="Pfingstmontag",M28="Karfreitag",M28="Himmelfahrt",M28="Fronleichnam",M28="Tag der d. Einh.",M28="Weihnachten"),IF(WEEKDAY(A28,2)<=4,TIME(8,15,0),IF(WEEKDAY(A28,2)=5,TIME(6,0,0),TIME(0,0,0)))+(E28-D28)+(G28-F28)+(I28-H28)-J28,(E28-D28)+(G28-F28)+(I28-H28)-J28)) -> 0 | AD28: =MOD(S28-R28,1)+MOD(U28-T28,1) -> 0
A29: =B29 -> 44953 | B29: =B28+1 -> 44953 | C29: =IF($B29="","",IF(WEEKDAY(B29,2)=1,TRUNC((B29-DATE(YEAR(B29+3-MOD(B29-2,7)),1,MOD(B29-2,7)-9))/7),"")) | K29: =AC29*24 -> 0 | L29: =IF($B29="","",IF(WEEKDAY(B29,1)=1,K23+K24+K25+K26+K27+K28+K29,"")) | N29: =IF(B29<=TODAY(),K29-AB29,"") -> -6 | O29: =IF($N29="","",IF(WEEKDAY(B29,1)=1,N23+N24+N25+N26+N27+N28+N29,"")) | V29: =AD29*24 -> 0 | AA29: =IF(COUNTIF(Feiertage!$B$5:$B$16,B29),INDEX(Feiertage!$A$5:$A$16,MATCH(B29,Feiertage!$B$5:$B$16,0)),"") | AB29: =IF(WEEKDAY(A29,2)<=4,(8.25),IF(WEEKDAY(A29,2)=5,(6),(0))) -> 6 | AC29: =IF(OR(M29="Urlaub",M29="Krank"),IF(WEEKDAY(A29,2)<=4,TIME(8,15,0),IF(WEEKDAY(A29,2)=5,TIME(6,0,0),TIME(0,0,0))), IF(OR(M29="Feiertag",M29="Neujahr",M29="Ostersonntag",M29="Ostermontag",M29="Maifeiertag",M29="Pfingstsonntag",M29="Pfingstmontag",M29="Karfreitag",M29="Himmelfahrt",M29="Fronleichnam",M29="Tag der d. Einh.",M29="Weihnachten"),IF(WEEKDAY(A29,2)<=4,TIME(8,15,0),IF(WEEKDAY(A29,2)=5,TIME(6,0,0),TIME(0,0,0)))+(E29-D29)+(G29-F29)+(I29-H29)-J29,(E29-D29)+(G29-F29)+(I29-H29)-J29)) -> 0 | AD29: =MOD(S29-R29,1)+MOD(U29-T29,1) -> 0
A30: =B30 -> 44954 | B30: =B29+1 -> 44954 | C30: =IF($B30="","",IF(WEEKDAY(B30,2)=1,TRUNC((B30-DATE(YEAR(B30+3-MOD(B30-2,7)),1,MOD(B30-2,7)-9))/7),"")) | K30: =AC30*24 -> 0 | L30: =IF($B30="","",IF(WEEKDAY(B30,1)=1,K24+K25+K26+K27+K28+K29+K30,"")) | N30: =IF(B30<=TODAY(),K30-AB30,"") -> 0 | O30: =IF($N30="","",IF(WEEKDAY(B30,1)=1,N24+N25+N26+N27+N28+N29+N30,"")) | V30: =AD30*24 -> 0 | W30: Unterschrift des Fachbereichleiters | AA30: =IF(COUNTIF(Feiertage!$B$5:$B$16,B30),INDEX(Feiertage!$A$5:$A$16,MATCH(B30,Feiertage!$B$5:$B$16,0)),"") | AB30: =IF(WEEKDAY(A30,2)<=4,(8.25),IF(WEEKDAY(A30,2)=5,(6),(0))) -> 0 | AC30: =IF(OR(M30="Urlaub",M30="Krank"),IF(WEEKDAY(A30,2)<=4,TIME(8,15,0),IF(WEEKDAY(A30,2)=5,TIME(6,0,0),TIME(0,0,0))), IF(OR(M30="Feiertag",M30="Neujahr",M30="Ostersonntag",M30="Ostermontag",M30="Maifeiertag",M30="Pfingstsonntag",M30="Pfingstmontag",M30="Karfreitag",M30="Himmelfahrt",M30="Fronleichnam",M30="Tag der d. Einh.",M30="Weihnachten"),IF(WEEKDAY(A30,2)<=4,TIME(8,15,0),IF(WEEKDAY(A30,2)=5,TIME(6,0,0),TIME(0,0,0)))+(E30-D30)+(G30-F30)+(I30-H30)-J30,(E30-D30)+(G30-F30)+(I30-H30)-J30)) -> 0 | AD30: =MOD(S30-R30,1)+MOD(U30-T30,1) -> 0
A31: =B31 -> 44955 | B31: =B30+1 -> 44955 | C31: =IF($B31="","",IF(WEEKDAY(B31,2)=1,TRUNC((B31-DATE(YEAR(B31+3-MOD(B31-2,7)),1,MOD(B31-2,7)-9))/7),"")) | K31: =AC31*24 -> 0 | L31: =IF($B31="","",IF(WEEKDAY(B31,1)=1,K25+K26+K27+K28+K29+K30+K31,"")) -> 0 | N31: =IF(B31<=TODAY(),K31-AB31,"") -> 0 | O31: =IF($N31="","",IF(WEEKDAY(B31,1)=1,N25+N26+N27+N28+N29+N30+N31,"")) -> -39 | V31: =AD31*24 -> 0 | AA31: =IF(COUNTIF(Feiertage!$B$5:$B$16,B31),INDEX(Feiertage!$A$5:$A$16,MATCH(B31,Feiertage!$B$5:$B$16,0)),"") | AB31: =IF(WEEKDAY(A31,2)<=4,(8.25),IF(WEEKDAY(A31,2)=5,(6),(0))) -> 0 | AC31: =IF(OR(M31="Urlaub",M31="Krank"),IF(WEEKDAY(A31,2)<=4,TIME(8,15,0),IF(WEEKDAY(A31,2)=5,TIME(6,0,0),TIME(0,0,0))), IF(OR(M31="Feiertag",M31="Neujahr",M31="Ostersonntag",M31="Ostermontag",M31="Maifeiertag",M31="Pfingstsonntag",M31="Pfingstmontag",M31="Karfreitag",M31="Himmelfahrt",M31="Fronleichnam",M31="Tag der d. Einh.",M31="Weihnachten"),IF(WEEKDAY(A31,2)<=4,TIME(8,15,0),IF(WEEKDAY(A31,2)=5,TIME(6,0,0),TIME(0,0,0)))+(E31-D31)+(G31-F31)+(I31-H31)-J31,(E31-D31)+(G31-F31)+(I31-H31)-J31)) -> 0 | AD31: =MOD(S31-R31,1)+MOD(U31-T31,1) -> 0
A32: =B32 -> 44956 | B32: =B31+1 -> 44956 | C32: =IF($B32="","",IF(WEEKDAY(B32,2)=1,TRUNC((B32-DATE(YEAR(B32+3-MOD(B32-2,7)),1,MOD(B32-2,7)-9))/7),"")) -> 5 | K32: =AC32*24 -> 0 | L32: =IF($B32="","",IF(WEEKDAY(B32,1)=1,K26+K27+K28+K29+K30+K31+K32,"")) | N32: =IF(B32<=TODAY(),K32-AB32,"") -> -8.25 | O32: =IF($N32="","",IF(WEEKDAY(B32,1)=1,N26+N27+N28+N29+N30+N31+N32,"")) | V32: =AD32*24 -> 0 | AA32: =IF(COUNTIF(Feiertage!$B$5:$B$16,B32),INDEX(Feiertage!$A$5:$A$16,MATCH(B32,Feiertage!$B$5:$B$16,0)),"") | AB32: =IF(WEEKDAY(A32,2)<=4,(8.25),IF(WEEKDAY(A32,2)=5,(6),(0))) -> 8.25 | AC32: =IF(OR(M32="Urlaub",M32="Krank"),IF(WEEKDAY(A32,2)<=4,TIME(8,15,0),IF(WEEKDAY(A32,2)=5,TIME(6,0,0),TIME(0,0,0))), IF(OR(M32="Feiertag",M32="Neujahr",M32="Ostersonntag",M32="Ostermontag",M32="Maifeiertag",M32="Pfingstsonntag",M32="Pfingstmontag",M32="Karfreitag",M32="Himmelfahrt",M32="Fronleichnam",M32="Tag der d. Einh.",M32="Weihnachten"),IF(WEEKDAY(A32,2)<=4,TIME(8,15,0),IF(WEEKDAY(A32,2)=5,TIME(6,0,0),TIME(0,0,0)))+(E32-D32)+(G32-F32)+(I32-H32)-J32,(E32-D32)+(G32-F32)+(I32-H32)-J32)) -> 0 | AD32: =MOD(S32-R32,1)+MOD(U32-T32,1) -> 0
A33: =B33 -> 44957 | B33: =B32+1 -> 44957 | C33: =IF($B33="","",IF(WEEKDAY(B33,2)=1,TRUNC((B33-DATE(YEAR(B33+3-MOD(B33-2,7)),1,MOD(B33-2,7)-9))/7),"")) | K33: =AC33*24 -> 0 | L33: =IF($B33="","",IF(WEEKDAY(B33,1)=1,K27+K28+K29+K30+K31+K32+K33,"")) | N33: =IF(B33<=TODAY(),K33-AB33,"") -> -8.25 | O33: =IF($N33="","",IF(WEEKDAY(B33,1)=1,N27+N28+N29+N30+N31+N32+N33,"")) | V33: =AD33*24 -> 0 | AA33: =IF(COUNTIF(Feiertage!$B$5:$B$16,B33),INDEX(Feiertage!$A$5:$A$16,MATCH(B33,Feiertage!$B$5:$B$16,0)),"") | AB33: =IF(WEEKDAY(A33,2)<=4,(8.25),IF(WEEKDAY(A33,2)=5,(6),(0))) -> 8.25 | AC33: =IF(OR(M33="Urlaub",M33="Krank"),IF(WEEKDAY(A33,2)<=4,TIME(8,15,0),IF(WEEKDAY(A33,2)=5,TIME(6,0,0),TIME(0,0,0))), IF(OR(M33="Feiertag",M33="Neujahr",M33="Ostersonntag",M33="Ostermontag",M33="Maifeiertag",M33="Pfingstsonntag",M33="Pfingstmontag",M33="Karfreitag",M33="Himmelfahrt",M33="Fronleichnam",M33="Tag der d. Einh.",M33="Weihnachten"),IF(WEEKDAY(A33,2)<=4,TIME(8,15,0),IF(WEEKDAY(A33,2)=5,TIME(6,0,0),TIME(0,0,0)))+(E33-D33)+(G33-F33)+(I33-H33)-J33,(E33-D33)+(G33-F33)+(I33-H33)-J33)) -> 0 | AD33: =MOD(S33-R33,1)+MOD(U33-T33,1) -> 0
K34: =SUM(K3:K33) -> 0 | N34: =SUM(N3:N33) -> -172.5 | V34: =SUM(V3:V33) -> 0 | AB34: =SUM(AB3:AB33) -> 172.5 | AC34: =SUM(AC3:AC33) -> 0 | AD34: =SUM(AD3:AD33) -> 0

Sheet Februar
A1: Wo.- tag | B1: Dat. | C1: KW | D1: Arbeitszeit | J1: Pause | K1: Std. pro Tag | L1: Std. pro Woche | M1: Bemerkungen | N1: davon Über- std. | O1: Ü.Std. pro Woche | P1: abgef. Std. | Q1: Nacht-arbeit | R1: Rufbereitschaft | W1: Stundenzettel | AB1: Soll std. | AC1: Std. pro Tag | AD1: Rufbereitschaft
D2: von | E2: bis | F2: von | G2: bis | H2: von | I2: bis | R2: von | S2: bis | T2: von | U2: bis | V2: Std./ Tag | W2: =Januar!W2 -> Thomas Werner | AD2: Std. pro Tag
A3: =B3 -> 44958 | B3: =DATE(W10,2,1) -> 44958 | C3: =TRUNC((B3-DATE(YEAR(B3+3-MOD(B3-2,7)),1,MOD(B3-2,7)-9))/7) -> 5 | K3: =AC3*24 -> 0 | L3: =IF($B3="","",IF(WEEKDAY(B3,1)=1,Januar!K33+Januar!K32+Januar!K31+Januar!K30+Januar!K29+Januar!K28+K3,"")) | N3: =IF(B3<=TODAY(),K3-AB3,"") -> -8.25 | O3: =IF($N3="","",IF(WEEKDAY(B3,1)=1,Januar!N33+Januar!N32+Januar!N31+Januar!N30+Januar!N29+Januar!N28+N3,"")) | V3: =AD3*24 -> 0 | W3: =Januar!W3 -> Freibad | AA3: =IF(COUNTIF(Feiertage!$B$5:$B$16,B3),INDEX(Feiertage!$A$5:$A$16,MATCH(B3,Feiertage!$B$5:$B$16,0)),"") | AB3: =IF(WEEKDAY(A3,2)<=4,(8.25),IF(WEEKDAY(A3,2)=5,(6),(0))) -> 8.25 | AC3: =IF(OR(M3="Urlaub",M3="Krank"),IF(WEEKDAY(A3,2)<=4,TIME(8,15,0),IF(WEEKDAY(A3,2)=5,TIME(6,0,0),TIME(0,0,0))), IF(OR(M3="Feiertag",M3="Neujahr",M3="Ostersonntag",M3="Ostermontag",M3="Maifeiertag",M3="Pfingstsonntag",M3="Pfingstmontag",M3="Karfreitag",M3="Himmelfahrt",M3="Fronleichnam",M3="Tag der d. Einh.",M3="Weihnachten"),IF(WEEKDAY(A3,2)<=4,TIME(8,15,0),IF(WEEKDAY(A3,2)=5,TIME(6,0,0),TIME(0,0,0)))+(E3-D3)+(G3-F3)+(I3-H3)-J3,(E3-D3)+(G3-F3)+(I3-H3)-J3)) -> 0 | AD3: =MOD(S3-R3,1)+MOD(U3-T3,1) -> 0
A4: =B4 -> 44959 | B4: =B3+1 -> 44959 | C4: =IF($B4="","",IF(WEEKDAY(B4,2)=1,TRUNC((B4-DATE(YEAR(B4+3-MOD(B4-2,7)),1,MOD(B4-2,7)-9))/7),"")) | K4: =AC4*24 -> 0 | L4: =IF($B4="","",IF(WEEKDAY(B4,1)=1,Januar!K33+Januar!K32+Januar!K31+Januar!K30+Januar!K29+K3+K4,"")) | N4: =IF(B4<=TODAY(),K4-AB4,"") -> -8.25 | O4: =IF($N4="","",IF(WEEKDAY(B4,1)=1,Januar!N33+Januar!N32+Januar!N31+Januar!N30+Januar!N29+N3+N4,"")) | V4: =AD4*24 -> 0 | AA4: =IF(COUNTIF(Feiertage!$B$5:$B$16,B4),INDEX(Feiertage!$A$5:$A$16,MATCH(B4,Feiertage!$B$5:$B$16,0)),"") | AB4: =IF(WEEKDAY(A4,2)<=4,(8.25),IF(WEEKDAY(A4,2)=5,(6),(0))) -> 8.25 | AC4: =IF(OR(M4="Urlaub",M4="Krank"),IF(WEEKDAY(A4,2)<=4,TIME(8,15,0),IF(WEEKDAY(A4,2)=5,TIME(6,0,0),TIME(0,0,0))), IF(OR(M4="Feiertag",M4="Neujahr",M4="Ostersonntag",M4="Ostermontag",M4="Maifeiertag",M4="Pfingstsonntag",M4="Pfingstmontag",M4="Karfreitag",M4="Himmelfahrt",M4="Fronleichnam",M4="Tag der d. Einh.",M4="Weihnachten"),IF(WEEKDAY(A4,2)<=4,TIME(8,15,0),IF(WEEKDAY(A4,2)=5,TIME(6,0,0),TIME(0,0,0)))+(E4-D4)+(G4-F4)+(I4-H4)-J4,(E4-D4)+(G4-F4)+(I4-H4)-J4)) -> 0 | AD4: =MOD(S4-R4,1)+MOD(U4-T4,1) -> 0
A5: =B5 -> 44960 | B5: =B4+1 -> 44960 | C5: =IF($B5="","",IF(WEEKDAY(B5,2)=1,TRUNC((B5-DATE(YEAR(B5+3-MOD(B5-2,7)),1,MOD(B5-2,7)-9))/7),"")) | K5: =AC5*24 -> 0 | L5: =IF($B5="","",IF(WEEKDAY(B5,1)=1,Januar!K33+Januar!K32+Januar!K31+Januar!K30+K3+K4+K5,"")) | N5: =IF(B5<=TODAY(),K5-AB5,"") -> -6 | O5: =IF($N5="","",IF(WEEKDAY(B5,1)=1,Januar!N33+Januar!N32+Januar!N31+Januar!N30+N3+N4+N5,"")) | V5: =AD5*24 -> 0 | AA5: =IF(COUNTIF(Feiertage!$B$5:$B$16,B5),INDEX(Feiertage!$A$5:$A$16,MATCH(B5,Feiertage!$B$5:$B$16,0)),"") | AB5: =IF(WEEKDAY(A5,2)<=4,(8.25),IF(WEEKDAY(A5,2)=5,(6),(0))) -> 6 | AC5: =IF(OR(M5="Urlaub",M5="Krank"),IF(WEEKDAY(A5,2)<=4,TIME(8,15,0),IF(WEEKDAY(A5,2)=5,TIME(6,0,0),TIME(0,0,0))), IF(OR(M5="Feiertag",M5="Neujahr",M5="Ostersonntag",M5="Ostermontag",M5="Maifeiertag",M5="Pfingstsonntag",M5="Pfingstmontag",M5="Karfreitag",M5="Himmelfahrt",M5="Fronleichnam",M5="Tag der d. Einh.",M5="Weihnachten"),IF(WEEKDAY(A5,2)<=4,TIME(8,15,0),IF(WEEKDAY(A5,2)=5,TIME(6,0,0),TIME(0,0,0)))+(E5-D5)+(G5-F5)+(I5-H5)-J5,(E5-D5)+(G5-F5)+(I5-H5)-J5)) -> 0 | AD5: =MOD(S5-R5,1)+MOD(U5-T5,1) -> 0
A6: =B6 -> 44961 | B6: =B5+1 -> 44961 | C6: =IF($B6="","",IF(WEEKDAY(B6,2)=1,TRUNC((B6-DATE(YEAR(B6+3-MOD(B6-2,7)),1,MOD(B6-2,7)-9))/7),"")) | K6: =AC6*24 -> 0 | L6: =IF($B6="","",IF(WEEKDAY(B6,1)=1,Januar!K33+Januar!K32+Januar!K31+K4+K5+K6,"")) | N6: =IF(B6<=TODAY(),K6-AB6,"") -> 0 | O6: =IF($N6="","",IF(WEEKDAY(B6,1)=1,Januar!N33+Januar!N32+Januar!N31+N4+N5+N6,"")) | V6: =AD6*24 -> 0 | W6: Fachbereich | AA6: =IF(COUNTIF(Feiertage!$B$5:$B$16,B6),INDEX(Feiertage!$A$5:$A$16,MATCH(B6,Feiertage!$B$5:$B$16,0)),"") | AB6: =IF(WEEKDAY(A6,2)<=4,(8.25),IF(WEEKDAY(A6,2)=5,(6),(0))) -> 0 | AC6: =IF(OR(M6="Urlaub",M6="Krank"),IF(WEEKDAY(A6,2)<=4,TIME(8,15,0),IF(WEEKDAY(A6,2)=5,TIME(6,0,0),TIME(0,0,0))), IF(OR(M6="Feiertag",M6="Neujahr",M6="Ostersonntag",M6="Ostermontag",M6="Maifeiertag",M6="Pfingstsonntag",M6="Pfingstmontag",M6="Karfreitag",M6="Himmelfahrt",M6="Fronleichnam",M6="Tag der d. Einh.",M6="Weihnachten"),IF(WEEKDAY(A6,2)<=4,TIME(8,15,0),IF(WEEKDAY(A6,2)=5,TIME(6,0,0),TIME(0,0,0)))+(E6-D6)+(G6-F6)+(I6-H6)-J6,(E6-D6)+(G6-F6)+(I6-H6)-J6)) -> 0 | AD6: =MOD(S6-R6,1)+MOD(U6-T6,1) -> 0
A7: =B7 -> 44962 | B7: =B6+1 -> 44962 | C7: =IF($B7="","",IF(WEEKDAY(B7,2)=1,TRUNC((B7-DATE(YEAR(B7+3-MOD(B7-2,7)),1,MOD(B7-2,7)-9))/7),"")) | K7: =AC7*24 -> 0 | L7: =IF($B7="","",IF(WEEKDAY(B7,1)=1,Januar!K33+Januar!K32+K3+K4+K5+K6+K7,"")) -> 0 | N7: =IF(B7<=TODAY(),K7-AB7,"") -> 0 | O7: =IF($N7="","",IF(WEEKDAY(B7,1)=1,Januar!N33+Januar!N32+N3+N4+N5+N6+N7,"")) -> -39 | V7: =AD7*24 -> 0 | W7: Februar | AA7: =IF(COUNTIF(Feiertage!$B$5:$B$16,B7),INDEX(Feiertage!$A$5:$A$16,MATCH(B7,Feiertage!$B$5:$B$16,0)),"") | AB7: =IF(WEEKDAY(A7,2)<=4,(8.25),IF(WEEKDAY(A7,2)=5,(6),(0))) -> 0 | AC7: =IF(OR(M7="Urlaub",M7="Krank"),IF(WEEKDAY(A7,2)<=4,TIME(8,15,0),IF(WEEKDAY(A7,2)=5,TIME(6,0,0),TIME(0,0,0))), IF(OR(M7="Feiertag",M7="Neujahr",M7="Ostersonntag",M7="Ostermontag",M7="Maifeiertag",M7="Pfingstsonntag",M7="Pfingstmontag",M7="Karfreitag",M7="Himmelfahrt",M7="Fronleichnam",M7="Tag der d. Einh.",M7="Weihnachten"),IF(WEEKDAY(A7,2)<=4,TIME(8,15,0),IF(WEEKDAY(A7,2)=5,TIME(6,0,0),TIME(0,0,0)))+(E7-D7)+(G7-F7)+(I7-H7)-J7,(E7-D7)+(G7-F7)+(I7-H7)-J7)) -> 0 | AD7: =MOD(S7-R7,1)+MOD(U7-T7,1) -> 0
A8: =B8 -> 44963 | B8: =B7+1 -> 44963 | C8: =IF($B8="","",IF(WEEKDAY(B8,2)=1,TRUNC((B8-DATE(YEAR(B8+3-MOD(B8-2,7)),1,MOD(B8-2,7)-9))/7),"")) -> 6 | K8: =AC8*24 -> 0 | L8: =IF($B8="","",IF(WEEKDAY(B8,1)=1,Januar!K33+K3+K4+K5+K6+K7+K8,"")) | N8: =IF(B8<=TODAY(),K8-AB8,"") -> -8.25 | O8: =IF($N8="","",IF(WEEKDAY(B8,1)=1,Januar!N33+N3+N4+N5+N6+N7+N8,"")) | V8: =AD8*24 -> 0 | AA8: =IF(COUNTIF(Feiertage!$B$5:$B$16,B8),INDEX(Feiertage!$A$5:$A$16,MATCH(B8,Feiertage!$B$5:$B$16,0)),"") | AB8: =IF(WEEKDAY(A8,2)<=4,(8.25),IF(WEEKDAY(A8,2)=5,(6),(0))) -> 8.25 | AC8: =IF(OR(M8="Urlaub",M8="Krank"),IF(WEEKDAY(A8,2)<=4,TIME(8,15,0),IF(WEEKDAY(A8,2)=5,TIME(6,0,0),TIME(0,0,0))), IF(OR(M8="Feiertag",M8="Neujahr",M8="Ostersonntag",M8="Ostermontag",M8="Maifeiertag",M8="Pfingstsonntag",M8="Pfingstmontag",M8="Karfreitag",M8="Himmelfahrt",M8="Fronleichnam",M8="Tag der d. Einh.",M8="Weihnachten"),IF(WEEKDAY(A8,2)<=4,TIME(8,15,0),IF(WEEKDAY(A8,2)=5,TIME(6,0,0),TIME(0,0,0)))+(E8-D8)+(G8-F8)+(I8-H8)-J8,(E8-D8)+(G8-F8)+(I8-H8)-J8)) -> 0 | AD8: =MOD(S8-R8,1)+MOD(U8-T8,1) -> 0
A9: =B9 -> 44964 | B9: =B8+1 -> 44964 | C9: =IF($B9="","",IF(WEEKDAY(B9,2)=1,TRUNC((B9-DATE(YEAR(B9+3-MOD(B9-2,7)),1,MOD(B9-2,7)-9))/7),"")) | K9: =AC9*24 -> 0 | L9: =IF($B9="","",IF(WEEKDAY(B9,1)=1,K3+K4+K5+K6+K7+K8+K9,"")) | N9: =IF(B9<=TODAY(),K9-AB9,"") -> -8.25 | O9: =IF($N9="","",IF(WEEKDAY(B9,1)=1,N3+N4+N5+N6+N7+N8+N9,"")) | V9: =AD9*24 -> 0 | W9: Monat / Jahr | AA9: =IF(COUNTIF(Feiertage!$B$5:$B$16,B9),INDEX(Feiertage!$A$5:$A$16,MATCH(B9,Feiertage!$B$5:$B$16,0)),"") | AB9: =IF(WEEKDAY(A9,2)<=4,(8.25),IF(WEEKDAY(A9,2)=5,(6),(0))) -> 8.25 | AC9: =IF(OR(M9="Urlaub",M9="Krank"),IF(WEEKDAY(A9,2)<=4,TIME(8,15,0),IF(WEEKDAY(A9,2)=5,TIME(6,0,0),TIME(0,0,0))), IF(OR(M9="Feiertag",M9="Neujahr",M9="Ostersonntag",M9="Ostermontag",M9="Maifeiertag",M9="Pfingstsonntag",M9="Pfingstmontag",M9="Karfreitag",M9="Himmelfahrt",M9="Fronleichnam",M9="Tag der d. Einh.",M9="Weihnachten"),IF(WEEKDAY(A9,2)<=4,TIME(8,15,0),IF(WEEKDAY(A9,2)=5,TIME(6,0,0),TIME(0,0,0)))+(E9-D9)+(G9-F9)+(I9-H9)-J9,(E9-D9)+(G9-F9)+(I9-H9)-J9)) -> 0 | AD9: =MOD(S9-R9,1)+MOD(U9-T9,1) -> 0
A10: =B10 -> 44965 | B10: =B9+1 -> 44965 | C10: =IF($B10="","",IF(WEEKDAY(B10,2)=1,TRUNC((B10-DATE(YEAR(B10+3-MOD(B10-2,7)),1,MOD(B10-2,7)-9))/7),"")) | K10: =AC10*24 -> 0 | L10: =IF($B10="","",IF(WEEKDAY(B10,1)=1,K4+K5+K6+K7+K8+K9+K10,"")) | N10: =IF(B10<=TODAY(),K10-AB10,"") -> -8.25 | O10: =IF($N10="","",IF(WEEKDAY(B10,1)=1,N4+N5+N6+N7+N8+N9+N10,"")) | V10: =AD10*24 -> 0 | W10: =Januar!W10 -> 2023 | AA10: =IF(COUNTIF(Feiertage!$B$5:$B$16,B10),INDEX(Feiertage!$A$5:$A$16,MATCH(B10,Feiertage!$B$5:$B$16,0)),"") | AB10: =IF(WEEKDAY(A10,2)<=4,(8.25),IF(WEEKDAY(A10,2)=5,(6),(0))) -> 8.25 | AC10: =IF(OR(M10="Urlaub",M10="Krank"),IF(WEEKDAY(A10,2)<=4,TIME(8,15,0),IF(WEEKDAY(A10,2)=5,TIME(6,0,0),TIME(0,0,0))), IF(OR(M10="Feiertag",M10="Neujahr",M10="Ostersonntag",M10="Ostermontag",M10="Maifeiertag",M10="Pfingstsonntag",M10="Pfingstmontag",M10="Karfreitag",M10="Himmelfahrt",M10="Fronleichnam",M10="Tag der d. Einh.",M10="Weihnachten"),IF(WEEKDAY(A10,2)<=4,TIME(8,15,0),IF(WEEKDAY(A10,2)=5,TIME(6,0,0),TIME(0,0,0)))+(E10-D10)+(G10-F10)+(I10-H10)-J10,(E10-D10)+(G10-F10)+(I10-H10)-J10)) -> 0 | AD10: =MOD(S10-R10,1)+MOD(U10-T10,1) -> 0
A11: =B11 -> 44966 | B11: =B10+1 -> 44966 | C11: =IF($B11="","",IF(WEEKDAY(B11,2)=1,TRUNC((B11-DATE(YEAR(B11+3-MOD(B11-2,7)),1,MOD(B11-2,7)-9))/7),"")) | K11: =AC11*24 -> 0 | L11: =IF($B11="","",IF(WEEKDAY(B11,1)=1,K5+K6+K7+K8+K9+K10+K11,"")) | N11: =IF(B11<=TODAY(),K11-AB11,"") -> -8.25 | O11: =IF($N11="","",IF(WEEKDAY(B11,1)=1,N5+N6+N7+N8+N9+N10+N11,"")) | V11: =AD11*24 -> 0 | AA11: =IF(COUNTIF(Feiertage!$B$5:$B$16,B11),INDEX(Feiertage!$A$5:$A$16,MATCH(B11,Feiertage!$B$5:$B$16,0)),"") | AB11: =IF(WEEKDAY(A11,2)<=4,(8.25),IF(WEEKDAY(A11,2)=5,(6),(0))) -> 8.25 | AC11: =IF(OR(M11="Urlaub",M11="Krank"),IF(WEEKDAY(A11,2)<=4,TIME(8,15,0),IF(WEEKDAY(A11,2)=5,TIME(6,0,0),TIME(0,0,0))), IF(OR(M11="Feiertag",M11="Neujahr",M11="Ostersonntag",M11="Ostermontag",M11="Maifeiertag",M11="Pfingstsonntag",M11="Pfingstmontag",M11="Karfreitag",M11="Himmelfahrt",M11="Fronleichnam",M11="Tag der d. Einh.",M11="Weihnachten"),IF(WEEKDAY(A11,2)<=4,TIME(8,15,0),IF(WEEKDAY(A11,2)=5,TIME(6,0,0),TIME(0,0,0)))+(E11-D11)+(G11-F11)+(I11-H11)-J11,(E11-D11)+(G11-F11)+(I11-H11)-J11)) -> 0 | AD11: =MOD(S11-R11,1)+MOD(U11-T11,1) -> 0
A12: =B12 -> 44967 | B12: =B11+1 -> 44967 | C12: =IF($B12="","",IF(WEEKDAY(B12,2)=1,TRUNC((B12-DATE(YEAR(B12+3-MOD(B12-2,7)),1,MOD(B12-2,7)-9))/7),"")) | K12: =AC12*24 -> 0 | L12: =IF($B12="","",IF(WEEKDAY(B12,1)=1,K6+K7+K8+K9+K10+K11+K12,"")) | N12: =IF(B12<=TODAY(),K12-AB12,"") -> -6 | O12: =IF($N12="","",IF(WEEKDAY(B12,1)=1,N6+N7+N8+N9+N10+N11+N12,"")) | V12: =AD12*24 -> 0 | W12: Zuschläge / Bemerkungen: | AA12: =IF(COUNTIF(Feiertage!$B$5:$B$16,B12),INDEX(Feiertage!$A$5:$A$16,MATCH(B12,Feiertage!$B$5:$B$16,0)),"") | AB12: =IF(WEEKDAY(A12,2)<=4,(8.25),IF(WEEKDAY(A12,2)=5,(6),(0))) -> 6 | AC12: =IF(OR(M12="Urlaub",M12="Krank"),IF(WEEKDAY(A12,2)<=4,TIME(8,15,0),IF(WEEKDAY(A12,2)=5,TIME(6,0,0),TIME(0,0,0))), IF(OR(M12="Feiertag",M12="Neujahr",M12="Ostersonntag",M12="Ostermontag",M12="Maifeiertag",M12="Pfingstsonntag",M12="Pfingstmontag",M12="Karfreitag",M12="Himmelfahrt",M12="Fronleichnam",M12="Tag der d. Einh.",M12="Weihnachten"),IF(WEEKDAY(A12,2)<=4,TIME(8,15,0),IF(WEEKDAY(A12,2)=5,TIME(6,0,0),TIME(0,0,0)))+(E12-D12)+(G12-F12)+(I12-H12)-J12,(E12-D12)+(G12-F12)+(I12-H12)-J12)) -> 0 | AD12: =MOD(S12-R12,1)+MOD(U12-T12,1) -> 0
A13: =B13 -> 44968 | B13: =B12+1 -> 44968 | C13: =IF($B13="","",IF(WEEKDAY(B13,2)=1,TRUNC((B13-DATE(YEAR(B13+3-MOD(B13-2,7)),1,MOD(B13-2,7)-9))/7),"")) | K13: =AC13*24 -> 0 | L13: =IF($B13="","",IF(WEEKDAY(B13,1)=1,K7+K8+K9+K10+K11+K12+K13,"")) | N13: =IF(B13<=TODAY(),K13-AB13,"") -> 0 | O13: =IF($N13="","",IF(WEEKDAY(B13,1)=1,N7+N8+N9+N10+N11+N12+N13,"")) | V13: =AD13*24 -> 0 | AA13: =IF(COUNTIF(Feiertage!$B$5:$B$16,B13),INDEX(Feiertage!$A$5:$A$16,MATCH(B13,Feiertage!$B$5:$B$16,0)),"") | AB13: =IF(WEEKDAY(A13,2)<=4,(8.25),IF(WEEKDAY(A13,2)=5,(6),(0))) -> 0 | AC13: =IF(OR(M13="Urlaub",M13="Krank"),IF(WEEKDAY(A13,2)<=4,TIME(8,15,0),IF(WEEKDAY(A13,2)=5,TIME(6,0,0),TIME(0,0,0))), IF(OR(M13="Feiertag",M13="Neujahr",M13="Ostersonntag",M13="Ostermontag",M13="Maifeiertag",M13="Pfingstsonntag",M13="Pfingstmontag",M13="Karfreitag",M13="Himmelfahrt",M13="Fronleichnam",M13="Tag der d. Einh.",M13="Weihnachten"),IF(WEEKDAY(A13,2)<=4,TIME(8,15,0),IF(WEEKDAY(A13,2)=5,TIME(6,0,0),TIME(0,0,0)))+(E13-D13)+(G13-F13)+(I13-H13)-J13,(E13-D13)+(G13-F13)+(I13-H13)-J13)) -> 0 | AD13: =MOD(S13-R13,1)+MOD(U13-T13,1) -> 0
A14: =B14 -> 44969 | B14: =B13+1 -> 44969 | C14: =IF($B14="","",IF(WEEKDAY(B14,2)=1,TRUNC((B14-DATE(YEAR(B14+3-MOD(B14-2,7)),1,MOD(B14-2,7)-9))/7),"")) | K14: =AC14*24 -> 0 | L14: =IF($B14="","",IF(WEEKDAY(B14,1)=1,K8+K9+K10+K11+K12+K13+K14,"")) -> 0 | N14: =IF(B14<=TODAY(),K14-AB14,"") -> 0 | O14: =IF($N14="","",IF(WEEKDAY(B14,1)=1,N8+N9+N10+N11+N12+N13+N14,"")) -> -39 | V14: =AD14*24 -> 0 | AA14: =IF(COUNTIF(Feiertage!$B$5:$B$16,B14),INDEX(Feiertage!$A$5:$A$16,MATCH(B14,Feiertage!$B$5:$B$16,0)),"") | AB14: =IF(WEEKDAY(A14,2)<=4,(8.25),IF(WEEKDAY(A14,2)=5,(6),(0))) -> 0 | AC14: =IF(OR(M14="Urlaub",M14="Krank"),IF(WEEKDAY(A14,2)<=4,TIME(8,15,0),IF(WEEKDAY(A14,2)=5,TIME(6,0,0),TIME(0,0,0))), IF(OR(M14="Feiertag",M14="Neujahr",M14="Ostersonntag",M14="Ostermontag",M14="Maifeiertag",M14="Pfingstsonntag",M14="Pfingstmontag",M14="Karfreitag",M14="Himmelfahrt",M14="Fronleichnam",M14="Tag der d. Einh.",M14="Weihnachten"),IF(WEEKDAY(A14,2)<=4,TIME(8,15,0),IF(WEEKDAY(A14,2)=5,TIME(6,0,0),TIME(0,0,0)))+(E14-D14)+(G14-F14)+(I14-H14)-J14,(E14-D14)+(G14-F14)+(I14-H14)-J14)) -> 0 | AD14: =MOD(S14-R14,1)+MOD(U14-T14,1) -> 0
A15: =B15 -> 44970 | B15: =B14+1 -> 44970 | C15: =IF($B15="","",IF(WEEKDAY(B15,2)=1,TRUNC((B15-DATE(YEAR(B15+3-MOD(B15-2,7)),1,MOD(B15-2,7)-9))/7),"")) -> 7 | K15: =AC15*24 -> 0 | L15: =IF($B15="","",IF(WEEKDAY(B15,1)=1,K9+K10+K11+K12+K13+K14+K15,"")) | N15: =IF(B15<=TODAY(),K15-AB15,"") -> -8.25 | O15: =IF($N15="","",IF(WEEKDAY(B15,1)=1,N9+N10+N11+N12+N13+N14+N15,"")) | V15: =AD15*24 -> 0 | AA15: =IF(COUNTIF(Feiertage!$B$5:$B$16,B15),INDEX(Feiertage!$A$5:$A$16,MATCH(B15,Feiertage!$B$5:$B$16,0)),"") | AB15: =IF(WEEKDAY(A15,2)<=4,(8.25),IF(WEEKDAY(A15,2)=5,(6),(0))) -> 8.25 | AC15: =IF(OR(M15="Urlaub",M15="Krank"),IF(WEEKDAY(A15,2)<=4,TIME(8,15,0),IF(WEEKDAY(A15,2)=5,TIME(6,0,0),TIME(0,0,0))), IF(OR(M15="Feiertag",M15="Neujahr",M15="Ostersonntag",M15="Ostermontag",M15="Maifeiertag",M15="Pfingstsonntag",M15="Pfingstmontag",M15="Karfreitag",M15="Himmelfahrt",M15="Fronleichnam",M15="Tag der d. Einh.",M15="Weihnachten"),IF(WEEKDAY(A15,2)<=4,TIME(8,15,0),IF(WEEKDAY(A15,2)=5,TIME(6,0,0),TIME(0,0,0)))+(E15-D15)+(G15-F15)+(I15-H15)-J15,(E15-D15)+(G15-F15)+(I15-H15)-J15)) -> 0 | AD15: =MOD(S15-R15,1)+MOD(U15-T15,1) -> 0
A16: =B16 -> 44971 | B16: =B15+1 -> 44971 | C16: =IF($B16="","",IF(WEEKDAY(B16,2)=1,TRUNC((B16-DATE(YEAR(B16+3-MOD(B16-2,7)),1,MOD(B16-2,7)-9))/7),"")) | K16: =AC16*24 -> 0 | L16: =IF($B16="","",IF(WEEKDAY(B16,1)=1,K10+K11+K12+K13+K14+K15+K16,"")) | N16: =IF(B16<=TODAY(),K16-AB16,"") -> -8.25 | O16: =IF($N16="","",IF(WEEKDAY(B16,1)=1,N10+N11+N12+N13+N14+N15+N16,"")) | V16: =AD16*24 -> 0 | AA16: =IF(COUNTIF(Feiertage!$B$5:$B$16,B16),INDEX(Feiertage!$A$5:$A$16,MATCH(B16,Feiertage!$B$5:$B$16,0)),"") | AB16: =IF(WEEKDAY(A16,2)<=4,(8.25),IF(WEEKDAY(A16,2)=5,(6),(0))) -> 8.25 | AC16: =IF(OR(M16="Urlaub",M16="Krank"),IF(WEEKDAY(A16,2)<=4,TIME(8,15,0),IF(WEEKDAY(A16,2)=5,TIME(6,0,0),TIME(0,0,0))), IF(OR(M16="Feiertag",M16="Neujahr",M16="Ostersonntag",M16="Ostermontag",M16="Maifeiertag",M16="Pfingstsonntag",M16="Pfingstmontag",M16="Karfreitag",M16="Himmelfahrt",M16="Fronleichnam",M16="Tag der d. Einh.",M16="Weihnachten"),IF(WEEKDAY(A16,2)<=4,TIME(8,15,0),IF(WEEKDAY(A16,2)=5,TIME(6,0,0),TIME(0,0,0)))+(E16-D16)+(G16-F16)+(I16-H16)-J16,(E16-D16)+(G16-F16)+(I16-H16)-J16)) -> 0 | AD16: =MOD(S16-R16,1)+MOD(U16-T16,1) -> 0
A17: =B17 -> 44972 | B17: =B16+1 -> 44972 | C17: =IF($B17="","",IF(WEEKDAY(B17,2)=1,TRUNC((B17-DATE(YEAR(B17+3-MOD(B17-2,7)),1,MOD(B17-2,7)-9))/7),"")) | K17: =AC17*24 -> 0 | L17: =IF($B17="","",IF(WEEKDAY(B17,1)=1,K11+K12+K13+K14+K15+K16+K17,"")) | N17: =IF(B17<=TODAY(),K17-AB17,"") -> -8.25 | O17: =IF($N17="","",IF(WEEKDAY(B17,1)=1,N11+N12+N13+N14+N15+N16+N17,"")) | V17: =AD17*24 -> 0 | AA17: =IF(COUNTIF(Feiertage!$B$5:$B$16,B17),INDEX(Feiertage!$A$5:$A$16,MATCH(B17,Feiertage!$B$5:$B$16,0)),"") | AB17: =IF(WEEKDAY(A17,2)<=4,(8.25),IF(WEEKDAY(A17,2)=5,(6),(0))) -> 8.25 | AC17: =IF(OR(M17="Urlaub",M17="Krank"),IF(WEEKDAY(A17,2)<=4,TIME(8,15,0),IF(WEEKDAY(A17,2)=5,TIME(6,0,0),TIME(0,0,0))), IF(OR(M17="Feiertag",M17="Neujahr",M17="Ostersonntag",M17="Ostermontag",M17="Maifeiertag",M17="Pfingstsonntag",M17="Pfingstmontag",M17="Karfreitag",M17="Himmelfahrt",M17="Fronleichnam",M17="Tag der d. Einh.",M17="Weihnachten"),IF(WEEKDAY(A17,2)<=4,TIME(8,15,0),IF(WEEKDAY(A17,2)=5,TIME(6,0,0),TIME(0,0,0)))+(E17-D17)+(G17-F17)+(I17-H17)-J17,(E17-D17)+(G17-F17)+(I17-H17)-J17)) -> 0 | AD17: =MOD(S17-R17,1)+MOD(U17-T17,1) -> 0
A18: =B18 -> 44973 | B18: =B17+1 -> 44973 | C18: =IF($B18="","",IF(WEEKDAY(B18,2)=1,TRUNC((B18-DATE(YEAR(B18+3-MOD(B18-2,7)),1,MOD(B18-2,7)-9))/7),"")) | K18: =AC18*24 -> 0 | L18: =IF($B18="","",IF(WEEKDAY(B18,1)=1,K12+K13+K14+K15+K16+K17+K18,"")) | N18: =IF(B18<=TODAY(),K18-AB18,"") -> -8.25 | O18: =IF($N18="","",IF(WEEKDAY(B18,1)=1,N12+N13+N14+N15+N16+N17+N18,"")) | V18: =AD18*24 -> 0 | AA18: =IF(COUNTIF(Feiertage!$B$5:$B$16,B18),INDEX(Feiertage!$A$5:$A$16,MATCH(B18,Feiertage!$B$5:$B$16,0)),"") | AB18: =IF(WEEKDAY(A18,2)<=4,(8.25),IF(WEEKDAY(A18,2)=5,(6),(0))) -> 8.25 | AC18: =IF(OR(M18="Urlaub",M18="Krank"),IF(WEEKDAY(A18,2)<=4,TIME(8,15,0),IF(WEEKDAY(A18,2)=5,TIME(6,0,0),TIME(0,0,0))), IF(OR(M18="Feiertag",M18="Neujahr",M18="Ostersonntag",M18="Ostermontag",M18="Maifeiertag",M18="Pfingstsonntag",M18="Pfingstmontag",M18="Karfreitag",M18="Himmelfahrt",M18="Fronleichnam",M18="Tag der d. Einh.",M18="Weihnachten"),IF(WEEKDAY(A18,2)<=4,TIME(8,15,0),IF(WEEKDAY(A18,2)=5,TIME(6,0,0),TIME(0,0,0)))+(E18-D18)+(G18-F18)+(I18-H18)-J18,(E18-D18)+(G18-F18)+(I18-H18)-J18)) -> 0 | AD18: =MOD(S18-R18,1)+MOD(U18-T18,1) -> 0
A19: =B19 -> 44974 | B19: =B18+1 -> 44974 | C19: =IF($B19="","",IF(WEEKDAY(B19,2)=1,TRUNC((B19-DATE(YEAR(B19+3-MOD(B19-2,7)),1,MOD(B19-2,7)-9))/7),"")) | K19: =AC19*24 -> 0 | L19: =IF($B19="","",IF(WEEKDAY(B19,1)=1,K13+K14+K15+K16+K17+K18+K19,"")) | N19: =IF(B19<=TODAY(),K19-AB19,"") -> -6 | O19: =IF($N19="","",IF(WEEKDAY(B19,1)=1,N13+N14+N15+N16+N17+N18+N19,"")) | V19: =AD19*24 -> 0 | AA19: =IF(COUNTIF(Feiertage!$B$5:$B$16,B19),INDEX(Feiertage!$A$5:$A$16,MATCH(B19,Feiertage!$B$5:$B$16,0)),"") | AB19: =IF(WEEKDAY(A19,2)<=4,(8.25),IF(WEEKDAY(A19,2)=5,(6),(0))) -> 6 | AC19: =IF(OR(M19="Urlaub",M19="Krank"),IF(WEEKDAY(A19,2)<=4,TIME(8,15,0),IF(WEEKDAY(A19,2)=5,TIME(6,0,0),TIME(0,0,0))), IF(OR(M19="Feiertag",M19="Neujahr",M19="Ostersonntag",M19="Ostermontag",M19="Maifeiertag",M19="Pfingstsonntag",M19="Pfingstmontag",M19="Karfreitag",M19="Himmelfahrt",M19="Fronleichnam",M19="Tag der d. Einh.",M19="Weihnachten"),IF(WEEKDAY(A19,2)<=4,TIME(8,15,0),IF(WEEKDAY(A19,2)=5,TIME(6,0,0),TIME(0,0,0)))+(E19-D19)+(G19-F19)+(I19-H19)-J19,(E19-D19)+(G19-F19)+(I19-H19)-J19)) -> 0 | AD19: =MOD(S19-R19,1)+MOD(U19-T19,1) -> 0
A20: =B20 -> 44975 | B20: =B19+1 -> 44975 | C20: =IF($B20="","",IF(WEEKDAY(B20,2)=1,TRUNC((B20-DATE(YEAR(B20+3-MOD(B20-2,7)),1,MOD(B20-2,7)-9))/7),"")) | K20: =AC20*24 -> 0 | L20: =IF($B20="","",IF(WEEKDAY(B20,1)=1,K14+K15+K16+K17+K18+K19+K20,"")) | N20: =IF(B20<=TODAY(),K20-AB20,"") -> 0 | O20: =IF($N20="","",IF(WEEKDAY(B20,1)=1,N14+N15+N16+N17+N18+N19+N20,"")) | V20: =AD20*24 -> 0 | AA20: =IF(COUNTIF(Feiertage!$B$5:$B$16,B20),INDEX(Feiertage!$A$5:$A$16,MATCH(B20,Feiertage!$B$5:$B$16,0)),"") | AB20: =IF(WEEKDAY(A20,2)<=4,(8.25),IF(WEEKDAY(A20,2)=5,(6),(0))) -> 0 | AC20: =IF(OR(M20="Urlaub",M20="Krank"),IF(WEEKDAY(A20,2)<=4,TIME(8,15,0),IF(WEEKDAY(A20,2)=5,TIME(6,0,0),TIME(0,0,0))), IF(OR(M20="Feiertag",M20="Neujahr",M20="Ostersonntag",M20="Ostermontag",M20="Maifeiertag",M20="Pfingstsonntag",M20="Pfingstmontag",M20="Karfreitag",M20="Himmelfahrt",M20="Fronleichnam",M20="Tag der d. Einh.",M20="Weihnachten"),IF(WEEKDAY(A20,2)<=4,TIME(8,15,0),IF(WEEKDAY(A20,2)=5,TIME(6,0,0),TIME(0,0,0)))+(E20-D20)+(G20-F20)+(I20-H20)-J20,(E20-D20)+(G20-F20)+(I20-H20)-J20)) -> 0 | AD20: =MOD(S20-R20,1)+MOD(U20-T20,1) -> 0
A21: =B21 -> 44976 | B21: =B20+1 -> 44976 | C21: =IF($B21="","",IF(WEEKDAY(B21,2)=1,TRUNC((B21-DATE(YEAR(B21+3-MOD(B21-2,7)),1,MOD(B21-2,7)-9))/7),"")) | K21: =AC21*24 -> 0 | L21: =IF($B21="","",IF(WEEKDAY(B21,1)=1,K15+K16+K17+K18+K19+K20+K21,"")) -> 0 | N21: =IF(B21<=TODAY(),K21-AB21,"") -> 0 | O21: =IF($N21="","",IF(WEEKDAY(B21,1)=1,N15+N16+N17+N18+N19+N20+N21,"")) -> -39 | V21: =AD21*24 -> 0 | AA21: =IF(COUNTIF(Feiertage!$B$5:$B$16,B21),INDEX(Feiertage!$A$5:$A$16,MATCH(B21,Feiertage!$B$5:$B$16,0)),"") | AB21: =IF(WEEKDAY(A21,2)<=4,(8.25),IF(WEEKDAY(A21,2)=5,(6),(0))) -> 0 | AC21: =IF(OR(M21="Urlaub",M21="Krank"),IF(WEEKDAY(A21,2)<=4,TIME(8,15,0),IF(WEEKDAY(A21,2)=5,TIME(6,0,0),TIME(0,0,0))), IF(OR(M21="Feiertag",M21="Neujahr",M21="Ostersonntag",M21="Ostermontag",M21="Maifeiertag",M21="Pfingstsonntag",M21="Pfingstmontag",M21="Karfreitag",M21="Himmelfahrt",M21="Fronleichnam",M21="Tag der d. Einh.",M21="Weihnachten"),IF(WEEKDAY(A21,2)<=4,TIME(8,15,0),IF(WEEKDAY(A21,2)=5,TIME(6,0,0),TIME(0,0,0)))+(E21-D21)+(G21-F21)+(I21-H21)-J21,(E21-D21)+(G21-F21)+(I21-H21)-J21)) -> 0 | AD21: =MOD(S21-R21,1)+MOD(U21-T21,1) -> 0
A22: =B22 -> 44977 | B22: =B21+1 -> 44977 | C22: =IF($B22="","",IF(WEEKDAY(B22,2)=1,TRUNC((B22-DATE(YEAR(B22+3-MOD(B22-2,7)),1,MOD(B22-2,7)-9))/7),"")) -> 8 | K22: =AC22*24 -> 0 | L22: =IF($B22="","",IF(WEEKDAY(B22,1)=1,K16+K17+K18+K19+K20+K21+K22,"")) | N22: =IF(B22<=TODAY(),K22-AB22,"") -> -8.25 | O22: =IF($N22="","",IF(WEEKDAY(B22,1)=1,N16+N17+N18+N19+N20+N21+N22,"")) | V22: =AD22*24 -> 0 | AA22: =IF(COUNTIF(Feiertage!$B$5:$B$16,B22),INDEX(Feiertage!$A$5:$A$16,MATCH(B22,Feiertage!$B$5:$B$16,0)),"") | AB22: =IF(WEEKDAY(A22,2)<=4,(8.25),IF(WEEKDAY(A22,2)=5,(6),(0))) -> 8.25 | AC22: =IF(OR(M22="Urlaub",M22="Krank"),IF(WEEKDAY(A22,2)<=4,TIME(8,15,0),IF(WEEKDAY(A22,2)=5,TIME(6,0,0),TIME(0,0,0))), IF(OR(M22="Feiertag",M22="Neujahr",M22="Ostersonntag",M22="Ostermontag",M22="Maifeiertag",M22="Pfingstsonntag",M22="Pfingstmontag",M22="Karfreitag",M22="Himmelfahrt",M22="Fronleichnam",M22="Tag der d. Einh.",M22="Weihnachten"),IF(WEEKDAY(A22,2)<=4,TIME(8,15,0),IF(WEEKDAY(A22,2)=5,TIME(6,0,0),TIME(0,0,0)))+(E22-D22)+(G22-F22)+(I22-H22)-J22,(E22-D22)+(G22-F22)+(I22-H22)-J22)) -> 0 | AD22: =MOD(S22-R22,1)+MOD(U22-T22,1) -> 0
A23: =B23 -> 44978 | B23: =B22+1 -> 44978 | C23: =IF($B23="","",IF(WEEKDAY(B23,2)=1,TRUNC((B23-DATE(YEAR(B23+3-MOD(B23-2,7)),1,MOD(B23-2,7)-9))/7),"")) | K23: =AC23*24 -> 0 | L23: =IF($B23="","",IF(WEEKDAY(B23,1)=1,K17+K18+K19+K20+K21+K22+K23,"")) | N23: =IF(B23<=TODAY(),K23-AB23,"") -> -8.25 | O23: =IF($N23="","",IF(WEEKDAY(B23,1)=1,N17+N18+N19+N20+N21+N22+N23,"")) | V23: =AD23*24 -> 0 | AA23: =IF(COUNTIF(Feiertage!$B$5:$B$16,B23),INDEX(Feiertage!$A$5:$A$16,MATCH(B23,Feiertage!$B$5:$B$16,0)),"") | AB23: =IF(WEEKDAY(A23,2)<=4,(8.25),IF(WEEKDAY(A23,2)=5,(6),(0))) -> 8.25 | AC23: =IF(OR(M23="Urlaub",M23="Krank"),IF(WEEKDAY(A23,2)<=4,TIME(8,15,0),IF(WEEKDAY(A23,2)=5,TIME(6,0,0),TIME(0,0,0))), IF(OR(M23="Feiertag",M23="Neujahr",M23="Ostersonntag",M23="Ostermontag",M23="Maifeiertag",M23="Pfingstsonntag",M23="Pfingstmontag",M23="Karfreitag",M23="Himmelfahrt",M23="Fronleichnam",M23="Tag der d. Einh.",M23="Weihnachten"),IF(WEEKDAY(A23,2)<=4,TIME(8,15,0),IF(WEEKDAY(A23,2)=5,TIME(6,0,0),TIME(0,0,0)))+(E23-D23)+(G23-F23)+(I23-H23)-J23,(E23-D23)+(G23-F23)+(I23-H23)-J23)) -> 0 | AD23: =MOD(S23-R23,1)+MOD(U23-T23,1) -> 0
