Workbook

Sheet Kalender
B1: Urlaubsplaner 2020
G8: Januar | AL8: Februar | BO8: März | CT8: April | DX8: Mai | FC8: Juni | GG8: Juli | HL8: August | IQ8: September | JU8: Oktober | KZ8: November | MD8: Dezember
G9: Mi | H9: Do | I9: Fr | J9: Sa | K9: So | L9: Mo | M9: Di | N9: Mi | O9: Do | P9: Fr | Q9: Sa | R9: So | S9: Mo | T9: Di | U9: Mi | V9: Do | W9: Fr | X9: Sa | Y9: So | Z9: Mo | AA9: Di | AB9: Mi | AC9: Do | AD9: Fr | AE9: Sa | AF9: So | AG9: Mo | AH9: Di | AI9: Mi | AJ9: Do | AK9: FR | AL9: Sa | AM9: So | AN9: Mo | AO9: Di | AP9: Mi | AQ9: Do | AR9: Fr | AS9: Sa | AT9: So | AU9: Mo | AV9: Di | AW9: Mi | AX9: Do | AY9: Fr | AZ9: Sa | BA9: So | BB9: Mo | BC9: Di | BD9: Mi | BE9: Do | BF9: Fr | BG9: Sa | BH9: So | BI9: Mo | BJ9: Di | BK9: Mi | BL9: Do | BM9: Fr | BN9: Sa | BO9: So | BP9: Mo | BQ9: Di | BR9: Mi | BS9: Do | BT9: Fr | BU9: Sa | BV9: So | BW9: Mo | BX9: Di | BY9: Mi | BZ9: Do | CA9: Fr | CB9: Sa | CC9: So | CD9: Mo | CE9: Di | CF9: Mi | CG9: Do | CH9: Fr | CI9: Sa | CJ9: So | CK9: Mo | CL9: Di | CM9: Mi | CN9: Do | CO9: Fr | CP9: Sa | CQ9: So | CR9: Mo | CS9: Di | CT9: Mi | CU9: Do | CV9: Fr | CW9: Sa | CX9: So | CY9: Mo | CZ9: Di | DA9: Mi | DB9: Do | DC9: Fr | DD9: Sa | DE9: So | DF9: Mo | DG9: Di | DH9: Mi | DI9: Do | DJ9: Fr | DK9: Sa | DL9: So | DM9: Mo | DN9: Di | DO9: Mi | DP9: Do | DQ9: Fr | DR9: Sa | DS9: So | DT9: Mo | DU9: Di | DV9: Mi | DW9: Do | DX9: Fr | DY9: Sa | DZ9: So | EA9: Mo | EB9: Di | EC9: Mi | ED9: Do | EE9: Fr | EF9: Sa | EG9: So | EH9: Mo | EI9: Di | EJ9: Mi | EK9: Do | EL9: Fr | EM9: Sa | EN9: So | EO9: Mo | EP9: Di | EQ9: Mi | ER9: Do | ES9: Fr | ET9: Sa | EU9: So | EV9: Mo | EW9: Di | EX9: Mi | EY9: Do | EZ9: Fr | FA9: Sa | FB9: So | FC9: Mo | FD9: Di | FE9: Mi | FF9: Do | FG9: Fr | FH9: Sa | FI9: So | FJ9: Mo | FK9: Di | FL9: Mi | FM9: Do | FN9: Fr | FO9: Sa | FP9: So | FQ9: Mo | FR9: Di | FS9: Mi | FT9: Do | FU9: Fr | FV9: Sa | FW9: So | FX9: Mo | FY9: Di | FZ9: Mi | GA9: Do | GB9: Fr | GC9: Sa | GD9: So | GE9: Mo | GF9: Di | GG9: Mi | GH9: Do | GI9: Fr | GJ9: Sa | GK9: So | GL9: Mo | GM9: Di | GN9: Mi | GO9: Do | GP9: Fr | GQ9: Sa | GR9: So | GS9: Mo | GT9: Di | GU9: Mi | GV9: Do | GW9: Fr | GX9: Sa | GY9: So | GZ9: Mo | HA9: Di | HB9: Mi | HC9: Do | HD9: Fr | HE9: Sa | HF9: So | HG9: Mo | HH9: Di | HI9: Mi | HJ9: Do | HK9: Fr | HL9: Sa | HM9: So | HN9: Mo | HO9: Di | HP9: Mi | HQ9: Do | HR9: Fr | HS9: Sa | HT9: So | HU9: Mo | HV9: Di | HW9: Mi | HX9: Do | HY9: Fr | HZ9: Sa | IA9: So | IB9: Mo | IC9: Di | ID9: Mi | IE9: Do | IF9: Fr | IG9: Sa | IH9: So | II9: Mo | IJ9: Di | IK9: Mi | IL9: Do | IM9: Fr | IN9: Sa | IO9: So | IP9: Mo | IQ9: Di | IR9: Mi | IS9: Do | IT9: Fr | IU9: Sa | IV9: So | IW9: Mo | IX9: Di | IY9: Mi | IZ9: Do | JA9: Fr | JB9: Sa | JC9: So | JD9: Mo | JE9: Di | JF9: Mi | JG9: Do | JH9: Fr | JI9: Sa | JJ9: So | JK9: Mo | JL9: Di | JM9: Mi | JN9: Do | JO9: Fr | JP9: Sa | JQ9: So | JR9: Mo | JS9: Di | JT9: Mi | JU9: Do | JV9: Fr | JW9: Sa | JX9: So | JY9: Mo | JZ9: Di | KA9: Mi | KB9: Do | KC9: Fr | KD9: Sa | KE9: So | KF9: Mo | KG9: Di | KH9: Mi | KI9: Do | KJ9: Fr | KK9: Sa | KL9: So | KM9: Mo | KN9: Di | KO9: Mi | KP9: Do | KQ9: Fr | KR9: Sa | KS9: So | KT9: Mo | KU9: Di | KV9: Mi | KW9: Do | KX9: Fr | KY9: Sa | KZ9: So | LA9: Mo | LB9: Di | LC9: Mi | LD9: Do | LE9: Fr | LF9: Sa | LG9: So | LH9: Mo | LI9: Di | LJ9: Mi | LK9: Do | LL9: Fr | LM9: Sa | LN9: So | LO9: Mo | LP9: Di | LQ9: Mi | LR9: Do | LS9: Fr | LT9: Sa | LU9: So | LV9: Mo | LW9: Di | LX9: Mi | LY9: Do | LZ9: Fr | MA9: Sa | MB9: So | MC9: Mo | MD9: Di | ME9: Mi | MF9: Do | MG9: Fr | MH9: Sa | MI9: So | MJ9: Mo | MK9: Di | ML9: Mi | MM9: Do | MN9: Fr | MO9: Sa | MP9: So | MQ9: Mo | MR9: Di | MS9: Mi | MT9: Do | MU9: Fr | MV9: Sa | MW9: So | MX9: Mo | MY9: Di | MZ9: Mi | NA9: Do | NB9: Fr | NC9: Sa | ND9: So | NE9: Mo | NF9: Di | NG9: Mi | NH9: Do
D10: 2019 | E10: 2020 | F10: 2020 | H10: 43832 | I10: 43833 | J10: 43834 | K10: 43835 | L10: 43836 | M10: 43837 | N10: 43838 | O10: 43839 | P10: 43840 | Q10: 43841 | R10: 43842 | S10: 43843 | T10: 43844 | U10: 43845 | V10: 43846 | W10: 43847 | X10: 43848 | Y10: 43849 | Z10: 43850 | AA10: 43851 | AB10: 43852 | AC10: 43853 | AD10: 43854 | AE10: 43855 | AF10: 43856 | AG10: 43857 | AH10: 43858 | AI10: 43859 | AJ10: 43860 | AK10: 43861 | AL10: 43862 | AM10: 43863 | AN10: 43864 | AO10: 43865 | AP10: 43866 | AQ10: 43867 | AR10: 43868 | AS10: 43869 | AT10: 43870 | AU10: 43871 | AV10: 43872 | AW10: 43873 | AX10: 43874 | AY10: 43875 | AZ10: 43876 | BA10: 43877 | BB10: 43878 | BC10: 43879 | BD10: 43880 | BE10: 43881 | BF10: 43882 | BG10: 43883 | BH10: 43884 | BI10: 43885 | BJ10: 43886 | BK10: 43887 | BL10: 43888 | BM10: 43889 | BN10: 43890 | BO10: 43891 | BP10: 43892 | BQ10: 43893 | BR10: 43894 | BS10: 43895 | BT10: 43896 | BU10: 43897 | BV10: 43898 | BW10: 43899 | BX10: 43900 | BY10: 43901 | BZ10: 43902 | CA10: 43903 | CB10: 43904 | CC10: 43905 | CD10: 43906 | CE10: 43907 | CF10: 43908 | CG10: 43909 | CH10: 43910 | CI10: 43911 | CJ10: 43912 | CK10: 43913 | CL10: 43914 | CM10: 43915 | CN10: 43916 | CO10: 43917 | CP10: 43918 | CQ10: 43919 | CR10: 43920 | CS10: 43921 | CT10: 43922 | CU10: 43923 | CV10: 43924 | CW10: 43925 | CX10: 43926 | CY10: 43927 | CZ10: 43928 | DA10: 43929 | DB10: 43930 | DC10: 43931 | DD10: 43932 | DE10: 43933 | DF10: 43934 | DG10: 43935 | DH10: 43936 | DI10: 43937 | DJ10: 43938 | DK10: 43939 | DL10: 43940 | DM10: 43941 | DN10: 43942 | DO10: 43943 | DP10: 43944 | DQ10: 43945 | DR10: 43946 | DS10: 43947 | DT10: 43948 | DU10: 43949 | DV10: 43950 | DW10: 43951 | DX10: 43952 | DY10: 43953 | DZ10: 43954 | EA10: 43955 | EB10: 43956 | EC10: 43957 | ED10: 43958 | EE10: 43959 | EF10: 43960 | EG10: 43961 | EH10: 43962 | EI10: 43963 | EJ10: 43964 | EK10: 43965 | EL10: 43966 | EM10: 43967 | EN10: 43968 | EO10: 43969 | EP10: 43970 | EQ10: 43971 | ER10: 43972 | ES10: 43973 | ET10: 43974 | EU10: 43975 | EV10: 43976 | EW10: 43977 | EX10: 43978 | EY10: 43979 | EZ10: 43980 | FA10: 43981 | FB10: 43982 | FC10: 43983 | FD10: 43984 | FE10: 43985 | FF10: 43986 | FG10: 43987 | FH10: 43988 | FI10: 43989 | FJ10: 43990 | FK10: 43991 | FL10: 43992 | FM10: 43993 | FN10: 43994 | FO10: 43995 | FP10: 43996 | FQ10: 43997 | FR10: 43998 | FS10: 43999 | FT10: 44000 | FU10: 44001 | FV10: 44002 | FW10: 44003 | FX10: 44004 | FY10: 44005 | FZ10: 44006 | GA10: 44007 | GB10: 44008 | GC10: 44009 | GD10: 44010 | GE10: 44011 | GF10: 44012 | GG10: 44013 | GH10: 44014 | GI10: 44015 | GJ10: 44016 | GK10: 44017 | GL10: 44018 | GM10: 44019 | GN10: 44020 | GO10: 44021 | GP10: 44022 | GQ10: 44023 | GR10: 44024 | GS10: 44025 | GT10: 44026 | GU10: 44027 | GV10: 44028 | GW10: 44029 | GX10: 44030 | GY10: 44031 | GZ10: 44032 | HA10: 44033 | HB10: 44034 | HC10: 44035 | HD10: 44036 | HE10: 44037 | HF10: 44038 | HG10: 44039 | HH10: 44040 | HI10: 44041 | HJ10: 44042 | HK10: 44043 | HL10: 44044 | HM10: 44045 | HN10: 44046 | HO10: 44047 | HP10: 44048 | HQ10: 44049 | HR10: 44050 | HS10: 44051 | HT10: 44052 | HU10: 44053 | HV10: 44054 | HW10: 44055 | HX10: 44056 | HY10: 44057 | HZ10: 44058 | IA10: 44059 | IB10: 44060 | IC10: 44061 | ID10: 44062 | IE10: 44063 | IF10: 44064 | IG10: 44065 | IH10: 44066 | II10: 44067 | IJ10: 44068 | IK10: 44069 | IL10: 44070 | IM10: 44071 | IN10: 44072 | IO10: 44073 | IP10: 44074 | IQ10: 44075 | IR10: 44076 | IS10: 44077 | IT10: 44078 | IU10: 44079 | IV10: 44080 | IW10: 44081 | IX10: 44082 | IY10: 44083 | IZ10: 44084 | JA10: 44085 | JB10: 44086 | JC10: 44087 | JD10: 44088 | JE10: 44089 | JF10: 44090 | JG10: 44091 | JH10: 44092 | JI10: 44093 | JJ10: 44094 | JK10: 44095 | JL10: 44096 | JM10: 44097 | JN10: 44098 | JO10: 44099 | JP10: 44100 | JQ10: 44101 | JR10: 44102 | JS10: 44103 | JT10: 44104 | JU10: 44105 | JV10: 44106 | JW10: 44107 | JX10: 44108 | JY10: 44109 | JZ10: 44110 | KA10: 44111 | KB10: 44112 | KC10: 44113 | KD10: 44114 | KE10: 44115 | KF10: 44116 | KG10: 44117 | KH10: 44118 | KI10: 44119 | KJ10: 44120 | KK10: 44121 | KL10: 44122 | KM10: 44123 | KN10: 44124 | KO10: 44125 | KP10: 44126 | KQ10: 44127 | KR10: 44128 | KS10: 44129 | KT10: 44130 | KU10: 44131 | KV10: 44132 | KW10: 44133 | KX10: 44134 | KY10: 44135 | KZ10: 44136 | LA10: 44137 | LB10: 44138 | LC10: 44139 | LD10: 44140 | LE10: 44141 | LF10: 44142 | LG10: 44143 | LH10: 44144 | LI10: 44145 | LJ10: 44146 | LK10: 44147 | LL10: 44148 | LM10: 44149 | LN10: 44150 | LO10: 44151 | LP10: 44152 | LQ10: 44153 | LR10: 44154 | LS10: 44155 | LT10: 44156 | LU10: 44157 | LV10: 44158 | LW10: 44159 | LX10: 44160 | LY10: 44161 | LZ10: 44162 | MA10: 44163 | MB10: 44164 | MC10: 44165 | MD10: 44166 | ME10: 44167 | MF10: 44168 | MG10: 44169 | MH10: 44170 | MI10: 44171 | MJ10: 44172 | MK10: 44173 | ML10: 44174 | MM10: 44175 | MN10: 44176 | MO10: 44177 | MP10: 44178 | MQ10: 44179 | MR10: 44180 | MS10: 44181 | MT10: 44182 | MU10: 44183 | MV10: 44184 | MW10: 44185 | MX10: 44186 | MY10: 44187 | MZ10: 44188 | NA10: 44189 | NB10: 44190 | NC10: 44191 | ND10: 44192 | NE10: 44193 | NF10: 44194 | NG10: 44195 | NH10: 44196
H11: =WEEKDAY(H10,11) -> 4 | I11: =WEEKDAY(I10,11) -> 5 | J11: =WEEKDAY(J10,11) -> 6 | K11: =WEEKDAY(K10,11) -> 7 | L11: =WEEKDAY(L10,11) -> 1 | M11: =WEEKDAY(M10,11) -> 2 | N11: =WEEKDAY(N10,11) -> 3 | O11: =WEEKDAY(O10,11) -> 4 | ... NF11: =WEEKDAY(NF10,11) -> 2 | NH11: =WEEKDAY(NH10,11) -> 4
H12: =COUNTIFS(FerienFeiertag[Von],"<="&Kalender!H$10,FerienFeiertag[Bis],">="&Kalender!H$10,FerienFeiertag[Ferien/Feiertag],Kalender!#REF!) -> 0 | I12: =COUNTIFS(FerienFeiertag[Von],"<="&Kalender!I$10,FerienFeiertag[Bis],">="&Kalender!I$10,FerienFeiertag[Ferien/Feiertag],Kalender!#REF!) -> 0 | J12: =COUNTIFS(FerienFeiertag[Von],"<="&Kalender!J$10,FerienFeiertag[Bis],">="&Kalender!J$10,FerienFeiertag[Ferien/Feiertag],Kalender!#REF!) -> 0 | K12: =COUNTIFS(FerienFeiertag[Von],"<="&Kalender!K$10,FerienFeiertag[Bis],">="&Kalender!K$10,FerienFeiertag[Ferien/Feiertag],Kalender!#REF!) -> 0 | L12: =COUNTIFS(FerienFeiertag[Von],"<="&Kalender!L$10,FerienFeiertag[Bis],">="&Kalender!L$10,FerienFeiertag[Ferien/Feiertag],Kalender!#REF!) -> 0 | M12: =COUNTIFS(FerienFeiertag[Von],"<="&Kalender!M$10,FerienFeiertag[Bis],">="&Kalender!M$10,FerienFeiertag[Ferien/Feiertag],Kalender!#REF!) -> 0 | N12: =COUNTIFS(FerienFeiertag[Von],"<="&Kalender!N$10,FerienFeiertag[Bis],">="&Kalender!N$10,FerienFeiertag[Ferien/Feiertag],Kalender!#REF!) -> 0 | O12: =COUNTIFS(FerienFeiertag[Von],"<="&Kalender!O$10,FerienFeiertag[Bis],">="&Kalender!O$10,FerienFeiertag[Ferien/Feiertag],Kalender!#REF!) -> 0 | ... NF12: =COUNTIFS(FerienFeiertag[Von],"<="&Kalender!NF$10,FerienFeiertag[Bis],">="&Kalender!NF$10,FerienFeiertag[Ferien/Feiertag],Kalender!#REF!) -> 0 | NH12: =COUNTIFS(FerienFeiertag[Von],"<="&Kalender!NH$10,FerienFeiertag[Bis],">="&Kalender!NH$10,FerienFeiertag[Ferien/Feiertag],Kalender!#REF!) -> 0
H13: =COUNTIFS(FerienFeiertag[Von],"<="&Kalender!H$10,FerienFeiertag[Bis],">="&Kalender!H$10,FerienFeiertag[Ferien/Feiertag],Kalender!#REF!) -> 0 | I13: =COUNTIFS(FerienFeiertag[Von],"<="&Kalender!I$10,FerienFeiertag[Bis],">="&Kalender!I$10,FerienFeiertag[Ferien/Feiertag],Kalender!#REF!) -> 0 | J13: =COUNTIFS(FerienFeiertag[Von],"<="&Kalender!J$10,FerienFeiertag[Bis],">="&Kalender!J$10,FerienFeiertag[Ferien/Feiertag],Kalender!#REF!) -> 0 | K13: =COUNTIFS(FerienFeiertag[Von],"<="&Kalender!K$10,FerienFeiertag[Bis],">="&Kalender!K$10,FerienFeiertag[Ferien/Feiertag],Kalender!#REF!) -> 0 | L13: =COUNTIFS(FerienFeiertag[Von],"<="&Kalender!L$10,FerienFeiertag[Bis],">="&Kalender!L$10,FerienFeiertag[Ferien/Feiertag],Kalender!#REF!) -> 0 | M13: =COUNTIFS(FerienFeiertag[Von],"<="&Kalender!M$10,FerienFeiertag[Bis],">="&Kalender!M$10,FerienFeiertag[Ferien/Feiertag],Kalender!#REF!) -> 0 | N13: =COUNTIFS(FerienFeiertag[Von],"<="&Kalender!N$10,FerienFeiertag[Bis],">="&Kalender!N$10,FerienFeiertag[Ferien/Feiertag],Kalender!#REF!) -> 0 | O13: =COUNTIFS(FerienFeiertag[Von],"<="&Kalender!O$10,FerienFeiertag[Bis],">="&Kalender!O$10,FerienFeiertag[Ferien/Feiertag],Kalender!#REF!) -> 0 | ... NF13: =COUNTIFS(FerienFeiertag[Von],"<="&Kalender!NF$10,FerienFeiertag[Bis],">="&Kalender!NF$10,FerienFeiertag[Ferien/Feiertag],Kalender!#REF!) -> 0 | NH13: =COUNTIFS(FerienFeiertag[Von],"<="&Kalender!NH$10,FerienFeiertag[Bis],">="&Kalender!NH$10,FerienFeiertag[Ferien/Feiertag],Kalender!#REF!) -> 0
H14: =COUNTIFS(FerienFeiertag[Von],"<="&Kalender!H$10,FerienFeiertag[Bis],">="&Kalender!H$10,FerienFeiertag[Ferien/Feiertag],Kalender!#REF!) -> 0 | I14: =COUNTIFS(FerienFeiertag[Von],"<="&Kalender!I$10,FerienFeiertag[Bis],">="&Kalender!I$10,FerienFeiertag[Ferien/Feiertag],Kalender!#REF!) -> 0 | J14: =COUNTIFS(FerienFeiertag[Von],"<="&Kalender!J$10,FerienFeiertag[Bis],">="&Kalender!J$10,FerienFeiertag[Ferien/Feiertag],Kalender!#REF!) -> 0 | K14: =COUNTIFS(FerienFeiertag[Von],"<="&Kalender!K$10,FerienFeiertag[Bis],">="&Kalender!K$10,FerienFeiertag[Ferien/Feiertag],Kalender!#REF!) -> 0 | L14: =COUNTIFS(FerienFeiertag[Von],"<="&Kalender!L$10,FerienFeiertag[Bis],">="&Kalender!L$10,FerienFeiertag[Ferien/Feiertag],Kalender!#REF!) -> 0 | M14: =COUNTIFS(FerienFeiertag[Von],"<="&Kalender!M$10,FerienFeiertag[Bis],">="&Kalender!M$10,FerienFeiertag[Ferien/Feiertag],Kalender!#REF!) -> 0 | N14: =COUNTIFS(FerienFeiertag[Von],"<="&Kalender!N$10,FerienFeiertag[Bis],">="&Kalender!N$10,FerienFeiertag[Ferien/Feiertag],Kalender!#REF!) -> 0 | O14: =COUNTIFS(FerienFeiertag[Von],"<="&Kalender!O$10,FerienFeiertag[Bis],">="&Kalender!O$10,FerienFeiertag[Ferien/Feiertag],Kalender!#REF!) -> 0 | ... NF14: =COUNTIFS(FerienFeiertag[Von],"<="&Kalender!NF$10,FerienFeiertag[Bis],">="&Kalender!NF$10,FerienFeiertag[Ferien/Feiertag],Kalender!#REF!) -> 0 | NH14: =COUNTIFS(FerienFeiertag[Von],"<="&Kalender!NH$10,FerienFeiertag[Bis],">="&Kalender!NH$10,FerienFeiertag[Ferien/Feiertag],Kalender!#REF!) -> 0
C15: Name, Vorname | D15: Url. Rest | E15: Url. Neu | F15: Url. Gesamt
D16: 4 | E16: 26 | F16: =E16-SUM(G16:NH16)+D16 -> 19 | EI16: 1 | HB16: 1 | HC16: 1 | HD16: 1 | HE16: 1 | HF16: 1 | HG16: 1 | HH16: 1 | HI16: 1 | HJ16: 1 | HK16: 1
D17: 1 | E17: 24 | F17: =E17-SUM(G17:NH17)+D17 -> 12 | BI17: 1 | BJ17: 1 | BK17: 1 | JD17: 1 | JE17: 1 | JF17: 1 | JG17: 1 | JH17: 1 | JK17: 1 | JL17: 1 | JM17: 1 | JN17: 1 | JO17: 1
E18: 12 | F18: =E18-SUM(G18:NH18)+D18 -> 4 | H18: 1 | IW18: 1 | IX18: 1 | IY18: 1 | IZ18: 1 | JA18: 1 | NA18: 1 | NH18: 1
F19: =E19-SUM(G19:NH19)+D19 -> 0
F20: =E20-SUM(G20:NH20)+D20 -> 0
F22: =E22-SUM(G22:NH22)+D22 -> 0
F24: =E24-SUM(G24:NH24)+D24 -> 0
F25: =E25-SUM(G25:NH25)+D25 -> 0
F26: =E26-SUM(G26:NH26)+D26 -> 0
F27: =E27-SUM(G27:NH27)+D27 -> 0
F28: =E28-SUM(G28:NH28)+D28 -> 0
F29: =E29-SUM(G29:NH29)+D29 -> 0
F30: =E30-SUM(G30:NH30)+D30 -> 0
F31: =E31-SUM(G31:NH31)+D31 -> 0
F32: =E32-SUM(G32:NH32)+D32 -> 0
... F45: =E45-SUM(G45:NH45)+D45 -> 0

Sheet Feiertage-Ferien
A4: Ferien/Feiertage
A10: Bezeichnung | B10: Von | C10: Bis | D10: Ferien/Feiertag
A11: Weihnachtsferien | B11: 43822 | C11: 43834 | D11: Ferien
A12: Winterferien | B12: 43885 | C12: 43889 | D12: Ferien
A13: Osterferien / Frühjahrsferien | B13: 43927 | C13: 43939 | D13: Ferien
A14: Pfingstferien | B14: 43984 | C14: 43995 | D14: Ferien
A15: Sommerferien | B15: 44039 | C15: 44081 | D15: Ferien
A16: Herbstferien | B16: 44135 | C16: 44141 | D16: Ferien
A17: Buß-und Bettag | B17: 44153 | C17: 44153 | D17: Ferien
A18: Weihnachtsferien | B18: 44188 | C18: 44205 | D18: Ferien
A20: Neujahr | B20: 43831 | C20: 43831 | D20: Feiertag
A21: Heilige Drei Könige | B21: 43836 | C21: 43836 | D21: Feiertag
A22: Karfreitag | B22: 43931 | C22: 43931 | D22: Feiertag
A23: Ostermontag | B23: 43934 | C23: 43934 | D23: Feiertag
... A32: 2. Weihnachtsfeiertag | B32: 44191 | C32: 44191 | D32: Feiertag
