Workbook

Sheet Prüfplan_Verschlüsse
B1: Prüfplan - Bender | C1: PPB - | D1: {=+INDEX([1]Übersicht_WE!$A$2:$F$111,MATCH($G$5&$B$10&$B$12,[1]Übersicht_WE!$A$2:$A$111&[1]Übersicht_WE!$B$2:$B$111&[1]Übersicht_WE!$D$2:$D$111,0),6)} -> 7419 | E1: WSP | G1: Änd.St. | H1: Datum
B2: Fertigungsauftrag | D2: WZ-Wechsel | F2: Kundenanforderung | G2: 1 | H2: 43514
B3: Farbwechsel | D3: WZ-Wartung-Rep. | F3: Maßprüfung | G3: 0 | H3: 43194
B4: Materialwechsel | D4: Parameteränderungen Prozess | G4: Verschlusstypennummer
B5: Plattenumbauten | G5: 6780
A6: Hinweise : | B6: Kritische Merkmale sind in der Fertigung zu beachten. | G6: Zeichnungsnummer
A7: * Probenbereitstellung für QS-Prüfraum (1 Schuss pro Fertigungsauftrag, Farb-/ Materialwechsel) (Anfang jedes Auftrags) Bei nötigen Sonderprüfungen durch QS 5 Schuss | G7: =HLOOKUP($G$5,'[1]Verschlüsse-Entwurf'!$E$2:$EE$118,2,0) -> QA-6780-20MM
C8: Spezifikation
A9: Produktmerkmal
A10: Haupt- Merkmal Rohstoff | B10: 100
A11: =VLOOKUP(Prüfplan_Verschlüsse!$B$10,'[1]Weiterentwicklung - WE'!$A$2:$AJ$82,2,1) -> WEG- Prüfung MB5568 BorePure MB5568 | C11: Vorgabe / Nennwert | D11: Toleranz | E11: Einheit | F11: Dokumente / Vorlagen
A12: Unter- Merkmal | B12: 390
A13: =_xlfn.IFNA(VLOOKUP(Prüfplan_Verschlüsse!$B$12,'[1]Weiterentwicklung - WE'!A4:AN82,2,1),"kein Liner") -> WEG- Prüfung Liner DF Sincera 300LB / LBM
A14: Density | C14: =VLOOKUP(Prüfplan_Verschlüsse!$B$10,'[1]Weiterentwicklung - WE'!$A$2:$AN$82,5,1) -> 953 - 958 | D14: =VLOOKUP(Prüfplan_Verschlüsse!$B$10,'[1]Weiterentwicklung - WE'!$A$2:$AN$82,6,1) -> - | E14: =VLOOKUP(Prüfplan_Verschlüsse!$B$10,'[1]Weiterentwicklung - WE'!$A$2:$AN$82,7,1) -> kg / m3 | F14: =VLOOKUP(Prüfplan_Verschlüsse!$B$10,'[1]Weiterentwicklung - WE'!$A$2:$AJ$82,8,1) -> RAW MATERIALS - SPECIFICATIONS Rev: 0 : FOR/ 0131
A15: MFI | C15: =VLOOKUP(Prüfplan_Verschlüsse!$B$10,'[1]Weiterentwicklung - WE'!$A$2:$AN$82,9,1) -> 0,65 - 0,95 | D15: =VLOOKUP(Prüfplan_Verschlüsse!$B$10,'[1]Weiterentwicklung - WE'!$A$2:$AN$82,10,1) -> - | E15: =VLOOKUP(Prüfplan_Verschlüsse!$B$10,'[1]Weiterentwicklung - WE'!$A$2:$AN$82,11,1) -> 190°C / 2,16kg | F15: =VLOOKUP(Prüfplan_Verschlüsse!$B$10,'[1]Weiterentwicklung - WE'!$A$2:$AJ$82,12,1) -> RAW MATERIALS - SPECIFICATIONS Rev: 0 : FOR/ 0131
A16: Etylene Cont | C16: =VLOOKUP(Prüfplan_Verschlüsse!$B$10,'[1]Weiterentwicklung - WE'!$A$2:$AN$82,13,1) -> - | D16: =VLOOKUP(Prüfplan_Verschlüsse!$B$10,'[1]Weiterentwicklung - WE'!$A$2:$AN$82,14,1) -> - | E16: =VLOOKUP(Prüfplan_Verschlüsse!$B$10,'[1]Weiterentwicklung - WE'!$A$2:$AN$82,15,1) -> - | F16: =VLOOKUP(Prüfplan_Verschlüsse!$B$10,'[1]Weiterentwicklung - WE'!$A$2:$AJ$82,16,1) -> -
A17: Einschlüsse im Granulat | C17: =VLOOKUP(Prüfplan_Verschlüsse!$B$10,'[1]Weiterentwicklung - WE'!$A$2:$AN$82,17,1) -> Visuell: Stichprobe 2 kg | D17: =VLOOKUP(Prüfplan_Verschlüsse!$B$10,'[1]Weiterentwicklung - WE'!$A$2:$AN$82,18,1) -> ohne | E17: =VLOOKUP(Prüfplan_Verschlüsse!$B$10,'[1]Weiterentwicklung - WE'!$A$2:$AN$82,19,1) -> - | F17: =VLOOKUP(Prüfplan_Verschlüsse!$B$10,'[1]Weiterentwicklung - WE'!$A$2:$AJ$82,20,1) -> Wareneingangsprüfung Rohmaterial AA5058 Rev 4
A18: Feuchtigkeit | C18: =VLOOKUP(Prüfplan_Verschlüsse!$B$10,'[1]Weiterentwicklung - WE'!$A$2:$AN$82,21,1) -> Visuell: Stichprobe 2 kg | D18: =VLOOKUP(Prüfplan_Verschlüsse!$B$10,'[1]Weiterentwicklung - WE'!$A$2:$AN$82,22,1) -> ohne | E18: =VLOOKUP(Prüfplan_Verschlüsse!$B$10,'[1]Weiterentwicklung - WE'!$A$2:$AN$82,23,1) -> - | F18: =VLOOKUP(Prüfplan_Verschlüsse!$B$10,'[1]Weiterentwicklung - WE'!$A$2:$AJ$82,24,1) -> Wareneingangsprüfung Rohmaterial AA5058 Rev 4
A19: Farbton | C19: =VLOOKUP(Prüfplan_Verschlüsse!$B$10,'[1]Weiterentwicklung - WE'!$A$2:$AN$82,25,1) -> - | D19: =VLOOKUP(Prüfplan_Verschlüsse!$B$10,'[1]Weiterentwicklung - WE'!$A$2:$AN$82,26,1) -> - | E19: =VLOOKUP(Prüfplan_Verschlüsse!$B$10,'[1]Weiterentwicklung - WE'!$A$2:$AN$82,27,1) -> - | F19: =VLOOKUP(Prüfplan_Verschlüsse!$B$10,'[1]Weiterentwicklung - WE'!$A$2:$AJ$82,28,1) -> Wareneingangsprüfung Rohmaterial AA5058 Rev 4
A20: Beschädigungen | C20: =VLOOKUP(Prüfplan_Verschlüsse!$B$10,'[1]Weiterentwicklung - WE'!$A$2:$AN$82,29,1) -> - | D20: =VLOOKUP(Prüfplan_Verschlüsse!$B$10,'[1]Weiterentwicklung - WE'!$A$2:$AN$82,30,1) -> - | E20: =VLOOKUP(Prüfplan_Verschlüsse!$B$10,'[1]Weiterentwicklung - WE'!$A$2:$AN$82,31,1) -> - | F20: =VLOOKUP(Prüfplan_Verschlüsse!$B$10,'[1]Weiterentwicklung - WE'!$A$2:$AJ$82,32,1) -> -
A21: Kennzeichnungen | C21: =VLOOKUP(Prüfplan_Verschlüsse!$B$10,'[1]Weiterentwicklung - WE'!$A$2:$AN$82,33,1) -> - | D21: =VLOOKUP(Prüfplan_Verschlüsse!$B$10,'[1]Weiterentwicklung - WE'!$A$2:$AN$82,34,1) -> - | E21: =VLOOKUP(Prüfplan_Verschlüsse!$B$10,'[1]Weiterentwicklung - WE'!$A$2:$AN$82,35,1) -> - | F21: =VLOOKUP(Prüfplan_Verschlüsse!$B$10,'[1]Weiterentwicklung - WE'!$A$2:$AJ$82,36,1) -> -
A22: Liefermenge | C22: =VLOOKUP(Prüfplan_Verschlüsse!$B$10,'[1]Weiterentwicklung - WE'!A2:AN82,37,1) -> Bestellung | D22: =VLOOKUP(Prüfplan_Verschlüsse!$B$10,'[1]Weiterentwicklung - WE'!A2:AN82,34,1) -> - | E22: =VLOOKUP(Prüfplan_Verschlüsse!$B$10,'[1]Weiterentwicklung - WE'!$A$2:$AN$82,35,1) -> - | F22: =VLOOKUP(Prüfplan_Verschlüsse!$B$10,'[1]Weiterentwicklung - WE'!$A$2:$AN$82,36,1) -> -
A23: 1. Erststücksprüfung | C23: Visuelle Prüfung | E23: frei von Fehlern, keine Farbabweichungen
A24: (durch Mitarbeiter Produktion)
A25: Beginn neuer Fertigungsauftrag Farbwechsel Materialwechsel WZ-Wechsel WZ-Wartung-Rep. Prozessparameteränderungen Plattenumbauten Erststückfreigabe prüfen und dokumentieren | C25: Verschlussgeometrie gemäß Kundenforderung | E25: siehe Einzelmesswerte
C27: Verschlussgewicht gemäß Kundenforderung | E27: =C61 -> 0.027 | F27: =D61 -> #N/A
C29: Garantiebandfunktion gegeben (JA/NEIN) | E29: Stege / Sollbruchstelle gerissen
C30: Stegreißkraft | E30: =C65 -> z | F30: =D65 -> #N/A
A31: 2. Probenentnahme und Bereitstellung der Rückstellmuster für QS-Prüfraum (durch Mitarbeiter Produktion)
A32: 3. Prüfungen im Prüfraum (durch hierfür qualifizierte Person): Schichtführer, Einrichter
A33: Produktmerkmal | C33: Vorgabe / Nennwert | D33: Toleranz | E33: Einheit | F33: Prüfintervall
A34: Prüfsystem / Prüfmethode
A35: Einheit
A36: Erststück dient als Referenzteil bis zum Ende des Auftrages
A37: ='[1]Verschlüsse-Entwurf'!B5 -> Wölbung/ Einzug/ Bombage | C37: =HLOOKUP($G$5,'[1]Verschlüsse-Entwurf'!$E$2:$CS$19,4,0) -> 0 | D37: =HLOOKUP($G$5,'[1]Verschlüsse-Entwurf'!$CU$2:$EE$19,4,0) -> #N/A | E37: ='[1]Verschlüsse-Entwurf'!D5 -> mm | F37: jede(r) | H37: ='[1]Verschlüsse-Entwurf'!C8 -> Farbwechsel Materialwechsel WZ-Wechsel WZ-Wartung-Rep. Prozessparameteränderungen QS Zyklusprüfung/ SWZ-Wartung
A38: Messmaschine/ Prüfmittel | B38: ='[1]Verschlüsse-Entwurf'!CS5 -> CMM taktil
A39: [ mm ]
B40: [CC]
A41: ='[1]Verschlüsse-Entwurf'!B6 -> Gewinde Durchmesser | C41: =HLOOKUP($G$5,'[1]Verschlüsse-Entwurf'!$E$2:$CS$19,5,0) -> 25.3 | D41: =HLOOKUP($G$5,'[1]Verschlüsse-Entwurf'!$CU$2:$EE$19,5,0) -> #N/A | E41: ='[1]Verschlüsse-Entwurf'!D6 -> mm | F41: jede(r) | H41: ='[1]Verschlüsse-Entwurf'!C6 -> Fertigungsauftrag Farbwechsel Materialwechsel WZ-Wechsel WZ-Wartung-Rep. Prozessparameteränderungen Plattenumbauten QS Zyklusprüfung/ SWZ-Wartung
A43: Messmaschine/ Prüfmittel | B43: ='[1]Verschlüsse-Entwurf'!CS6 -> CMM taktil
...
