Workbook

Sheet Prüfplan_Verschlüsse
B1: Prüfplan - Bender | C1: PPB - | D1: {=+INDEX([1]Übersicht_WE!$A$2:$F$111,MATCH($G$5&$B$10&$B$12,[1]Übersicht_WE!$A$2:$A$111&[1]Übersicht_WE!$B$2:$B$111&[1]Übersicht_WE!$D$2:$D$111,0),6)} -> 7419 | E1: WSP | G1: Änd.St. | H1: Datum
B2: Fertigungsauftrag | D2: WZ-Wechsel | F2: Kundenanforderung | G2: 1 | H2: 43514
B3: Farbwechsel | D3: WZ-Wartung-Rep. | F3: Maßprüfung | G3: 0 | H3: 43194
B4: Materialwechsel | D4: Parameteränderungen Prozess | G4: Verschlusstypennummer
B5: Plattenumbauten | G5: 6780
A6: Hinweise : | B6: Kritische Merkmale sind in der Fertigung zu beachten. | G6: Zeichnungsnummer
A7: * Probenbereitstellung für QS-Prüfraum (1 Schuss pro Fertigungsauftrag, Farb-/ Materialwechsel) (Anfang jedes Auftrags) Bei nötigen Sonderprüfungen durch QS 5 Schuss | G7: =HLOOKUP($G$5,'[1]Verschlüsse-Entwurf'!$E$2:$EE$118,2,0) -> QA-6780-20MM
C8: Spezifikation
A9: Produktmerkmal
A10: Haupt- Merkmal Rohstoff | B10: 100
A11: =VLOOKUP(Prüfplan_Verschlüsse!$B$10,'[1]Weiterentwicklung - WE'!$A$2:$AJ$82,2,1) -> WEG- Prüfung MB5568 BorePure MB5568 | C11: Vorgabe / Nennwert | D11: Toleranz | E11: Einheit | F11: Dokumente / Vorlagen
A12: Unter- Merkmal | B12: 390
A13: =_xlfn.IFNA(VLOOKUP(Prüfplan_Verschlüsse!$B$12,'[1]Weiterentwicklung - WE'!A4:AN82,2,1),"kein Liner") -> WEG- Prüfung Liner DF Sincera 300LB / LBM
A14: Density | C14: =VLOOKUP(Prüfplan_Verschlüsse!$B$10,'[1]Weiterentwicklung - WE'!$A$2:$AN$82,5,1) -> 953 - 958 | D14: =VLOOKUP(Prüfplan_Verschlüsse!$B$10,'[1]Weiterentwicklung - WE'!$A$2:$AN$82,6,1) -> - | E14: =VLOOKUP(Prüfplan_Verschlüsse!$B$10,'[1]Weiterentwicklung - WE'!$A$2:$AN$82,7,1) -> kg / m3 | F14: =VLOOKUP(Prüfplan_Verschlüsse!$B$10,'[1]Weiterentwicklung - WE'!$A$2:$AJ$82,8,1) -> RAW MATERIALS - SPECIFICATIONS Rev: 0 : FOR/ 0131
A15: MFI | C15: =VLOOKUP(Prüfplan_Verschlüsse!$B$10,'[1]Weiterentwicklung - WE'!$A$2:$AN$82,9,1) -> 0,65 - 0,95 | D15: =VLOOKUP(Prüfplan_Verschlüsse!$B$10,'[1]Weiterentwicklung - WE'!$A$2:$AN$82,10,1) -> - | E15: =VLOOKUP(Prüfplan_Verschlüsse!$B$10,'[1]Weiterentwicklung - WE'!$A$2:$AN$82,11,1) -> 190°C / 2,16kg | F15: =VLOOKUP(Prüfplan_Verschlüsse!$B$10,'[1]Weiterentwicklung - WE'!$A$2:$AJ$82,12,1) -> RAW MATERIALS - SPECIFICATIONS Rev: 0 : FOR/ 0131
A16: Etylene Cont | C16: =VLOOKUP(Prüfplan_Verschlüsse!$B$10,'[1]Weiterentwicklung - WE'!$A$2:$AN$82,13,1) -> - | D16: =VLOOKUP(Prüfplan_Verschlüsse!$B$10,'[1]Weiterentwicklung - WE'!$A$2:$AN$82,14,1) -> - | E16: =VLOOKUP(Prüfplan_Verschlüsse!$B$10,'[1]Weiterentwicklung - WE'!$A$2:$AN$82,15,1) -> - | F16: =VLOOKUP(Prüfplan_Verschlüsse!$B$10,'[1]Weiterentwicklung - WE'!$A$2:$AJ$82,16,1) -> -
A17: Einschlüsse im Granulat | C17: =VLOOKUP(Prüfplan_Verschlüsse!$B$10,'[1]Weiterentwicklung - WE'!$A$2:$AN$82,17,1) -> Visuell: Stichprobe 2 kg | D17: =VLOOKUP(Prüfplan_Verschlüsse!$B$10,'[1]Weiterentwicklung - WE'!$A$2:$AN$82,18,1) -> ohne | E17: =VLOOKUP(Prüfplan_Verschlüsse!$B$10,'[1]Weiterentwicklung - WE'!$A$2:$AN$82,19,1) -> - | F17: =VLOOKUP(Prüfplan_Verschlüsse!$B$10,'[1]Weiterentwicklung - WE'!$A$2:$AJ$82,20,1) -> Wareneingangsprüfung Rohmaterial AA5058 Rev 4
A18: Feuchtigkeit | C18: =VLOOKUP(Prüfplan_Verschlüsse!$B$10,'[1]Weiterentwicklung - WE'!$A$2:$AN$82,21,1) -> Visuell: Stichprobe 2 kg | D18: =VLOOKUP(Prüfplan_Verschlüsse!$B$10,'[1]Weiterentwicklung - WE'!$A$2:$AN$82,22,1) -> ohne | E18: =VLOOKUP(Prüfplan_Verschlüsse!$B$10,'[1]Weiterentwicklung - WE'!$A$2:$AN$82,23,1) -> - | F18: =VLOOKUP(Prüfplan_Verschlüsse!$B$10,'[1]Weiterentwicklung - WE'!$A$2:$AJ$82,24,1) -> Wareneingangsprüfung Rohmaterial AA5058 Rev 4
A19: Farbton | C19: =VLOOKUP(Prüfplan_Verschlüsse!$B$10,'[1]Weiterentwicklung - WE'!$A$2:$AN$82,25,1) -> - | D19: =VLOOKUP(Prüfplan_Verschlüsse!$B$10,'[1]Weiterentwicklung - WE'!$A$2:$AN$82,26,1) -> - | E19: =VLOOKUP(Prüfplan_Verschlüsse!$B$10,'[1]Weiterentwicklung - WE'!$A$2:$AN$82,27,1) -> - | F19: =VLOOKUP(Prüfplan_Verschlüsse!$B$10,'[1]Weiterentwicklung - WE'!$A$2:$AJ$82,28,1) -> Wareneingangsprüfung Rohmaterial AA5058 Rev 4
A20: Beschädigungen | C20: =VLOOKUP(Prüfplan_Verschlüsse!$B$10,'[1]Weiterentwicklung - WE'!$A$2:$AN$82,29,1) -> - | D20: =VLOOKUP(Prüfplan_Verschlüsse!$B$10,'[1]Weiterentwicklung - WE'!$A$2:$AN$82,30,1) -> - | E20: =VLOOKUP(Prüfplan_Verschlüsse!$B$10,'[1]Weiterentwicklung - WE'!$A$2:$AN$82,31,1) -> - | F20: =VLOOKUP(Prüfplan_Verschlüsse!$B$10,'[1]Weiterentwicklung - WE'!$A$2:$AJ$82,32,1) -> -
A21: Kennzeichnungen | C21: =VLOOKUP(Prüfplan_Verschlüsse!$B$10,'[1]Weiterentwicklung - WE'!$A$2:$AN$82,33,1) -> - | D21: =VLOOKUP(Prüfplan_Verschlüsse!$B$10,'[1]Weiterentwicklung - WE'!$A$2:$AN$82,34,1) -> - | E21: =VLOOKUP(Prüfplan_Verschlüsse!$B$10,'[1]Weiterentwicklung - WE'!$A$2:$AN$82,35,1) -> - | F21: =VLOOKUP(Prüfplan_Verschlüsse!$B$10,'[1]Weiterentwicklung - WE'!$A$2:$AJ$82,36,1) -> -
A22: Liefermenge | C22: =VLOOKUP(Prüfplan_Verschlüsse!$B$10,'[1]Weiterentwicklung - WE'!A2:AN82,37,1) -> Bestellung | D22: =VLOOKUP(Prüfplan_Verschlüsse!$B$10,'[1]Weiterentwicklung - WE'!A2:AN82,34,1) -> - | E22: =VLOOKUP(Prüfplan_Verschlüsse!$B$10,'[1]Weiterentwicklung - WE'!$A$2:$AN$82,35,1) -> - | F22: =VLOOKUP(Prüfplan_Verschlüsse!$B$10,'[1]Weiterentwicklung - WE'!$A$2:$AN$82,36,1) -> -
A23: 1. Erststücksprüfung | C23: Visuelle Prüfung | E23: frei von Fehlern, keine Farbabweichungen
A24: (durch Mitarbeiter Produktion)
A25: Beginn neuer Fertigungsauftrag Farbwechsel Materialwechsel WZ-Wechsel WZ-Wartung-Rep. Prozessparameteränderungen Plattenumbauten Erststückfreigabe prüfen und dokumentieren | C25: Verschlussgeometrie gemäß Kundenforderung | E25: siehe Einzelmesswerte
C27: Verschlussgewicht gemäß Kundenforderung | E27: =C61 -> 0.027 | F27: =D61 -> #N/A
C29: Garantiebandfunktion gegeben (JA/NEIN) | E29: Stege / Sollbruchstelle gerissen
C30: Stegreißkraft | E30: =C65 -> z | F30: =D65 -> #N/A
A31: 2. Probenentnahme und Bereitstellung der Rückstellmuster für QS-Prüfraum (durch Mitarbeiter Produktion)
A32: 3. Prüfungen im Prüfraum (durch hierfür qualifizierte Person): Schichtführer, Einrichter
A33: Produktmerkmal | C33: Vorgabe / Nennwert | D33: Toleranz | E33: Einheit | F33: Prüfintervall
A34: Prüfsystem / Prüfmethode
A35: Einheit
A36: Erststück dient als Referenzteil bis zum Ende des Auftrages
A37: ='[1]Verschlüsse-Entwurf'!B5 -> Wölbung/ Einzug/ Bombage | C37: =HLOOKUP($G$5,'[1]Verschlüsse-Entwurf'!$E$2:$CS$19,4,0) -> 0 | D37: =HLOOKUP($G$5,'[1]Verschlüsse-Entwurf'!$CU$2:$EE$19,4,0) -> #N/A | E37: ='[1]Verschlüsse-Entwurf'!D5 -> mm | F37: jede(r) | H37: ='[1]Verschlüsse-Entwurf'!C8 -> Farbwechsel Materialwechsel WZ-Wechsel WZ-Wartung-Rep. Prozessparameteränderungen QS Zyklusprüfung/ SWZ-Wartung
A38: Messmaschine/ Prüfmittel | B38: ='[1]Verschlüsse-Entwurf'!CS5 -> CMM taktil
A39: [ mm ]
B40: [CC]
A41: ='[1]Verschlüsse-Entwurf'!B6 -> Gewinde Durchmesser | C41: =HLOOKUP($G$5,'[1]Verschlüsse-Entwurf'!$E$2:$CS$19,5,0) -> 25.3 | D41: =HLOOKUP($G$5,'[1]Verschlüsse-Entwurf'!$CU$2:$EE$19,5,0) -> #N/A | E41: ='[1]Verschlüsse-Entwurf'!D6 -> mm | F41: jede(r) | H41: ='[1]Verschlüsse-Entwurf'!C6 -> Fertigungsauftrag Farbwechsel Materialwechsel WZ-Wechsel WZ-Wartung-Rep. Prozessparameteränderungen Plattenumbauten QS Zyklusprüfung/ SWZ-Wartung
A43: Messmaschine/ Prüfmittel | B43: ='[1]Verschlüsse-Entwurf'!CS6 -> CMM taktil
A44: [ mm ] | B44: [DE]
A45: ='[1]Verschlüsse-Entwurf'!B7 -> Olivendurchmesser (Dichtung) | C45: =HLOOKUP($G$5,'[1]Verschlüsse-Entwurf'!$E$2:$CS$19,6,0) -> z | D45: =HLOOKUP(G5,'[1]Verschlüsse-Entwurf'!$CU$2:$EE$19,6,0) -> #N/A | E45: ='[1]Verschlüsse-Entwurf'!D7 -> mm | F45: jede(r) | H45: ='[1]Verschlüsse-Entwurf'!C7 -> Farbwechsel Materialwechsel WZ-Wechsel WZ-Wartung-Rep. Prozessparameteränderungen QS Zyklusprüfung/ SWZ-Wartung
A47: Messmaschine/ Prüfmittel | B47: ='[1]Verschlüsse-Entwurf'!CS7 -> CMM taktil
A48: [ mm ] | B48: [DS]
A49: ='[1]Verschlüsse-Entwurf'!B8 -> Gesamthöhe (einschl. Wölbung - falls vorh.) | C49: =HLOOKUP($G$5,'[1]Verschlüsse-Entwurf'!$E$2:$CS$19,7,0) -> 19.6 | D49: =HLOOKUP(G5,'[1]Verschlüsse-Entwurf'!$CU$2:$EE$19,7,0) -> #N/A | E49: ='[1]Verschlüsse-Entwurf'!D8 -> mm | F49: jede(r) | H49: ='[1]Verschlüsse-Entwurf'!C8 -> Farbwechsel Materialwechsel WZ-Wechsel WZ-Wartung-Rep. Prozessparameteränderungen QS Zyklusprüfung/ SWZ-Wartung
A51: Messmaschine/ Prüfmittel | B51: ='[1]Verschlüsse-Entwurf'!CS8 -> CMM taktil
A52: [ mm ] | B52: [H]
A53: ='[1]Verschlüsse-Entwurf'!B9 -> Wandstärke | C53: =HLOOKUP($G$5,'[1]Verschlüsse-Entwurf'!$E$2:$CS$19,8,0) -> z | D53: =HLOOKUP(G5,'[1]Verschlüsse-Entwurf'!$CU$2:$EE$19,8,0) -> #N/A | E53: ='[1]Verschlüsse-Entwurf'!D9 -> mm | F53: ='[1]Verschlüsse-Entwurf'!C9 -> 1x pro Halbjahr
A54: Messmaschine/ Prüfmittel | B54: ='[1]Verschlüsse-Entwurf'!CS9 -> CMM taktil
A55: [ mm ]
A56: (QS-Prüfraum) | B56: [WD]
A57: ='[1]Verschlüsse-Entwurf'!B10 -> Pressureblock Durchmesser | C57: =HLOOKUP($G$5,'[1]Verschlüsse-Entwurf'!$E$2:$CS$19,9,0) -> 25.9 | D57: =HLOOKUP(G5,'[1]Verschlüsse-Entwurf'!$CU$2:$EE$19,9,0) -> #N/A | E57: ='[1]Verschlüsse-Entwurf'!D10 -> mm | F57: jede(r) | H57: ='[1]Verschlüsse-Entwurf'!C10 -> Farbwechsel Materialwechsel WZ-Wechsel WZ-Wartung-Rep. Prozessparameteränderungen QS Zyklusprüfung/ SWZ-Wartung
A59: Messmaschine/ Prüfmittel | B59: ='[1]Verschlüsse-Entwurf'!CS10 -> CMM taktil
A60: [ mm ] | B60: [DP]
A61: ='[1]Verschlüsse-Entwurf'!B12 -> Produktgewicht | C61: =HLOOKUP($G$5,'[1]Verschlüsse-Entwurf'!$E$2:$CS$19,11,0) -> 0.027 | D61: =HLOOKUP(G5,'[1]Verschlüsse-Entwurf'!$CU$2:$EE$19,11,0) -> #N/A | E61: ='[1]Verschlüsse-Entwurf'!D12 -> g | F61: jede min. 10 Verschlüsse | H61: ='[1]Verschlüsse-Entwurf'!C12 -> Zyklusprüfung
A62: Messmaschine/ Prüfmittel | B62: ='[1]Verschlüsse-Entwurf'!CS12 -> Waage z 0,001
A63: [ g ]
A64: (QS-Prüfraum)
A65: ='[1]Verschlüsse-Entwurf'!B13 -> Stegreisskraft (GB-Trennung gemäß Kundenvorgabe) | C65: =HLOOKUP($G$5,'[1]Verschlüsse-Entwurf'!$E$2:$CS$19,12,0) -> z | D65: =HLOOKUP(G5,'[1]Verschlüsse-Entwurf'!$CU$2:$EE$19,12,0) -> #N/A | E65: ='[1]Verschlüsse-Entwurf'!D13 -> N | F65: jede | H65: ='[1]Verschlüsse-Entwurf'!C13 -> Farbwechsel Materialwechsel WZ-Wechsel WZ-Wartung-Rep. Prozessparameteränderungen QS Zyklusprüfung/ SWZ-Wartung
A66: Messmaschine/ Prüfmittel | B66: ='[1]Verschlüsse-Entwurf'!CS13 -> Kraftmessdose
A67: [ N ] | B67: SC-Merkmal Zyklusprüfung
A68: (QS-Prüfraum)
A69: ='[1]Verschlüsse-Entwurf'!B14 -> Faltenrockumkehrkraft | C69: =HLOOKUP($G$5,'[1]Verschlüsse-Entwurf'!$E$2:$CS$19,13,0) -> z | D69: =HLOOKUP(G5,'[1]Verschlüsse-Entwurf'!$CU$2:$EE$19,13,0) -> #N/A | E69: ='[1]Verschlüsse-Entwurf'!D14 -> N | F69: jede | H69: ='[1]Verschlüsse-Entwurf'!C14 -> Zyklusprüfung/ SWZ-Wartung
A70: Messmaschine/ Prüfmittel | B70: ='[1]Verschlüsse-Entwurf'!CS14 -> Kraftmessdose
A71: [ N ] | B71: SC-Merkmal Zyklusprüfung
A72: (QS-Prüfraum) nach 24h
A73: Messergebnisse EC | C73: 0 | E73: + 30 - 0 | F73: Prüfintervall gemäß CC, DE, DS, H, WD
A75: ='[1]Verschlüsse-Entwurf'!B19 -> Druckhaltekraft / (Dichtheit) | C75: =HLOOKUP($G$5,'[1]Verschlüsse-Entwurf'!$E$2:$CS$19,18,0) -> 0 | D75: =HLOOKUP($G$5,'[1]Verschlüsse-Entwurf'!$CU$2:$EE$19,18,0) -> #N/A | E75: ='[1]Verschlüsse-Entwurf'!D19 -> bar | F75: jede | H75: ='[1]Verschlüsse-Entwurf'!C19 -> Zyklusprüfung
A76: Messmaschine/ Prüfmittel | B76: ='[1]Verschlüsse-Entwurf'!CS19 -> DHFzPrüfgerät
A77: [ bar ]
A78: (QS-Prüfraum)
A79: Linerdicke | C79: =HLOOKUP($G$5,'[1]Verschlüsse-Entwurf'!$B$2:$CS$19,15,0) -> 0.32 | D79: =HLOOKUP($G$5,'[1]Verschlüsse-Entwurf'!$CU$2:$EE$19,15,0) -> #N/A | E79: ='[1]Verschlüsse-Entwurf'!$D$16 -> mm | F79: ='[1]Verschlüsse-Entwurf'!C16 -> 1x Jeder Liner pro Tag
A81: Messmaschine/ Prüfmittel | B81: ='[1]Verschlüsse-Entwurf'!CS16 -> Induktive Messtaster
A82: [ mm ]
A83: Liner Gewicht | C83: =HLOOKUP($G$5,'[1]Verschlüsse-Entwurf'!$B$2:$CS$19,16,0) -> 320 | D83: =HLOOKUP($G$5,'[1]Verschlüsse-Entwurf'!$CU$2:$EE$19,16,0) -> #N/A | E83: ='[1]Verschlüsse-Entwurf'!$D$17 -> g | F83: ='[1]Verschlüsse-Entwurf'!C17 -> 1x Jeder Liner pro Tag
A85: Messmaschine/ Prüfmittel | B85: ='[1]Verschlüsse-Entwurf'!CS17 -> Waage z 0,001
A86: [ g ]
A89: J. Werner / | B89: 43467 | C89: B.Feldkamp / | E89: 15.02.2019 | F89: C Aubart
A90: Erstellt/Datum | D90: Geprüft/Datum | F90: Freigegeben/Datum
