Workbook

Sheet HR_BUD_ACT
D2: FC | E2: FC | F2: FC | G2: FC | H2: FC | I2: FC | J2: FC | K2: FC | L2: FC | M2: FC | N2: FC | O2: FC
C3: YEAR | D3: MONTH
C4: 2020 | D4: 2020 | E4: 2020 | F4: 2020 | G4: 2020 | H4: 2020 | I4: 2020 | J4: 2020 | K4: 2020 | L4: 2021 | M4: 2021 | N4: 2021 | O4: 2021
A5: BRN | B5: TYP | C5: Apr | D5: Mai | E5: Jun | F5: Jul | G5: Aug | H5: Sep | I5: Okt | J5: Nov | K5: Dez | L5: Jan | M5: Feb | N5: Mrz | O5: Apr
A6: 102 | B6: (BUD) - SALARY | C6: 364359 | D6: 556429 | E6: 752929 | F6: 949310 | G6: 1140683 | H6: 1324313 | I6: 1503757 | J6: 1693166 | K6: 1874846 | L6: 2054594 | M6: 2241674 | N6: 2427806 | O6: 16883866
A7: 102 | B7: (BUD) - SV-AG SALARY | C7: 79885.711 | D7: 121997.06 | E7: 165079.68 | F7: 208136.22 | G7: 248598.75 | H7: 275071.72 | I7: 298268.6 | J7: 319478.69 | K7: 322287.9 | L7: 321094.41 | M7: 321094.41 | N7: 321094.41 | O7: 3002087.6
A8: 102 | B8: (BUD) - VACATION | C8: 687.28846 | D8: 1034.7692 | E8: 1380.9231 | F8: 1726.7308 | G8: 2072.0769 | H8: 2113.1538 | I8: 2411.1923 | J8: 2708.8269 | K8: 3006.4038 | L8: 3303.1731 | M8: 3599.3077 | N8: 3892.7308 | O8: 27936.577
A9: 102 | B9: (BUD) - X_MAS | C9: 546.0125 | D9: 822.06667 | E9: 1097.0667 | F9: 1371.7917 | G9: 1646.15 | H9: 1678.7833 | I9: 1915.5583 | J9: 2152.0125 | K9: 2388.4208 | L9: 2624.1875 | M9: 2859.45 | N9: 3092.5583 | O9: 22194.058
A10: 102 | B10: (BUD) - Bonus Retail | C10: 0 | D10: 0 | E10: 0 | F10: 0 | G10: 0 | H10: 0 | I10: 0 | J10: 0 | K10: 0 | L10: 0 | M10: 0 | N10: 0 | O10: 0
A11: 102 | B11: (BUD) - DSL | C11: 159.95 | D11: 159.95 | E11: 159.95 | F11: 159.95 | G11: 159.95 | H11: 159.95 | I11: 159.95 | J11: 159.95 | K11: 159.95 | L11: 159.95 | M11: 159.95 | N11: 159.95 | O11: 1919.4
A12: 102 | B12: (BUD) - Further Education | C12: 137.81 | D12: 137.81 | E12: 137.81 | F12: 137.81 | G12: 137.81 | H12: 137.81 | I12: 137.81 | J12: 137.81 | K12: 137.81 | L12: 137.81 | M12: 137.81 | N12: 137.81 | O12: 1653.72
A13: 102 | B13: (BUD) - Premiums Retail | C13: 0 | D13: 0 | E13: 0 | F13: 0 | G13: 0 | H13: 0 | I13: 0 | J13: 0 | K13: 0 | L13: 0 | M13: 0 | N13: 0 | O13: 0
A14: 102 | B14: (BUD) - Provision Retail | C14: 0 | D14: 0 | E14: 0 | F14: 0 | G14: 0 | H14: 0 | I14: 0 | J14: 0 | K14: 0 | L14: 0 | M14: 0 | N14: 0 | O14: 0
A15: 102 | B15: (BUD) - School cost | C15: 5142.84 | D15: 5142.84 | E15: 5142.84 | F15: 5142.84 | G15: 5142.84 | H15: 5142.84 | I15: 5142.84 | J15: 5142.84 | K15: 5142.84 | L15: 5142.84 | M15: 5142.84 | N15: 5142.84 | O15: 61714.08
A16: 102 | B16: (BUD) - Other | C16: 833.34 | D16: 833.34 | E16: 833.34 | F16: 833.34 | G16: 833.34 | H16: 833.34 | I16: 833.34 | J16: 833.34 | K16: 833.34 | L16: 833.34 | M16: 833.34 | N16: 833.34 | O16: 10000.08
A17: 102 | B17: (BUD) - OVERTIME | C17: 0 | D17: 0 | E17: 0 | F17: 0 | G17: 0 | H17: 0 | I17: 0 | J17: 0 | K17: 0 | L17: 0 | M17: 0 | N17: 0 | O17: 0
... A280: 111 | B280: (BUD) - JUBILARE | C280: 12.031667 | D280: 12.031667 | E280: 12.031667 | F280: 12.031667 | G280: 12.031667 | H280: 12.031667 | I280: 12.031667 | J280: 12.031667 | K280: 12.031667 | L280: 12.031667 | M280: 12.031667 | N280: 12.031667 | O280: 144.38
A282: Gesamt: (BUD) - SALARY | C282: 1036128 | D282: 1595625 | E282: 2158125 | F282: 2716623 | G282: 3268125 | H282: 3782202 | I282: 4315872 | J282: 4859041 | K282: 5386815 | L282: 5918609 | M282: 6448201 | N282: 6896462 | O282: 51922086
A283: Gesamt: (BUD) - SV-AG SALARY | C283: 227171.06 | D283: 349840.78 | E283: 473168.91 | F283: 595619.59 | G283: 712049.45 | H283: 785332.9 | I283: 855818.96 | J283: 916245.29 | K283: 925315.59 | L283: 924248.21 | M283: 922989.02 | N283: 911656.27 | O283: 9227898
A284: Gesamt: (BUD) - VACATION | C284: 23365.296 | D284: 35765.236 | E284: 48117.448 | F284: 60249.546 | G284: 72533.358 | H284: 82633.125 | I284: 94446.361 | J284: 106244.31 | K284: 117601.37 | L284: 129323.86 | M284: 140511.17 | N284: 147097.95 | O284: 1154439.3
A285: Gesamt: (BUD) - X_MAS | C285: 18240.842 | D285: 27903.058 | E285: 37528.058 | F285: 46978.25 | G285: 56549.213 | H285: 64385.933 | I285: 73585.783 | J285: 82773.717 | K285: 91611.438 | L285: 100739.97 | M285: 109443.58 | N285: 114493 | O285: 895476.27
A286: Gesamt: (BUD) - Bonus Retail | C286: 2859.6 | D286: 2859.6 | E286: 2859.6 | F286: 2859.6 | G286: 2859.6 | H286: 2859.6 | I286: 2859.6 | J286: 2859.6 | K286: 2859.6 | L286: 2859.6 | M286: 2859.6 | N286: 2859.6 | O286: 34315.2
A287: Gesamt: (BUD) - DSL | C287: 2349.95 | D287: 2349.95 | E287: 2349.95 | F287: 2349.95 | G287: 2349.95 | H287: 2349.95 | I287: 2349.95 | J287: 2349.95 | K287: 2349.95 | L287: 2349.95 | M287: 2349.95 | N287: 2349.95 | O287: 29999.4
A288: Gesamt: (BUD) - Further Education | C288: 137.81 | D288: 137.81 | E288: 137.81 | F288: 137.81 | G288: 137.81 | H288: 137.81 | I288: 137.81 | J288: 137.81 | K288: 137.81 | L288: 137.81 | M288: 137.81 | N288: 137.81 | O288: 1653.72
A289: Gesamt: (BUD) - Premiums Retail | C289: 11336.53 | D289: 11336.53 | E289: 11336.53 | F289: 11336.53 | G289: 11336.53 | H289: 11336.53 | I289: 11336.53 | J289: 11336.53 | K289: 11336.53 | L289: 11336.53 | M289: 11336.53 | N289: 11336.53 | O289: 158238.36
A290: Gesamt: (BUD) - Provision Retail | C290: 15736.25 | D290: 15736.25 | E290: 15736.25 | F290: 15736.25 | G290: 15736.25 | H290: 15736.25 | I290: 15736.25 | J290: 15736.25 | K290: 15736.25 | L290: 15736.25 | M290: 15736.25 | N290: 15736.25 | O290: 188835
A291: Gesamt: (BUD) - School cost | C291: 5142.84 | D291: 5142.84 | E291: 5142.84 | F291: 5142.84 | G291: 5142.84 | H291: 5142.84 | I291: 5142.84 | J291: 5142.84 | K291: 5142.84 | L291: 5142.84 | M291: 5142.84 | N291: 5142.84 | O291: 61714.08
A292: Gesamt: (BUD) - Other | C292: 833.34 | D292: 833.34 | E292: 833.34 | F292: 833.34 | G292: 833.34 | H292: 833.34 | I292: 833.34 | J292: 833.34 | K292: 833.34 | L292: 833.34 | M292: 833.34 | N292: 833.34 | O292: 10000.08
A293: Gesamt: (BUD) - OVERTIME | C293: 0 | D293: 0 | E293: 0 | F293: 0 | G293: 0 | H293: 0 | I293: 0 | J293: 0 | K293: 0 | L293: 0 | M293: 0 | N293: 0 | O293: 0
... A303: Gesamt: (BUD) - JUBILARE | C303: 2312.485 | D303: 2312.485 | E303: 2312.485 | F303: 2312.485 | G303: 2312.485 | H303: 2312.485 | I303: 2312.485 | J303: 2312.485 | K303: 2312.485 | L303: 2312.485 | M303: 2312.485 | N303: 2312.485 | O303: 27870.54

Sheet HR_BUD_ACT_LOCATION
A1: BUDGET VS ACTUAL
C2: FC | D2: FC | E2: FC | F2: FC | G2: FC | H2: FC | I2: FC | J2: FC | K2: FC | L2: FC | M2: FC | N2: FC | O2: TOTAL
C3: YEAR | D3: MONTH
C4: 2020 | D4: 2020 | E4: 2020 | F4: 2020 | G4: 2020 | H4: 2020 | I4: 2020 | J4: 2020 | K4: 2020 | L4: 2021 | M4: 2021 | N4: 2021 | O4: 2021
A5: BRN | B5: TYP | C5: Apr | D5: Mai | E5: Jun | F5: Jul | G5: Aug | H5: Sep | I5: Okt | J5: Nov | K5: Dez | L5: Jan | M5: Feb | N5: Mrz | O5: Apr
A6: 102 | B6: (BUD) - FTE | C6: 255.10256 | D6: 253.5641 | E6: 253.5641 | F6: 253.5641 | G6: 252.5641 | H6: 251.05128 | I6: 249.66667 | J6: 249.66667 | K6: 248.66667 | L6: 248.15385 | M6: 248.15385 | N6: 248.15385 | O6: 255.10256
A7: 102 | B7: (BUD) - SALARY | C7: 364359 | D7: 556429 | E7: 752929 | F7: 949310 | G7: 1140683 | H7: 1324313 | I7: 1503757 | J7: 1693166 | K7: 1874846 | L7: 2054594 | M7: 2241674 | N7: 2427806 | O7: 16883866
A8: 102 | B8: (BUD) - SV-AG SALARY | C8: 79885.711 | D8: 121997.06 | E8: 165079.68 | F8: 208136.22 | G8: 248598.75 | H8: 275071.72 | I8: 298268.6 | J8: 319478.69 | K8: 322287.9 | L8: 321094.41 | M8: 321094.41 | N8: 321094.41 | O8: 3002087.6
A9: 102 | B9: (BUD) - VACATION | C9: 687.28846 | D9: 1034.7692 | E9: 1380.9231 | F9: 1726.7308 | G9: 2072.0769 | H9: 2113.1538 | I9: 2411.1923 | J9: 2708.8269 | K9: 3006.4038 | L9: 3303.1731 | M9: 3599.3077 | N9: 3892.7308 | O9: 27936.577
A10: 102 | B10: (BUD) - X_MAS | C10: 546.0125 | D10: 822.06667 | E10: 1097.0667 | F10: 1371.7917 | G10: 1646.15 | H10: 1678.7833 | I10: 1915.5583 | J10: 2152.0125 | K10: 2388.4208 | L10: 2624.1875 | M10: 2859.45 | N10: 3092.5583 | O10: 22194.058
A11: 102 | B11: (BUD) - Bonus Retail | C11: 0 | D11: 0 | E11: 0 | F11: 0 | G11: 0 | H11: 0 | I11: 0 | J11: 0 | K11: 0 | L11: 0 | M11: 0 | N11: 0 | O11: 0
A12: 102 | B12: (BUD) - DSL | C12: 159.95 | D12: 159.95 | E12: 159.95 | F12: 159.95 | G12: 159.95 | H12: 159.95 | I12: 159.95 | J12: 159.95 | K12: 159.95 | L12: 159.95 | M12: 159.95 | N12: 159.95 | O12: 1919.4
A13: 102 | B13: (BUD) - Further Education | C13: 137.81 | D13: 137.81 | E13: 137.81 | F13: 137.81 | G13: 137.81 | H13: 137.81 | I13: 137.81 | J13: 137.81 | K13: 137.81 | L13: 137.81 | M13: 137.81 | N13: 137.81 | O13: 1653.72
A14: 102 | B14: (BUD) - Premiums Retail | C14: 0 | D14: 0 | E14: 0 | F14: 0 | G14: 0 | H14: 0 | I14: 0 | J14: 0 | K14: 0 | L14: 0 | M14: 0 | N14: 0 | O14: 0
A15: 102 | B15: (BUD) - Provision Retail | C15: 0 | D15: 0 | E15: 0 | F15: 0 | G15: 0 | H15: 0 | I15: 0 | J15: 0 | K15: 0 | L15: 0 | M15: 0 | N15: 0 | O15: 0
A16: 102 | B16: (BUD) - School cost | C16: 5142.84 | D16: 5142.84 | E16: 5142.84 | F16: 5142.84 | G16: 5142.84 | H16: 5142.84 | I16: 5142.84 | J16: 5142.84 | K16: 5142.84 | L16: 5142.84 | M16: 5142.84 | N16: 5142.84 | O16: 61714.08
A17: 102 | B17: (BUD) - Other | C17: 833.34 | D17: 833.34 | E17: 833.34 | F17: 833.34 | G17: 833.34 | H17: 833.34 | I17: 833.34 | J17: 833.34 | K17: 833.34 | L17: 833.34 | M17: 833.34 | N17: 833.34 | O17: 10000.08
... A292: 111 | B292: (BUD) - JUBILARE | C292: 12.031667 | D292: 12.031667 | E292: 12.031667 | F292: 12.031667 | G292: 12.031667 | H292: 12.031667 | I292: 12.031667 | J292: 12.031667 | K292: 12.031667 | L292: 12.031667 | M292: 12.031667 | N292: 12.031667 | O292: 144.38
A294: Gesamt: (BUD) - FTE | C294: 704.66667 | D294: 703.12821 | E294: 703.12821 | F294: 702.12821 | G294: 700.12821 | H294: 692.61538 | I294: 691.23077 | J294: 691.23077 | K294: 689.23077 | L294: 688.71795 | M294: 687.71795 | N294: 678.71795 | O294: 704.66667
A295: Gesamt: (BUD) - SALARY | C295: 1036128 | D295: 1595625 | E295: 2158125 | F295: 2716623 | G295: 3268125 | H295: 3782202 | I295: 4315872 | J295: 4859041 | K295: 5386815 | L295: 5918609 | M295: 6448201 | N295: 6896462 | O295: 51922086
A296: Gesamt: (BUD) - SV-AG SALARY | C296: 227171.06 | D296: 349840.78 | E296: 473168.91 | F296: 595619.59 | G296: 712049.45 | H296: 785332.9 | I296: 855818.96 | J296: 916245.29 | K296: 925315.59 | L296: 924248.21 | M296: 922989.02 | N296: 911656.27 | O296: 9227898
A297: Gesamt: (BUD) - VACATION | C297: 23365.296 | D297: 35765.236 | E297: 48117.448 | F297: 60249.546 | G297: 72533.358 | H297: 82633.125 | I297: 94446.361 | J297: 106244.31 | K297: 117601.37 | L297: 129323.86 | M297: 140511.17 | N297: 147097.95 | O297: 1154439.3
A298: Gesamt: (BUD) - X_MAS | C298: 18240.842 | D298: 27903.058 | E298: 37528.058 | F298: 46978.25 | G298: 56549.213 | H298: 64385.933 | I298: 73585.783 | J298: 82773.717 | K298: 91611.438 | L298: 100739.97 | M298: 109443.58 | N298: 114493 | O298: 895476.27
A299: Gesamt: (BUD) - Bonus Retail | C299: 2859.6 | D299: 2859.6 | E299: 2859.6 | F299: 2859.6 | G299: 2859.6 | H299: 2859.6 | I299: 2859.6 | J299: 2859.6 | K299: 2859.6 | L299: 2859.6 | M299: 2859.6 | N299: 2859.6 | O299: 34315.2
A300: Gesamt: (BUD) - DSL | C300: 2349.95 | D300: 2349.95 | E300: 2349.95 | F300: 2349.95 | G300: 2349.95 | H300: 2349.95 | I300: 2349.95 | J300: 2349.95 | K300: 2349.95 | L300: 2349.95 | M300: 2349.95 | N300: 2349.95 | O300: 29999.4
A301: Gesamt: (BUD) - Further Education | C301: 137.81 | D301: 137.81 | E301: 137.81 | F301: 137.81 | G301: 137.81 | H301: 137.81 | I301: 137.81 | J301: 137.81 | K301: 137.81 | L301: 137.81 | M301: 137.81 | N301: 137.81 | O301: 1653.72
A302: Gesamt: (BUD) - Premiums Retail | C302: 11336.53 | D302: 11336.53 | E302: 11336.53 | F302: 11336.53 | G302: 11336.53 | H302: 11336.53 | I302: 11336.53 | J302: 11336.53 | K302: 11336.53 | L302: 11336.53 | M302: 11336.53 | N302: 11336.53 | O302: 158238.36
A303: Gesamt: (BUD) - Provision Retail | C303: 15736.25 | D303: 15736.25 | E303: 15736.25 | F303: 15736.25 | G303: 15736.25 | H303: 15736.25 | I303: 15736.25 | J303: 15736.25 | K303: 15736.25 | L303: 15736.25 | M303: 15736.25 | N303: 15736.25 | O303: 188835
A304: Gesamt: (BUD) - School cost | C304: 5142.84 | D304: 5142.84 | E304: 5142.84 | F304: 5142.84 | G304: 5142.84 | H304: 5142.84 | I304: 5142.84 | J304: 5142.84 | K304: 5142.84 | L304: 5142.84 | M304: 5142.84 | N304: 5142.84 | O304: 61714.08
A305: Gesamt: (BUD) - Other | C305: 833.34 | D305: 833.34 | E305: 833.34 | F305: 833.34 | G305: 833.34 | H305: 833.34 | I305: 833.34 | J305: 833.34 | K305: 833.34 | L305: 833.34 | M305: 833.34 | N305: 833.34 | O305: 10000.08
... A316: Gesamt: (BUD) - JUBILARE | C316: 2312.485 | D316: 2312.485 | E316: 2312.485 | F316: 2312.485 | G316: 2312.485 | H316: 2312.485 | I316: 2312.485 | J316: 2312.485 | K316: 2312.485 | L316: 2312.485 | M316: 2312.485 | N316: 2312.485 | O316: 27870.54

Sheet DBASE
A1: Stamm | B1: Stamm | C1: Stamm | D1: Stamm | E1: Stamm | F1: Stamm | G1: Stamm | H1: Stamm | I1: Stamm | J1: Stamm | K1: Stamm | L1: Stamm | M1: Stamm | N1: Stamm | O1: Stamm | P1: Stamm | Q1: Stamm | R1: Stamm | S1: Stamm | T1: Stamm | U1: Stamm | V1: Stamm | W1: Stamm | X1: Stamm | Y1: Stamm | Z1: Stamm
A2: Persnnr. | B2: Aktiv o. Inaktiv | C2: Kostentyp P = Personal | D2: Name | E2: gesplittet auf zwei Kostenstellen | F2: Finanz- kostenstelle | G2: Personal- kostenstelle | H2: Niederlassung Nr. | I2: Niederlassung Bezeichnung | J2: Abteilung | K2: Vorgesetzer | L2: Angest.- Level | M2: Vertrag Ang. = Angestellt | N2: Geschlecht | O2: Eintritt | P2: Austritt | Q2: unbenutzt aktuell | R2: Betriebs-zugeh. | S2: Geboren am | T2: Alter | U2: Bekommt er Weihnachts- und Urlaubsgeld | V2: Jahres-urlaubsanspruch | W2: Urlaubsanspr. pro Monat | X2: Wochenstd. für FTE | Y2: Fuktion | Z2: FTE Faktor
A3: PERSNO | B3: STATUS | C3: COSTTYPE | D3: NAME | E3: SPLIT | F3: FIBU | G3: PCC | H3: BRNO | I3: BRNA | J3: DEPARTMENT | K3: SV | L3: LEVEL | M3: Contract | N3: GENDER | O3: ENTRY | P3: LEAVE | Q3: LSET | R3: SEN | S3: BIRTH | T3: AGE | U3: VX | V3: VACY | W3: VACM | X3: WT | Y3: FUNCTION | Z3: FTE (FC)
A4: 1 | B4: Active | C4: P | D4: Mitarbeiter 1 | E4: N | F4: 1047 | G4: 1090 | H4: 102 | I4: Niederl. 3 | J4: Department | K4: Supervisor | L4: Manager | M4: ang. | N4: W | O4: 31472 | P4: 44104 | R4: =DATEDIF(O4,IF(P4="",TODAY(),P4),"y") -> 34 | S4: 23632 | T4: =DATEDIF(S4,TODAY(),"Y") -> 55 | U4: N | V4: 30 | W4: =V4/12 -> 2.5 | X4: 39 | Y4: Function | Z4: =IF(E4="Y",(X4/39)/2,(X4/39)) -> 1
A5: 2 | B5: Active | C5: P | D5: Mitarbeiter 2 | E5: N | F5: 1017 | G5: 1017 | H5: 100 | I5: Niederl. 1 | J5: Department | K5: Supervisor | L5: Manager | M5: ang. | N5: M | O5: 31552 | R5: =DATEDIF(O5,IF(P5="",TODAY(),P5),"y") -> 33 | S5: 20340 | T5: =DATEDIF(S5,TODAY(),"Y") -> 64 | U5: N | V5: 30 | W5: =V5/12 -> 2.5 | X5: 39 | Y5: Function | Z5: =IF(E5="Y",(X5/39)/2,(X5/39)) -> 1
A6: 3 | B6: Active | C6: P | D6: Mitarbeiter 3 | E6: N | F6: 1010 | G6: 1010 | H6: 100 | I6: Niederl. 1 | J6: Department | K6: Supervisor | L6: Manager | M6: ang. | N6: M | O6: 31565 | R6: =DATEDIF(O6,IF(P6="",TODAY(),P6),"y") -> 33 | S6: 23591 | T6: =DATEDIF(S6,TODAY(),"Y") -> 55 | U6: N | V6: 30 | W6: =V6/12 -> 2.5 | X6: 39 | Y6: Function | Z6: =IF(E6="Y",(X6/39)/2,(X6/39)) -> 1
A7: 4 | B7: Active | C7: P | D7: Mitarbeiter 4 | E7: N | F7: 1011 | G7: 1011 | H7: 100 | I7: Niederl. 1 | J7: Department | K7: Supervisor | L7: Supervisor | M7: ang. | N7: W | O7: 31809 | R7: =DATEDIF(O7,IF(P7="",TODAY(),P7),"y") -> 32 | S7: 24157 | T7: =DATEDIF(S7,TODAY(),"Y") -> 53 | U7: N | V7: 24 | W7: =V7/12 -> 2 | X7: 20 | Y7: Function | Z7: =IF(E7="Y",(X7/39)/2,(X7/39)) -> 0.51282051
A8: 5 | B8: Active | C8: P | D8: Mitarbeiter 5 | E8: N | F8: 1013 | G8: 1013 | H8: 100 | I8: Niederl. 1 | J8: Department | K8: Supervisor | L8: Manager | M8: ang. | N8: M | O8: 32417 | R8: =DATEDIF(O8,IF(P8="",TODAY(),P8),"y") -> 31 | S8: 19821 | T8: =DATEDIF(S8,TODAY(),"Y") -> 65 | U8: N | V8: 30 | W8: =V8/12 -> 2.5 | X8: 39 | Y8: Function | Z8: =IF(E8="Y",(X8/39)/2,(X8/39)) -> 1
A9: 6 | B9: Active | C9: P | D9: Mitarbeiter 6 | E9: N | F9: 1050 | G9: 1093 | H9: 100 | I9: Niederl. 1 | J9: Department | K9: Supervisor | L9: Manager | M9: ang. | N9: M | O9: 32568 | R9: =DATEDIF(O9,IF(P9="",TODAY(),P9),"y") -> 30 | S9: 23310 | T9: =DATEDIF(S9,TODAY(),"Y") -> 56 | U9: N | V9: 30 | W9: =V9/12 -> 2.5 | X9: 39 | Y9: Function | Z9: =IF(E9="Y",(X9/39)/2,(X9/39)) -> 1
A10: 7 | B10: Active | C10: P | D10: Mitarbeiter 7 | E10: N | F10: 1050 | G10: 1093 | H10: 100 | I10: Niederl. 1 | J10: Department | K10: Supervisor | L10: Non-Mgm. | M10: ang. | N10: W | O10: 35309 | R10: =DATEDIF(O10,IF(P10="",TODAY(),P10),"y") -> 23 | S10: 29181 | T10: =DATEDIF(S10,TODAY(),"Y") -> 40 | U10: N | V10: 30 | W10: =V10/12 -> 2.5 | X10: 22 | Y10: Function | Z10: =IF(E10="Y",(X10/39)/2,(X10/39)) -> 0.56410256
A11: 8 | B11: Active | C11: P | D11: Mitarbeiter 8 | E11: N | F11: 1011 | G11: 1011 | H11: 100 | I11: Niederl. 1 | J11: Department | K11: Supervisor | L11: Non-Mgm. | M11: ang. | N11: W | O11: 37135 | R11: =DATEDIF(O11,IF(P11="",TODAY(),P11),"y") -> 18 | S11: 31136 | T11: =DATEDIF(S11,TODAY(),"Y") -> 34 | U11: N | V11: 0 | W11: =V11/12 -> 0 | X11: 8 | Y11: Function | Z11: =IF(E11="Y",(X11/39)/2,(X11/39)) -> 0.20512821
A12: 9 | B12: Active | C12: P | D12: Mitarbeiter 9 | E12: N | F12: 1014 | G12: 1014 | H12: 100 | I12: Niederl. 1 | J12: Department | K12: Supervisor | L12: Non-Mgm. | M12: ang. | N12: W | O12: 37865 | R12: =DATEDIF(O12,IF(P12="",TODAY(),P12),"y") -> 16 | S12: 31640 | T12: =DATEDIF(S12,TODAY(),"Y") -> 33 | U12: N | V12: 30 | W12: =V12/12 -> 2.5 | X12: 20 | Y12: Function | Z12: =IF(E12="Y",(X12/39)/2,(X12/39)) -> 0.51282051
A13: 10 | B13: Active | C13: P | D13: Mitarbeiter 10 | E13: N | F13: 1013 | G13: 1013 | H13: 100 | I13: Niederl. 1 | J13: Department | K13: Supervisor | L13: Non-Mgm. | M13: ang. | N13: M | O13: 37865 | R13: =DATEDIF(O13,IF(P13="",TODAY(),P13),"y") -> 16 | S13: 31792 | T13: =DATEDIF(S13,TODAY(),"Y") -> 33 | U13: N | V13: 30 | W13: =V13/12 -> 2.5 | X13: 39 | Y13: Function | Z13: =IF(E13="Y",(X13/39)/2,(X13/39)) -> 1
A14: 11 | B14: Active | C14: P | D14: Mitarbeiter 11 | E14: N | F14: 1010 | G14: 1010 | H14: 100 | I14: Niederl. 1 | J14: Department | K14: Supervisor | L14: Non-Mgm. | M14: ang. | N14: W | O14: 38231 | R14: =DATEDIF(O14,IF(P14="",TODAY(),P14),"y") -> 15 | S14: 31437 | T14: =DATEDIF(S14,TODAY(),"Y") -> 33 | U14: N | V14: 12 | W14: =V14/12 -> 1 | X14: 16 | Y14: Function | Z14: =IF(E14="Y",(X14/39)/2,(X14/39)) -> 0.41025641
A15: 12 | B15: Active | C15: P | D15: Mitarbeiter 12 | E15: N | F15: 1011 | G15: 1011 | H15: 100 | I15: Niederl. 1 | J15: Department | K15: Supervisor | L15: Non-Mgm. | M15: ang. | N15: W | O15: 38231 | R15: =DATEDIF(O15,IF(P15="",TODAY(),P15),"y") -> 15 | S15: 32172 | T15: =DATEDIF(S15,TODAY(),"Y") -> 31 | U15: N | V15: 30 | W15: =V15/12 -> 2.5 | X15: 39 | Y15: Function | Z15: =IF(E15="Y",(X15/39)/2,(X15/39)) -> 1
A16: 13 | B16: Active | C16: P | D16: Mitarbeiter 13 | E16: N | F16: 1050 | G16: 1093 | H16: 100 | I16: Niederl. 1 | J16: Department | K16: Supervisor | L16: Manager | M16: ang. | N16: M | O16: 38078 | R16: =DATEDIF(O16,IF(P16="",TODAY(),P16),"y") -> 15 | S16: 29285 | T16: =DATEDIF(S16,TODAY(),"Y") -> 39 | U16: N | V16: 30 | W16: =V16/12 -> 2.5 | X16: 39 | Y16: Function | Z16: =IF(E16="Y",(X16/39)/2,(X16/39)) -> 1
... A408: 390 | B408: Active | C408: P | D408: Mitarbeiter 390 | E408: N | F408: 1044 | G408: 1087 | H408: 102 | I408: Niederl. 3 | J408: Department | K408: Supervisor | L408: Non-Mgm. | M408: ang. | N408: M | O408: 42583 | R408: =DATEDIF(O408,IF(P408="",TODAY(),P408),"y") -> 3 | S408: 30283 | T408: =DATEDIF(S408,TODAY(),"Y") -> 37 | U408: N | V408: 30 | W408: =V408/12 -> 2.5 | X408: 39 | Y408: Function | Z408: =IF(E408="Y",(X408/39)/2,(X408/39)) -> 1
A409: 391 | B409: Active | C409: P | D409: Mitarbeiter 391 | E409: N | F409: 1020 | G409: 1039 | H409: 105 | I409: Niederl. 6 | J409: Department | K409: Supervisor | L409: Non-Mgm. | M409: ang. | N409: W | O409: 43630 | P409: 43995 | R409: =DATEDIF(O409,IF(P409="",TODAY(),P409),"y") -> 0 | S409: 35168 | T409: =DATEDIF(S409,TODAY(),"Y") -> 23 | U409: J | V409: 30 | W409: =V409/12 -> 2.5 | X409: 39 | Y409: Function | Z409: =IF(E409="Y",(X409/39)/2,(X409/39)) -> 1
A410: 392 | B410: Active | C410: P | D410: Mitarbeiter 392 | E410: N | F410: 1022 | G410: 1041 | H410: 105 | I410: Niederl. 6 | J410: Department | K410: Supervisor | L410: Non-Mgm. | M410: ang. | N410: M | O410: 42583 | R410: =DATEDIF(O410,IF(P410="",TODAY(),P410),"y") -> 3 | S410: 24944 | T410: =DATEDIF(S410,TODAY(),"Y") -> 51 | U410: J | V410: 30 | W410: =V410/12 -> 2.5 | X410: 39 | Y410: Function | Z410: =IF(E410="Y",(X410/39)/2,(X410/39)) -> 1
A411: 393 | B411: Active | C411: P | D411: Mitarbeiter 393 | E411: N | F411: 1026 | G411: 1069 | H411: 102 | I411: Niederl. 3 | J411: Department | K411: Supervisor | L411: Non-Mgm. | M411: ang. | N411: M | O411: 42583 | R411: =DATEDIF(O411,IF(P411="",TODAY(),P411),"y") -> 3 | S411: 30583 | T411: =DATEDIF(S411,TODAY(),"Y") -> 36 | U411: N | V411: 30 | W411: =V411/12 -> 2.5 | X411: 39 | Y411: Function | Z411: =IF(E411="Y",(X411/39)/2,(X411/39)) -> 1
A412: 394 | B412: Active | C412: P | D412: Mitarbeiter 394 | E412: N | F412: 1024 | G412: 1054 | H412: 101 | I412: Niederl. 2 | J412: Department | K412: Supervisor | L412: Non-Mgm. | M412: ang. | N412: M | O412: 42583 | R412: =DATEDIF(O412,IF(P412="",TODAY(),P412),"y") -> 3 | S412: 32524 | T412: =DATEDIF(S412,TODAY(),"Y") -> 31 | U412: N | V412: 30 | W412: =V412/12 -> 2.5 | X412: 39 | Y412: Function | Z412: =IF(E412="Y",(X412/39)/2,(X412/39)) -> 1
A413: 395 | B413: Active | C413: P | D413: Mitarbeiter 395 | E413: N | F413: 1022 | G413: 1029 | H413: 109 | I413: Niederl. 10 | J413: Department | K413: Supervisor | L413: Non-Mgm. | M413: ang. | N413: M | O413: 42583 | R413: =DATEDIF(O413,IF(P413="",TODAY(),P413),"y") -> 3 | S413: 30114 | T413: =DATEDIF(S413,TODAY(),"Y") -> 37 | U413: J | V413: 35 | W413: =V413/12 -> 2.9166667 | X413: 39 | Y413: Function | Z413: =IF(E413="Y",(X413/39)/2,(X413/39)) -> 1
A414: 396 | B414: Active | C414: P | D414: Mitarbeiter 396 | E414: N | F414: 1026 | G414: 1069 | H414: 102 | I414: Niederl. 3 | J414: Department | K414: Supervisor | L414: Non-Mgm. | M414: ang. | N414: W | O414: 42583 | R414: =DATEDIF(O414,IF(P414="",TODAY(),P414),"y") -> 3 | S414: 29689 | T414: =DATEDIF(S414,TODAY(),"Y") -> 38 | U414: N | V414: 30 | W414: =V414/12 -> 2.5 | X414: 39 | Y414: Function | Z414: =IF(E414="Y",(X414/39)/2,(X414/39)) -> 1
A415: 397 | B415: Active | C415: P | D415: Mitarbeiter 397 | E415: N | F415: 1022 | G415: 1047 | H415: 103 | I415: Niederl. 4 | J415: Department | K415: Supervisor | L415: Non-Mgm. | M415: ang. | N415: M | O415: 42614 | R415: =DATEDIF(O415,IF(P415="",TODAY(),P415),"y") -> 3 | S415: 34178 | T415: =DATEDIF(S415,TODAY(),"Y") -> 26 | U415: J | V415: 30 | W415: =V415/12 -> 2.5 | X415: 39 | Y415: Function | Z415: =IF(E415="Y",(X415/39)/2,(X415/39)) -> 1
A416: 398 | B416: Active | C416: P | D416: Mitarbeiter 398 | E416: N | F416: 1021 | G416: 1040 | H416: 105 | I416: Niederl. 6 | J416: Department | K416: Supervisor | L416: Non-Mgm. | M416: ang. | N416: M | O416: 42614 | R416: =DATEDIF(O416,IF(P416="",TODAY(),P416),"y") -> 3 | S416: 30032 | T416: =DATEDIF(S416,TODAY(),"Y") -> 37 | U416: J | V416: 30 | W416: =V416/12 -> 2.5 | X416: 39 | Y416: Function | Z416: =IF(E416="Y",(X416/39)/2,(X416/39)) -> 1
A417: 399 | B417: Active | C417: P | D417: Mitarbeiter 399 | E417: N | F417: 1025 | G417: 1068 | H417: 102 | I417: Niederl. 3 | J417: Department | K417: Supervisor | L417: Non-Mgm. | M417: ang. | N417: W | O417: 42614 | R417: =DATEDIF(O417,IF(P417="",TODAY(),P417),"y") -> 3 | S417: 29909 | T417: =DATEDIF(S417,TODAY(),"Y") -> 38 | U417: N | V417: 30 | W417: =V417/12 -> 2.5 | X417: 39 | Y417: Function | Z417: =IF(E417="Y",(X417/39)/2,(X417/39)) -> 1
A418: 400 | B418: Active | C418: P | D418: Mitarbeiter 400 | E418: Y | F418: 1023 | G418: 1020 | H418: 108 | I418: Niederl. 9 | J418: Department | K418: Supervisor | L418: Non-Mgm. | M418: ang. | N418: M | O418: 43629 | R418: =DATEDIF(O418,IF(P418="",TODAY(),P418),"y") -> 0 | S418: 35283 | T418: =DATEDIF(S418,TODAY(),"Y") -> 23 | U418: J | V418: 30 | W418: =V418/12 -> 2.5 | X418: 39 | Y418: Function | Z418: =IF(E418="Y",(X418/39)/2,(X418/39)) -> 0.5
A419: 400 | B419: Active | C419: P | D419: Mitarbeiter 400 | E419: Y | F419: 1023 | G419: 1026 | H419: 109 | I419: Niederl. 10 | J419: Department | K419: Supervisor | L419: Non-Mgm. | M419: ang. | N419: M | O419: 43629 | R419: =DATEDIF(O419,IF(P419="",TODAY(),P419),"y") -> 0 | S419: 35283 | T419: =DATEDIF(S419,TODAY(),"Y") -> 23 | U419: J | V419: 30 | W419: =V419/12 -> 2.5 | X419: 39 | Y419: Function | Z419: =IF(E419="Y",(X419/39)/2,(X419/39)) -> 0.5
A420: 401 | B420: Active | C420: P | D420: Mitarbeiter 401 | E420: N | F420: 1010 | G420: 1010 | H420: 100 | I420: Niederl. 1 | J420: Department | K420: Supervisor | L420: Non-Mgm. | M420: ang. | N420: M | O420: 42614 | R420: =DATEDIF(O420,IF(P420="",TODAY(),P420),"y") -> 3 | S420: 36424 | T420: =DATEDIF(S420,TODAY(),"Y") -> 20 | U420: N | V420: 30 | W420: =V420/12 -> 2.5 | X420: 39 | Y420: Function | Z420: =IF(E420="Y",(X420/39)/2,(X420/39)) -> 1
A421: 402 | B421: Active | C421: P | D421: Mitarbeiter 402 | E421: N | F421: 1000 | G421: 1000 | H421: 100 | I421: Niederl. 1 | J421: Department | K421: Supervisor | L421: Non-Mgm. | M421: ang. | N421: W | O421: 42614 | P421: 44043 | R421: =DATEDIF(O421,IF(P421="",TODAY(),P421),"y") -> 3 | S421: 36492 | T421: =DATEDIF(S421,TODAY(),"Y") -> 20 | U421: N | V421: 30 | W421: =V421/12 -> 2.5 | X421: 39 | Y421: Function | Z421: =IF(E421="Y",(X421/39)/2,(X421/39)) -> 1
A422: 403 | B422: Active | C422: P | D422: Mitarbeiter 403 | E422: N | F422: 1040 | G422: 1083 | H422: 102 | I422: Niederl. 3 | J422: Department | K422: Supervisor | L422: Non-Mgm. | M422: ang. | N422: M | O422: 42614 | R422: =DATEDIF(O422,IF(P422="",TODAY(),P422),"y") -> 3 | S422: 32460 | T422: =DATEDIF(S422,TODAY(),"Y") -> 31 | U422: N | V422: 30 | W422: =V422/12 -> 2.5 | X422: 39 | Y422: Function | Z422: =IF(E422="Y",(X422/39)/2,(X422/39)) -> 1
A423: 404 | B423: Active | C423: P | D423: Mitarbeiter 404 | E423: N | F423: 1050 | G423: 1093 | H423: 102 | I423: Niederl. 3 | J423: Department | K423: Supervisor | L423: Non-Mgm. | M423: ang. | N423: M | O423: 42614 | R423: =DATEDIF(O423,IF(P423="",TODAY(),P423),"y") -> 3 | S423: 34401 | T423: =DATEDIF(S423,TODAY(),"Y") -> 25 | U423: N | V423: 30 | W423: =V423/12 -> 2.5 | X423: 39 | Y423: Function | Z423: =IF(E423="Y",(X423/39)/2,(X423/39)) -> 1
A424: 405 | B424: Active | C424: P | D424: Mitarbeiter 405 | E424: N | F424: 1040 | G424: 1083 | H424: 102 | I424: Niederl. 3 | J424: Department | K424: Supervisor | L424: Non-Mgm. | M424: ang. | N424: M | O424: 42628 | R424: =DATEDIF(O424,IF(P424="",TODAY(),P424),"y") -> 3 | S424: 32147 | T424: =DATEDIF(S424,TODAY(),"Y") -> 32 | U424: N | V424: 30 | W424: =V424/12 -> 2.5 | X424: 39 | Y424: Function | Z424: =IF(E424="Y",(X424/39)/2,(X424/39)) -> 1
A425: 406 | B425: Active | C425: P | D425: Mitarbeiter 406 | E425: N | F425: 1027 | G425: 1070 | H425: 102 | I425: Niederl. 3 | J425: Department | K425: Supervisor | L425: Non-Mgm. | M425: ang. | N425: W | O425: 42625 | R425: =DATEDIF(O425,IF(P425="",TODAY(),P425),"y") -> 3 | S425: 30300 | T425: =DATEDIF(S425,TODAY(),"Y") -> 37 | U425: N | V425: 30 | W425: =V425/12 -> 2.5 | X425: 39 | Y425: Function | Z425: =IF(E425="Y",(X425/39)/2,(X425/39)) -> 1
A426: 407 | B426: Active | C426: P | D426: Mitarbeiter 407 | E426: N | F426: 1050 | G426: 1093 | H426: 102 | I426: Niederl. 3 | J426: Department | K426: Supervisor | L426: Manager | M426: ang. | N426: M | O426: 42614 | R426: =DATEDIF(O426,IF(P426="",TODAY(),P426),"y") -> 3 | S426: 29394 | T426: =DATEDIF(S426,TODAY(),"Y") -> 39 | U426: N | V426: 30 | W426: =V426/12 -> 2.5 | X426: 39 | Y426: Function | Z426: =IF(E426="Y",(X426/39)/2,(X426/39)) -> 1
A427: 408 | B427: Active | C427: P | D427: Mitarbeiter 408 | E427: N | F427: 1045 | G427: 1088 | H427: 102 | I427: Niederl. 3 | J427: Department | K427: Supervisor | L427: Director | M427: ang. | N427: M | O427: 42644 | R427: =DATEDIF(O427,IF(P427="",TODAY(),P427),"y") -> 3 | S427: 25311 | T427: =DATEDIF(S427,TODAY(),"Y") -> 50 | U427: N | V427: 30 | W427: =V427/12 -> 2.5 | X427: 39 | Y427: Function | Z427: =IF(E427="Y",(X427/39)/2,(X427/39)) -> 1
A428: 409 | B428: Active | C428: P | D428: Mitarbeiter 409 | E428: N | F428: 1022 | G428: 1029 | H428: 109 | I428: Niederl. 10 | J428: Department | K428: Supervisor | L428: Non-Mgm. | M428: ang. | N428: M | O428: 42644 | R428: =DATEDIF(O428,IF(P428="",TODAY(),P428),"y") -> 3 | S428: 25619 | T428: =DATEDIF(S428,TODAY(),"Y") -> 49 | U428: J | V428: 30 | W428: =V428/12 -> 2.5 | X428: 39 | Y428: Function | Z428: =IF(E428="Y",(X428/39)/2,(X428/39)) -> 1
A429: 410 | B429: Active | C429: P | D429: Mitarbeiter 410 | E429: Y | F429: 1020 | G429: 1021 | H429: 108 | I429: Niederl. 9 | J429: Department | K429: Supervisor | L429: Non-Mgm. | M429: ang. | N429: W | O429: 42644 | R429: =DATEDIF(O429,IF(P429="",TODAY(),P429),"y") -> 3 | S429: 28205 | T429: =DATEDIF(S429,TODAY(),"Y") -> 42 | U429: N | V429: 24 | W429: =V429/12 -> 2 | X429: 39 | Y429: Function | Z429: =IF(E429="Y",(X429/39)/2,(X429/39)) -> 0.5
A430: 410 | B430: Active | C430: P | D430: Mitarbeiter 410 | E430: Y | F430: 1020 | G430: 1027 | H430: 109 | I430: Niederl. 10 | J430: Department | K430: Supervisor | L430: Non-Mgm. | M430: ang. | N430: W | O430: 42644 | R430: =DATEDIF(O430,IF(P430="",TODAY(),P430),"y") -> 3 | S430: 28205 | T430: =DATEDIF(S430,TODAY(),"Y") -> 42 | U430: N | V430: 24 | W430: =V430/12 -> 2 | X430: 39 | Y430: Function | Z430: =IF(E430="Y",(X430/39)/2,(X430/39)) -> 0.5
A431: 411 | B431: Active | C431: P | D431: Mitarbeiter 411 | E431: N | F431: 1019 | G431: 1067 | H431: 105 | I431: Niederl. 6 | J431: Department | K431: Supervisor | L431: Non-Mgm. | M431: ang. | N431: M | O431: 42670 | R431: =DATEDIF(O431,IF(P431="",TODAY(),P431),"y") -> 3 | S431: 24549 | T431: =DATEDIF(S431,TODAY(),"Y") -> 52 | U431: J | V431: 30 | W431: =V431/12 -> 2.5 | X431: 39 | Y431: Function | Z431: =IF(E431="Y",(X431/39)/2,(X431/39)) -> 1
...

Sheet April 2020
A1: Stamm | B1: Stamm | C1: Stamm | D1: Stamm | E1: Stamm | F1: Stamm | G1: Stamm | H1: Stamm | I1: Stamm | J1: Stamm | K1: Stamm | L1: Stamm | M1: Stamm | N1: Stamm | O1: Stamm | P1: Stamm | Q1: Stamm | R1: Stamm | S1: Stamm | T1: Stamm | U1: Stamm | V1: Stamm | W1: Stamm | X1: Stamm | Y1: Stamm | Z1: Stamm | AA1: Stamm | AB1: Stamm | AC1: Kosten | AD1: Kosten | AE1: Kosten | AF1: Kosten | AG1: Kosten | AH1: Kosten | AI1: Kosten | AJ1: Kosten | AK1: Kosten | AL1: Kosten | AM1: Kosten | AN1: Kosten | AO1: Kosten | AP1: Kosten | AQ1: Kosten | AR1: Kosten | AS1: Kosten | AT1: Kosten | AU1: Kosten | AV1: Kosten | AW1: Kosten | AX1: Kosten
A2: Monat von | B2: Monat bis | C2: Persnnr. | D2: Kostentyp P = Personal | E2: Aktiv o. Inaktiv | F2: Name | G2: gesplittet auf zwei Kostenstellen | H2: Finanz- kostenstelle | I2: Personal- kostenstelle | J2: Niederlassung Nr. | K2: Niederlassung Bezeichnung | L2: Abteilung | M2: Vorgesetzer | N2: Angest.- Level | O2: Vertrag Ang. = Angestellt | P2: Geschlecht | Q2: Eintritt | R2: Austritt | S2: unbenutzt aktuell | T2: Betriebs-zugeh. | U2: Geboren am | V2: Alter | W2: Bekommt er Weihnachts- und Urlaubsgeld | X2: Jahres-urlaubsanspruch | Y2: Urlaubsanspr. pro Monat | Z2: Wochenstd. für FTE | AA2: Fuktion | AB2: FTE Faktor | AC2: Gehalt | AD2: Gehalts-Nebenkosten
A3: MONTH F | B3: MONTH T | C3: PERSNO | D3: COSTTYPE | E3: STATUS | F3: NAME | G3: SPLIT | H3: FIBU | I3: PCC | J3: BRNO | K3: BRNA | L3: DEPARTMENT | M3: SV | N3: LEVEL | O3: Contract | P3: GENDER | Q3: ENTRY | R3: LEAVE | S3: LSET | T3: SEN | U3: BIRTH | V3: AGE | W3: VX | X3: VACY | Y3: VACM | Z3: WT | AA3: FUNCTION | AB3: FTE (FC) | AC3: SALARY (FC) | AD3: SV-AG SALARY (FC) | AE3: Work clothes (FC) | AF3: Bonus Retail (FC) | AG3: DSL (FC) | AH3: Further Education (FC) | AI3: Premiums Retail (FC) | AJ3: Provision Retail (FC) | AK3: School cost (FC) | AL3: Other (FC) | AM3: OVERTIME (FC) | AN3: SURCHARG. SERVT. (FC) | AO3: VACATION (FC) | AP3: X_MAS (FC) | AQ3: BAV (FC) | AR3: PAID OVERTIME (FC) | AS3: TRAVEL TIME (FC) | AT3: SURCHARG. FELPLG (FC) | AU3: MAWERBEN (FC) | AV3: SV-AG ADD (FC) | AW3: CAR (FC) | AX3: JUBILARE (FC)
A4: 43922 | B4: 43951 | C4: 1 | D4: =VLOOKUP(C4,DBASE!$A$4:$Z$756,3,FALSE) -> P | E4: =VLOOKUP(C4,DBASE!$A$4:$Z$756,2,FALSE) -> Active | F4: =VLOOKUP(C4,DBASE!$A$4:$Z$756,4,FALSE) -> Mitarbeiter 1 | G4: =VLOOKUP(C4,DBASE!$A$4:$Z$756,5,FALSE) -> N | H4: =VLOOKUP(C4,DBASE!$A$4:$Z$756,6,FALSE) -> 1047 | I4: =VLOOKUP(C4,DBASE!$A$4:$Z$756,7,FALSE) -> 1090 | J4: =VLOOKUP(C4,DBASE!$A$4:$Z$756,8,FALSE) -> 102 | K4: =VLOOKUP(C4,DBASE!$A$4:$Z$756,9,FALSE) -> Niederl. 3 | L4: =VLOOKUP(C4,DBASE!$A$4:$Z$756,10,FALSE) -> Department | M4: =VLOOKUP(C4,DBASE!$A$4:$Z$756,11,FALSE) -> Supervisor | N4: =VLOOKUP(C4,DBASE!$A$4:$Z$756,12,FALSE) -> Manager | O4: =VLOOKUP(C4,DBASE!$A$4:$Z$756,13,FALSE) -> ang. | P4: =VLOOKUP(C4,DBASE!$A$4:$Z$756,14,FALSE) -> W | Q4: =VLOOKUP(C4,DBASE!$A$4:$Z$756,15,FALSE) -> 31472 | R4: =IF(VLOOKUP(C4,DBASE!$A$4:$Z$756,16,FALSE)=0,"",VLOOKUP(C4,DBASE!$A$4:$Z$756,16,FALSE)) -> 44104 | S4: =VLOOKUP(C4,DBASE!$A$4:$Z$756,17,FALSE) | T4: =VLOOKUP(C4,DBASE!$A$4:$Z$756,18,FALSE) -> 34 | U4: =VLOOKUP(C4,DBASE!$A$4:$Z$756,19,FALSE) -> 23632 | V4: =VLOOKUP(C4,DBASE!$A$4:$Z$756,20,FALSE) -> 55 | W4: =VLOOKUP(C4,DBASE!$A$4:$Z$756,21,FALSE) -> N | X4: =VLOOKUP(C4,DBASE!$A$4:$Z$756,22,FALSE) -> 30 | Y4: =VLOOKUP(C4,DBASE!$A$4:$Z$756,23,FALSE) -> 2.5 | Z4: =VLOOKUP(C4,DBASE!$A$4:$Z$756,24,FALSE) -> 39 | AA4: =VLOOKUP(C4,DBASE!$A$4:$Z$756,25,FALSE) -> Function | AB4: =VLOOKUP(C4,DBASE!$A$4:$Z$756,26,FALSE) -> 1 | AC4: 1000 | AD4: =IF(AC4<6500,AC4*0.1135,65*11.35)+(IF(AC4>4425,4425*0.08575,AC4*0.08575)+(IF(AC4>7100,7100*0.02,AC4*0.02))) -> 219.25 | AE4: 0 | AF4: 0 | AG4: 0 | AH4: 0 | AI4: 0 | AJ4: 0 | AK4: 0 | AL4: 0 | AM4: 0 | AN4: 0 | AO4: =IF(W4="J",(AC4/((Z4*52)/12))*(Y4*7.8)*0.5,0) -> 0 | AP4: =IF(W4="J",(AC4/12)*0.55,0) -> 0 | AQ4: =IF(G4="N",26.5,13.25) -> 26.5 | AR4: 0 | AS4: 0 | AT4: 0 | AU4: 0 | AV4: =(SUM(AE4:AU4)*0.22395) -> 5.934675 | AW4: 110.2 | AX4: 0
A5: 43922 | B5: 43951 | C5: 2 | D5: =VLOOKUP(C5,DBASE!$A$4:$Z$756,3,FALSE) -> P | E5: =VLOOKUP(C5,DBASE!$A$4:$Z$756,2,FALSE) -> Active | F5: =VLOOKUP(C5,DBASE!$A$4:$Z$756,4,FALSE) -> Mitarbeiter 2 | G5: =VLOOKUP(C5,DBASE!$A$4:$Z$756,5,FALSE) -> N | H5: =VLOOKUP(C5,DBASE!$A$4:$Z$756,6,FALSE) -> 1017 | I5: =VLOOKUP(C5,DBASE!$A$4:$Z$756,7,FALSE) -> 1017 | J5: =VLOOKUP(C5,DBASE!$A$4:$Z$756,8,FALSE) -> 100 | K5: =VLOOKUP(C5,DBASE!$A$4:$Z$756,9,FALSE) -> Niederl. 1 | L5: =VLOOKUP(C5,DBASE!$A$4:$Z$756,10,FALSE) -> Department | M5: =VLOOKUP(C5,DBASE!$A$4:$Z$756,11,FALSE) -> Supervisor | N5: =VLOOKUP(C5,DBASE!$A$4:$Z$756,12,FALSE) -> Manager | O5: =VLOOKUP(C5,DBASE!$A$4:$Z$756,13,FALSE) -> ang. | P5: =VLOOKUP(C5,DBASE!$A$4:$Z$756,14,FALSE) -> M | Q5: =VLOOKUP(C5,DBASE!$A$4:$Z$756,15,FALSE) -> 31552 | R5: =IF(VLOOKUP(C5,DBASE!$A$4:$Z$756,16,FALSE)=0,"",VLOOKUP(C5,DBASE!$A$4:$Z$756,16,FALSE)) | S5: =VLOOKUP(C5,DBASE!$A$4:$Z$756,17,FALSE) | T5: =VLOOKUP(C5,DBASE!$A$4:$Z$756,18,FALSE) -> 33 | U5: =VLOOKUP(C5,DBASE!$A$4:$Z$756,19,FALSE) -> 20340 | V5: =VLOOKUP(C5,DBASE!$A$4:$Z$756,20,FALSE) -> 64 | W5: =VLOOKUP(C5,DBASE!$A$4:$Z$756,21,FALSE) -> N | X5: =VLOOKUP(C5,DBASE!$A$4:$Z$756,22,FALSE) -> 30 | Y5: =VLOOKUP(C5,DBASE!$A$4:$Z$756,23,FALSE) -> 2.5 | Z5: =VLOOKUP(C5,DBASE!$A$4:$Z$756,24,FALSE) -> 39 | AA5: =VLOOKUP(C5,DBASE!$A$4:$Z$756,25,FALSE) -> Function | AB5: =VLOOKUP(C5,DBASE!$A$4:$Z$756,26,FALSE) -> 1 | AC5: 1001 | AD5: =IF(AC5<6500,AC5*0.1135,65*11.35)+(IF(AC5>4425,4425*0.08575,AC5*0.08575)+(IF(AC5>7100,7100*0.02,AC5*0.02))) -> 219.46925 | AE5: 0 | AF5: 0 | AG5: 0 | AH5: 0 | AI5: 0 | AJ5: 0 | AK5: 0 | AL5: 0 | AM5: 0 | AN5: 0 | AO5: =IF(W5="J",(AC5/((Z5*52)/12))*(Y5*7.8)*0.5,0) -> 0 | AP5: =IF(W5="J",(AC5/12)*0.55,0) -> 0 | AQ5: =IF(G5="N",26.5,13.25) -> 26.5 | AR5: 0 | AS5: 0 | AT5: 0 | AU5: 0 | AV5: =(SUM(AE5:AU5)*0.22395) -> 5.934675 | AW5: 0 | AX5: 0
A6: 43922 | B6: 43951 | C6: 3 | D6: =VLOOKUP(C6,DBASE!$A$4:$Z$756,3,FALSE) -> P | E6: =VLOOKUP(C6,DBASE!$A$4:$Z$756,2,FALSE) -> Active | F6: =VLOOKUP(C6,DBASE!$A$4:$Z$756,4,FALSE) -> Mitarbeiter 3 | G6: =VLOOKUP(C6,DBASE!$A$4:$Z$756,5,FALSE) -> N | H6: =VLOOKUP(C6,DBASE!$A$4:$Z$756,6,FALSE) -> 1010 | I6: =VLOOKUP(C6,DBASE!$A$4:$Z$756,7,FALSE) -> 1010 | J6: =VLOOKUP(C6,DBASE!$A$4:$Z$756,8,FALSE) -> 100 | K6: =VLOOKUP(C6,DBASE!$A$4:$Z$756,9,FALSE) -> Niederl. 1 | L6: =VLOOKUP(C6,DBASE!$A$4:$Z$756,10,FALSE) -> Department | M6: =VLOOKUP(C6,DBASE!$A$4:$Z$756,11,FALSE) -> Supervisor | N6: =VLOOKUP(C6,DBASE!$A$4:$Z$756,12,FALSE) -> Manager | O6: =VLOOKUP(C6,DBASE!$A$4:$Z$756,13,FALSE) -> ang. | P6: =VLOOKUP(C6,DBASE!$A$4:$Z$756,14,FALSE) -> M | Q6: =VLOOKUP(C6,DBASE!$A$4:$Z$756,15,FALSE) -> 31565 | R6: =IF(VLOOKUP(C6,DBASE!$A$4:$Z$756,16,FALSE)=0,"",VLOOKUP(C6,DBASE!$A$4:$Z$756,16,FALSE)) | S6: =VLOOKUP(C6,DBASE!$A$4:$Z$756,17,FALSE) | T6: =VLOOKUP(C6,DBASE!$A$4:$Z$756,18,FALSE) -> 33 | U6: =VLOOKUP(C6,DBASE!$A$4:$Z$756,19,FALSE) -> 23591 | V6: =VLOOKUP(C6,DBASE!$A$4:$Z$756,20,FALSE) -> 55 | W6: =VLOOKUP(C6,DBASE!$A$4:$Z$756,21,FALSE) -> N | X6: =VLOOKUP(C6,DBASE!$A$4:$Z$756,22,FALSE) -> 30 | Y6: =VLOOKUP(C6,DBASE!$A$4:$Z$756,23,FALSE) -> 2.5 | Z6: =VLOOKUP(C6,DBASE!$A$4:$Z$756,24,FALSE) -> 39 | AA6: =VLOOKUP(C6,DBASE!$A$4:$Z$756,25,FALSE) -> Function | AB6: =VLOOKUP(C6,DBASE!$A$4:$Z$756,26,FALSE) -> 1 | AC6: 1002 | AD6: =IF(AC6<6500,AC6*0.1135,65*11.35)+(IF(AC6>4425,4425*0.08575,AC6*0.08575)+(IF(AC6>7100,7100*0.02,AC6*0.02))) -> 219.6885 | AE6: 0 | AF6: 0 | AG6: 0 | AH6: 0 | AI6: 0 | AJ6: 0 | AK6: 0 | AL6: 0 | AM6: 0 | AN6: 0 | AO6: =IF(W6="J",(AC6/((Z6*52)/12))*(Y6*7.8)*0.5,0) -> 0 | AP6: =IF(W6="J",(AC6/12)*0.55,0) -> 0 | AQ6: =IF(G6="N",26.5,13.25) -> 26.5 | AR6: 0 | AS6: 0 | AT6: 0 | AU6: 0 | AV6: =(SUM(AE6:AU6)*0.22395) -> 5.934675 | AW6: 112.3318 | AX6: 0
A7: 43922 | B7: 43951 | C7: 4 | D7: =VLOOKUP(C7,DBASE!$A$4:$Z$756,3,FALSE) -> P | E7: =VLOOKUP(C7,DBASE!$A$4:$Z$756,2,FALSE) -> Active | F7: =VLOOKUP(C7,DBASE!$A$4:$Z$756,4,FALSE) -> Mitarbeiter 4 | G7: =VLOOKUP(C7,DBASE!$A$4:$Z$756,5,FALSE) -> N | H7: =VLOOKUP(C7,DBASE!$A$4:$Z$756,6,FALSE) -> 1011 | I7: =VLOOKUP(C7,DBASE!$A$4:$Z$756,7,FALSE) -> 1011 | J7: =VLOOKUP(C7,DBASE!$A$4:$Z$756,8,FALSE) -> 100 | K7: =VLOOKUP(C7,DBASE!$A$4:$Z$756,9,FALSE) -> Niederl. 1 | L7: =VLOOKUP(C7,DBASE!$A$4:$Z$756,10,FALSE) -> Department | M7: =VLOOKUP(C7,DBASE!$A$4:$Z$756,11,FALSE) -> Supervisor | N7: =VLOOKUP(C7,DBASE!$A$4:$Z$756,12,FALSE) -> Supervisor | O7: =VLOOKUP(C7,DBASE!$A$4:$Z$756,13,FALSE) -> ang. | P7: =VLOOKUP(C7,DBASE!$A$4:$Z$756,14,FALSE) -> W | Q7: =VLOOKUP(C7,DBASE!$A$4:$Z$756,15,FALSE) -> 31809 | R7: =IF(VLOOKUP(C7,DBASE!$A$4:$Z$756,16,FALSE)=0,"",VLOOKUP(C7,DBASE!$A$4:$Z$756,16,FALSE)) | S7: =VLOOKUP(C7,DBASE!$A$4:$Z$756,17,FALSE) | T7: =VLOOKUP(C7,DBASE!$A$4:$Z$756,18,FALSE) -> 32 | U7: =VLOOKUP(C7,DBASE!$A$4:$Z$756,19,FALSE) -> 24157 | V7: =VLOOKUP(C7,DBASE!$A$4:$Z$756,20,FALSE) -> 53 | W7: =VLOOKUP(C7,DBASE!$A$4:$Z$756,21,FALSE) -> N | X7: =VLOOKUP(C7,DBASE!$A$4:$Z$756,22,FALSE) -> 24 | Y7: =VLOOKUP(C7,DBASE!$A$4:$Z$756,23,FALSE) -> 2 | Z7: =VLOOKUP(C7,DBASE!$A$4:$Z$756,24,FALSE) -> 20 | AA7: =VLOOKUP(C7,DBASE!$A$4:$Z$756,25,FALSE) -> Function | AB7: =VLOOKUP(C7,DBASE!$A$4:$Z$756,26,FALSE) -> 0.51282051 | AC7: 1003 | AD7: =IF(AC7<6500,AC7*0.1135,65*11.35)+(IF(AC7>4425,4425*0.08575,AC7*0.08575)+(IF(AC7>7100,7100*0.02,AC7*0.02))) -> 219.90775 | AE7: 0 | AF7: 0 | AG7: 0 | AH7: 0 | AI7: 0 | AJ7: 0 | AK7: 0 | AL7: 0 | AM7: 0 | AN7: 0 | AO7: =IF(W7="J",(AC7/((Z7*52)/12))*(Y7*7.8)*0.5,0) -> 0 | AP7: =IF(W7="J",(AC7/12)*0.55,0) -> 0 | AQ7: =IF(G7="N",26.5,13.25) -> 26.5 | AR7: 0 | AS7: 0 | AT7: 0 | AU7: 0 | AV7: =(SUM(AE7:AU7)*0.22395) -> 5.934675 | AW7: 0 | AX7: 0
A8: 43922 | B8: 43951 | C8: 5 | D8: =VLOOKUP(C8,DBASE!$A$4:$Z$756,3,FALSE) -> P | E8: =VLOOKUP(C8,DBASE!$A$4:$Z$756,2,FALSE) -> Active | F8: =VLOOKUP(C8,DBASE!$A$4:$Z$756,4,FALSE) -> Mitarbeiter 5 | G8: =VLOOKUP(C8,DBASE!$A$4:$Z$756,5,FALSE) -> N | H8: =VLOOKUP(C8,DBASE!$A$4:$Z$756,6,FALSE) -> 1013 | I8: =VLOOKUP(C8,DBASE!$A$4:$Z$756,7,FALSE) -> 1013 | J8: =VLOOKUP(C8,DBASE!$A$4:$Z$756,8,FALSE) -> 100 | K8: =VLOOKUP(C8,DBASE!$A$4:$Z$756,9,FALSE) -> Niederl. 1 | L8: =VLOOKUP(C8,DBASE!$A$4:$Z$756,10,FALSE) -> Department | M8: =VLOOKUP(C8,DBASE!$A$4:$Z$756,11,FALSE) -> Supervisor | N8: =VLOOKUP(C8,DBASE!$A$4:$Z$756,12,FALSE) -> Manager | O8: =VLOOKUP(C8,DBASE!$A$4:$Z$756,13,FALSE) -> ang. | P8: =VLOOKUP(C8,DBASE!$A$4:$Z$756,14,FALSE) -> M | Q8: =VLOOKUP(C8,DBASE!$A$4:$Z$756,15,FALSE) -> 32417 | R8: =IF(VLOOKUP(C8,DBASE!$A$4:$Z$756,16,FALSE)=0,"",VLOOKUP(C8,DBASE!$A$4:$Z$756,16,FALSE)) | S8: =VLOOKUP(C8,DBASE!$A$4:$Z$756,17,FALSE) | T8: =VLOOKUP(C8,DBASE!$A$4:$Z$756,18,FALSE) -> 31 | U8: =VLOOKUP(C8,DBASE!$A$4:$Z$756,19,FALSE) -> 19821 | V8: =VLOOKUP(C8,DBASE!$A$4:$Z$756,20,FALSE) -> 65 | W8: =VLOOKUP(C8,DBASE!$A$4:$Z$756,21,FALSE) -> N | X8: =VLOOKUP(C8,DBASE!$A$4:$Z$756,22,FALSE) -> 30 | Y8: =VLOOKUP(C8,DBASE!$A$4:$Z$756,23,FALSE) -> 2.5 | Z8: =VLOOKUP(C8,DBASE!$A$4:$Z$756,24,FALSE) -> 39 | AA8: =VLOOKUP(C8,DBASE!$A$4:$Z$756,25,FALSE) -> Function | AB8: =VLOOKUP(C8,DBASE!$A$4:$Z$756,26,FALSE) -> 1 | AC8: 1004 | AD8: =IF(AC8<6500,AC8*0.1135,65*11.35)+(IF(AC8>4425,4425*0.08575,AC8*0.08575)+(IF(AC8>7100,7100*0.02,AC8*0.02))) -> 220.127 | AE8: 0 | AF8: 0 | AG8: 0 | AH8: 0 | AI8: 0 | AJ8: 0 | AK8: 0 | AL8: 0 | AM8: 0 | AN8: 0 | AO8: =IF(W8="J",(AC8/((Z8*52)/12))*(Y8*7.8)*0.5,0) -> 0 | AP8: =IF(W8="J",(AC8/12)*0.55,0) -> 0 | AQ8: =IF(G8="N",26.5,13.25) -> 26.5 | AR8: 0 | AS8: 0 | AT8: 0 | AU8: 0 | AV8: =(SUM(AE8:AU8)*0.22395) -> 5.934675 | AW8: 0 | AX8: 0
A9: 43922 | B9: 43951 | C9: 6 | D9: =VLOOKUP(C9,DBASE!$A$4:$Z$756,3,FALSE) -> P | E9: =VLOOKUP(C9,DBASE!$A$4:$Z$756,2,FALSE) -> Active | F9: =VLOOKUP(C9,DBASE!$A$4:$Z$756,4,FALSE) -> Mitarbeiter 6 | G9: =VLOOKUP(C9,DBASE!$A$4:$Z$756,5,FALSE) -> N | H9: =VLOOKUP(C9,DBASE!$A$4:$Z$756,6,FALSE) -> 1050 | I9: =VLOOKUP(C9,DBASE!$A$4:$Z$756,7,FALSE) -> 1093 | J9: =VLOOKUP(C9,DBASE!$A$4:$Z$756,8,FALSE) -> 100 | K9: =VLOOKUP(C9,DBASE!$A$4:$Z$756,9,FALSE) -> Niederl. 1 | L9: =VLOOKUP(C9,DBASE!$A$4:$Z$756,10,FALSE) -> Department | M9: =VLOOKUP(C9,DBASE!$A$4:$Z$756,11,FALSE) -> Supervisor | N9: =VLOOKUP(C9,DBASE!$A$4:$Z$756,12,FALSE) -> Manager | O9: =VLOOKUP(C9,DBASE!$A$4:$Z$756,13,FALSE) -> ang. | P9: =VLOOKUP(C9,DBASE!$A$4:$Z$756,14,FALSE) -> M | Q9: =VLOOKUP(C9,DBASE!$A$4:$Z$756,15,FALSE) -> 32568 | R9: =IF(VLOOKUP(C9,DBASE!$A$4:$Z$756,16,FALSE)=0,"",VLOOKUP(C9,DBASE!$A$4:$Z$756,16,FALSE)) | S9: =VLOOKUP(C9,DBASE!$A$4:$Z$756,17,FALSE) | T9: =VLOOKUP(C9,DBASE!$A$4:$Z$756,18,FALSE) -> 30 | U9: =VLOOKUP(C9,DBASE!$A$4:$Z$756,19,FALSE) -> 23310 | V9: =VLOOKUP(C9,DBASE!$A$4:$Z$756,20,FALSE) -> 56 | W9: =VLOOKUP(C9,DBASE!$A$4:$Z$756,21,FALSE) -> N | X9: =VLOOKUP(C9,DBASE!$A$4:$Z$756,22,FALSE) -> 30 | Y9: =VLOOKUP(C9,DBASE!$A$4:$Z$756,23,FALSE) -> 2.5 | Z9: =VLOOKUP(C9,DBASE!$A$4:$Z$756,24,FALSE) -> 39 | AA9: =VLOOKUP(C9,DBASE!$A$4:$Z$756,25,FALSE) -> Function | AB9: =VLOOKUP(C9,DBASE!$A$4:$Z$756,26,FALSE) -> 1 | AC9: 1005 | AD9: =IF(AC9<6500,AC9*0.1135,65*11.35)+(IF(AC9>4425,4425*0.08575,AC9*0.08575)+(IF(AC9>7100,7100*0.02,AC9*0.02))) -> 220.34625 | AE9: 0 | AF9: 0 | AG9: 0 | AH9: 0 | AI9: 0 | AJ9: 0 | AK9: 0 | AL9: 0 | AM9: 0 | AN9: 0 | AO9: =IF(W9="J",(AC9/((Z9*52)/12))*(Y9*7.8)*0.5,0) -> 0 | AP9: =IF(W9="J",(AC9/12)*0.55,0) -> 0 | AQ9: =IF(G9="N",26.5,13.25) -> 26.5 | AR9: 0 | AS9: 0 | AT9: 0 | AU9: 0 | AV9: =(SUM(AE9:AU9)*0.22395) -> 5.934675 | AW9: 0 | AX9: 0
A10: 43922 | B10: 43951 | C10: 7 | D10: =VLOOKUP(C10,DBASE!$A$4:$Z$756,3,FALSE) -> P | E10: =VLOOKUP(C10,DBASE!$A$4:$Z$756,2,FALSE) -> Active | F10: =VLOOKUP(C10,DBASE!$A$4:$Z$756,4,FALSE) -> Mitarbeiter 7 | G10: =VLOOKUP(C10,DBASE!$A$4:$Z$756,5,FALSE) -> N | H10: =VLOOKUP(C10,DBASE!$A$4:$Z$756,6,FALSE) -> 1050 | I10: =VLOOKUP(C10,DBASE!$A$4:$Z$756,7,FALSE) -> 1093 | J10: =VLOOKUP(C10,DBASE!$A$4:$Z$756,8,FALSE) -> 100 | K10: =VLOOKUP(C10,DBASE!$A$4:$Z$756,9,FALSE) -> Niederl. 1 | L10: =VLOOKUP(C10,DBASE!$A$4:$Z$756,10,FALSE) -> Department | M10: =VLOOKUP(C10,DBASE!$A$4:$Z$756,11,FALSE) -> Supervisor | N10: =VLOOKUP(C10,DBASE!$A$4:$Z$756,12,FALSE) -> Non-Mgm. | O10: =VLOOKUP(C10,DBASE!$A$4:$Z$756,13,FALSE) -> ang. | P10: =VLOOKUP(C10,DBASE!$A$4:$Z$756,14,FALSE) -> W | Q10: =VLOOKUP(C10,DBASE!$A$4:$Z$756,15,FALSE) -> 35309 | R10: =IF(VLOOKUP(C10,DBASE!$A$4:$Z$756,16,FALSE)=0,"",VLOOKUP(C10,DBASE!$A$4:$Z$756,16,FALSE)) | S10: =VLOOKUP(C10,DBASE!$A$4:$Z$756,17,FALSE) | T10: =VLOOKUP(C10,DBASE!$A$4:$Z$756,18,FALSE) -> 23 | U10: =VLOOKUP(C10,DBASE!$A$4:$Z$756,19,FALSE) -> 29181 | V10: =VLOOKUP(C10,DBASE!$A$4:$Z$756,20,FALSE) -> 40 | W10: =VLOOKUP(C10,DBASE!$A$4:$Z$756,21,FALSE) -> N | X10: =VLOOKUP(C10,DBASE!$A$4:$Z$756,22,FALSE) -> 30 | Y10: =VLOOKUP(C10,DBASE!$A$4:$Z$756,23,FALSE) -> 2.5 | Z10: =VLOOKUP(C10,DBASE!$A$4:$Z$756,24,FALSE) -> 22 | AA10: =VLOOKUP(C10,DBASE!$A$4:$Z$756,25,FALSE) -> Function | AB10: =VLOOKUP(C10,DBASE!$A$4:$Z$756,26,FALSE) -> 0.56410256 | AC10: 1006 | AD10: =IF(AC10<6500,AC10*0.1135,65*11.35)+(IF(AC10>4425,4425*0.08575,AC10*0.08575)+(IF(AC10>7100,7100*0.02,AC10*0.02))) -> 220.5655 | AE10: 0 | AF10: 0 | AG10: 0 | AH10: 0 | AI10: 0 | AJ10: 0 | AK10: 0 | AL10: 0 | AM10: 0 | AN10: 0 | AO10: =IF(W10="J",(AC10/((Z10*52)/12))*(Y10*7.8)*0.5,0) -> 0 | AP10: =IF(W10="J",(AC10/12)*0.55,0) -> 0 | AQ10: =IF(G10="N",26.5,13.25) -> 26.5 | AR10: 0 | AS10: 0 | AT10: 0 | AU10: 0 | AV10: =(SUM(AE10:AU10)*0.22395) -> 5.934675 | AW10: 0 | AX10: 0
A11: 43922 | B11: 43951 | C11: 8 | D11: =VLOOKUP(C11,DBASE!$A$4:$Z$756,3,FALSE) -> P | E11: =VLOOKUP(C11,DBASE!$A$4:$Z$756,2,FALSE) -> Active | F11: =VLOOKUP(C11,DBASE!$A$4:$Z$756,4,FALSE) -> Mitarbeiter 8 | G11: =VLOOKUP(C11,DBASE!$A$4:$Z$756,5,FALSE) -> N | H11: =VLOOKUP(C11,DBASE!$A$4:$Z$756,6,FALSE) -> 1011 | I11: =VLOOKUP(C11,DBASE!$A$4:$Z$756,7,FALSE) -> 1011 | J11: =VLOOKUP(C11,DBASE!$A$4:$Z$756,8,FALSE) -> 100 | K11: =VLOOKUP(C11,DBASE!$A$4:$Z$756,9,FALSE) -> Niederl. 1 | L11: =VLOOKUP(C11,DBASE!$A$4:$Z$756,10,FALSE) -> Department | M11: =VLOOKUP(C11,DBASE!$A$4:$Z$756,11,FALSE) -> Supervisor | N11: =VLOOKUP(C11,DBASE!$A$4:$Z$756,12,FALSE) -> Non-Mgm. | O11: =VLOOKUP(C11,DBASE!$A$4:$Z$756,13,FALSE) -> ang. | P11: =VLOOKUP(C11,DBASE!$A$4:$Z$756,14,FALSE) -> W | Q11: =VLOOKUP(C11,DBASE!$A$4:$Z$756,15,FALSE) -> 37135 | R11: =IF(VLOOKUP(C11,DBASE!$A$4:$Z$756,16,FALSE)=0,"",VLOOKUP(C11,DBASE!$A$4:$Z$756,16,FALSE)) | S11: =VLOOKUP(C11,DBASE!$A$4:$Z$756,17,FALSE) | T11: =VLOOKUP(C11,DBASE!$A$4:$Z$756,18,FALSE) -> 18 | U11: =VLOOKUP(C11,DBASE!$A$4:$Z$756,19,FALSE) -> 31136 | V11: =VLOOKUP(C11,DBASE!$A$4:$Z$756,20,FALSE) -> 34 | W11: =VLOOKUP(C11,DBASE!$A$4:$Z$756,21,FALSE) -> N | X11: =VLOOKUP(C11,DBASE!$A$4:$Z$756,22,FALSE) -> 0 | Y11: =VLOOKUP(C11,DBASE!$A$4:$Z$756,23,FALSE) -> 0 | Z11: =VLOOKUP(C11,DBASE!$A$4:$Z$756,24,FALSE) -> 8 | AA11: =VLOOKUP(C11,DBASE!$A$4:$Z$756,25,FALSE) -> Function | AB11: =VLOOKUP(C11,DBASE!$A$4:$Z$756,26,FALSE) -> 0.20512821 | AC11: 1007 | AD11: =IF(AC11<6500,AC11*0.1135,65*11.35)+(IF(AC11>4425,4425*0.08575,AC11*0.08575)+(IF(AC11>7100,7100*0.02,AC11*0.02))) -> 220.78475 | AE11: 0 | AF11: 0 | AG11: 0 | AH11: 0 | AI11: 0 | AJ11: 0 | AK11: 0 | AL11: 0 | AM11: 0 | AN11: 0 | AO11: =IF(W11="J",(AC11/((Z11*52)/12))*(Y11*7.8)*0.5,0) -> 0 | AP11: =IF(W11="J",(AC11/12)*0.55,0) -> 0 | AQ11: =IF(G11="N",26.5,13.25) -> 26.5 | AR11: 0 | AS11: 0 | AT11: 0 | AU11: 0 | AV11: =(SUM(AE11:AU11)*0.22395) -> 5.934675 | AW11: 0 | AX11: 0
A12: 43922 | B12: 43951 | C12: 9 | D12: =VLOOKUP(C12,DBASE!$A$4:$Z$756,3,FALSE) -> P | E12: =VLOOKUP(C12,DBASE!$A$4:$Z$756,2,FALSE) -> Active | F12: =VLOOKUP(C12,DBASE!$A$4:$Z$756,4,FALSE) -> Mitarbeiter 9 | G12: =VLOOKUP(C12,DBASE!$A$4:$Z$756,5,FALSE) -> N | H12: =VLOOKUP(C12,DBASE!$A$4:$Z$756,6,FALSE) -> 1014 | I12: =VLOOKUP(C12,DBASE!$A$4:$Z$756,7,FALSE) -> 1014 | J12: =VLOOKUP(C12,DBASE!$A$4:$Z$756,8,FALSE) -> 100 | K12: =VLOOKUP(C12,DBASE!$A$4:$Z$756,9,FALSE) -> Niederl. 1 | L12: =VLOOKUP(C12,DBASE!$A$4:$Z$756,10,FALSE) -> Department | M12: =VLOOKUP(C12,DBASE!$A$4:$Z$756,11,FALSE) -> Supervisor | N12: =VLOOKUP(C12,DBASE!$A$4:$Z$756,12,FALSE) -> Non-Mgm. | O12: =VLOOKUP(C12,DBASE!$A$4:$Z$756,13,FALSE) -> ang. | P12: =VLOOKUP(C12,DBASE!$A$4:$Z$756,14,FALSE) -> W | Q12: =VLOOKUP(C12,DBASE!$A$4:$Z$756,15,FALSE) -> 37865 | R12: =IF(VLOOKUP(C12,DBASE!$A$4:$Z$756,16,FALSE)=0,"",VLOOKUP(C12,DBASE!$A$4:$Z$756,16,FALSE)) | S12: =VLOOKUP(C12,DBASE!$A$4:$Z$756,17,FALSE) | T12: =VLOOKUP(C12,DBASE!$A$4:$Z$756,18,FALSE) -> 16 | U12: =VLOOKUP(C12,DBASE!$A$4:$Z$756,19,FALSE) -> 31640 | V12: =VLOOKUP(C12,DBASE!$A$4:$Z$756,20,FALSE) -> 33 | W12: =VLOOKUP(C12,DBASE!$A$4:$Z$756,21,FALSE) -> N | X12: =VLOOKUP(C12,DBASE!$A$4:$Z$756,22,FALSE) -> 30 | Y12: =VLOOKUP(C12,DBASE!$A$4:$Z$756,23,FALSE) -> 2.5 | Z12: =VLOOKUP(C12,DBASE!$A$4:$Z$756,24,FALSE) -> 20 | AA12: =VLOOKUP(C12,DBASE!$A$4:$Z$756,25,FALSE) -> Function | AB12: =VLOOKUP(C12,DBASE!$A$4:$Z$756,26,FALSE) -> 0.51282051 | AC12: 1008 | AD12: =IF(AC12<6500,AC12*0.1135,65*11.35)+(IF(AC12>4425,4425*0.08575,AC12*0.08575)+(IF(AC12>7100,7100*0.02,AC12*0.02))) -> 221.004 | AE12: 0 | AF12: 0 | AG12: 0 | AH12: 0 | AI12: 0 | AJ12: 0 | AK12: 0 | AL12: 0 | AM12: 0 | AN12: 0 | AO12: =IF(W12="J",(AC12/((Z12*52)/12))*(Y12*7.8)*0.5,0) -> 0 | AP12: =IF(W12="J",(AC12/12)*0.55,0) -> 0 | AQ12: =IF(G12="N",26.5,13.25) -> 26.5 | AR12: 0 | AS12: 0 | AT12: 0 | AU12: 0 | AV12: =(SUM(AE12:AU12)*0.22395) -> 5.934675 | AW12: 0 | AX12: 0
A13: 43922 | B13: 43951 | C13: 10 | D13: =VLOOKUP(C13,DBASE!$A$4:$Z$756,3,FALSE) -> P | E13: =VLOOKUP(C13,DBASE!$A$4:$Z$756,2,FALSE) -> Active | F13: =VLOOKUP(C13,DBASE!$A$4:$Z$756,4,FALSE) -> Mitarbeiter 10 | G13: =VLOOKUP(C13,DBASE!$A$4:$Z$756,5,FALSE) -> N | H13: =VLOOKUP(C13,DBASE!$A$4:$Z$756,6,FALSE) -> 1013 | I13: =VLOOKUP(C13,DBASE!$A$4:$Z$756,7,FALSE) -> 1013 | J13: =VLOOKUP(C13,DBASE!$A$4:$Z$756,8,FALSE) -> 100 | K13: =VLOOKUP(C13,DBASE!$A$4:$Z$756,9,FALSE) -> Niederl. 1 | L13: =VLOOKUP(C13,DBASE!$A$4:$Z$756,10,FALSE) -> Department | M13: =VLOOKUP(C13,DBASE!$A$4:$Z$756,11,FALSE) -> Supervisor | N13: =VLOOKUP(C13,DBASE!$A$4:$Z$756,12,FALSE) -> Non-Mgm. | O13: =VLOOKUP(C13,DBASE!$A$4:$Z$756,13,FALSE) -> ang. | P13: =VLOOKUP(C13,DBASE!$A$4:$Z$756,14,FALSE) -> M | Q13: =VLOOKUP(C13,DBASE!$A$4:$Z$756,15,FALSE) -> 37865 | R13: =IF(VLOOKUP(C13,DBASE!$A$4:$Z$756,16,FALSE)=0,"",VLOOKUP(C13,DBASE!$A$4:$Z$756,16,FALSE)) | S13: =VLOOKUP(C13,DBASE!$A$4:$Z$756,17,FALSE) | T13: =VLOOKUP(C13,DBASE!$A$4:$Z$756,18,FALSE) -> 16 | U13: =VLOOKUP(C13,DBASE!$A$4:$Z$756,19,FALSE) -> 31792 | V13: =VLOOKUP(C13,DBASE!$A$4:$Z$756,20,FALSE) -> 33 | W13: =VLOOKUP(C13,DBASE!$A$4:$Z$756,21,FALSE) -> N | X13: =VLOOKUP(C13,DBASE!$A$4:$Z$756,22,FALSE) -> 30 | Y13: =VLOOKUP(C13,DBASE!$A$4:$Z$756,23,FALSE) -> 2.5 | Z13: =VLOOKUP(C13,DBASE!$A$4:$Z$756,24,FALSE) -> 39 | AA13: =VLOOKUP(C13,DBASE!$A$4:$Z$756,25,FALSE) -> Function | AB13: =VLOOKUP(C13,DBASE!$A$4:$Z$756,26,FALSE) -> 1 | AC13: 1009 | AD13: =IF(AC13<6500,AC13*0.1135,65*11.35)+(IF(AC13>4425,4425*0.08575,AC13*0.08575)+(IF(AC13>7100,7100*0.02,AC13*0.02))) -> 221.22325 | AE13: 0 | AF13: 0 | AG13: 0 | AH13: 0 | AI13: 0 | AJ13: 0 | AK13: 0 | AL13: 0 | AM13: 0 | AN13: 0 | AO13: =IF(W13="J",(AC13/((Z13*52)/12))*(Y13*7.8)*0.5,0) -> 0 | AP13: =IF(W13="J",(AC13/12)*0.55,0) -> 0 | AQ13: =IF(G13="N",26.5,13.25) -> 26.5 | AR13: 0 | AS13: 0 | AT13: 0 | AU13: 0 | AV13: =(SUM(AE13:AU13)*0.22395) -> 5.934675 | AW13: 0 | AX13: 0
A14: 43922 | B14: 43951 | C14: 11 | D14: =VLOOKUP(C14,DBASE!$A$4:$Z$756,3,FALSE) -> P | E14: =VLOOKUP(C14,DBASE!$A$4:$Z$756,2,FALSE) -> Active | F14: =VLOOKUP(C14,DBASE!$A$4:$Z$756,4,FALSE) -> Mitarbeiter 11 | G14: =VLOOKUP(C14,DBASE!$A$4:$Z$756,5,FALSE) -> N | H14: =VLOOKUP(C14,DBASE!$A$4:$Z$756,6,FALSE) -> 1010 | I14: =VLOOKUP(C14,DBASE!$A$4:$Z$756,7,FALSE) -> 1010 | J14: =VLOOKUP(C14,DBASE!$A$4:$Z$756,8,FALSE) -> 100 | K14: =VLOOKUP(C14,DBASE!$A$4:$Z$756,9,FALSE) -> Niederl. 1 | L14: =VLOOKUP(C14,DBASE!$A$4:$Z$756,10,FALSE) -> Department | M14: =VLOOKUP(C14,DBASE!$A$4:$Z$756,11,FALSE) -> Supervisor | N14: =VLOOKUP(C14,DBASE!$A$4:$Z$756,12,FALSE) -> Non-Mgm. | O14: =VLOOKUP(C14,DBASE!$A$4:$Z$756,13,FALSE) -> ang. | P14: =VLOOKUP(C14,DBASE!$A$4:$Z$756,14,FALSE) -> W | Q14: =VLOOKUP(C14,DBASE!$A$4:$Z$756,15,FALSE) -> 38231 | R14: =IF(VLOOKUP(C14,DBASE!$A$4:$Z$756,16,FALSE)=0,"",VLOOKUP(C14,DBASE!$A$4:$Z$756,16,FALSE)) | S14: =VLOOKUP(C14,DBASE!$A$4:$Z$756,17,FALSE) | T14: =VLOOKUP(C14,DBASE!$A$4:$Z$756,18,FALSE) -> 15 | U14: =VLOOKUP(C14,DBASE!$A$4:$Z$756,19,FALSE) -> 31437 | V14: =VLOOKUP(C14,DBASE!$A$4:$Z$756,20,FALSE) -> 33 | W14: =VLOOKUP(C14,DBASE!$A$4:$Z$756,21,FALSE) -> N | X14: =VLOOKUP(C14,DBASE!$A$4:$Z$756,22,FALSE) -> 12 | Y14: =VLOOKUP(C14,DBASE!$A$4:$Z$756,23,FALSE) -> 1 | Z14: =VLOOKUP(C14,DBASE!$A$4:$Z$756,24,FALSE) -> 16 | AA14: =VLOOKUP(C14,DBASE!$A$4:$Z$756,25,FALSE) -> Function | AB14: =VLOOKUP(C14,DBASE!$A$4:$Z$756,26,FALSE) -> 0.41025641 | AC14: 1010 | AD14: =IF(AC14<6500,AC14*0.1135,65*11.35)+(IF(AC14>4425,4425*0.08575,AC14*0.08575)+(IF(AC14>7100,7100*0.02,AC14*0.02))) -> 221.4425 | AE14: 0 | AF14: 0 | AG14: 0 | AH14: 0 | AI14: 0 | AJ14: 0 | AK14: 0 | AL14: 0 | AM14: 0 | AN14: 0 | AO14: =IF(W14="J",(AC14/((Z14*52)/12))*(Y14*7.8)*0.5,0) -> 0 | AP14: =IF(W14="J",(AC14/12)*0.55,0) -> 0 | AQ14: =IF(G14="N",26.5,13.25) -> 26.5 | AR14: 0 | AS14: 0 | AT14: 0 | AU14: 0 | AV14: =(SUM(AE14:AU14)*0.22395) -> 5.934675 | AW14: 0 | AX14: 0
A15: 43922 | B15: 43951 | C15: 12 | D15: =VLOOKUP(C15,DBASE!$A$4:$Z$756,3,FALSE) -> P | E15: =VLOOKUP(C15,DBASE!$A$4:$Z$756,2,FALSE) -> Active | F15: =VLOOKUP(C15,DBASE!$A$4:$Z$756,4,FALSE) -> Mitarbeiter 12 | G15: =VLOOKUP(C15,DBASE!$A$4:$Z$756,5,FALSE) -> N | H15: =VLOOKUP(C15,DBASE!$A$4:$Z$756,6,FALSE) -> 1011 | I15: =VLOOKUP(C15,DBASE!$A$4:$Z$756,7,FALSE) -> 1011 | J15: =VLOOKUP(C15,DBASE!$A$4:$Z$756,8,FALSE) -> 100 | K15: =VLOOKUP(C15,DBASE!$A$4:$Z$756,9,FALSE) -> Niederl. 1 | L15: =VLOOKUP(C15,DBASE!$A$4:$Z$756,10,FALSE) -> Department | M15: =VLOOKUP(C15,DBASE!$A$4:$Z$756,11,FALSE) -> Supervisor | N15: =VLOOKUP(C15,DBASE!$A$4:$Z$756,12,FALSE) -> Non-Mgm. | O15: =VLOOKUP(C15,DBASE!$A$4:$Z$756,13,FALSE) -> ang. | P15: =VLOOKUP(C15,DBASE!$A$4:$Z$756,14,FALSE) -> W | Q15: =VLOOKUP(C15,DBASE!$A$4:$Z$756,15,FALSE) -> 38231 | R15: =IF(VLOOKUP(C15,DBASE!$A$4:$Z$756,16,FALSE)=0,"",VLOOKUP(C15,DBASE!$A$4:$Z$756,16,FALSE)) | S15: =VLOOKUP(C15,DBASE!$A$4:$Z$756,17,FALSE) | T15: =VLOOKUP(C15,DBASE!$A$4:$Z$756,18,FALSE) -> 15 | U15: =VLOOKUP(C15,DBASE!$A$4:$Z$756,19,FALSE) -> 32172 | V15: =VLOOKUP(C15,DBASE!$A$4:$Z$756,20,FALSE) -> 31 | W15: =VLOOKUP(C15,DBASE!$A$4:$Z$756,21,FALSE) -> N | X15: =VLOOKUP(C15,DBASE!$A$4:$Z$756,22,FALSE) -> 30 | Y15: =VLOOKUP(C15,DBASE!$A$4:$Z$756,23,FALSE) -> 2.5 | Z15: =VLOOKUP(C15,DBASE!$A$4:$Z$756,24,FALSE) -> 39 | AA15: =VLOOKUP(C15,DBASE!$A$4:$Z$756,25,FALSE) -> Function | AB15: =VLOOKUP(C15,DBASE!$A$4:$Z$756,26,FALSE) -> 1 | AC15: 1011 | AD15: =IF(AC15<6500,AC15*0.1135,65*11.35)+(IF(AC15>4425,4425*0.08575,AC15*0.08575)+(IF(AC15>7100,7100*0.02,AC15*0.02))) -> 221.66175 | AE15: 0 | AF15: 0 | AG15: 0 | AH15: 0 | AI15: 0 | AJ15: 0 | AK15: 0 | AL15: 0 | AM15: 0 | AN15: 0 | AO15: =IF(W15="J",(AC15/((Z15*52)/12))*(Y15*7.8)*0.5,0) -> 0 | AP15: =IF(W15="J",(AC15/12)*0.55,0) -> 0 | AQ15: =IF(G15="N",26.5,13.25) -> 26.5 | AR15: 0 | AS15: 0 | AT15: 0 | AU15: 0 | AV15: =(SUM(AE15:AU15)*0.22395) -> 5.934675 | AW15: 0 | AX15: 0
... A756: 43922 | B756: 43951 | C756: 726 | D756: =VLOOKUP(C756,DBASE!$A$4:$Z$756,3,FALSE) -> P | E756: =VLOOKUP(C756,DBASE!$A$4:$Z$756,2,FALSE) -> Active | F756: =VLOOKUP(C756,DBASE!$A$4:$Z$756,4,FALSE) -> Mitarbeiter 726 | G756: =VLOOKUP(C756,DBASE!$A$4:$Z$756,5,FALSE) -> N | H756: =VLOOKUP(C756,DBASE!$A$4:$Z$756,6,FALSE) -> 1039 | I756: =VLOOKUP(C756,DBASE!$A$4:$Z$756,7,FALSE) -> 1082 | J756: =VLOOKUP(C756,DBASE!$A$4:$Z$756,8,FALSE) -> 102 | K756: =VLOOKUP(C756,DBASE!$A$4:$Z$756,9,FALSE) -> Niederl. 3 | L756: =VLOOKUP(C756,DBASE!$A$4:$Z$756,10,FALSE) -> Department | M756: =VLOOKUP(C756,DBASE!$A$4:$Z$756,11,FALSE) -> Supervisor | N756: =VLOOKUP(C756,DBASE!$A$4:$Z$756,12,FALSE) -> Non-Mgm. | O756: =VLOOKUP(C756,DBASE!$A$4:$Z$756,13,FALSE) -> ang. | P756: =VLOOKUP(C756,DBASE!$A$4:$Z$756,14,FALSE) -> M | Q756: =VLOOKUP(C756,DBASE!$A$4:$Z$756,15,FALSE) -> 43788 | R756: =IF(VLOOKUP(C756,DBASE!$A$4:$Z$756,16,FALSE)=0,"",VLOOKUP(C756,DBASE!$A$4:$Z$756,16,FALSE)) -> 44153 | S756: =VLOOKUP(C756,DBASE!$A$4:$Z$756,17,FALSE) | T756: =VLOOKUP(C756,DBASE!$A$4:$Z$756,18,FALSE) -> 0 | U756: =VLOOKUP(C756,DBASE!$A$4:$Z$756,19,FALSE) -> 31915 | V756: =VLOOKUP(C756,DBASE!$A$4:$Z$756,20,FALSE) -> 32 | W756: =VLOOKUP(C756,DBASE!$A$4:$Z$756,21,FALSE) -> N | X756: =VLOOKUP(C756,DBASE!$A$4:$Z$756,22,FALSE) -> 26 | Y756: =VLOOKUP(C756,DBASE!$A$4:$Z$756,23,FALSE) -> 2.1666667 | Z756: =VLOOKUP(C756,DBASE!$A$4:$Z$756,24,FALSE) -> 39 | AA756: =VLOOKUP(C756,DBASE!$A$4:$Z$756,25,FALSE) -> Function | AB756: =VLOOKUP(C756,DBASE!$A$4:$Z$756,26,FALSE) -> 1 | AC756: 1752 | AD756: =IF(AC756<6500,AC756*0.1135,65*11.35)+(IF(AC756>4425,4425*0.08575,AC756*0.08575)+(IF(AC756>7100,7100*0.02,AC756*0.02))) -> 384.126 | AE756: 0 | AF756: 0 | AG756: 0 | AH756: 0 | AI756: 0 | AJ756: 0 | AK756: 0 | AL756: 0 | AM756: 0 | AN756: 0 | AO756: =IF(W756="J",(AC756/((Z756*52)/12))*(Y756*7.8)*0.5,0) -> 0 | AP756: =IF(W756="J",(AC756/12)*0.55,0) -> 0 | AQ756: =IF(G756="N",26.5,13.25) -> 26.5 | AR756: 0 | AS756: 0 | AT756: 0 | AU756: 0 | AV756: =(SUM(AE756:AU756)*0.22395) -> 5.934675 | AW756: 0 | AX756: 0

Sheet Tabelle1
