Workbook

Sheet HR_BUD_ACT
D2: FC | E2: FC | F2: FC | G2: FC | H2: FC | I2: FC | J2: FC | K2: FC | L2: FC | M2: FC | N2: FC | O2: FC
C3: YEAR | D3: MONTH
C4: 2020 | D4: 2020 | E4: 2020 | F4: 2020 | G4: 2020 | H4: 2020 | I4: 2020 | J4: 2020 | K4: 2020 | L4: 2021 | M4: 2021 | N4: 2021 | O4: 2021
A5: BRN | B5: TYP | C5: Apr | D5: Mai | E5: Jun | F5: Jul | G5: Aug | H5: Sep | I5: Okt | J5: Nov | K5: Dez | L5: Jan | M5: Feb | N5: Mrz | O5: Apr
A6: 102 | B6: (BUD) - SALARY | C6: 364359 | D6: 556429 | E6: 752929 | F6: 949310 | G6: 1140683 | H6: 1324313 | I6: 1503757 | J6: 1693166 | K6: 1874846 | L6: 2054594 | M6: 2241674 | N6: 2427806 | O6: 16883866
A7: 102 | B7: (BUD) - SV-AG SALARY | C7: 79885.711 | D7: 121997.06 | E7: 165079.68 | F7: 208136.22 | G7: 248598.75 | H7: 275071.72 | I7: 298268.6 | J7: 319478.69 | K7: 322287.9 | L7: 321094.41 | M7: 321094.41 | N7: 321094.41 | O7: 3002087.6
A8: 102 | B8: (BUD) - VACATION | C8: 687.28846 | D8: 1034.7692 | E8: 1380.9231 | F8: 1726.7308 | G8: 2072.0769 | H8: 2113.1538 | I8: 2411.1923 | J8: 2708.8269 | K8: 3006.4038 | L8: 3303.1731 | M8: 3599.3077 | N8: 3892.7308 | O8: 27936.577
A9: 102 | B9: (BUD) - X_MAS | C9: 546.0125 | D9: 822.06667 | E9: 1097.0667 | F9: 1371.7917 | G9: 1646.15 | H9: 1678.7833 | I9: 1915.5583 | J9: 2152.0125 | K9: 2388.4208 | L9: 2624.1875 | M9: 2859.45 | N9: 3092.5583 | O9: 22194.058
A10: 102 | B10: (BUD) - Bonus Retail | C10: 0 | D10: 0 | E10: 0 | F10: 0 | G10: 0 | H10: 0 | I10: 0 | J10: 0 | K10: 0 | L10: 0 | M10: 0 | N10: 0 | O10: 0
A11: 102 | B11: (BUD) - DSL | C11: 159.95 | D11: 159.95 | E11: 159.95 | F11: 159.95 | G11: 159.95 | H11: 159.95 | I11: 159.95 | J11: 159.95 | K11: 159.95 | L11: 159.95 | M11: 159.95 | N11: 159.95 | O11: 1919.4
A12: 102 | B12: (BUD) - Further Education | C12: 137.81 | D12: 137.81 | E12: 137.81 | F12: 137.81 | G12: 137.81 | H12: 137.81 | I12: 137.81 | J12: 137.81 | K12: 137.81 | L12: 137.81 | M12: 137.81 | N12: 137.81 | O12: 1653.72
A13: 102 | B13: (BUD) - Premiums Retail | C13: 0 | D13: 0 | E13: 0 | F13: 0 | G13: 0 | H13: 0 | I13: 0 | J13: 0 | K13: 0 | L13: 0 | M13: 0 | N13: 0 | O13: 0
A14: 102 | B14: (BUD) - Provision Retail | C14: 0 | D14: 0 | E14: 0 | F14: 0 | G14: 0 | H14: 0 | I14: 0 | J14: 0 | K14: 0 | L14: 0 | M14: 0 | N14: 0 | O14: 0
A15: 102 | B15: (BUD) - School cost | C15: 5142.84 | D15: 5142.84 | E15: 5142.84 | F15: 5142.84 | G15: 5142.84 | H15: 5142.84 | I15: 5142.84 | J15: 5142.84 | K15: 5142.84 | L15: 5142.84 | M15: 5142.84 | N15: 5142.84 | O15: 61714.08
A16: 102 | B16: (BUD) - Other | C16: 833.34 | D16: 833.34 | E16: 833.34 | F16: 833.34 | G16: 833.34 | H16: 833.34 | I16: 833.34 | J16: 833.34 | K16: 833.34 | L16: 833.34 | M16: 833.34 | N16: 833.34 | O16: 10000.08
A17: 102 | B17: (BUD) - OVERTIME | C17: 0 | D17: 0 | E17: 0 | F17: 0 | G17: 0 | H17: 0 | I17: 0 | J17: 0 | K17: 0 | L17: 0 | M17: 0 | N17: 0 | O17: 0
... A280: 111 | B280: (BUD) - JUBILARE | C280: 12.031667 | D280: 12.031667 | E280: 12.031667 | F280: 12.031667 | G280: 12.031667 | H280: 12.031667 | I280: 12.031667 | J280: 12.031667 | K280: 12.031667 | L280: 12.031667 | M280: 12.031667 | N280: 12.031667 | O280: 144.38
A282: Gesamt: (BUD) - SALARY | C282: 1036128 | D282: 1595625 | E282: 2158125 | F282: 2716623 | G282: 3268125 | H282: 3782202 | I282: 4315872 | J282: 4859041 | K282: 5386815 | L282: 5918609 | M282: 6448201 | N282: 6896462 | O282: 51922086
A283: Gesamt: (BUD) - SV-AG SALARY | C283: 227171.06 | D283: 349840.78 | E283: 473168.91 | F283: 595619.59 | G283: 712049.45 | H283: 785332.9 | I283: 855818.96 | J283: 916245.29 | K283: 925315.59 | L283: 924248.21 | M283: 922989.02 | N283: 911656.27 | O283: 9227898
A284: Gesamt: (BUD) - VACATION | C284: 23365.296 | D284: 35765.236 | E284: 48117.448 | F284: 60249.546 | G284: 72533.358 | H284: 82633.125 | I284: 94446.361 | J284: 106244.31 | K284: 117601.37 | L284: 129323.86 | M284: 140511.17 | N284: 147097.95 | O284: 1154439.3
A285: Gesamt: (BUD) - X_MAS | C285: 18240.842 | D285: 27903.058 | E285: 37528.058 | F285: 46978.25 | G285: 56549.213 | H285: 64385.933 | I285: 73585.783 | J285: 82773.717 | K285: 91611.438 | L285: 100739.97 | M285: 109443.58 | N285: 114493 | O285: 895476.27
A286: Gesamt: (BUD) - Bonus Retail | C286: 2859.6 | D286: 2859.6 | E286: 2859.6 | F286: 2859.6 | G286: 2859.6 | H286: 2859.6 | I286: 2859.6 | J286: 2859.6 | K286: 2859.6 | L286: 2859.6 | M286: 2859.6 | N286: 2859.6 | O286: 34315.2
A287: Gesamt: (BUD) - DSL | C287: 2349.95 | D287: 2349.95 | E287: 2349.95 | F287: 2349.95 | G287: 2349.95 | H287: 2349.95 | I287: 2349.95 | J287: 2349.95 | K287: 2349.95 | L287: 2349.95 | M287: 2349.95 | N287: 2349.95 | O287: 29999.4
A288: Gesamt: (BUD) - Further Education | C288: 137.81 | D288: 137.81 | E288: 137.81 | F288: 137.81 | G288: 137.81 | H288: 137.81 | I288: 137.81 | J288: 137.81 | K288: 137.81 | L288: 137.81 | M288: 137.81 | N288: 137.81 | O288: 1653.72
A289: Gesamt: (BUD) - Premiums Retail | C289: 11336.53 | D289: 11336.53 | E289: 11336.53 | F289: 11336.53 | G289: 11336.53 | H289: 11336.53 | I289: 11336.53 | J289: 11336.53 | K289: 11336.53 | L289: 11336.53 | M289: 11336.53 | N289: 11336.53 | O289: 158238.36
A290: Gesamt: (BUD) - Provision Retail | C290: 15736.25 | D290: 15736.25 | E290: 15736.25 | F290: 15736.25 | G290: 15736.25 | H290: 15736.25 | I290: 15736.25 | J290: 15736.25 | K290: 15736.25 | L290: 15736.25 | M290: 15736.25 | N290: 15736.25 | O290: 188835
A291: Gesamt: (BUD) - School cost | C291: 5142.84 | D291: 5142.84 | E291: 5142.84 | F291: 5142.84 | G291: 5142.84 | H291: 5142.84 | I291: 5142.84 | J291: 5142.84 | K291: 5142.84 | L291: 5142.84 | M291: 5142.84 | N291: 5142.84 | O291: 61714.08
A292: Gesamt: (BUD) - Other | C292: 833.34 | D292: 833.34 | E292: 833.34 | F292: 833.34 | G292: 833.34 | H292: 833.34 | I292: 833.34 | J292: 833.34 | K292: 833.34 | L292: 833.34 | M292: 833.34 | N292: 833.34 | O292: 10000.08
A293: Gesamt: (BUD) - OVERTIME | C293: 0 | D293: 0 | E293: 0 | F293: 0 | G293: 0 | H293: 0 | I293: 0 | J293: 0 | K293: 0 | L293: 0 | M293: 0 | N293: 0 | O293: 0
... A303: Gesamt: (BUD) - JUBILARE | C303: 2312.485 | D303: 2312.485 | E303: 2312.485 | F303: 2312.485 | G303: 2312.485 | H303: 2312.485 | I303: 2312.485 | J303: 2312.485 | K303: 2312.485 | L303: 2312.485 | M303: 2312.485 | N303: 2312.485 | O303: 27870.54

Sheet HR_BUD_ACT_LOCATION
A1: BUDGET VS ACTUAL
C2: FC | D2: FC | E2: FC | F2: FC | G2: FC | H2: FC | I2: FC | J2: FC | K2: FC | L2: FC | M2: FC | N2: FC | O2: TOTAL
C3: YEAR | D3: MONTH
C4: 2020 | D4: 2020 | E4: 2020 | F4: 2020 | G4: 2020 | H4: 2020 | I4: 2020 | J4: 2020 | K4: 2020 | L4: 2021 | M4: 2021 | N4: 2021 | O4: 2021
A5: BRN | B5: TYP | C5: Apr | D5: Mai | E5: Jun | F5: Jul | G5: Aug | H5: Sep | I5: Okt | J5: Nov | K5: Dez | L5: Jan | M5: Feb | N5: Mrz | O5: Apr
A6: 102 | B6: (BUD) - FTE | C6: 255.10256 | D6: 253.5641 | E6: 253.5641 | F6: 253.5641 | G6: 252.5641 | H6: 251.05128 | I6: 249.66667 | J6: 249.66667 | K6: 248.66667 | L6: 248.15385 | M6: 248.15385 | N6: 248.15385 | O6: 255.10256
A7: 102 | B7: (BUD) - SALARY | C7: 364359 | D7: 556429 | E7: 752929 | F7: 949310 | G7: 1140683 | H7: 1324313 | I7: 1503757 | J7: 1693166 | K7: 1874846 | L7: 2054594 | M7: 2241674 | N7: 2427806 | O7: 16883866
A8: 102 | B8: (BUD) - SV-AG SALARY | C8: 79885.711 | D8: 121997.06 | E8: 165079.68 | F8: 208136.22 | G8: 248598.75 | H8: 275071.72 | I8: 298268.6 | J8: 319478.69 | K8: 322287.9 | L8: 321094.41 | M8: 321094.41 | N8: 321094.41 | O8: 3002087.6
A9: 102 | B9: (BUD) - VACATION | C9: 687.28846 | D9: 1034.7692 | E9: 1380.9231 | F9: 1726.7308 | G9: 2072.0769 | H9: 2113.1538 | I9: 2411.1923 | J9: 2708.8269 | K9: 3006.4038 | L9: 3303.1731 | M9: 3599.3077 | N9: 3892.7308 | O9: 27936.577
A10: 102 | B10: (BUD) - X_MAS | C10: 546.0125 | D10: 822.06667 | E10: 1097.0667 | F10: 1371.7917 | G10: 1646.15 | H10: 1678.7833 | I10: 1915.5583 | J10: 2152.0125 | K10: 2388.4208 | L10: 2624.1875 | M10: 2859.45 | N10: 3092.5583 | O10: 22194.058
A11: 102 | B11: (BUD) - Bonus Retail | C11: 0 | D11: 0 | E11: 0 | F11: 0 | G11: 0 | H11: 0 | I11: 0 | J11: 0 | K11: 0 | L11: 0 | M11: 0 | N11: 0 | O11: 0
A12: 102 | B12: (BUD) - DSL | C12: 159.95 | D12: 159.95 | E12: 159.95 | F12: 159.95 | G12: 159.95 | H12: 159.95 | I12: 159.95 | J12: 159.95 | K12: 159.95 | L12: 159.95 | M12: 159.95 | N12: 159.95 | O12: 1919.4
A13: 102 | B13: (BUD) - Further Education | C13: 137.81 | D13: 137.81 | E13: 137.81 | F13: 137.81 | G13: 137.81 | H13: 137.81 | I13: 137.81 | J13: 137.81 | K13: 137.81 | L13: 137.81 | M13: 137.81 | N13: 137.81 | O13: 1653.72
A14: 102 | B14: (BUD) - Premiums Retail | C14: 0 | D14: 0 | E14: 0 | F14: 0 | G14: 0 | H14: 0 | I14: 0 | J14: 0 | K14: 0 | L14: 0 | M14: 0 | N14: 0 | O14: 0
A15: 102 | B15: (BUD) - Provision Retail | C15: 0 | D15: 0 | E15: 0 | F15: 0 | G15: 0 | H15: 0 | I15: 0 | J15: 0 | K15: 0 | L15: 0 | M15: 0 | N15: 0 | O15: 0
A16: 102 | B16: (BUD) - School cost | C16: 5142.84 | D16: 5142.84 | E16: 5142.84 | F16: 5142.84 | G16: 5142.84 | H16: 5142.84 | I16: 5142.84 | J16: 5142.84 | K16: 5142.84 | L16: 5142.84 | M16: 5142.84 | N16: 5142.84 | O16: 61714.08
A17: 102 | B17: (BUD) - Other | C17: 833.34 | D17: 833.34 | E17: 833.34 | F17: 833.34 | G17: 833.34 | H17: 833.34 | I17: 833.34 | J17: 833.34 | K17: 833.34 | L17: 833.34 | M17: 833.34 | N17: 833.34 | O17: 10000.08
... A292: 111 | B292: (BUD) - JUBILARE | C292: 12.031667 | D292: 12.031667 | E292: 12.031667 | F292: 12.031667 | G292: 12.031667 | H292: 12.031667 | I292: 12.031667 | J292: 12.031667 | K292: 12.031667 | L292: 12.031667 | M292: 12.031667 | N292: 12.031667 | O292: 144.38
A294: Gesamt: (BUD) - FTE | C294: 704.66667 | D294: 703.12821 | E294: 703.12821 | F294: 702.12821 | G294: 700.12821 | H294: 692.61538 | I294: 691.23077 | J294: 691.23077 | K294: 689.23077 | L294: 688.71795 | M294: 687.71795 | N294: 678.71795 | O294: 704.66667
A295: Gesamt: (BUD) - SALARY | C295: 1036128 | D295: 1595625 | E295: 2158125 | F295: 2716623 | G295: 3268125 | H295: 3782202 | I295: 4315872 | J295: 4859041 | K295: 5386815 | L295: 5918609 | M295: 6448201 | N295: 6896462 | O295: 51922086
A296: Gesamt: (BUD) - SV-AG SALARY | C296: 227171.06 | D296: 349840.78 | E296: 473168.91 | F296: 595619.59 | G296: 712049.45 | H296: 785332.9 | I296: 855818.96 | J296: 916245.29 | K296: 925315.59 | L296: 924248.21 | M296: 922989.02 | N296: 911656.27 | O296: 9227898
A297: Gesamt: (BUD) - VACATION | C297: 23365.296 | D297: 35765.236 | E297: 48117.448 | F297: 60249.546 | G297: 72533.358 | H297: 82633.125 | I297: 94446.361 | J297: 106244.31 | K297: 117601.37 | L297: 129323.86 | M297: 140511.17 | N297: 147097.95 | O297: 1154439.3
A298: Gesamt: (BUD) - X_MAS | C298: 18240.842 | D298: 27903.058 | E298: 37528.058 | F298: 46978.25 | G298: 56549.213 | H298: 64385.933 | I298: 73585.783 | J298: 82773.717 | K298: 91611.438 | L298: 100739.97 | M298: 109443.58 | N298: 114493 | O298: 895476.27
A299: Gesamt: (BUD) - Bonus Retail | C299: 2859.6 | D299: 2859.6 | E299: 2859.6 | F299: 2859.6 | G299: 2859.6 | H299: 2859.6 | I299: 2859.6 | J299: 2859.6 | K299: 2859.6 | L299: 2859.6 | M299: 2859.6 | N299: 2859.6 | O299: 34315.2
A300: Gesamt: (BUD) - DSL | C300: 2349.95 | D300: 2349.95 | E300: 2349.95 | F300: 2349.95 | G300: 2349.95 | H300: 2349.95 | I300: 2349.95 | J300: 2349.95 | K300: 2349.95 | L300: 2349.95 | M300: 2349.95 | N300: 2349.95 | O300: 29999.4
A301: Gesamt: (BUD) - Further Education | C301: 137.81 | D301: 137.81 | E301: 137.81 | F301: 137.81 | G301: 137.81 | H301: 137.81 | I301: 137.81 | J301: 137.81 | K301: 137.81 | L301: 137.81 | M301: 137.81 | N301: 137.81 | O301: 1653.72
A302: Gesamt: (BUD) - Premiums Retail | C302: 11336.53 | D302: 11336.53 | E302: 11336.53 | F302: 11336.53 | G302: 11336.53 | H302: 11336.53 | I302: 11336.53 | J302: 11336.53 | K302: 11336.53 | L302: 11336.53 | M302: 11336.53 | N302: 11336.53 | O302: 158238.36
A303: Gesamt: (BUD) - Provision Retail | C303: 15736.25 | D303: 15736.25 | E303: 15736.25 | F303: 15736.25 | G303: 15736.25 | H303: 15736.25 | I303: 15736.25 | J303: 15736.25 | K303: 15736.25 | L303: 15736.25 | M303: 15736.25 | N303: 15736.25 | O303: 188835
A304: Gesamt: (BUD) - School cost | C304: 5142.84 | D304: 5142.84 | E304: 5142.84 | F304: 5142.84 | G304: 5142.84 | H304: 5142.84 | I304: 5142.84 | J304: 5142.84 | K304: 5142.84 | L304: 5142.84 | M304: 5142.84 | N304: 5142.84 | O304: 61714.08
A305: Gesamt: (BUD) - Other | C305: 833.34 | D305: 833.34 | E305: 833.34 | F305: 833.34 | G305: 833.34 | H305: 833.34 | I305: 833.34 | J305: 833.34 | K305: 833.34 | L305: 833.34 | M305: 833.34 | N305: 833.34 | O305: 10000.08
... A316: Gesamt: (BUD) - JUBILARE | C316: 2312.485 | D316: 2312.485 | E316: 2312.485 | F316: 2312.485 | G316: 2312.485 | H316: 2312.485 | I316: 2312.485 | J316: 2312.485 | K316: 2312.485 | L316: 2312.485 | M316: 2312.485 | N316: 2312.485 | O316: 27870.54

Sheet DBASE
A1: Stamm | B1: Stamm | C1: Stamm | D1: Stamm | E1: Stamm | F1: Stamm | G1: Stamm | H1: Stamm | I1: Stamm | J1: Stamm | K1: Stamm | L1: Stamm | M1: Stamm | N1: Stamm | O1: Stamm | P1: Stamm | Q1: Stamm | R1: Stamm | S1: Stamm | T1: Stamm | U1: Stamm | V1: Stamm | W1: Stamm | X1: Stamm | Y1: Stamm | Z1: Stamm
A2: Persnnr. | B2: Aktiv o. Inaktiv | C2: Kostentyp P = Personal | D2: Name | E2: gesplittet auf zwei Kostenstellen | F2: Finanz- kostenstelle | G2: Personal- kostenstelle | H2: Niederlassung Nr. | I2: Niederlassung Bezeichnung | J2: Abteilung | K2: Vorgesetzer | L2: Angest.- Level | M2: Vertrag Ang. = Angestellt | N2: Geschlecht | O2: Eintritt | P2: Austritt | Q2: unbenutzt aktuell | R2: Betriebs-zugeh. | S2: Geboren am | T2: Alter | U2: Bekommt er Weihnachts- und Urlaubsgeld | V2: Jahres-urlaubsanspruch | W2: Urlaubsanspr. pro Monat | X2: Wochenstd. für FTE | Y2: Fuktion | Z2: FTE Faktor
A3: PERSNO | B3: STATUS | C3: COSTTYPE | D3: NAME | E3: SPLIT | F3: FIBU | G3: PCC | H3: BRNO | I3: BRNA | J3: DEPARTMENT | K3: SV | L3: LEVEL | M3: Contract | N3: GENDER | O3: ENTRY | P3: LEAVE | Q3: LSET | R3: SEN | S3: BIRTH | T3: AGE | U3: VX | V3: VACY | W3: VACM | X3: WT | Y3: FUNCTION | Z3: FTE (FC)
A4: 1 | B4: Active | C4: P | D4: Mitarbeiter 1 | E4: N | F4: 1047 | G4: 1090 | H4: 102 | I4: Niederl. 3 | J4: Department | K4: Supervisor | L4: Manager | M4: ang. | N4: W | O4: 31472 | P4: 44104 | R4: =DATEDIF(O4,IF(P4="",TODAY(),P4),"y") -> 34 | S4: 23632 | T4: =DATEDIF(S4,TODAY(),"Y") -> 55 | U4: N | V4: 30 | W4: =V4/12 -> 2.5 | X4: 39 | Y4: Function | Z4: =IF(E4="Y",(X4/39)/2,(X4/39)) -> 1
A5: 2 | B5: Active | C5: P | D5: Mitarbeiter 2 | E5: N | F5: 1017 | G5: 1017 | H5: 100 | I5: Niederl. 1 | J5: Department | K5: Supervisor | L5: Manager | M5: ang. | N5: M | O5: 31552 | R5: =DATEDIF(O5,IF(P5="",TODAY(),P5),"y") -> 33 | S5: 20340 | T5: =DATEDIF(S5,TODAY(),"Y") -> 64 | U5: N | V5: 30 | W5: =V5/12 -> 2.5 | X5: 39 | Y5: Function | Z5: =IF(E5="Y",(X5/39)/2,(X5/39)) -> 1
A6: 3 | B6: Active | C6: P | D6: Mitarbeiter 3 | E6: N | F6: 1010 | G6: 1010 | H6: 100 | I6: Niederl. 1 | J6: Department | K6: Supervisor | L6: Manager | M6: ang. | N6: M | O6: 31565 | R6: =DATEDIF(O6,IF(P6="",TODAY(),P6),"y") -> 33 | S6: 23591 | T6: =DATEDIF(S6,TODAY(),"Y") -> 55 | U6: N | V6: 30 | W6: =V6/12 -> 2.5 | X6: 39 | Y6: Function | Z6: =IF(E6="Y",(X6/39)/2,(X6/39)) -> 1
A7: 4 | B7: Active | C7: P | D7: Mitarbeiter 4 | E7: N | F7: 1011 | G7: 1011 | H7: 100 | I7: Niederl. 1 | J7: Department | K7: Supervisor | L7: Supervisor | M7: ang. | N7: W | O7: 31809 | R7: =DATEDIF(O7,IF(P7="",TODAY(),P7),"y") -> 32 | S7: 24157 | T7: =DATEDIF(S7,TODAY(),"Y") -> 53 | U7: N | V7: 24 | W7: =V7/12 -> 2 | X7: 20 | Y7: Function | Z7: =IF(E7="Y",(X7/39)/2,(X7/39)) -> 0.51282051
A8: 5 | B8: Active | C8: P | D8: Mitarbeiter 5 | E8: N | F8: 1013 | G8: 1013 | H8: 100 | I8: Niederl. 1 | J8: Department | K8: Supervisor | L8: Manager | M8: ang. | N8: M | O8: 32417 | R8: =DATEDIF(O8,IF(P8="",TODAY(),P8),"y") -> 31 | S8: 19821 | T8: =DATEDIF(S8,TODAY(),"Y") -> 65 | U8: N | V8: 30 | W8: =V8/12 -> 2.5 | X8: 39 | Y8: Function | Z8: =IF(E8="Y",(X8/39)/2,(X8/39)) -> 1
A9: 6 | B9: Active | C9: P | D9: Mitarbeiter 6 | E9: N | F9: 1050 | G9: 1093 | H9: 100 | I9: Niederl. 1 | J9: Department | K9: Supervisor | L9: Manager | M9: ang. | N9: M | O9: 32568 | R9: =DATEDIF(O9,IF(P9="",TODAY(),P9),"y") -> 30 | S9: 23310 | T9: =DATEDIF(S9,TODAY(),"Y") -> 56 | U9: N | V9: 30 | W9: =V9/12 -> 2.5 | X9: 39 | Y9: Function | Z9: =IF(E9="Y",(X9/39)/2,(X9/39)) -> 1
A10: 7 | B10: Active | C10: P | D10: Mitarbeiter 7 | E10: N | F10: 1050 | G10: 1093 | H10: 100 | I10: Niederl. 1 | J10: Department | K10: Supervisor | L10: Non-Mgm. | M10: ang. | N10: W | O10: 35309 | R10: =DATEDIF(O10,IF(P10="",TODAY(),P10),"y") -> 23 | S10: 29181 | T10: =DATEDIF(S10,TODAY(),"Y") -> 40 | U10: N | V10: 30 | W10: =V10/12 -> 2.5 | X10: 22 | Y10: Function | Z10: =IF(E10="Y",(X10/39)/2,(X10/39)) -> 0.56410256
A11: 8 | B11: Active | C11: P | D11: Mitarbeiter 8 | E11: N | F11: 1011 | G11: 1011 | H11: 100 | I11: Niederl. 1 | J11: Department | K11: Supervisor | L11: Non-Mgm. | M11: ang. | N11: W | O11: 37135 | R11: =DATEDIF(O11,IF(P11="",TODAY(),P11),"y") -> 18 | S11: 31136 | T11: =DATEDIF(S11,TODAY(),"Y") -> 34 | U11: N | V11: 0 | W11: =V11/12 -> 0 | X11: 8 | Y11: Function | Z11: =IF(E11="Y",(X11/39)/2,(X11/39)) -> 0.20512821
A12: 9 | B12: Active | C12: P | D12: Mitarbeiter 9 | E12: N | F12: 1014 | G12: 1014 | H12: 100 | I12: Niederl. 1 | J12: Department | K12: Supervisor | L12: Non-Mgm. | M12: ang. | N12: W | O12: 37865 | R12: =DATEDIF(O12,IF(P12="",TODAY(),P12),"y") -> 16 | S12: 31640 | T12: =DATEDIF(S12,TODAY(),"Y") -> 33 | U12: N | V12: 30 | W12: =V12/12 -> 2.5 | X12: 20 | Y12: Function | Z12: =IF(E12="Y",(X12/39)/2,(X12/39)) -> 0.51282051
A13: 10 | B13: Active | C13: P | D13: Mitarbeiter 10 | E13: N | F13: 1013 | G13: 1013 | H13: 100 | I13: Niederl. 1 | J13: Department | K13: Supervisor | L13: Non-Mgm. | M13: ang. | N13: M | O13: 37865 | R13: =DATEDIF(O13,IF(P13="",TODAY(),P13),"y") -> 16 | S13: 31792 | T13: =DATEDIF(S13,TODAY(),"Y") -> 33 | U13: N | V13: 30 | W13: =V13/12 -> 2.5 | X13: 39 | Y13: Function | Z13: =IF(E13="Y",(X13/39)/2,(X13/39)) -> 1
A14: 11 | B14: Active | C14: P | D14: Mitarbeiter 11 | E14: N | F14: 1010 | G14: 1010 | H14: 100 | I14: Niederl. 1 | J14: Department | K14: Supervisor | L14: Non-Mgm. | M14: ang. | N14: W | O14: 38231 | R14: =DATEDIF(O14,IF(P14="",TODAY(),P14),"y") -> 15 | S14: 31437 | T14: =DATEDIF(S14,TODAY(),"Y") -> 33 | U14: N | V14: 12 | W14: =V14/12 -> 1 | X14: 16 | Y14: Function | Z14: =IF(E14="Y",(X14/39)/2,(X14/39)) -> 0.41025641
A15: 12 | B15: Active | C15: P | D15: Mitarbeiter 12 | E15: N | F15: 1011 | G15: 1011 | H15: 100 | I15: Niederl. 1 | J15: Department | K15: Supervisor | L15: Non-Mgm. | M15: ang. | N15: W | O15: 38231 | R15: =DATEDIF(O15,IF(P15="",TODAY(),P15),"y") -> 15 | S15: 32172 | T15: =DATEDIF(S15,TODAY(),"Y") -> 31 | U15: N | V15: 30 | W15: =V15/12 -> 2.5 | X15: 39 | Y15: Function | Z15: =IF(E15="Y",(X15/39)/2,(X15/39)) -> 1
A16: 13 | B16: Active | C16: P | D16: Mitarbeiter 13 | E16: N | F16: 1050 | G16: 1093 | H16: 100 | I16: Niederl. 1 | J16: Department | K16: Supervisor | L16: Manager | M16: ang. | N16: M | O16: 38078 | R16: =DATEDIF(O16,IF(P16="",TODAY(),P16),"y") -> 15 | S16: 29285 | T16: =DATEDIF(S16,TODAY(),"Y") -> 39 | U16: N | V16: 30 | W16: =V16/12 -> 2.5 | X16: 39 | Y16: Function | Z16: =IF(E16="Y",(X16/39)/2,(X16/39)) -> 1
... A408: 390 | B408: Active | C408: P | D408: Mitarbeiter 390 | E408: N | F408: 1044 | G408: 1087 | H408: 102 | I408: Niederl. 3 | J408: Department | K408: Supervisor | L408: Non-Mgm. | M408: ang. | N408: M | O408: 42583 | R408: =DATEDIF(O408,IF(P408="",TODAY(),P408),"y") -> 3 | S408: 30283 | T408: =DATEDIF(S408,TODAY(),"Y") -> 37 | U408: N | V408: 30 | W408: =V408/12 -> 2.5 | X408: 39 | Y408: Function | Z408: =IF(E408="Y",(X408/39)/2,(X408/39)) -> 1
A409: 391 | B409: Active | C409: P | D409: Mitarbeiter 391 | E409: N | F409: 1020 | G409: 1039 | H409: 105 | I409: Niederl. 6 | J409: Department | K409: Supervisor | L409: Non-Mgm. | M409: ang. | N409: W | O409: 43630 | P409: 43995 | R409: =DATEDIF(O409,IF(P409="",TODAY(),P409),"y") -> 0 | S409: 35168 | T409: =DATEDIF(S409,TODAY(),"Y") -> 23 | U409: J | V409: 30 | W409: =V409/12 -> 2.5 | X409: 39 | Y409: Function | Z409: =IF(E409="Y",(X409/39)/2,(X409/39)) -> 1
A410: 392 | B410: Active | C410: P | D410: Mitarbeiter 392 | E410: N | F410: 1022 | G410: 1041 | H410: 105 | I410: Niederl. 6 | J410: Department | K410: Supervisor | L410: Non-Mgm. | M410: ang. | N410: M | O410: 42583 | R410: =DATEDIF(O410,IF(P410="",TODAY(),P410),"y") -> 3 | S410: 24944 | T410: =DATEDIF(S410,TODAY(),"Y") -> 51 | U410: J | V410: 30 | W410: =V410/12 -> 2.5 | X410: 39 | Y410: Function | Z410: =IF(E410="Y",(X410/39)/2,(X410/39)) -> 1
A411: 393 | B411: Active | C411: P | D411: Mitarbeiter 393 | E411: N | F411: 1026 | G411: 1069 | H411: 102 | I411: Niederl. 3 | J411: Department | K411: Supervisor | L411: Non-Mgm. | M411: ang. | N411: M | O411: 42583 | R411: =DATEDIF(O411,IF(P411="",TODAY(),P411),"y") -> 3 | S411: 30583 | T411: =DATEDIF(S411,TODAY(),"Y") -> 36 | U411: N | V411: 30 | W411: =V411/12 -> 2.5 | X411: 39 | Y411: Function | Z411: =IF(E411="Y",(X411/39)/2,(X411/39)) -> 1
A412: 394 | B412: Active | C412: P | D412: Mitarbeiter 394 | E412: N | F412: 1024 | G412: 1054 | H412: 101 | I412: Niederl. 2 | J412: Department | K412: Supervisor | L412: Non-Mgm. | M412: ang. | N412: M | O412: 42583 | R412: =DATEDIF(O412,IF(P412="",TODAY(),P412),"y") -> 3 | S412: 32524 | T412: =DATEDIF(S412,TODAY(),"Y") -> 31 | U412: N | V412: 30 | W412: =V412/12 -> 2.5 | X412: 39 | Y412: Function | Z412: =IF(E412="Y",(X412/39)/2,(X412/39)) -> 1
A413: 395 | B413: Active | C413: P | D413: Mitarbeiter 395 | E413: N | F413: 1022 | G413: 1029 | H413: 109 | I413: Niederl. 10 | J413: Department | K413: Supervisor | L413: Non-Mgm. | M413: ang. | N413: M | O413: 42583 | R413: =DATEDIF(O413,IF(P413="",TODAY(),P413),"y") -> 3 | S413: 30114 | T413: =DATEDIF(S413,TODAY(),"Y") -> 37 | U413: J | V413: 35 | W413: =V413/12 -> 2.9166667 | X413: 39 | Y413: Function | Z413: =IF(E413="Y",(X413/39)/2,(X413/39)) -> 1
A414: 396 | B414: Active | C414: P | D414: Mitarbeiter 396 | E414: N | F414: 1026 | G414: 1069 | H414: 102 | I414: Niederl. 3 | J414: Department | K414: Supervisor | L414: Non-Mgm. | M414: ang. | N414: W | O414: 42583 | R414: =DATEDIF(O414,IF(P414="",TODAY(),P414),"y") -> 3 | S414: 29689 | T414: =DATEDIF(S414,TODAY(),"Y") -> 38 | U414: N | V414: 30 | W414: =V414/12 -> 2.5 | X414: 39 | Y414: Function | Z414: =IF(E414="Y",(X414/39)/2,(X414/39)) -> 1
A415: 397 | B415: Active | C415: P | D415: Mitarbeiter 397 | E415: N | F415: 1022 | G415: 1047 | H415: 103 | I415: Niederl. 4 | J415: Department | K415: Supervisor | L415: Non-Mgm. | M415: ang. | N415: M | O415: 42614 | R415: =DATEDIF(O415,IF(P415="",TODAY(),P415),"y") -> 3 | S415: 34178 | T415: =DATEDIF(S415,TODAY(),"Y") -> 26 | U415: J | V415: 30 | W415: =V415/12 -> 2.5 | X415: 39 | Y415: Function | Z415: =IF(E415="Y",(X415/39)/2,(X415/39)) -> 1
A416: 398 | B416: Active | C416: P | D416: Mitarbeiter 398 | E416: N | F416: 1021 | G416: 1040 | H416: 105 | I416: Niederl. 6 | J416: Department | K416: Supervisor | L416: Non-Mgm. | M416: ang. | N416: M | O416: 42614 | R416: =DATEDIF(O416,IF(P416="",TODAY(),P416),"y") -> 3 | S416: 30032 | T416: =DATEDIF(S416,TODAY(),"Y") -> 37 | U416: J | V416: 30 | W416: =V416/12 -> 2.5 | X416: 39 | Y416: Function | Z416: =IF(E416="Y",(X416/39)/2,(X416/39)) -> 1
A417: 399 | B417: Active | C417: P | D417: Mitarbeiter 399 | E417: N | F417: 1025 | G417: 1068 | H417: 102 | I417: Niederl. 3 | J417: Department | K417: Supervisor | L417: Non-Mgm. | M417: ang. | N417: W | O417: 42614 | R417: =DATEDIF(O417,IF(P417="",TODAY(),P417),"y") -> 3 | S417: 29909 | T417: =DATEDIF(S417,TODAY(),"Y") -> 38 | U417: N | V417: 30 | W417: =V417/12 -> 2.5 | X417: 39 | Y417: Function | Z417: =IF(E417="Y",(X417/39)/2,(X417/39)) -> 1
A418: 400 | B418: Active | C418: P | D418: Mitarbeiter 400 | E418: Y | F418: 1023 | G418: 1020 | H418: 108 | I418: Niederl. 9 | J418: Department | K418: Supervisor | L418: Non-Mgm. | M418: ang. | N418: M | O418: 43629 | R418: =DATEDIF(O418,IF(P418="",TODAY(),P418),"y") -> 0 | S418: 35283 | T418: =DATEDIF(S418,TODAY(),"Y") -> 23 | U418: J | V418: 30 | W418: =V418/12 -> 2.5 | X418: 39 | Y418: Function | Z418: =IF(E418="Y",(X418/39)/2,(X418/39)) -> 0.5
A419: 400 | B419: Active | C419: P | D419: Mitarbeiter 400 | E419: Y | F419: 1023 | G419: 1026 | H419: 109 | I419: Niederl. 10 | J419: Department | K419: Supervisor | L419: Non-Mgm. | M419: ang. | N419: M | O419: 43629 | R419: =DATEDIF(O419,IF(P419="",TODAY(),P419),"y") -> 0 | S419: 35283 | T419: =DATEDIF(S419,TODAY(),"Y") -> 23 | U419: J | V419: 30 | W419: =V419/12 -> 2.5 | X419: 39 | Y419: Function | Z419: =IF(E419="Y",(X419/39)/2,(X419/39)) -> 0.5
A420: 401 | B420: Active | C420: P | D420: Mitarbeiter 401 | E420: N | F420: 1010 | G420: 1010 | H420: 100 | I420: Niederl. 1 | J420: Department | K420: Supervisor | L420: Non-Mgm. | M420: ang. | N420: M | O420: 42614 | R420: =DATEDIF(O420,IF(P420="",TODAY(),P420),"y") -> 3 | S420: 36424 | T420: =DATEDIF(S420,TODAY(),"Y") -> 20 | U420: N | V420: 30 | W420: =V420/12 -> 2.5 | X420: 39 | Y420: Function | Z420: =IF(E420="Y",(X420/39)/2,(X420/39)) -> 1
A421: 402 | B421: Active | C421: P | D421: Mitarbeiter 402 | E421: N | F421: 1000 | G421: 1000 | H421: 100 | I421: Niederl. 1 | J421: Department | K421: Supervisor | L421: Non-Mgm. | M421: ang. | N421: W | O421: 42614 | P421: 44043 | R421: =DATEDIF(O421,IF(P421="",TODAY(),P421),"y") -> 3 | S421: 36492 | T421: =DATEDIF(S421,TODAY(),"Y") -> 20 | U421: N | V421: 30 | W421: =V421/12 -> 2.5 | X421: 39 | Y421: Function | Z421: =IF(E421="Y",(X421/39)/2,(X421/39)) -> 1
A422: 403 | B422: Active | C422: P | D422: Mitarbeiter 403 | E422: N | F422: 1040 | G422: 1083 | H422: 102 | I422: Niederl. 3 | J422: Department | K422: Supervisor | L422: Non-Mgm. | M422: ang. | N422: M | O422: 42614 | R422: =DATEDIF(O422,IF(P422="",TODAY(),P422),"y") -> 3 | S422: 32460 | T422: =DATEDIF(S422,TODAY(),"Y") -> 31 | U422: N | V422: 30 | W422: =V422/12 -> 2.5 | X422: 39 | Y422: Function | Z422: =IF(E422="Y",(X422/39)/2,(X422/39)) -> 1
A423: 404 | B423: Active | C423: P | D423: Mitarbeiter 404 | E423: N | F423: 1050 | G423: 1093 | H423: 102 | I423: Niederl. 3 | J423: Department | K423: Supervisor | L423: Non-Mgm. | M423: ang. | N423: M | O423: 42614 | R423: =DATEDIF(O423,IF(P423="",TODAY(),P423),"y") -> 3 | S423: 34401 | T423: =DATEDIF(S423,TODAY(),"Y") -> 25 | U423: N | V423: 30 | W423: =V423/12 -> 2.5 | X423: 39 | Y423: Function | Z423: =IF(E423="Y",(X423/39)/2,(X423/39)) -> 1
A424: 405 | B424: Active | C424: P | D424: Mitarbeiter 405 | E424: N | F424: 1040 | G424: 1083 | H424: 102 | I424: Niederl. 3 | J424: Department | K424: Supervisor | L424: Non-Mgm. | M424: ang. | N424: M | O424: 42628 | R424: =DATEDIF(O424,IF(P424="",TODAY(),P424),"y") -> 3 | S424: 32147 | T424: =DATEDIF(S424,TODAY(),"Y") -> 32 | U424: N | V424: 30 | W424: =V424/12 -> 2.5 | X424: 39 | Y424: Function | Z424: =IF(E424="Y",(X424/39)/2,(X424/39)) -> 1
A425: 406 | B425: Active | C425: P | D425: Mitarbeiter 406 | E425: N | F425: 1027 | G425: 1070 | H425: 102 | I425: Niederl. 3 | J425: Department | K425: Supervisor | L425: Non-Mgm. | M425: ang. | N425: W | O425: 42625 | R425: =DATEDIF(O425,IF(P425="",TODAY(),P425),"y") -> 3 | S425: 30300 | T425: =DATEDIF(S425,TODAY(),"Y") -> 37 | U425: N | V425: 30 | W425: =V425/12 -> 2.5 | X425: 39 | Y425: Function | Z425: =IF(E425="Y",(X425/39)/2,(X425/39)) -> 1
A426: 407 | B426: Active | C426: P | D426: Mitarbeiter 407 | E426: N | F426: 1050 | G426: 1093 | H426: 102 | I426: Niederl. 3 | J426: Department | K426: Supervisor | L426: Manager | M426: ang. | N426: M | O426: 42614 | R426: =DATEDIF(O426,IF(P426="",TODAY(),P426),"y") -> 3 | S426: 29394 | T426: =DATEDIF(S426,TODAY(),"Y") -> 39 | U426: N | V426: 30 | W426: =V426/12 -> 2.5 | X426: 39 | Y426: Function | Z426: =IF(E426="Y",(X426/39)/2,(X426/39)) -> 1
A427: 408 | B427: Active | C427: P | D427: Mitarbeiter 408 | E427: N | F427: 1045 | G427: 1088 | H427: 102 | I427: Niederl. 3 | J427: Department | K427: Supervisor | L427: Director | M427: ang. | N427: M | O427: 42644 | R427: =DATEDIF(O427,IF(P427="",TODAY(),P427),"y") -> 3 | S427: 25311 | T427: =DATEDIF(S427,TODAY(),"Y") -> 50 | U427: N | V427: 30 | W427: =V427/12 -> 2.5 | X427: 39 | Y427: Function | Z427: =IF(E427="Y",(X427/39)/2,(X427/39)) -> 1
A428: 409 | B428: Active | C428: P | D428: Mitarbeiter 409 | E428: N | F428: 1022 | G428: 1029 | H428: 109 | I428: Niederl. 10 | J428: Department | K428: Supervisor | L428: Non-Mgm. | M428: ang. | N428: M | O428: 42644 | R428: =DATEDIF(O428,IF(P428="",TODAY(),P428),"y") -> 3 | S428: 25619 | T428: =DATEDIF(S428,TODAY(),"Y") -> 49 | U428: J | V428: 30 | W428: =V428/12 -> 2.5 | X428: 39 | Y428: Function | Z428: =IF(E428="Y",(X428/39)/2,(X428/39)) -> 1
A429: 410 | B429: Active | C429: P | D429: Mitarbeiter 410 | E429: Y | F429: 1020 | G429: 1021 | H429: 108 | I429: Niederl. 9 | J429: Department | K429: Supervisor | L429: Non-Mgm. | M429: ang. | N429: W | O429: 42644 | R429: =DATEDIF(O429,IF(P429="",TODAY(),P429),"y") -> 3 | S429: 28205 | T429: =DATEDIF(S429,TODAY(),"Y") -> 42 | U429: N | V429: 24 | W429: =V429/12 -> 2 | X429: 39 | Y429: Function | Z429: =IF(E429="Y",(X429/39)/2,(X429/39)) -> 0.5
A430: 410 | B430: Active | C430: P | D430: Mitarbeiter 410 | E430: Y | F430: 1020 | G430: 1027 | H430: 109 | I430: Niederl. 10 | J430: Department | K430: Supervisor | L430: Non-Mgm. | M430: ang. | N430: W | O430: 42644 | R430: =DATEDIF(O430,IF(P430="",TODAY(),P430),"y") -> 3 | S430: 28205 | T430: =DATEDIF(S430,TODAY(),"Y") -> 42 | U430: N | V430: 24 | W430: =V430/12 -> 2 | X430: 39 | Y430: Function | Z430: =IF(E430="Y",(X430/39)/2,(X430/39)) -> 0.5
A431: 411 | B431: Active | C431: P | D431: Mitarbeiter 411 | E431: N | F431: 1019 | G431: 1067 | H431: 105 | I431: Niederl. 6 | J431: Department | K431: Supervisor | L431: Non-Mgm. | M431: ang. | N431: M | O431: 42670 | R431: =DATEDIF(O431,IF(P431="",TODAY(),P431),"y") -> 3 | S431: 24549 | T431: =DATEDIF(S431,TODAY(),"Y") -> 52 | U431: J | V431: 30 | W431: =V431/12 -> 2.5 | X431: 39 | Y431: Function | Z431: =IF(E431="Y",(X431/39)/2,(X431/39)) -> 1
A432: 412 | B432: Active | C432: P | D432: Mitarbeiter 412 | E432: N | F432: 1022 | G432: 1060 | H432: 106 | I432: Niederl. 7 | J432: Department | K432: Supervisor | L432: Non-Mgm. | M432: ang. | N432: M | O432: 42736 | R432: =DATEDIF(O432,IF(P432="",TODAY(),P432),"y") -> 3 | S432: 30214 | T432: =DATEDIF(S432,TODAY(),"Y") -> 37 | U432: J | V432: 30 | W432: =V432/12 -> 2.5 | X432: 39 | Y432: Function | Z432: =IF(E432="Y",(X432/39)/2,(X432/39)) -> 1
A433: 413 | B433: Active | C433: P | D433: Mitarbeiter 413 | E433: N | F433: 1033 | G433: 1076 | H433: 102 | I433: Niederl. 3 | J433: Department | K433: Supervisor | L433: Non-Mgm. | M433: ang. | N433: W | O433: 42744 | R433: =DATEDIF(O433,IF(P433="",TODAY(),P433),"y") -> 3 | S433: 28377 | T433: =DATEDIF(S433,TODAY(),"Y") -> 42 | U433: N | V433: 30 | W433: =V433/12 -> 2.5 | X433: 39 | Y433: Function | Z433: =IF(E433="Y",(X433/39)/2,(X433/39)) -> 1
... A463: 441 | B463: Active | C463: P | D463: Mitarbeiter 441 | E463: N | F463: 1021 | G463: 1059 | H463: 106 | I463: Niederl. 7 | J463: Department | K463: Supervisor | L463: Non-Mgm. | M463: ang. | N463: M | O463: 42948 | R463: =DATEDIF(O463,IF(P463="",TODAY(),P463),"y") -> 2 | S463: 33333 | T463: =DATEDIF(S463,TODAY(),"Y") -> 28 | U463: J | V463: 30 | W463: =V463/12 -> 2.5 | X463: 39 | Y463: Function | Z463: =IF(E463="Y",(X463/39)/2,(X463/39)) -> 1
A464: 442 | B464: Active | C464: P | D464: Mitarbeiter 442 | E464: N | F464: 1049 | G464: 1092 | H464: 106 | I464: Niederl. 7 | J464: Department | K464: Supervisor | L464: Non-Mgm. | M464: tech | N464: M | O464: 42948 | P464: 44227 | R464: =DATEDIF(O464,IF(P464="",TODAY(),P464),"y") -> 3 | S464: 36468 | T464: =DATEDIF(S464,TODAY(),"Y") -> 20 | U464: J | V464: 30 | W464: =V464/12 -> 2.5 | X464: 39 | Y464: Function | Z464: =IF(E464="Y",(X464/39)/2,(X464/39)) -> 1
A465: 443 | B465: Active | C465: P | D465: Mitarbeiter 443 | E465: N | F465: 1029 | G465: 1072 | H465: 102 | I465: Niederl. 3 | J465: Department | K465: Supervisor | L465: Non-Mgm. | M465: ang. | N465: W | O465: 42948 | R465: =DATEDIF(O465,IF(P465="",TODAY(),P465),"y") -> 2 | S465: 32347 | T465: =DATEDIF(S465,TODAY(),"Y") -> 31 | U465: N | V465: 30 | W465: =V465/12 -> 2.5 | X465: 39 | Y465: Function | Z465: =IF(E465="Y",(X465/39)/2,(X465/39)) -> 1
A466: 444 | B466: Active | C466: P | D466: Mitarbeiter 444 | E466: N | F466: 1035 | G466: 1078 | H466: 102 | I466: Niederl. 3 | J466: Department | K466: Supervisor | L466: Non-Mgm. | M466: ang. | N466: W | O466: 42948 | R466: =DATEDIF(O466,IF(P466="",TODAY(),P466),"y") -> 2 | S466: 32198 | T466: =DATEDIF(S466,TODAY(),"Y") -> 31 | U466: N | V466: 30 | W466: =V466/12 -> 2.5 | X466: 39 | Y466: Function | Z466: =IF(E466="Y",(X466/39)/2,(X466/39)) -> 1
A467: 445 | B467: Active | C467: P | D467: Mitarbeiter 445 | E467: N | F467: 1028 | G467: 1071 | H467: 102 | I467: Niederl. 3 | J467: Department | K467: Supervisor | L467: Non-Mgm. | M467: ang. | N467: M | O467: 42948 | R467: =DATEDIF(O467,IF(P467="",TODAY(),P467),"y") -> 2 | S467: 26839 | T467: =DATEDIF(S467,TODAY(),"Y") -> 46 | U467: N | V467: 30 | W467: =V467/12 -> 2.5 | X467: 39 | Y467: Function | Z467: =IF(E467="Y",(X467/39)/2,(X467/39)) -> 1
A468: 446 | B468: Active | C468: P | D468: Mitarbeiter 446 | E468: N | F468: 1022 | G468: 1029 | H468: 109 | I468: Niederl. 10 | J468: Department | K468: Supervisor | L468: Non-Mgm. | M468: ang. | N468: M | O468: 42948 | R468: =DATEDIF(O468,IF(P468="",TODAY(),P468),"y") -> 2 | S468: 27219 | T468: =DATEDIF(S468,TODAY(),"Y") -> 45 | U468: J | V468: 30 | W468: =V468/12 -> 2.5 | X468: 39 | Y468: Function | Z468: =IF(E468="Y",(X468/39)/2,(X468/39)) -> 1
A469: 447 | B469: Active | C469: P | D469: Mitarbeiter 447 | E469: N | F469: 1022 | G469: 1035 | H469: 104 | I469: Niederl. 5 | J469: Department | K469: Supervisor | L469: Non-Mgm. | M469: ang. | N469: M | O469: 42948 | R469: =DATEDIF(O469,IF(P469="",TODAY(),P469),"y") -> 2 | S469: 27423 | T469: =DATEDIF(S469,TODAY(),"Y") -> 44 | U469: J | V469: 30 | W469: =V469/12 -> 2.5 | X469: 39 | Y469: Function | Z469: =IF(E469="Y",(X469/39)/2,(X469/39)) -> 1
A470: 448 | B470: Active | C470: P | D470: Mitarbeiter 448 | E470: N | F470: 1017 | G470: 1017 | H470: 100 | I470: Niederl. 1 | J470: Department | K470: Supervisor | L470: Non-Mgm. | M470: ang. | N470: M | O470: 42968 | R470: =DATEDIF(O470,IF(P470="",TODAY(),P470),"y") -> 2 | S470: 27577 | T470: =DATEDIF(S470,TODAY(),"Y") -> 44 | U470: N | V470: 30 | W470: =V470/12 -> 2.5 | X470: 39 | Y470: Function | Z470: =IF(E470="Y",(X470/39)/2,(X470/39)) -> 1
A471: 449 | B471: Active | C471: P | D471: Mitarbeiter 449 | E471: N | F471: 1007 | G471: 1007 | H471: 100 | I471: Niederl. 1 | J471: Department | K471: Supervisor | L471: Non-Mgm. | M471: tech | N471: M | O471: 42979 | P471: 44255 | R471: =DATEDIF(O471,IF(P471="",TODAY(),P471),"y") -> 3 | S471: 36735 | T471: =DATEDIF(S471,TODAY(),"Y") -> 19 | U471: J | V471: 30 | W471: =V471/12 -> 2.5 | X471: 39 | Y471: Function | Z471: =IF(E471="Y",(X471/39)/2,(X471/39)) -> 1
A472: 450 | B472: Active | C472: P | D472: Mitarbeiter 450 | E472: N | F472: 1007 | G472: 1007 | H472: 100 | I472: Niederl. 1 | J472: Department | K472: Supervisor | L472: Non-Mgm. | M472: tech | N472: W | O472: 42979 | P472: 44255 | R472: =DATEDIF(O472,IF(P472="",TODAY(),P472),"y") -> 3 | S472: 37284 | T472: =DATEDIF(S472,TODAY(),"Y") -> 17 | U472: J | V472: 30 | W472: =V472/12 -> 2.5 | X472: 39 | Y472: Function | Z472: =IF(E472="Y",(X472/39)/2,(X472/39)) -> 1
A473: 451 | B473: Active | C473: P | D473: Mitarbeiter 451 | E473: N | F473: 1012 | G473: 1012 | H473: 100 | I473: Niederl. 1 | J473: Department | K473: Supervisor | L473: Non-Mgm. | M473: kfm | N473: W | O473: 42979 | P473: 44074 | R473: =DATEDIF(O473,IF(P473="",TODAY(),P473),"y") -> 2 | S473: 36098 | T473: =DATEDIF(S473,TODAY(),"Y") -> 21 | U473: J | V473: 30 | W473: =V473/12 -> 2.5 | X473: 39 | Y473: Function | Z473: =IF(E473="Y",(X473/39)/2,(X473/39)) -> 1
A474: 452 | B474: Active | C474: P | D474: Mitarbeiter 452 | E474: N | F474: 1012 | G474: 1012 | H474: 100 | I474: Niederl. 1 | J474: Department | K474: Supervisor | L474: Non-Mgm. | M474: kfm | N474: W | O474: 42979 | P474: 44074 | R474: =DATEDIF(O474,IF(P474="",TODAY(),P474),"y") -> 2 | S474: 36818 | T474: =DATEDIF(S474,TODAY(),"Y") -> 19 | U474: J | V474: 30 | W474: =V474/12 -> 2.5 | X474: 39 | Y474: Function | Z474: =IF(E474="Y",(X474/39)/2,(X474/39)) -> 1
A475: 453 | B475: Active | C475: P | D475: Mitarbeiter 453 | E475: N | F475: 1012 | G475: 1012 | H475: 100 | I475: Niederl. 1 | J475: Department | K475: Supervisor | L475: Non-Mgm. | M475: kfm | N475: W | O475: 42979 | P475: 44074 | R475: =DATEDIF(O475,IF(P475="",TODAY(),P475),"y") -> 2 | S475: 37098 | T475: =DATEDIF(S475,TODAY(),"Y") -> 18 | U475: J | V475: 30 | W475: =V475/12 -> 2.5 | X475: 39 | Y475: Function | Z475: =IF(E475="Y",(X475/39)/2,(X475/39)) -> 1
A476: 454 | B476: Active | C476: P | D476: Mitarbeiter 454 | E476: N | F476: 1007 | G476: 1007 | H476: 100 | I476: Niederl. 1 | J476: Department | K476: Supervisor | L476: Non-Mgm. | M476: tech | N476: M | O476: 42979 | P476: 44255 | R476: =DATEDIF(O476,IF(P476="",TODAY(),P476),"y") -> 3 | S476: 37031 | T476: =DATEDIF(S476,TODAY(),"Y") -> 18 | U476: J | V476: 30 | W476: =V476/12 -> 2.5 | X476: 39 | Y476: Function | Z476: =IF(E476="Y",(X476/39)/2,(X476/39)) -> 1
A477: 455 | B477: Active | C477: P | D477: Mitarbeiter 455 | E477: N | F477: 1007 | G477: 1007 | H477: 100 | I477: Niederl. 1 | J477: Department | K477: Supervisor | L477: Non-Mgm. | M477: tech | N477: M | O477: 42979 | P477: 44255 | R477: =DATEDIF(O477,IF(P477="",TODAY(),P477),"y") -> 3 | S477: 36847 | T477: =DATEDIF(S477,TODAY(),"Y") -> 19 | U477: J | V477: 30 | W477: =V477/12 -> 2.5 | X477: 39 | Y477: Function | Z477: =IF(E477="Y",(X477/39)/2,(X477/39)) -> 1
A478: 456 | B478: Active | C478: P | D478: Mitarbeiter 456 | E478: N | F478: 1007 | G478: 1007 | H478: 100 | I478: Niederl. 1 | J478: Department | K478: Supervisor | L478: Non-Mgm. | M478: tech | N478: M | O478: 42979 | P478: 44255 | R478: =DATEDIF(O478,IF(P478="",TODAY(),P478),"y") -> 3 | S478: 36829 | T478: =DATEDIF(S478,TODAY(),"Y") -> 19 | U478: J | V478: 30 | W478: =V478/12 -> 2.5 | X478: 39 | Y478: Function | Z478: =IF(E478="Y",(X478/39)/2,(X478/39)) -> 1
A479: 457 | B479: Active | C479: P | D479: Mitarbeiter 457 | E479: N | F479: 1007 | G479: 1007 | H479: 100 | I479: Niederl. 1 | J479: Department | K479: Supervisor | L479: Non-Mgm. | M479: tech | N479: M | O479: 42979 | P479: 44255 | R479: =DATEDIF(O479,IF(P479="",TODAY(),P479),"y") -> 3 | S479: 37061 | T479: =DATEDIF(S479,TODAY(),"Y") -> 18 | U479: J | V479: 30 | W479: =V479/12 -> 2.5 | X479: 39 | Y479: Function | Z479: =IF(E479="Y",(X479/39)/2,(X479/39)) -> 1
A480: 458 | B480: Active | C480: P | D480: Mitarbeiter 458 | E480: N | F480: 1012 | G480: 1012 | H480: 100 | I480: Niederl. 1 | J480: Department | K480: Supervisor | L480: Non-Mgm. | M480: kfm | N480: M | O480: 42979 | P480: 44074 | R480: =DATEDIF(O480,IF(P480="",TODAY(),P480),"y") -> 2 | S480: 37121 | T480: =DATEDIF(S480,TODAY(),"Y") -> 18 | U480: J | V480: 30 | W480: =V480/12 -> 2.5 | X480: 39 | Y480: Function | Z480: =IF(E480="Y",(X480/39)/2,(X480/39)) -> 1
A481: 459 | B481: Active | C481: P | D481: Mitarbeiter 459 | E481: N | F481: 1007 | G481: 1007 | H481: 100 | I481: Niederl. 1 | J481: Department | K481: Supervisor | L481: Non-Mgm. | M481: tech | N481: M | O481: 42979 | P481: 44255 | R481: =DATEDIF(O481,IF(P481="",TODAY(),P481),"y") -> 3 | S481: 36834 | T481: =DATEDIF(S481,TODAY(),"Y") -> 19 | U481: J | V481: 30 | W481: =V481/12 -> 2.5 | X481: 39 | Y481: Function | Z481: =IF(E481="Y",(X481/39)/2,(X481/39)) -> 1
A482: 460 | B482: Active | C482: P | D482: Mitarbeiter 460 | E482: N | F482: 1007 | G482: 1007 | H482: 100 | I482: Niederl. 1 | J482: Department | K482: Supervisor | L482: Non-Mgm. | M482: tech | N482: M | O482: 42979 | P482: 44255 | R482: =DATEDIF(O482,IF(P482="",TODAY(),P482),"y") -> 3 | S482: 37100 | T482: =DATEDIF(S482,TODAY(),"Y") -> 18 | U482: J | V482: 30 | W482: =V482/12 -> 2.5 | X482: 39 | Y482: Function | Z482: =IF(E482="Y",(X482/39)/2,(X482/39)) -> 1
... A486: 464 | B486: Active | C486: P | D486: Mitarbeiter 464 | E486: N | F486: 1049 | G486: 1092 | H486: 102 | I486: Niederl. 3 | J486: Department | K486: Supervisor | L486: Non-Mgm. | M486: kfm | N486: M | O486: 42979 | P486: 44074 | R486: =DATEDIF(O486,IF(P486="",TODAY(),P486),"y") -> 2 | S486: 36829 | T486: =DATEDIF(S486,TODAY(),"Y") -> 19 | U486: J | V486: 30 | W486: =V486/12 -> 2.5 | X486: 39 | Y486: Function | Z486: =IF(E486="Y",(X486/39)/2,(X486/39)) -> 1
A487: 465 | B487: Active | C487: P | D487: Mitarbeiter 465 | E487: N | F487: 1043 | G487: 1086 | H487: 102 | I487: Niederl. 3 | J487: Department | K487: Supervisor | L487: Non-Mgm. | M487: ang. | N487: M | O487: 42979 | R487: =DATEDIF(O487,IF(P487="",TODAY(),P487),"y") -> 2 | S487: 34087 | T487: =DATEDIF(S487,TODAY(),"Y") -> 26 | U487: N | V487: 30 | W487: =V487/12 -> 2.5 | X487: 39 | Y487: Function | Z487: =IF(E487="Y",(X487/39)/2,(X487/39)) -> 1
A488: 466 | B488: Active | C488: P | D488: Mitarbeiter 466 | E488: N | F488: 1035 | G488: 1078 | H488: 102 | I488: Niederl. 3 | J488: Department | K488: Supervisor | L488: Non-Mgm. | M488: ang. | N488: M | O488: 42982 | R488: =DATEDIF(O488,IF(P488="",TODAY(),P488),"y") -> 2 | S488: 30818 | T488: =DATEDIF(S488,TODAY(),"Y") -> 35 | U488: N | V488: 30 | W488: =V488/12 -> 2.5 | X488: 39 | Y488: Function | Z488: =IF(E488="Y",(X488/39)/2,(X488/39)) -> 1
A489: 467 | B489: Active | C489: P | D489: Mitarbeiter 467 | E489: N | F489: 1022 | G489: 1060 | H489: 106 | I489: Niederl. 7 | J489: Department | K489: Supervisor | L489: Non-Mgm. | M489: ang. | N489: M | O489: 42979 | R489: =DATEDIF(O489,IF(P489="",TODAY(),P489),"y") -> 2 | S489: 25996 | T489: =DATEDIF(S489,TODAY(),"Y") -> 48 | U489: J | V489: 30 | W489: =V489/12 -> 2.5 | X489: 39 | Y489: Function | Z489: =IF(E489="Y",(X489/39)/2,(X489/39)) -> 1
A490: 468 | B490: Active | C490: P | D490: Mitarbeiter 468 | E490: N | F490: 1022 | G490: 1053 | H490: 107 | I490: Niederl. 8 | J490: Department | K490: Supervisor | L490: Non-Mgm. | M490: ang. | N490: M | O490: 42979 | R490: =DATEDIF(O490,IF(P490="",TODAY(),P490),"y") -> 2 | S490: 34357 | T490: =DATEDIF(S490,TODAY(),"Y") -> 25 | U490: J | V490: 30 | W490: =V490/12 -> 2.5 | X490: 39 | Y490: Function | Z490: =IF(E490="Y",(X490/39)/2,(X490/39)) -> 1
A491: 469 | B491: Active | C491: P | D491: Mitarbeiter 469 | E491: N | F491: 1023 | G491: 1044 | H491: 103 | I491: Niederl. 4 | J491: Department | K491: Supervisor | L491: Manager | M491: ang. | N491: M | O491: 42979 | R491: =DATEDIF(O491,IF(P491="",TODAY(),P491),"y") -> 2 | S491: 23696 | T491: =DATEDIF(S491,TODAY(),"Y") -> 55 | U491: N | V491: 30 | W491: =V491/12 -> 2.5 | X491: 39 | Y491: Function | Z491: =IF(E491="Y",(X491/39)/2,(X491/39)) -> 1
A492: 470 | B492: Active | C492: P | D492: Mitarbeiter 470 | E492: N | F492: 1045 | G492: 1088 | H492: 102 | I492: Niederl. 3 | J492: Department | K492: Supervisor | L492: Non-Mgm. | M492: ang. | N492: W | O492: 42990 | R492: =DATEDIF(O492,IF(P492="",TODAY(),P492),"y") -> 2 | S492: 26065 | T492: =DATEDIF(S492,TODAY(),"Y") -> 48 | U492: N | V492: 12 | W492: =V492/12 -> 1 | X492: 16 | Y492: Function | Z492: =IF(E492="Y",(X492/39)/2,(X492/39)) -> 0.41025641
A493: 471 | B493: Active | C493: P | D493: Mitarbeiter 471 | E493: N | F493: 1024 | G493: 1054 | H493: 101 | I493: Niederl. 2 | J493: Department | K493: Supervisor | L493: Non-Mgm. | M493: ang. | N493: W | O493: 42982 | R493: =DATEDIF(O493,IF(P493="",TODAY(),P493),"y") -> 2 | S493: 33397 | T493: =DATEDIF(S493,TODAY(),"Y") -> 28 | U493: N | V493: 30 | W493: =V493/12 -> 2.5 | X493: 39 | Y493: Function | Z493: =IF(E493="Y",(X493/39)/2,(X493/39)) -> 1
A494: 472 | B494: Active | C494: P | D494: Mitarbeiter 472 | E494: N | F494: 1025 | G494: 1068 | H494: 102 | I494: Niederl. 3 | J494: Department | K494: Supervisor | L494: Non-Mgm. | M494: ang. | N494: M | O494: 42979 | R494: =DATEDIF(O494,IF(P494="",TODAY(),P494),"y") -> 2 | S494: 25081 | T494: =DATEDIF(S494,TODAY(),"Y") -> 51 | U494: N | V494: 30 | W494: =V494/12 -> 2.5 | X494: 39 | Y494: Function | Z494: =IF(E494="Y",(X494/39)/2,(X494/39)) -> 1
A495: 473 | B495: Active | C495: P | D495: Mitarbeiter 473 | E495: N | F495: 1004 | G495: 1004 | H495: 100 | I495: Niederl. 1 | J495: Department | K495: Supervisor | L495: Non-Mgm. | M495: ang. | N495: W | O495: 42979 | R495: =DATEDIF(O495,IF(P495="",TODAY(),P495),"y") -> 2 | S495: 22114 | T495: =DATEDIF(S495,TODAY(),"Y") -> 59 | U495: N | V495: 30 | W495: =V495/12 -> 2.5 | X495: 25 | Y495: Function | Z495: =IF(E495="Y",(X495/39)/2,(X495/39)) -> 0.64102564
A496: 474 | B496: Active | C496: P | D496: Mitarbeiter 474 | E496: N | F496: 1024 | G496: 1054 | H496: 101 | I496: Niederl. 2 | J496: Department | K496: Supervisor | L496: Non-Mgm. | M496: ang. | N496: M | O496: 42996 | R496: =DATEDIF(O496,IF(P496="",TODAY(),P496),"y") -> 2 | S496: 32062 | T496: =DATEDIF(S496,TODAY(),"Y") -> 32 | U496: N | V496: 30 | W496: =V496/12 -> 2.5 | X496: 39 | Y496: Function | Z496: =IF(E496="Y",(X496/39)/2,(X496/39)) -> 1
A497: 475 | B497: Active | C497: P | D497: Mitarbeiter 475 | E497: N | F497: 1050 | G497: 1093 | H497: 102 | I497: Niederl. 3 | J497: Department | K497: Supervisor | L497: Non-Mgm. | M497: ang. | N497: M | O497: 42993 | R497: =DATEDIF(O497,IF(P497="",TODAY(),P497),"y") -> 2 | S497: 29531 | T497: =DATEDIF(S497,TODAY(),"Y") -> 39 | U497: N | V497: 30 | W497: =V497/12 -> 2.5 | X497: 39 | Y497: Function | Z497: =IF(E497="Y",(X497/39)/2,(X497/39)) -> 1
A498: 476 | B498: Active | C498: P | D498: Mitarbeiter 476 | E498: N | F498: 1048 | G498: 1091 | H498: 102 | I498: Niederl. 3 | J498: Department | K498: Supervisor | L498: Manager | M498: ang. | N498: M | O498: 43009 | R498: =DATEDIF(O498,IF(P498="",TODAY(),P498),"y") -> 2 | S498: 23482 | T498: =DATEDIF(S498,TODAY(),"Y") -> 55 | U498: N | V498: 30 | W498: =V498/12 -> 2.5 | X498: 39 | Y498: Function | Z498: =IF(E498="Y",(X498/39)/2,(X498/39)) -> 1
... A591: 567 | B591: Active | C591: P | D591: Mitarbeiter 567 | E591: N | F591: 1022 | G591: 1029 | H591: 109 | I591: Niederl. 10 | J591: Department | K591: Supervisor | L591: Non-Mgm. | M591: ang. | N591: M | O591: 43328 | R591: =DATEDIF(O591,IF(P591="",TODAY(),P591),"y") -> 1 | S591: 22941 | T591: =DATEDIF(S591,TODAY(),"Y") -> 57 | U591: J | V591: 30 | W591: =V591/12 -> 2.5 | X591: 39 | Y591: Function | Z591: =IF(E591="Y",(X591/39)/2,(X591/39)) -> 1
A592: 568 | B592: Active | C592: P | D592: Mitarbeiter 568 | E592: N | F592: 1007 | G592: 1007 | H592: 100 | I592: Niederl. 1 | J592: Department | K592: Supervisor | L592: Non-Mgm. | M592: tech | N592: M | O592: 43344 | P592: 44620 | R592: =DATEDIF(O592,IF(P592="",TODAY(),P592),"y") -> 3 | S592: 37407 | T592: =DATEDIF(S592,TODAY(),"Y") -> 17 | U592: J | V592: 30 | W592: =V592/12 -> 2.5 | X592: 39 | Y592: Function | Z592: =IF(E592="Y",(X592/39)/2,(X592/39)) -> 1
A593: 569 | B593: Active | C593: P | D593: Mitarbeiter 569 | E593: N | F593: 1007 | G593: 1007 | H593: 100 | I593: Niederl. 1 | J593: Department | K593: Supervisor | L593: Non-Mgm. | M593: tech | N593: M | O593: 43344 | P593: 44620 | R593: =DATEDIF(O593,IF(P593="",TODAY(),P593),"y") -> 3 | S593: 36982 | T593: =DATEDIF(S593,TODAY(),"Y") -> 18 | U593: J | V593: 30 | W593: =V593/12 -> 2.5 | X593: 39 | Y593: Function | Z593: =IF(E593="Y",(X593/39)/2,(X593/39)) -> 1
A594: 570 | B594: Active | C594: P | D594: Mitarbeiter 570 | E594: N | F594: 1007 | G594: 1007 | H594: 100 | I594: Niederl. 1 | J594: Department | K594: Supervisor | L594: Non-Mgm. | M594: tech | N594: M | O594: 43344 | P594: 44620 | R594: =DATEDIF(O594,IF(P594="",TODAY(),P594),"y") -> 3 | S594: 37810 | T594: =DATEDIF(S594,TODAY(),"Y") -> 16 | U594: J | V594: 30 | W594: =V594/12 -> 2.5 | X594: 39 | Y594: Function | Z594: =IF(E594="Y",(X594/39)/2,(X594/39)) -> 1
A595: 571 | B595: Active | C595: P | D595: Mitarbeiter 571 | E595: N | F595: 1012 | G595: 1012 | H595: 100 | I595: Niederl. 1 | J595: Department | K595: Supervisor | L595: Non-Mgm. | M595: kfm | N595: M | O595: 43344 | P595: 44439 | R595: =DATEDIF(O595,IF(P595="",TODAY(),P595),"y") -> 2 | S595: 37095 | T595: =DATEDIF(S595,TODAY(),"Y") -> 18 | U595: J | V595: 30 | W595: =V595/12 -> 2.5 | X595: 39 | Y595: Function | Z595: =IF(E595="Y",(X595/39)/2,(X595/39)) -> 1
A596: 572 | B596: Active | C596: P | D596: Mitarbeiter 572 | E596: N | F596: 1007 | G596: 1007 | H596: 100 | I596: Niederl. 1 | J596: Department | K596: Supervisor | L596: Non-Mgm. | M596: tech | N596: M | O596: 43344 | P596: 44620 | R596: =DATEDIF(O596,IF(P596="",TODAY(),P596),"y") -> 3 | S596: 37257 | T596: =DATEDIF(S596,TODAY(),"Y") -> 18 | U596: J | V596: 30 | W596: =V596/12 -> 2.5 | X596: 39 | Y596: Function | Z596: =IF(E596="Y",(X596/39)/2,(X596/39)) -> 1
A597: 573 | B597: Active | C597: P | D597: Mitarbeiter 573 | E597: N | F597: 1007 | G597: 1007 | H597: 100 | I597: Niederl. 1 | J597: Department | K597: Supervisor | L597: Non-Mgm. | M597: tech | N597: M | O597: 43344 | P597: 44620 | R597: =DATEDIF(O597,IF(P597="",TODAY(),P597),"y") -> 3 | S597: 37671 | T597: =DATEDIF(S597,TODAY(),"Y") -> 16 | U597: J | V597: 30 | W597: =V597/12 -> 2.5 | X597: 39 | Y597: Function | Z597: =IF(E597="Y",(X597/39)/2,(X597/39)) -> 1
A598: 574 | B598: Active | C598: P | D598: Mitarbeiter 574 | E598: N | F598: 1007 | G598: 1007 | H598: 100 | I598: Niederl. 1 | J598: Department | K598: Supervisor | L598: Non-Mgm. | M598: tech | N598: M | O598: 43344 | P598: 44620 | R598: =DATEDIF(O598,IF(P598="",TODAY(),P598),"y") -> 3 | S598: 37383 | T598: =DATEDIF(S598,TODAY(),"Y") -> 17 | U598: J | V598: 30 | W598: =V598/12 -> 2.5 | X598: 39 | Y598: Function | Z598: =IF(E598="Y",(X598/39)/2,(X598/39)) -> 1
A599: 575 | B599: Active | C599: P | D599: Mitarbeiter 575 | E599: N | F599: 1007 | G599: 1007 | H599: 100 | I599: Niederl. 1 | J599: Department | K599: Supervisor | L599: Non-Mgm. | M599: tech | N599: M | O599: 43344 | P599: 44620 | R599: =DATEDIF(O599,IF(P599="",TODAY(),P599),"y") -> 3 | S599: 37158 | T599: =DATEDIF(S599,TODAY(),"Y") -> 18 | U599: J | V599: 30 | W599: =V599/12 -> 2.5 | X599: 39 | Y599: Function | Z599: =IF(E599="Y",(X599/39)/2,(X599/39)) -> 1
A600: 576 | B600: Active | C600: P | D600: Mitarbeiter 576 | E600: N | F600: 1012 | G600: 1012 | H600: 100 | I600: Niederl. 1 | J600: Department | K600: Supervisor | L600: Non-Mgm. | M600: kfm | N600: W | O600: 43344 | P600: 44439 | R600: =DATEDIF(O600,IF(P600="",TODAY(),P600),"y") -> 2 | S600: 37192 | T600: =DATEDIF(S600,TODAY(),"Y") -> 18 | U600: J | V600: 30 | W600: =V600/12 -> 2.5 | X600: 39 | Y600: Function | Z600: =IF(E600="Y",(X600/39)/2,(X600/39)) -> 1
A601: 577 | B601: Active | C601: P | D601: Mitarbeiter 577 | E601: N | F601: 1012 | G601: 1012 | H601: 100 | I601: Niederl. 1 | J601: Department | K601: Supervisor | L601: Non-Mgm. | M601: kfm | N601: W | O601: 43344 | P601: 44439 | R601: =DATEDIF(O601,IF(P601="",TODAY(),P601),"y") -> 2 | S601: 37788 | T601: =DATEDIF(S601,TODAY(),"Y") -> 16 | U601: J | V601: 30 | W601: =V601/12 -> 2.5 | X601: 39 | Y601: Function | Z601: =IF(E601="Y",(X601/39)/2,(X601/39)) -> 1
A602: 578 | B602: Active | C602: P | D602: Mitarbeiter 578 | E602: N | F602: 1012 | G602: 1012 | H602: 100 | I602: Niederl. 1 | J602: Department | K602: Supervisor | L602: Non-Mgm. | M602: kfm | N602: W | O602: 43344 | P602: 44439 | R602: =DATEDIF(O602,IF(P602="",TODAY(),P602),"y") -> 2 | S602: 37350 | T602: =DATEDIF(S602,TODAY(),"Y") -> 17 | U602: J | V602: 30 | W602: =V602/12 -> 2.5 | X602: 39 | Y602: Function | Z602: =IF(E602="Y",(X602/39)/2,(X602/39)) -> 1
A603: 579 | B603: Active | C603: P | D603: Mitarbeiter 579 | E603: N | F603: 1012 | G603: 1012 | H603: 100 | I603: Niederl. 1 | J603: Department | K603: Supervisor | L603: Non-Mgm. | M603: kfm | N603: M | O603: 43344 | P603: 44439 | R603: =DATEDIF(O603,IF(P603="",TODAY(),P603),"y") -> 2 | S603: 37254 | T603: =DATEDIF(S603,TODAY(),"Y") -> 18 | U603: J | V603: 30 | W603: =V603/12 -> 2.5 | X603: 39 | Y603: Function | Z603: =IF(E603="Y",(X603/39)/2,(X603/39)) -> 1
... A609: 585 | B609: Active | C609: P | D609: Mitarbeiter 585 | E609: N | F609: 1049 | G609: 1092 | H609: 101 | I609: Niederl. 2 | J609: Department | K609: Supervisor | L609: Non-Mgm. | M609: tech | N609: M | O609: 43344 | P609: 44439 | R609: =DATEDIF(O609,IF(P609="",TODAY(),P609),"y") -> 2 | S609: 37481 | T609: =DATEDIF(S609,TODAY(),"Y") -> 17 | U609: J | V609: 30 | W609: =V609/12 -> 2.5 | X609: 39 | Y609: Function | Z609: =IF(E609="Y",(X609/39)/2,(X609/39)) -> 1
A610: 586 | B610: Active | C610: P | D610: Mitarbeiter 586 | E610: N | F610: 1044 | G610: 1087 | H610: 102 | I610: Niederl. 3 | J610: Department | K610: Supervisor | L610: Non-Mgm. | M610: ang. | N610: M | O610: 43344 | R610: =DATEDIF(O610,IF(P610="",TODAY(),P610),"y") -> 1 | S610: 34293 | T610: =DATEDIF(S610,TODAY(),"Y") -> 26 | U610: N | V610: 30 | W610: =V610/12 -> 2.5 | X610: 39 | Y610: Function | Z610: =IF(E610="Y",(X610/39)/2,(X610/39)) -> 1
A611: 587 | B611: Active | C611: P | D611: Mitarbeiter 587 | E611: N | F611: 1048 | G611: 1091 | H611: 102 | I611: Niederl. 3 | J611: Department | K611: Supervisor | L611: Non-Mgm. | M611: ang. | N611: W | O611: 43344 | R611: =DATEDIF(O611,IF(P611="",TODAY(),P611),"y") -> 1 | S611: 29272 | T611: =DATEDIF(S611,TODAY(),"Y") -> 39 | U611: N | V611: 30 | W611: =V611/12 -> 2.5 | X611: 39 | Y611: Function | Z611: =IF(E611="Y",(X611/39)/2,(X611/39)) -> 1
A612: 588 | B612: Active | C612: P | D612: Mitarbeiter 588 | E612: N | F612: 1022 | G612: 1029 | H612: 109 | I612: Niederl. 10 | J612: Department | K612: Supervisor | L612: Non-Mgm. | M612: ang. | N612: M | O612: 43344 | R612: =DATEDIF(O612,IF(P612="",TODAY(),P612),"y") -> 1 | S612: 29985 | T612: =DATEDIF(S612,TODAY(),"Y") -> 37 | U612: J | V612: 30 | W612: =V612/12 -> 2.5 | X612: 39 | Y612: Function | Z612: =IF(E612="Y",(X612/39)/2,(X612/39)) -> 1
A613: 589 | B613: Active | C613: P | D613: Mitarbeiter 589 | E613: N | F613: 1022 | G613: 1023 | H613: 108 | I613: Niederl. 9 | J613: Department | K613: Supervisor | L613: Non-Mgm. | M613: ang. | N613: M | O613: 43358 | R613: =DATEDIF(O613,IF(P613="",TODAY(),P613),"y") -> 1 | S613: 30583 | T613: =DATEDIF(S613,TODAY(),"Y") -> 36 | U613: J | V613: 30 | W613: =V613/12 -> 2.5 | X613: 39 | Y613: Function | Z613: =IF(E613="Y",(X613/39)/2,(X613/39)) -> 1
A614: 590 | B614: Active | C614: P | D614: Mitarbeiter 590 | E614: N | F614: 1024 | G614: 1054 | H614: 101 | I614: Niederl. 2 | J614: Department | K614: Supervisor | L614: Non-Mgm. | M614: ang. | N614: M | O614: 43344 | R614: =DATEDIF(O614,IF(P614="",TODAY(),P614),"y") -> 1 | S614: 24276 | T614: =DATEDIF(S614,TODAY(),"Y") -> 53 | U614: N | V614: 30 | W614: =V614/12 -> 2.5 | X614: 39 | Y614: Function | Z614: =IF(E614="Y",(X614/39)/2,(X614/39)) -> 1
A615: 591 | B615: Active | C615: P | D615: Mitarbeiter 591 | E615: N | F615: 1022 | G615: 1023 | H615: 108 | I615: Niederl. 9 | J615: Department | K615: Supervisor | L615: Non-Mgm. | M615: ang. | N615: M | O615: 43344 | R615: =DATEDIF(O615,IF(P615="",TODAY(),P615),"y") -> 1 | S615: 32745 | T615: =DATEDIF(S615,TODAY(),"Y") -> 30 | U615: J | V615: 30 | W615: =V615/12 -> 2.5 | X615: 39 | Y615: Function | Z615: =IF(E615="Y",(X615/39)/2,(X615/39)) -> 1
A616: 592 | B616: Active | C616: P | D616: Mitarbeiter 592 | E616: N | F616: 1022 | G616: 1053 | H616: 107 | I616: Niederl. 8 | J616: Department | K616: Supervisor | L616: Non-Mgm. | M616: ang. | N616: M | O616: 43344 | R616: =DATEDIF(O616,IF(P616="",TODAY(),P616),"y") -> 1 | S616: 22528 | T616: =DATEDIF(S616,TODAY(),"Y") -> 58 | U616: J | V616: 30 | W616: =V616/12 -> 2.5 | X616: 39 | Y616: Function | Z616: =IF(E616="Y",(X616/39)/2,(X616/39)) -> 1
A617: 593 | B617: Active | C617: P | D617: Mitarbeiter 593 | E617: N | F617: 1047 | G617: 1090 | H617: 102 | I617: Niederl. 3 | J617: Department | K617: Supervisor | L617: Non-Mgm. | M617: ang. | N617: M | O617: 43358 | R617: =DATEDIF(O617,IF(P617="",TODAY(),P617),"y") -> 1 | S617: 30187 | T617: =DATEDIF(S617,TODAY(),"Y") -> 37 | U617: N | V617: 30 | W617: =V617/12 -> 2.5 | X617: 39 | Y617: Function | Z617: =IF(E617="Y",(X617/39)/2,(X617/39)) -> 1
A618: 594 | B618: Active | C618: P | D618: Mitarbeiter 594 | E618: N | F618: 1022 | G618: 1060 | H618: 106 | I618: Niederl. 7 | J618: Department | K618: Supervisor | L618: Non-Mgm. | M618: ang. | N618: M | O618: 43358 | R618: =DATEDIF(O618,IF(P618="",TODAY(),P618),"y") -> 1 | S618: 32461 | T618: =DATEDIF(S618,TODAY(),"Y") -> 31 | U618: J | V618: 30 | W618: =V618/12 -> 2.5 | X618: 39 | Y618: Function | Z618: =IF(E618="Y",(X618/39)/2,(X618/39)) -> 1
A619: 595 | B619: Active | C619: P | D619: Mitarbeiter 595 | E619: N | F619: 1012 | G619: 1012 | H619: 100 | I619: Niederl. 1 | J619: Department | K619: Supervisor | L619: Non-Mgm. | M619: kfm | N619: M | O619: 43344 | P619: 44439 | R619: =DATEDIF(O619,IF(P619="",TODAY(),P619),"y") -> 2 | S619: 36686 | T619: =DATEDIF(S619,TODAY(),"Y") -> 19 | U619: J | V619: 30 | W619: =V619/12 -> 2.5 | X619: 39 | Y619: Function | Z619: =IF(E619="Y",(X619/39)/2,(X619/39)) -> 1
A620: 596 | B620: Active | C620: P | D620: Mitarbeiter 596 | E620: N | F620: 1019 | G620: 1067 | H620: 111 | I620: Niederl. 12 | J620: Department | K620: Supervisor | L620: Non-Mgm. | M620: ang. | N620: W | O620: 43360 | R620: =DATEDIF(O620,IF(P620="",TODAY(),P620),"y") -> 1 | S620: 36313 | T620: =DATEDIF(S620,TODAY(),"Y") -> 20 | U620: N | V620: 30 | W620: =V620/12 -> 2.5 | X620: 39 | Y620: Function | Z620: =IF(E620="Y",(X620/39)/2,(X620/39)) -> 1
...

Sheet April 2020
A1: Stamm | B1: Stamm | C1: Stamm | D1: Stamm | E1: Stamm | F1: Stamm | G1: Stamm | H1: Stamm | I1: Stamm | J1: Stamm | K1: Stamm | L1: Stamm | M1: Stamm | N1: Stamm | O1: Stamm | P1: Stamm | Q1: Stamm | R1: Stamm | S1: Stamm | T1: Stamm | U1: Stamm | V1: Stamm | W1: Stamm | X1: Stamm | Y1: Stamm | Z1: Stamm | AA1: Stamm | AB1: Stamm | AC1: Kosten | AD1: Kosten | AE1: Kosten | AF1: Kosten | AG1: Kosten | AH1: Kosten | AI1: Kosten | AJ1: Kosten | AK1: Kosten | AL1: Kosten | AM1: Kosten | AN1: Kosten | AO1: Kosten | AP1: Kosten | AQ1: Kosten | AR1: Kosten | AS1: Kosten | AT1: Kosten | AU1: Kosten | AV1: Kosten | AW1: Kosten | AX1: Kosten
A2: Monat von | B2: Monat bis | C2: Persnnr. | D2: Kostentyp P = Personal | E2: Aktiv o. Inaktiv | F2: Name | G2: gesplittet auf zwei Kostenstellen | H2: Finanz- kostenstelle | I2: Personal- kostenstelle | J2: Niederlassung Nr. | K2: Niederlassung Bezeichnung | L2: Abteilung | M2: Vorgesetzer | N2: Angest.- Level | O2: Vertrag Ang. = Angestellt | P2: Geschlecht | Q2: Eintritt | R2: Austritt | S2: unbenutzt aktuell | T2: Betriebs-zugeh. | U2: Geboren am | V2: Alter | W2: Bekommt er Weihnachts- und Urlaubsgeld | X2: Jahres-urlaubsanspruch | Y2: Urlaubsanspr. pro Monat | Z2: Wochenstd. für FTE | AA2: Fuktion | AB2: FTE Faktor | AC2: Gehalt | AD2: Gehalts-Nebenkosten
A3: MONTH F | B3: MONTH T | C3: PERSNO | D3: COSTTYPE | E3: STATUS | F3: NAME | G3: SPLIT | H3: FIBU | I3: PCC | J3: BRNO | K3: BRNA | L3: DEPARTMENT | M3: SV | N3: LEVEL | O3: Contract | P3: GENDER | Q3: ENTRY | R3: LEAVE | S3: LSET | T3: SEN | U3: BIRTH | V3: AGE | W3: VX | X3: VACY | Y3: VACM | Z3: WT | AA3: FUNCTION | AB3: FTE (FC) | AC3: SALARY (FC) | AD3: SV-AG SALARY (FC) | AE3: Work clothes (FC) | AF3: Bonus Retail (FC) | AG3: DSL (FC) | AH3: Further Education (FC) | AI3: Premiums Retail (FC) | AJ3: Provision Retail (FC) | AK3: School cost (FC) | AL3: Other (FC) | AM3: OVERTIME (FC) | AN3: SURCHARG. SERVT. (FC) | AO3: VACATION (FC) | AP3: X_MAS (FC) | AQ3: BAV (FC) | AR3: PAID OVERTIME (FC) | AS3: TRAVEL TIME (FC) | AT3: SURCHARG. FELPLG (FC) | AU3: MAWERBEN (FC) | AV3: SV-AG ADD (FC) | AW3: CAR (FC) | AX3: JUBILARE (FC)
A4: 43922 | B4: 43951 | C4: 1 | D4: =VLOOKUP(C4,DBASE!$A$4:$Z$756,3,FALSE) -> P | E4: =VLOOKUP(C4,DBASE!$A$4:$Z$756,2,FALSE) -> Active | F4: =VLOOKUP(C4,DBASE!$A$4:$Z$756,4,FALSE) -> Mitarbeiter 1 | G4: =VLOOKUP(C4,DBASE!$A$4:$Z$756,5,FALSE) -> N | H4: =VLOOKUP(C4,DBASE!$A$4:$Z$756,6,FALSE) -> 1047 | I4: =VLOOKUP(C4,DBASE!$A$4:$Z$756,7,FALSE) -> 1090 | J4: =VLOOKUP(C4,DBASE!$A$4:$Z$756,8,FALSE) -> 102 | K4: =VLOOKUP(C4,DBASE!$A$4:$Z$756,9,FALSE) -> Niederl. 3 | L4: =VLOOKUP(C4,DBASE!$A$4:$Z$756,10,FALSE) -> Department | M4: =VLOOKUP(C4,DBASE!$A$4:$Z$756,11,FALSE) -> Supervisor | N4: =VLOOKUP(C4,DBASE!$A$4:$Z$756,12,FALSE) -> Manager | O4: =VLOOKUP(C4,DBASE!$A$4:$Z$756,13,FALSE) -> ang. | P4: =VLOOKUP(C4,DBASE!$A$4:$Z$756,14,FALSE) -> W | Q4: =VLOOKUP(C4,DBASE!$A$4:$Z$756,15,FALSE) -> 31472 | R4: =IF(VLOOKUP(C4,DBASE!$A$4:$Z$756,16,FALSE)=0,"",VLOOKUP(C4,DBASE!$A$4:$Z$756,16,FALSE)) -> 44104 | S4: =VLOOKUP(C4,DBASE!$A$4:$Z$756,17,FALSE) | T4: =VLOOKUP(C4,DBASE!$A$4:$Z$756,18,FALSE) -> 34 | U4: =VLOOKUP(C4,DBASE!$A$4:$Z$756,19,FALSE) -> 23632 | V4: =VLOOKUP(C4,DBASE!$A$4:$Z$756,20,FALSE) -> 55 | W4: =VLOOKUP(C4,DBASE!$A$4:$Z$756,21,FALSE) -> N | X4: =VLOOKUP(C4,DBASE!$A$4:$Z$756,22,FALSE) -> 30 | Y4: =VLOOKUP(C4,DBASE!$A$4:$Z$756,23,FALSE) -> 2.5 | Z4: =VLOOKUP(C4,DBASE!$A$4:$Z$756,24,FALSE) -> 39 | AA4: =VLOOKUP(C4,DBASE!$A$4:$Z$756,25,FALSE) -> Function | AB4: =VLOOKUP(C4,DBASE!$A$4:$Z$756,26,FALSE) -> 1 | AC4: 1000 | AD4: =IF(AC4<6500,AC4*0.1135,65*11.35)+(IF(AC4>4425,4425*0.08575,AC4*0.08575)+(IF(AC4>7100,7100*0.02,AC4*0.02))) -> 219.25 | AE4: 0 | AF4: 0 | AG4: 0 | AH4: 0 | AI4: 0 | AJ4: 0 | AK4: 0 | AL4: 0 | AM4: 0 | AN4: 0 | AO4: =IF(W4="J",(AC4/((Z4*52)/12))*(Y4*7.8)*0.5,0) -> 0 | AP4: =IF(W4="J",(AC4/12)*0.55,0) -> 0 | AQ4: =IF(G4="N",26.5,13.25) -> 26.5 | AR4: 0 | AS4: 0 | AT4: 0 | AU4: 0 | AV4: =(SUM(AE4:AU4)*0.22395) -> 5.934675 | AW4: 110.2 | AX4: 0
A5: 43922 | B5: 43951 | C5: 2 | D5: =VLOOKUP(C5,DBASE!$A$4:$Z$756,3,FALSE) -> P | E5: =VLOOKUP(C5,DBASE!$A$4:$Z$756,2,FALSE) -> Active | F5: =VLOOKUP(C5,DBASE!$A$4:$Z$756,4,FALSE) -> Mitarbeiter 2 | G5: =VLOOKUP(C5,DBASE!$A$4:$Z$756,5,FALSE) -> N | H5: =VLOOKUP(C5,DBASE!$A$4:$Z$756,6,FALSE) -> 1017 | I5: =VLOOKUP(C5,DBASE!$A$4:$Z$756,7,FALSE) -> 1017 | J5: =VLOOKUP(C5,DBASE!$A$4:$Z$756,8,FALSE) -> 100 | K5: =VLOOKUP(C5,DBASE!$A$4:$Z$756,9,FALSE) -> Niederl. 1 | L5: =VLOOKUP(C5,DBASE!$A$4:$Z$756,10,FALSE) -> Department | M5: =VLOOKUP(C5,DBASE!$A$4:$Z$756,11,FALSE) -> Supervisor | N5: =VLOOKUP(C5,DBASE!$A$4:$Z$756,12,FALSE) -> Manager | O5: =VLOOKUP(C5,DBASE!$A$4:$Z$756,13,FALSE) -> ang. | P5: =VLOOKUP(C5,DBASE!$A$4:$Z$756,14,FALSE) -> M | Q5: =VLOOKUP(C5,DBASE!$A$4:$Z$756,15,FALSE) -> 31552 | R5: =IF(VLOOKUP(C5,DBASE!$A$4:$Z$756,16,FALSE)=0,"",VLOOKUP(C5,DBASE!$A$4:$Z$756,16,FALSE)) | S5: =VLOOKUP(C5,DBASE!$A$4:$Z$756,17,FALSE) | T5: =VLOOKUP(C5,DBASE!$A$4:$Z$756,18,FALSE) -> 33 | U5: =VLOOKUP(C5,DBASE!$A$4:$Z$756,19,FALSE) -> 20340 | V5: =VLOOKUP(C5,DBASE!$A$4:$Z$756,20,FALSE) -> 64 | W5: =VLOOKUP(C5,DBASE!$A$4:$Z$756,21,FALSE) -> N | X5: =VLOOKUP(C5,DBASE!$A$4:$Z$756,22,FALSE) -> 30 | Y5: =VLOOKUP(C5,DBASE!$A$4:$Z$756,23,FALSE) -> 2.5 | Z5: =VLOOKUP(C5,DBASE!$A$4:$Z$756,24,FALSE) -> 39 | AA5: =VLOOKUP(C5,DBASE!$A$4:$Z$756,25,FALSE) -> Function | AB5: =VLOOKUP(C5,DBASE!$A$4:$Z$756,26,FALSE) -> 1 | AC5: 1001 | AD5: =IF(AC5<6500,AC5*0.1135,65*11.35)+(IF(AC5>4425,4425*0.08575,AC5*0.08575)+(IF(AC5>7100,7100*0.02,AC5*0.02))) -> 219.46925 | AE5: 0 | AF5: 0 | AG5: 0 | AH5: 0 | AI5: 0 | AJ5: 0 | AK5: 0 | AL5: 0 | AM5: 0 | AN5: 0 | AO5: =IF(W5="J",(AC5/((Z5*52)/12))*(Y5*7.8)*0.5,0) -> 0 | AP5: =IF(W5="J",(AC5/12)*0.55,0) -> 0 | AQ5: =IF(G5="N",26.5,13.25) -> 26.5 | AR5: 0 | AS5: 0 | AT5: 0 | AU5: 0 | AV5: =(SUM(AE5:AU5)*0.22395) -> 5.934675 | AW5: 0 | AX5: 0
A6: 43922 | B6: 43951 | C6: 3 | D6: =VLOOKUP(C6,DBASE!$A$4:$Z$756,3,FALSE) -> P | E6: =VLOOKUP(C6,DBASE!$A$4:$Z$756,2,FALSE) -> Active | F6: =VLOOKUP(C6,DBASE!$A$4:$Z$756,4,FALSE) -> Mitarbeiter 3 | G6: =VLOOKUP(C6,DBASE!$A$4:$Z$756,5,FALSE) -> N | H6: =VLOOKUP(C6,DBASE!$A$4:$Z$756,6,FALSE) -> 1010 | I6: =VLOOKUP(C6,DBASE!$A$4:$Z$756,7,FALSE) -> 1010 | J6: =VLOOKUP(C6,DBASE!$A$4:$Z$756,8,FALSE) -> 100 | K6: =VLOOKUP(C6,DBASE!$A$4:$Z$756,9,FALSE) -> Niederl. 1 | L6: =VLOOKUP(C6,DBASE!$A$4:$Z$756,10,FALSE) -> Department | M6: =VLOOKUP(C6,DBASE!$A$4:$Z$756,11,FALSE) -> Supervisor | N6: =VLOOKUP(C6,DBASE!$A$4:$Z$756,12,FALSE) -> Manager | O6: =VLOOKUP(C6,DBASE!$A$4:$Z$756,13,FALSE) -> ang. | P6: =VLOOKUP(C6,DBASE!$A$4:$Z$756,14,FALSE) -> M | Q6: =VLOOKUP(C6,DBASE!$A$4:$Z$756,15,FALSE) -> 31565 | R6: =IF(VLOOKUP(C6,DBASE!$A$4:$Z$756,16,FALSE)=0,"",VLOOKUP(C6,DBASE!$A$4:$Z$756,16,FALSE)) | S6: =VLOOKUP(C6,DBASE!$A$4:$Z$756,17,FALSE) | T6: =VLOOKUP(C6,DBASE!$A$4:$Z$756,18,FALSE) -> 33 | U6: =VLOOKUP(C6,DBASE!$A$4:$Z$756,19,FALSE) -> 23591 | V6: =VLOOKUP(C6,DBASE!$A$4:$Z$756,20,FALSE) -> 55 | W6: =VLOOKUP(C6,DBASE!$A$4:$Z$756,21,FALSE) -> N | X6: =VLOOKUP(C6,DBASE!$A$4:$Z$756,22,FALSE) -> 30 | Y6: =VLOOKUP(C6,DBASE!$A$4:$Z$756,23,FALSE) -> 2.5 | Z6: =VLOOKUP(C6,DBASE!$A$4:$Z$756,24,FALSE) -> 39 | AA6: =VLOOKUP(C6,DBASE!$A$4:$Z$756,25,FALSE) -> Function | AB6: =VLOOKUP(C6,DBASE!$A$4:$Z$756,26,FALSE) -> 1 | AC6: 1002 | AD6: =IF(AC6<6500,AC6*0.1135,65*11.35)+(IF(AC6>4425,4425*0.08575,AC6*0.08575)+(IF(AC6>7100,7100*0.02,AC6*0.02))) -> 219.6885 | AE6: 0 | AF6: 0 | AG6: 0 | AH6: 0 | AI6: 0 | AJ6: 0 | AK6: 0 | AL6: 0 | AM6: 0 | AN6: 0 | AO6: =IF(W6="J",(AC6/((Z6*52)/12))*(Y6*7.8)*0.5,0) -> 0 | AP6: =IF(W6="J",(AC6/12)*0.55,0) -> 0 | AQ6: =IF(G6="N",26.5,13.25) -> 26.5 | AR6: 0 | AS6: 0 | AT6: 0 | AU6: 0 | AV6: =(SUM(AE6:AU6)*0.22395) -> 5.934675 | AW6: 112.3318 | AX6: 0
A7: 43922 | B7: 43951 | C7: 4 | D7: =VLOOKUP(C7,DBASE!$A$4:$Z$756,3,FALSE) -> P | E7: =VLOOKUP(C7,DBASE!$A$4:$Z$756,2,FALSE) -> Active | F7: =VLOOKUP(C7,DBASE!$A$4:$Z$756,4,FALSE) -> Mitarbeiter 4 | G7: =VLOOKUP(C7,DBASE!$A$4:$Z$756,5,FALSE) -> N | H7: =VLOOKUP(C7,DBASE!$A$4:$Z$756,6,FALSE) -> 1011 | I7: =VLOOKUP(C7,DBASE!$A$4:$Z$756,7,FALSE) -> 1011 | J7: =VLOOKUP(C7,DBASE!$A$4:$Z$756,8,FALSE) -> 100 | K7: =VLOOKUP(C7,DBASE!$A$4:$Z$756,9,FALSE) -> Niederl. 1 | L7: =VLOOKUP(C7,DBASE!$A$4:$Z$756,10,FALSE) -> Department | M7: =VLOOKUP(C7,DBASE!$A$4:$Z$756,11,FALSE) -> Supervisor | N7: =VLOOKUP(C7,DBASE!$A$4:$Z$756,12,FALSE) -> Supervisor | O7: =VLOOKUP(C7,DBASE!$A$4:$Z$756,13,FALSE) -> ang. | P7: =VLOOKUP(C7,DBASE!$A$4:$Z$756,14,FALSE) -> W | Q7: =VLOOKUP(C7,DBASE!$A$4:$Z$756,15,FALSE) -> 31809 | R7: =IF(VLOOKUP(C7,DBASE!$A$4:$Z$756,16,FALSE)=0,"",VLOOKUP(C7,DBASE!$A$4:$Z$756,16,FALSE)) | S7: =VLOOKUP(C7,DBASE!$A$4:$Z$756,17,FALSE) | T7: =VLOOKUP(C7,DBASE!$A$4:$Z$756,18,FALSE) -> 32 | U7: =VLOOKUP(C7,DBASE!$A$4:$Z$756,19,FALSE) -> 24157 | V7: =VLOOKUP(C7,DBASE!$A$4:$Z$756,20,FALSE) -> 53 | W7: =VLOOKUP(C7,DBASE!$A$4:$Z$756,21,FALSE) -> N | X7: =VLOOKUP(C7,DBASE!$A$4:$Z$756,22,FALSE) -> 24 | Y7: =VLOOKUP(C7,DBASE!$A$4:$Z$756,23,FALSE) -> 2 | Z7: =VLOOKUP(C7,DBASE!$A$4:$Z$756,24,FALSE) -> 20 | AA7: =VLOOKUP(C7,DBASE!$A$4:$Z$756,25,FALSE) -> Function | AB7: =VLOOKUP(C7,DBASE!$A$4:$Z$756,26,FALSE) -> 0.51282051 | AC7: 1003 | AD7: =IF(AC7<6500,AC7*0.1135,65*11.35)+(IF(AC7>4425,4425*0.08575,AC7*0.08575)+(IF(AC7>7100,7100*0.02,AC7*0.02))) -> 219.90775 | AE7: 0 | AF7: 0 | AG7: 0 | AH7: 0 | AI7: 0 | AJ7: 0 | AK7: 0 | AL7: 0 | AM7: 0 | AN7: 0 | AO7: =IF(W7="J",(AC7/((Z7*52)/12))*(Y7*7.8)*0.5,0) -> 0 | AP7: =IF(W7="J",(AC7/12)*0.55,0) -> 0 | AQ7: =IF(G7="N",26.5,13.25) -> 26.5 | AR7: 0 | AS7: 0 | AT7: 0 | AU7: 0 | AV7: =(SUM(AE7:AU7)*0.22395) -> 5.934675 | AW7: 0 | AX7: 0
A8: 43922 | B8: 43951 | C8: 5 | D8: =VLOOKUP(C8,DBASE!$A$4:$Z$756,3,FALSE) -> P | E8: =VLOOKUP(C8,DBASE!$A$4:$Z$756,2,FALSE) -> Active | F8: =VLOOKUP(C8,DBASE!$A$4:$Z$756,4,FALSE) -> Mitarbeiter 5 | G8: =VLOOKUP(C8,DBASE!$A$4:$Z$756,5,FALSE) -> N | H8: =VLOOKUP(C8,DBASE!$A$4:$Z$756,6,FALSE) -> 1013 | I8: =VLOOKUP(C8,DBASE!$A$4:$Z$756,7,FALSE) -> 1013 | J8: =VLOOKUP(C8,DBASE!$A$4:$Z$756,8,FALSE) -> 100 | K8: =VLOOKUP(C8,DBASE!$A$4:$Z$756,9,FALSE) -> Niederl. 1 | L8: =VLOOKUP(C8,DBASE!$A$4:$Z$756,10,FALSE) -> Department | M8: =VLOOKUP(C8,DBASE!$A$4:$Z$756,11,FALSE) -> Supervisor | N8: =VLOOKUP(C8,DBASE!$A$4:$Z$756,12,FALSE) -> Manager | O8: =VLOOKUP(C8,DBASE!$A$4:$Z$756,13,FALSE) -> ang. | P8: =VLOOKUP(C8,DBASE!$A$4:$Z$756,14,FALSE) -> M | Q8: =VLOOKUP(C8,DBASE!$A$4:$Z$756,15,FALSE) -> 32417 | R8: =IF(VLOOKUP(C8,DBASE!$A$4:$Z$756,16,FALSE)=0,"",VLOOKUP(C8,DBASE!$A$4:$Z$756,16,FALSE)) | S8: =VLOOKUP(C8,DBASE!$A$4:$Z$756,17,FALSE) | T8: =VLOOKUP(C8,DBASE!$A$4:$Z$756,18,FALSE) -> 31 | U8: =VLOOKUP(C8,DBASE!$A$4:$Z$756,19,FALSE) -> 19821 | V8: =VLOOKUP(C8,DBASE!$A$4:$Z$756,20,FALSE) -> 65 | W8: =VLOOKUP(C8,DBASE!$A$4:$Z$756,21,FALSE) -> N | X8: =VLOOKUP(C8,DBASE!$A$4:$Z$756,22,FALSE) -> 30 | Y8: =VLOOKUP(C8,DBASE!$A$4:$Z$756,23,FALSE) -> 2.5 | Z8: =VLOOKUP(C8,DBASE!$A$4:$Z$756,24,FALSE) -> 39 | AA8: =VLOOKUP(C8,DBASE!$A$4:$Z$756,25,FALSE) -> Function | AB8: =VLOOKUP(C8,DBASE!$A$4:$Z$756,26,FALSE) -> 1 | AC8: 1004 | AD8: =IF(AC8<6500,AC8*0.1135,65*11.35)+(IF(AC8>4425,4425*0.08575,AC8*0.08575)+(IF(AC8>7100,7100*0.02,AC8*0.02))) -> 220.127 | AE8: 0 | AF8: 0 | AG8: 0 | AH8: 0 | AI8: 0 | AJ8: 0 | AK8: 0 | AL8: 0 | AM8: 0 | AN8: 0 | AO8: =IF(W8="J",(AC8/((Z8*52)/12))*(Y8*7.8)*0.5,0) -> 0 | AP8: =IF(W8="J",(AC8/12)*0.55,0) -> 0 | AQ8: =IF(G8="N",26.5,13.25) -> 26.5 | AR8: 0 | AS8: 0 | AT8: 0 | AU8: 0 | AV8: =(SUM(AE8:AU8)*0.22395) -> 5.934675 | AW8: 0 | AX8: 0
A9: 43922 | B9: 43951 | C9: 6 | D9: =VLOOKUP(C9,DBASE!$A$4:$Z$756,3,FALSE) -> P | E9: =VLOOKUP(C9,DBASE!$A$4:$Z$756,2,FALSE) -> Active | F9: =VLOOKUP(C9,DBASE!$A$4:$Z$756,4,FALSE) -> Mitarbeiter 6 | G9: =VLOOKUP(C9,DBASE!$A$4:$Z$756,5,FALSE) -> N | H9: =VLOOKUP(C9,DBASE!$A$4:$Z$756,6,FALSE) -> 1050 | I9: =VLOOKUP(C9,DBASE!$A$4:$Z$756,7,FALSE) -> 1093 | J9: =VLOOKUP(C9,DBASE!$A$4:$Z$756,8,FALSE) -> 100 | K9: =VLOOKUP(C9,DBASE!$A$4:$Z$756,9,FALSE) -> Niederl. 1 | L9: =VLOOKUP(C9,DBASE!$A$4:$Z$756,10,FALSE) -> Department | M9: =VLOOKUP(C9,DBASE!$A$4:$Z$756,11,FALSE) -> Supervisor | N9: =VLOOKUP(C9,DBASE!$A$4:$Z$756,12,FALSE) -> Manager | O9: =VLOOKUP(C9,DBASE!$A$4:$Z$756,13,FALSE) -> ang. | P9: =VLOOKUP(C9,DBASE!$A$4:$Z$756,14,FALSE) -> M | Q9: =VLOOKUP(C9,DBASE!$A$4:$Z$756,15,FALSE) -> 32568 | R9: =IF(VLOOKUP(C9,DBASE!$A$4:$Z$756,16,FALSE)=0,"",VLOOKUP(C9,DBASE!$A$4:$Z$756,16,FALSE)) | S9: =VLOOKUP(C9,DBASE!$A$4:$Z$756,17,FALSE) | T9: =VLOOKUP(C9,DBASE!$A$4:$Z$756,18,FALSE) -> 30 | U9: =VLOOKUP(C9,DBASE!$A$4:$Z$756,19,FALSE) -> 23310 | V9: =VLOOKUP(C9,DBASE!$A$4:$Z$756,20,FALSE) -> 56 | W9: =VLOOKUP(C9,DBASE!$A$4:$Z$756,21,FALSE) -> N | X9: =VLOOKUP(C9,DBASE!$A$4:$Z$756,22,FALSE) -> 30 | Y9: =VLOOKUP(C9,DBASE!$A$4:$Z$756,23,FALSE) -> 2.5 | Z9: =VLOOKUP(C9,DBASE!$A$4:$Z$756,24,FALSE) -> 39 | AA9: =VLOOKUP(C9,DBASE!$A$4:$Z$756,25,FALSE) -> Function | AB9: =VLOOKUP(C9,DBASE!$A$4:$Z$756,26,FALSE) -> 1 | AC9: 1005 | AD9: =IF(AC9<6500,AC9*0.1135,65*11.35)+(IF(AC9>4425,4425*0.08575,AC9*0.08575)+(IF(AC9>7100,7100*0.02,AC9*0.02))) -> 220.34625 | AE9: 0 | AF9: 0 | AG9: 0 | AH9: 0 | AI9: 0 | AJ9: 0 | AK9: 0 | AL9: 0 | AM9: 0 | AN9: 0 | AO9: =IF(W9="J",(AC9/((Z9*52)/12))*(Y9*7.8)*0.5,0) -> 0 | AP9: =IF(W9="J",(AC9/12)*0.55,0) -> 0 | AQ9: =IF(G9="N",26.5,13.25) -> 26.5 | AR9: 0 | AS9: 0 | AT9: 0 | AU9: 0 | AV9: =(SUM(AE9:AU9)*0.22395) -> 5.934675 | AW9: 0 | AX9: 0
A10: 43922 | B10: 43951 | C10: 7 | D10: =VLOOKUP(C10,DBASE!$A$4:$Z$756,3,FALSE) -> P | E10: =VLOOKUP(C10,DBASE!$A$4:$Z$756,2,FALSE) -> Active | F10: =VLOOKUP(C10,DBASE!$A$4:$Z$756,4,FALSE) -> Mitarbeiter 7 | G10: =VLOOKUP(C10,DBASE!$A$4:$Z$756,5,FALSE) -> N | H10: =VLOOKUP(C10,DBASE!$A$4:$Z$756,6,FALSE) -> 1050 | I10: =VLOOKUP(C10,DBASE!$A$4:$Z$756,7,FALSE) -> 1093 | J10: =VLOOKUP(C10,DBASE!$A$4:$Z$756,8,FALSE) -> 100 | K10: =VLOOKUP(C10,DBASE!$A$4:$Z$756,9,FALSE) -> Niederl. 1 | L10: =VLOOKUP(C10,DBASE!$A$4:$Z$756,10,FALSE) -> Department | M10: =VLOOKUP(C10,DBASE!$A$4:$Z$756,11,FALSE) -> Supervisor | N10: =VLOOKUP(C10,DBASE!$A$4:$Z$756,12,FALSE) -> Non-Mgm. | O10: =VLOOKUP(C10,DBASE!$A$4:$Z$756,13,FALSE) -> ang. | P10: =VLOOKUP(C10,DBASE!$A$4:$Z$756,14,FALSE) -> W | Q10: =VLOOKUP(C10,DBASE!$A$4:$Z$756,15,FALSE) -> 35309 | R10: =IF(VLOOKUP(C10,DBASE!$A$4:$Z$756,16,FALSE)=0,"",VLOOKUP(C10,DBASE!$A$4:$Z$756,16,FALSE)) | S10: =VLOOKUP(C10,DBASE!$A$4:$Z$756,17,FALSE) | T10: =VLOOKUP(C10,DBASE!$A$4:$Z$756,18,FALSE) -> 23 | U10: =VLOOKUP(C10,DBASE!$A$4:$Z$756,19,FALSE) -> 29181 | V10: =VLOOKUP(C10,DBASE!$A$4:$Z$756,20,FALSE) -> 40 | W10: =VLOOKUP(C10,DBASE!$A$4:$Z$756,21,FALSE) -> N | X10: =VLOOKUP(C10,DBASE!$A$4:$Z$756,22,FALSE) -> 30 | Y10: =VLOOKUP(C10,DBASE!$A$4:$Z$756,23,FALSE) -> 2.5 | Z10: =VLOOKUP(C10,DBASE!$A$4:$Z$756,24,FALSE) -> 22 | AA10: =VLOOKUP(C10,DBASE!$A$4:$Z$756,25,FALSE) -> Function | AB10: =VLOOKUP(C10,DBASE!$A$4:$Z$756,26,FALSE) -> 0.56410256 | AC10: 1006 | AD10: =IF(AC10<6500,AC10*0.1135,65*11.35)+(IF(AC10>4425,4425*0.08575,AC10*0.08575)+(IF(AC10>7100,7100*0.02,AC10*0.02))) -> 220.5655 | AE10: 0 | AF10: 0 | AG10: 0 | AH10: 0 | AI10: 0 | AJ10: 0 | AK10: 0 | AL10: 0 | AM10: 0 | AN10: 0 | AO10: =IF(W10="J",(AC10/((Z10*52)/12))*(Y10*7.8)*0.5,0) -> 0 | AP10: =IF(W10="J",(AC10/12)*0.55,0) -> 0 | AQ10: =IF(G10="N",26.5,13.25) -> 26.5 | AR10: 0 | AS10: 0 | AT10: 0 | AU10: 0 | AV10: =(SUM(AE10:AU10)*0.22395) -> 5.934675 | AW10: 0 | AX10: 0
A11: 43922 | B11: 43951 | C11: 8 | D11: =VLOOKUP(C11,DBASE!$A$4:$Z$756,3,FALSE) -> P | E11: =VLOOKUP(C11,DBASE!$A$4:$Z$756,2,FALSE) -> Active | F11: =VLOOKUP(C11,DBASE!$A$4:$Z$756,4,FALSE) -> Mitarbeiter 8 | G11: =VLOOKUP(C11,DBASE!$A$4:$Z$756,5,FALSE) -> N | H11: =VLOOKUP(C11,DBASE!$A$4:$Z$756,6,FALSE) -> 1011 | I11: =VLOOKUP(C11,DBASE!$A$4:$Z$756,7,FALSE) -> 1011 | J11: =VLOOKUP(C11,DBASE!$A$4:$Z$756,8,FALSE) -> 100 | K11: =VLOOKUP(C11,DBASE!$A$4:$Z$756,9,FALSE) -> Niederl. 1 | L11: =VLOOKUP(C11,DBASE!$A$4:$Z$756,10,FALSE) -> Department | M11: =VLOOKUP(C11,DBASE!$A$4:$Z$756,11,FALSE) -> Supervisor | N11: =VLOOKUP(C11,DBASE!$A$4:$Z$756,12,FALSE) -> Non-Mgm. | O11: =VLOOKUP(C11,DBASE!$A$4:$Z$756,13,FALSE) -> ang. | P11: =VLOOKUP(C11,DBASE!$A$4:$Z$756,14,FALSE) -> W | Q11: =VLOOKUP(C11,DBASE!$A$4:$Z$756,15,FALSE) -> 37135 | R11: =IF(VLOOKUP(C11,DBASE!$A$4:$Z$756,16,FALSE)=0,"",VLOOKUP(C11,DBASE!$A$4:$Z$756,16,FALSE)) | S11: =VLOOKUP(C11,DBASE!$A$4:$Z$756,17,FALSE) | T11: =VLOOKUP(C11,DBASE!$A$4:$Z$756,18,FALSE) -> 18 | U11: =VLOOKUP(C11,DBASE!$A$4:$Z$756,19,FALSE) -> 31136 | V11: =VLOOKUP(C11,DBASE!$A$4:$Z$756,20,FALSE) -> 34 | W11: =VLOOKUP(C11,DBASE!$A$4:$Z$756,21,FALSE) -> N | X11: =VLOOKUP(C11,DBASE!$A$4:$Z$756,22,FALSE) -> 0 | Y11: =VLOOKUP(C11,DBASE!$A$4:$Z$756,23,FALSE) -> 0 | Z11: =VLOOKUP(C11,DBASE!$A$4:$Z$756,24,FALSE) -> 8 | AA11: =VLOOKUP(C11,DBASE!$A$4:$Z$756,25,FALSE) -> Function | AB11: =VLOOKUP(C11,DBASE!$A$4:$Z$756,26,FALSE) -> 0.20512821 | AC11: 1007 | AD11: =IF(AC11<6500,AC11*0.1135,65*11.35)+(IF(AC11>4425,4425*0.08575,AC11*0.08575)+(IF(AC11>7100,7100*0.02,AC11*0.02))) -> 220.78475 | AE11: 0 | AF11: 0 | AG11: 0 | AH11: 0 | AI11: 0 | AJ11: 0 | AK11: 0 | AL11: 0 | AM11: 0 | AN11: 0 | AO11: =IF(W11="J",(AC11/((Z11*52)/12))*(Y11*7.8)*0.5,0) -> 0 | AP11: =IF(W11="J",(AC11/12)*0.55,0) -> 0 | AQ11: =IF(G11="N",26.5,13.25) -> 26.5 | AR11: 0 | AS11: 0 | AT11: 0 | AU11: 0 | AV11: =(SUM(AE11:AU11)*0.22395) -> 5.934675 | AW11: 0 | AX11: 0
A12: 43922 | B12: 43951 | C12: 9 | D12: =VLOOKUP(C12,DBASE!$A$4:$Z$756,3,FALSE) -> P | E12: =VLOOKUP(C12,DBASE!$A$4:$Z$756,2,FALSE) -> Active | F12: =VLOOKUP(C12,DBASE!$A$4:$Z$756,4,FALSE) -> Mitarbeiter 9 | G12: =VLOOKUP(C12,DBASE!$A$4:$Z$756,5,FALSE) -> N | H12: =VLOOKUP(C12,DBASE!$A$4:$Z$756,6,FALSE) -> 1014 | I12: =VLOOKUP(C12,DBASE!$A$4:$Z$756,7,FALSE) -> 1014 | J12: =VLOOKUP(C12,DBASE!$A$4:$Z$756,8,FALSE) -> 100 | K12: =VLOOKUP(C12,DBASE!$A$4:$Z$756,9,FALSE) -> Niederl. 1 | L12: =VLOOKUP(C12,DBASE!$A$4:$Z$756,10,FALSE) -> Department | M12: =VLOOKUP(C12,DBASE!$A$4:$Z$756,11,FALSE) -> Supervisor | N12: =VLOOKUP(C12,DBASE!$A$4:$Z$756,12,FALSE) -> Non-Mgm. | O12: =VLOOKUP(C12,DBASE!$A$4:$Z$756,13,FALSE) -> ang. | P12: =VLOOKUP(C12,DBASE!$A$4:$Z$756,14,FALSE) -> W | Q12: =VLOOKUP(C12,DBASE!$A$4:$Z$756,15,FALSE) -> 37865 | R12: =IF(VLOOKUP(C12,DBASE!$A$4:$Z$756,16,FALSE)=0,"",VLOOKUP(C12,DBASE!$A$4:$Z$756,16,FALSE)) | S12: =VLOOKUP(C12,DBASE!$A$4:$Z$756,17,FALSE) | T12: =VLOOKUP(C12,DBASE!$A$4:$Z$756,18,FALSE) -> 16 | U12: =VLOOKUP(C12,DBASE!$A$4:$Z$756,19,FALSE) -> 31640 | V12: =VLOOKUP(C12,DBASE!$A$4:$Z$756,20,FALSE) -> 33 | W12: =VLOOKUP(C12,DBASE!$A$4:$Z$756,21,FALSE) -> N | X12: =VLOOKUP(C12,DBASE!$A$4:$Z$756,22,FALSE) -> 30 | Y12: =VLOOKUP(C12,DBASE!$A$4:$Z$756,23,FALSE) -> 2.5 | Z12: =VLOOKUP(C12,DBASE!$A$4:$Z$756,24,FALSE) -> 20 | AA12: =VLOOKUP(C12,DBASE!$A$4:$Z$756,25,FALSE) -> Function | AB12: =VLOOKUP(C12,DBASE!$A$4:$Z$756,26,FALSE) -> 0.51282051 | AC12: 1008 | AD12: =IF(AC12<6500,AC12*0.1135,65*11.35)+(IF(AC12>4425,4425*0.08575,AC12*0.08575)+(IF(AC12>7100,7100*0.02,AC12*0.02))) -> 221.004 | AE12: 0 | AF12: 0 | AG12: 0 | AH12: 0 | AI12: 0 | AJ12: 0 | AK12: 0 | AL12: 0 | AM12: 0 | AN12: 0 | AO12: =IF(W12="J",(AC12/((Z12*52)/12))*(Y12*7.8)*0.5,0) -> 0 | AP12: =IF(W12="J",(AC12/12)*0.55,0) -> 0 | AQ12: =IF(G12="N",26.5,13.25) -> 26.5 | AR12: 0 | AS12: 0 | AT12: 0 | AU12: 0 | AV12: =(SUM(AE12:AU12)*0.22395) -> 5.934675 | AW12: 0 | AX12: 0
A13: 43922 | B13: 43951 | C13: 10 | D13: =VLOOKUP(C13,DBASE!$A$4:$Z$756,3,FALSE) -> P | E13: =VLOOKUP(C13,DBASE!$A$4:$Z$756,2,FALSE) -> Active | F13: =VLOOKUP(C13,DBASE!$A$4:$Z$756,4,FALSE) -> Mitarbeiter 10 | G13: =VLOOKUP(C13,DBASE!$A$4:$Z$756,5,FALSE) -> N | H13: =VLOOKUP(C13,DBASE!$A$4:$Z$756,6,FALSE) -> 1013 | I13: =VLOOKUP(C13,DBASE!$A$4:$Z$756,7,FALSE) -> 1013 | J13: =VLOOKUP(C13,DBASE!$A$4:$Z$756,8,FALSE) -> 100 | K13: =VLOOKUP(C13,DBASE!$A$4:$Z$756,9,FALSE) -> Niederl. 1 | L13: =VLOOKUP(C13,DBASE!$A$4:$Z$756,10,FALSE) -> Department | M13: =VLOOKUP(C13,DBASE!$A$4:$Z$756,11,FALSE) -> Supervisor | N13: =VLOOKUP(C13,DBASE!$A$4:$Z$756,12,FALSE) -> Non-Mgm. | O13: =VLOOKUP(C13,DBASE!$A$4:$Z$756,13,FALSE) -> ang. | P13: =VLOOKUP(C13,DBASE!$A$4:$Z$756,14,FALSE) -> M | Q13: =VLOOKUP(C13,DBASE!$A$4:$Z$756,15,FALSE) -> 37865 | R13: =IF(VLOOKUP(C13,DBASE!$A$4:$Z$756,16,FALSE)=0,"",VLOOKUP(C13,DBASE!$A$4:$Z$756,16,FALSE)) | S13: =VLOOKUP(C13,DBASE!$A$4:$Z$756,17,FALSE) | T13: =VLOOKUP(C13,DBASE!$A$4:$Z$756,18,FALSE) -> 16 | U13: =VLOOKUP(C13,DBASE!$A$4:$Z$756,19,FALSE) -> 31792 | V13: =VLOOKUP(C13,DBASE!$A$4:$Z$756,20,FALSE) -> 33 | W13: =VLOOKUP(C13,DBASE!$A$4:$Z$756,21,FALSE) -> N | X13: =VLOOKUP(C13,DBASE!$A$4:$Z$756,22,FALSE) -> 30 | Y13: =VLOOKUP(C13,DBASE!$A$4:$Z$756,23,FALSE) -> 2.5 | Z13: =VLOOKUP(C13,DBASE!$A$4:$Z$756,24,FALSE) -> 39 | AA13: =VLOOKUP(C13,DBASE!$A$4:$Z$756,25,FALSE) -> Function | AB13: =VLOOKUP(C13,DBASE!$A$4:$Z$756,26,FALSE) -> 1 | AC13: 1009 | AD13: =IF(AC13<6500,AC13*0.1135,65*11.35)+(IF(AC13>4425,4425*0.08575,AC13*0.08575)+(IF(AC13>7100,7100*0.02,AC13*0.02))) -> 221.22325 | AE13: 0 | AF13: 0 | AG13: 0 | AH13: 0 | AI13: 0 | AJ13: 0 | AK13: 0 | AL13: 0 | AM13: 0 | AN13: 0 | AO13: =IF(W13="J",(AC13/((Z13*52)/12))*(Y13*7.8)*0.5,0) -> 0 | AP13: =IF(W13="J",(AC13/12)*0.55,0) -> 0 | AQ13: =IF(G13="N",26.5,13.25) -> 26.5 | AR13: 0 | AS13: 0 | AT13: 0 | AU13: 0 | AV13: =(SUM(AE13:AU13)*0.22395) -> 5.934675 | AW13: 0 | AX13: 0
A14: 43922 | B14: 43951 | C14: 11 | D14: =VLOOKUP(C14,DBASE!$A$4:$Z$756,3,FALSE) -> P | E14: =VLOOKUP(C14,DBASE!$A$4:$Z$756,2,FALSE) -> Active | F14: =VLOOKUP(C14,DBASE!$A$4:$Z$756,4,FALSE) -> Mitarbeiter 11 | G14: =VLOOKUP(C14,DBASE!$A$4:$Z$756,5,FALSE) -> N | H14: =VLOOKUP(C14,DBASE!$A$4:$Z$756,6,FALSE) -> 1010 | I14: =VLOOKUP(C14,DBASE!$A$4:$Z$756,7,FALSE) -> 1010 | J14: =VLOOKUP(C14,DBASE!$A$4:$Z$756,8,FALSE) -> 100 | K14: =VLOOKUP(C14,DBASE!$A$4:$Z$756,9,FALSE) -> Niederl. 1 | L14: =VLOOKUP(C14,DBASE!$A$4:$Z$756,10,FALSE) -> Department | M14: =VLOOKUP(C14,DBASE!$A$4:$Z$756,11,FALSE) -> Supervisor | N14: =VLOOKUP(C14,DBASE!$A$4:$Z$756,12,FALSE) -> Non-Mgm. | O14: =VLOOKUP(C14,DBASE!$A$4:$Z$756,13,FALSE) -> ang. | P14: =VLOOKUP(C14,DBASE!$A$4:$Z$756,14,FALSE) -> W | Q14: =VLOOKUP(C14,DBASE!$A$4:$Z$756,15,FALSE) -> 38231 | R14: =IF(VLOOKUP(C14,DBASE!$A$4:$Z$756,16,FALSE)=0,"",VLOOKUP(C14,DBASE!$A$4:$Z$756,16,FALSE)) | S14: =VLOOKUP(C14,DBASE!$A$4:$Z$756,17,FALSE) | T14: =VLOOKUP(C14,DBASE!$A$4:$Z$756,18,FALSE) -> 15 | U14: =VLOOKUP(C14,DBASE!$A$4:$Z$756,19,FALSE) -> 31437 | V14: =VLOOKUP(C14,DBASE!$A$4:$Z$756,20,FALSE) -> 33 | W14: =VLOOKUP(C14,DBASE!$A$4:$Z$756,21,FALSE) -> N | X14: =VLOOKUP(C14,DBASE!$A$4:$Z$756,22,FALSE) -> 12 | Y14: =VLOOKUP(C14,DBASE!$A$4:$Z$756,23,FALSE) -> 1 | Z14: =VLOOKUP(C14,DBASE!$A$4:$Z$756,24,FALSE) -> 16 | AA14: =VLOOKUP(C14,DBASE!$A$4:$Z$756,25,FALSE) -> Function | AB14: =VLOOKUP(C14,DBASE!$A$4:$Z$756,26,FALSE) -> 0.41025641 | AC14: 1010 | AD14: =IF(AC14<6500,AC14*0.1135,65*11.35)+(IF(AC14>4425,4425*0.08575,AC14*0.08575)+(IF(AC14>7100,7100*0.02,AC14*0.02))) -> 221.4425 | AE14: 0 | AF14: 0 | AG14: 0 | AH14: 0 | AI14: 0 | AJ14: 0 | AK14: 0 | AL14: 0 | AM14: 0 | AN14: 0 | AO14: =IF(W14="J",(AC14/((Z14*52)/12))*(Y14*7.8)*0.5,0) -> 0 | AP14: =IF(W14="J",(AC14/12)*0.55,0) -> 0 | AQ14: =IF(G14="N",26.5,13.25) -> 26.5 | AR14: 0 | AS14: 0 | AT14: 0 | AU14: 0 | AV14: =(SUM(AE14:AU14)*0.22395) -> 5.934675 | AW14: 0 | AX14: 0
A15: 43922 | B15: 43951 | C15: 12 | D15: =VLOOKUP(C15,DBASE!$A$4:$Z$756,3,FALSE) -> P | E15: =VLOOKUP(C15,DBASE!$A$4:$Z$756,2,FALSE) -> Active | F15: =VLOOKUP(C15,DBASE!$A$4:$Z$756,4,FALSE) -> Mitarbeiter 12 | G15: =VLOOKUP(C15,DBASE!$A$4:$Z$756,5,FALSE) -> N | H15: =VLOOKUP(C15,DBASE!$A$4:$Z$756,6,FALSE) -> 1011 | I15: =VLOOKUP(C15,DBASE!$A$4:$Z$756,7,FALSE) -> 1011 | J15: =VLOOKUP(C15,DBASE!$A$4:$Z$756,8,FALSE) -> 100 | K15: =VLOOKUP(C15,DBASE!$A$4:$Z$756,9,FALSE) -> Niederl. 1 | L15: =VLOOKUP(C15,DBASE!$A$4:$Z$756,10,FALSE) -> Department | M15: =VLOOKUP(C15,DBASE!$A$4:$Z$756,11,FALSE) -> Supervisor | N15: =VLOOKUP(C15,DBASE!$A$4:$Z$756,12,FALSE) -> Non-Mgm. | O15: =VLOOKUP(C15,DBASE!$A$4:$Z$756,13,FALSE) -> ang. | P15: =VLOOKUP(C15,DBASE!$A$4:$Z$756,14,FALSE) -> W | Q15: =VLOOKUP(C15,DBASE!$A$4:$Z$756,15,FALSE) -> 38231 | R15: =IF(VLOOKUP(C15,DBASE!$A$4:$Z$756,16,FALSE)=0,"",VLOOKUP(C15,DBASE!$A$4:$Z$756,16,FALSE)) | S15: =VLOOKUP(C15,DBASE!$A$4:$Z$756,17,FALSE) | T15: =VLOOKUP(C15,DBASE!$A$4:$Z$756,18,FALSE) -> 15 | U15: =VLOOKUP(C15,DBASE!$A$4:$Z$756,19,FALSE) -> 32172 | V15: =VLOOKUP(C15,DBASE!$A$4:$Z$756,20,FALSE) -> 31 | W15: =VLOOKUP(C15,DBASE!$A$4:$Z$756,21,FALSE) -> N | X15: =VLOOKUP(C15,DBASE!$A$4:$Z$756,22,FALSE) -> 30 | Y15: =VLOOKUP(C15,DBASE!$A$4:$Z$756,23,FALSE) -> 2.5 | Z15: =VLOOKUP(C15,DBASE!$A$4:$Z$756,24,FALSE) -> 39 | AA15: =VLOOKUP(C15,DBASE!$A$4:$Z$756,25,FALSE) -> Function | AB15: =VLOOKUP(C15,DBASE!$A$4:$Z$756,26,FALSE) -> 1 | AC15: 1011 | AD15: =IF(AC15<6500,AC15*0.1135,65*11.35)+(IF(AC15>4425,4425*0.08575,AC15*0.08575)+(IF(AC15>7100,7100*0.02,AC15*0.02))) -> 221.66175 | AE15: 0 | AF15: 0 | AG15: 0 | AH15: 0 | AI15: 0 | AJ15: 0 | AK15: 0 | AL15: 0 | AM15: 0 | AN15: 0 | AO15: =IF(W15="J",(AC15/((Z15*52)/12))*(Y15*7.8)*0.5,0) -> 0 | AP15: =IF(W15="J",(AC15/12)*0.55,0) -> 0 | AQ15: =IF(G15="N",26.5,13.25) -> 26.5 | AR15: 0 | AS15: 0 | AT15: 0 | AU15: 0 | AV15: =(SUM(AE15:AU15)*0.22395) -> 5.934675 | AW15: 0 | AX15: 0
... A756: 43922 | B756: 43951 | C756: 726 | D756: =VLOOKUP(C756,DBASE!$A$4:$Z$756,3,FALSE) -> P | E756: =VLOOKUP(C756,DBASE!$A$4:$Z$756,2,FALSE) -> Active | F756: =VLOOKUP(C756,DBASE!$A$4:$Z$756,4,FALSE) -> Mitarbeiter 726 | G756: =VLOOKUP(C756,DBASE!$A$4:$Z$756,5,FALSE) -> N | H756: =VLOOKUP(C756,DBASE!$A$4:$Z$756,6,FALSE) -> 1039 | I756: =VLOOKUP(C756,DBASE!$A$4:$Z$756,7,FALSE) -> 1082 | J756: =VLOOKUP(C756,DBASE!$A$4:$Z$756,8,FALSE) -> 102 | K756: =VLOOKUP(C756,DBASE!$A$4:$Z$756,9,FALSE) -> Niederl. 3 | L756: =VLOOKUP(C756,DBASE!$A$4:$Z$756,10,FALSE) -> Department | M756: =VLOOKUP(C756,DBASE!$A$4:$Z$756,11,FALSE) -> Supervisor | N756: =VLOOKUP(C756,DBASE!$A$4:$Z$756,12,FALSE) -> Non-Mgm. | O756: =VLOOKUP(C756,DBASE!$A$4:$Z$756,13,FALSE) -> ang. | P756: =VLOOKUP(C756,DBASE!$A$4:$Z$756,14,FALSE) -> M | Q756: =VLOOKUP(C756,DBASE!$A$4:$Z$756,15,FALSE) -> 43788 | R756: =IF(VLOOKUP(C756,DBASE!$A$4:$Z$756,16,FALSE)=0,"",VLOOKUP(C756,DBASE!$A$4:$Z$756,16,FALSE)) -> 44153 | S756: =VLOOKUP(C756,DBASE!$A$4:$Z$756,17,FALSE) | T756: =VLOOKUP(C756,DBASE!$A$4:$Z$756,18,FALSE) -> 0 | U756: =VLOOKUP(C756,DBASE!$A$4:$Z$756,19,FALSE) -> 31915 | V756: =VLOOKUP(C756,DBASE!$A$4:$Z$756,20,FALSE) -> 32 | W756: =VLOOKUP(C756,DBASE!$A$4:$Z$756,21,FALSE) -> N | X756: =VLOOKUP(C756,DBASE!$A$4:$Z$756,22,FALSE) -> 26 | Y756: =VLOOKUP(C756,DBASE!$A$4:$Z$756,23,FALSE) -> 2.1666667 | Z756: =VLOOKUP(C756,DBASE!$A$4:$Z$756,24,FALSE) -> 39 | AA756: =VLOOKUP(C756,DBASE!$A$4:$Z$756,25,FALSE) -> Function | AB756: =VLOOKUP(C756,DBASE!$A$4:$Z$756,26,FALSE) -> 1 | AC756: 1752 | AD756: =IF(AC756<6500,AC756*0.1135,65*11.35)+(IF(AC756>4425,4425*0.08575,AC756*0.08575)+(IF(AC756>7100,7100*0.02,AC756*0.02))) -> 384.126 | AE756: 0 | AF756: 0 | AG756: 0 | AH756: 0 | AI756: 0 | AJ756: 0 | AK756: 0 | AL756: 0 | AM756: 0 | AN756: 0 | AO756: =IF(W756="J",(AC756/((Z756*52)/12))*(Y756*7.8)*0.5,0) -> 0 | AP756: =IF(W756="J",(AC756/12)*0.55,0) -> 0 | AQ756: =IF(G756="N",26.5,13.25) -> 26.5 | AR756: 0 | AS756: 0 | AT756: 0 | AU756: 0 | AV756: =(SUM(AE756:AU756)*0.22395) -> 5.934675 | AW756: 0 | AX756: 0

Sheet Tabelle1
