Workbook

Sheet OVERVIEW
E1: ANZEIGEN IN | F1: FTE | H1: EURO | U1: 2
A2: CC | B2: Branch | C2: PNO | D2: Join | E2: Name | F2: BUD 31.03.2020 | G2: BUD 30.04.2020 | H2: BUD 31.05.2020 | I2: BUD 30.06.2020 | J2: BUD 31.07.2020 | K2: BUD 31.08.2020 | L2: BUD 30.09.2020 | M2: BUD 31.10.2020 | N2: BUD 30.11.2020 | O2: BUD 31.12.2020 | P2: BUD 31.01.2021 | Q2: BUD 28.02.2021 | R2: BUD 31.03.2021 | S2: Total FY 20/21 | U2: =IF(U1=1,"FTE (BUD)","SALARY (BUD)") -> SALARY (BUD)
A3: 001 | B3: 2000 | C3: 1 | D3: 36951 | E3: Mitarbeiter 1 | F3: =SUMIFS(DBASE!H:H,DBASE!$D:$D,OVERVIEW!$C3,DBASE!$G:$G,$U$2) -> 1 | G3: =SUMIFS(DBASE!I:I,DBASE!$D:$D,OVERVIEW!$C3,DBASE!$G:$G,$U$2) -> 2 | H3: =SUMIFS(DBASE!J:J,DBASE!$D:$D,OVERVIEW!$C3,DBASE!$G:$G,$U$2) -> 3 | I3: =SUMIFS(DBASE!K:K,DBASE!$D:$D,OVERVIEW!$C3,DBASE!$G:$G,$U$2) -> 4 | J3: =SUMIFS(DBASE!L:L,DBASE!$D:$D,OVERVIEW!$C3,DBASE!$G:$G,$U$2) -> 5 | K3: =SUMIFS(DBASE!M:M,DBASE!$D:$D,OVERVIEW!$C3,DBASE!$G:$G,$U$2) -> 6 | L3: =SUMIFS(DBASE!N:N,DBASE!$D:$D,OVERVIEW!$C3,DBASE!$G:$G,$U$2) -> 7 | M3: =SUMIFS(DBASE!O:O,DBASE!$D:$D,OVERVIEW!$C3,DBASE!$G:$G,$U$2) -> 8 | N3: =SUMIFS(DBASE!P:P,DBASE!$D:$D,OVERVIEW!$C3,DBASE!$G:$G,$U$2) -> 9 | O3: =SUMIFS(DBASE!Q:Q,DBASE!$D:$D,OVERVIEW!$C3,DBASE!$G:$G,$U$2) -> 10 | P3: =SUMIFS(DBASE!R:R,DBASE!$D:$D,OVERVIEW!$C3,DBASE!$G:$G,$U$2) -> 11 | Q3: =SUMIFS(DBASE!S:S,DBASE!$D:$D,OVERVIEW!$C3,DBASE!$G:$G,$U$2) -> 12 | R3: =SUMIFS(DBASE!T:T,DBASE!$D:$D,OVERVIEW!$C3,DBASE!$G:$G,$U$2) -> 13 | S3: =SUMIFS(DBASE!U:U,DBASE!$D:$D,OVERVIEW!$C3,DBASE!$G:$G,$U$2) -> 91
A4: 001 | B4: 2000 | C4: 10 | D4: 42309 | E4: Mitarbeiter 10 | F4: =SUMIFS(DBASE!H:H,DBASE!$D:$D,OVERVIEW!$C4,DBASE!$G:$G,$U$2) -> 1 | G4: =SUMIFS(DBASE!I:I,DBASE!$D:$D,OVERVIEW!$C4,DBASE!$G:$G,$U$2) -> 2 | H4: =SUMIFS(DBASE!J:J,DBASE!$D:$D,OVERVIEW!$C4,DBASE!$G:$G,$U$2) -> 3 | I4: =SUMIFS(DBASE!K:K,DBASE!$D:$D,OVERVIEW!$C4,DBASE!$G:$G,$U$2) -> 4 | J4: =SUMIFS(DBASE!L:L,DBASE!$D:$D,OVERVIEW!$C4,DBASE!$G:$G,$U$2) -> 5 | K4: =SUMIFS(DBASE!M:M,DBASE!$D:$D,OVERVIEW!$C4,DBASE!$G:$G,$U$2) -> 6 | L4: =SUMIFS(DBASE!N:N,DBASE!$D:$D,OVERVIEW!$C4,DBASE!$G:$G,$U$2) -> 7 | M4: =SUMIFS(DBASE!O:O,DBASE!$D:$D,OVERVIEW!$C4,DBASE!$G:$G,$U$2) -> 8 | N4: =SUMIFS(DBASE!P:P,DBASE!$D:$D,OVERVIEW!$C4,DBASE!$G:$G,$U$2) -> 9 | O4: =SUMIFS(DBASE!Q:Q,DBASE!$D:$D,OVERVIEW!$C4,DBASE!$G:$G,$U$2) -> 10 | P4: =SUMIFS(DBASE!R:R,DBASE!$D:$D,OVERVIEW!$C4,DBASE!$G:$G,$U$2) -> 11 | Q4: =SUMIFS(DBASE!S:S,DBASE!$D:$D,OVERVIEW!$C4,DBASE!$G:$G,$U$2) -> 12 | R4: =SUMIFS(DBASE!T:T,DBASE!$D:$D,OVERVIEW!$C4,DBASE!$G:$G,$U$2) -> 13 | S4: =SUMIFS(DBASE!U:U,DBASE!$D:$D,OVERVIEW!$C4,DBASE!$G:$G,$U$2) -> 91
A5: 001 | B5: 2000 | C5: 11 | D5: 42583 | E5: Mitarbeiter 11 | F5: =SUMIFS(DBASE!H:H,DBASE!$D:$D,OVERVIEW!$C5,DBASE!$G:$G,$U$2) -> 1 | G5: =SUMIFS(DBASE!I:I,DBASE!$D:$D,OVERVIEW!$C5,DBASE!$G:$G,$U$2) -> 2 | H5: =SUMIFS(DBASE!J:J,DBASE!$D:$D,OVERVIEW!$C5,DBASE!$G:$G,$U$2) -> 3 | I5: =SUMIFS(DBASE!K:K,DBASE!$D:$D,OVERVIEW!$C5,DBASE!$G:$G,$U$2) -> 4 | J5: =SUMIFS(DBASE!L:L,DBASE!$D:$D,OVERVIEW!$C5,DBASE!$G:$G,$U$2) -> 5 | K5: =SUMIFS(DBASE!M:M,DBASE!$D:$D,OVERVIEW!$C5,DBASE!$G:$G,$U$2) -> 6 | L5: =SUMIFS(DBASE!N:N,DBASE!$D:$D,OVERVIEW!$C5,DBASE!$G:$G,$U$2) -> 7 | M5: =SUMIFS(DBASE!O:O,DBASE!$D:$D,OVERVIEW!$C5,DBASE!$G:$G,$U$2) -> 8 | N5: =SUMIFS(DBASE!P:P,DBASE!$D:$D,OVERVIEW!$C5,DBASE!$G:$G,$U$2) -> 9 | O5: =SUMIFS(DBASE!Q:Q,DBASE!$D:$D,OVERVIEW!$C5,DBASE!$G:$G,$U$2) -> 10 | P5: =SUMIFS(DBASE!R:R,DBASE!$D:$D,OVERVIEW!$C5,DBASE!$G:$G,$U$2) -> 11 | Q5: =SUMIFS(DBASE!S:S,DBASE!$D:$D,OVERVIEW!$C5,DBASE!$G:$G,$U$2) -> 12 | R5: =SUMIFS(DBASE!T:T,DBASE!$D:$D,OVERVIEW!$C5,DBASE!$G:$G,$U$2) -> 13 | S5: =SUMIFS(DBASE!U:U,DBASE!$D:$D,OVERVIEW!$C5,DBASE!$G:$G,$U$2) -> 91
A6: 001 | B6: 2000 | C6: 12 | D6: 42982 | E6: Mitarbeiter 12 | F6: =SUMIFS(DBASE!H:H,DBASE!$D:$D,OVERVIEW!$C6,DBASE!$G:$G,$U$2) -> 1 | G6: =SUMIFS(DBASE!I:I,DBASE!$D:$D,OVERVIEW!$C6,DBASE!$G:$G,$U$2) -> 2 | H6: =SUMIFS(DBASE!J:J,DBASE!$D:$D,OVERVIEW!$C6,DBASE!$G:$G,$U$2) -> 3 | I6: =SUMIFS(DBASE!K:K,DBASE!$D:$D,OVERVIEW!$C6,DBASE!$G:$G,$U$2) -> 4 | J6: =SUMIFS(DBASE!L:L,DBASE!$D:$D,OVERVIEW!$C6,DBASE!$G:$G,$U$2) -> 5 | K6: =SUMIFS(DBASE!M:M,DBASE!$D:$D,OVERVIEW!$C6,DBASE!$G:$G,$U$2) -> 6 | L6: =SUMIFS(DBASE!N:N,DBASE!$D:$D,OVERVIEW!$C6,DBASE!$G:$G,$U$2) -> 7 | M6: =SUMIFS(DBASE!O:O,DBASE!$D:$D,OVERVIEW!$C6,DBASE!$G:$G,$U$2) -> 8 | N6: =SUMIFS(DBASE!P:P,DBASE!$D:$D,OVERVIEW!$C6,DBASE!$G:$G,$U$2) -> 9 | O6: =SUMIFS(DBASE!Q:Q,DBASE!$D:$D,OVERVIEW!$C6,DBASE!$G:$G,$U$2) -> 10 | P6: =SUMIFS(DBASE!R:R,DBASE!$D:$D,OVERVIEW!$C6,DBASE!$G:$G,$U$2) -> 11 | Q6: =SUMIFS(DBASE!S:S,DBASE!$D:$D,OVERVIEW!$C6,DBASE!$G:$G,$U$2) -> 12 | R6: =SUMIFS(DBASE!T:T,DBASE!$D:$D,OVERVIEW!$C6,DBASE!$G:$G,$U$2) -> 13 | S6: =SUMIFS(DBASE!U:U,DBASE!$D:$D,OVERVIEW!$C6,DBASE!$G:$G,$U$2) -> 91
A7: 001 | B7: 2000 | C7: 13 | D7: 42996 | E7: Mitarbeiter 13 | F7: =SUMIFS(DBASE!H:H,DBASE!$D:$D,OVERVIEW!$C7,DBASE!$G:$G,$U$2) -> 1 | G7: =SUMIFS(DBASE!I:I,DBASE!$D:$D,OVERVIEW!$C7,DBASE!$G:$G,$U$2) -> 2 | H7: =SUMIFS(DBASE!J:J,DBASE!$D:$D,OVERVIEW!$C7,DBASE!$G:$G,$U$2) -> 3 | I7: =SUMIFS(DBASE!K:K,DBASE!$D:$D,OVERVIEW!$C7,DBASE!$G:$G,$U$2) -> 4 | J7: =SUMIFS(DBASE!L:L,DBASE!$D:$D,OVERVIEW!$C7,DBASE!$G:$G,$U$2) -> 5 | K7: =SUMIFS(DBASE!M:M,DBASE!$D:$D,OVERVIEW!$C7,DBASE!$G:$G,$U$2) -> 6 | L7: =SUMIFS(DBASE!N:N,DBASE!$D:$D,OVERVIEW!$C7,DBASE!$G:$G,$U$2) -> 7 | M7: =SUMIFS(DBASE!O:O,DBASE!$D:$D,OVERVIEW!$C7,DBASE!$G:$G,$U$2) -> 8 | N7: =SUMIFS(DBASE!P:P,DBASE!$D:$D,OVERVIEW!$C7,DBASE!$G:$G,$U$2) -> 9 | O7: =SUMIFS(DBASE!Q:Q,DBASE!$D:$D,OVERVIEW!$C7,DBASE!$G:$G,$U$2) -> 10 | P7: =SUMIFS(DBASE!R:R,DBASE!$D:$D,OVERVIEW!$C7,DBASE!$G:$G,$U$2) -> 11 | Q7: =SUMIFS(DBASE!S:S,DBASE!$D:$D,OVERVIEW!$C7,DBASE!$G:$G,$U$2) -> 12 | R7: =SUMIFS(DBASE!T:T,DBASE!$D:$D,OVERVIEW!$C7,DBASE!$G:$G,$U$2) -> 13 | S7: =SUMIFS(DBASE!U:U,DBASE!$D:$D,OVERVIEW!$C7,DBASE!$G:$G,$U$2) -> 91
A8: 001 | B8: 2000 | C8: 14 | D8: 43174 | E8: Mitarbeiter 14 | F8: =SUMIFS(DBASE!H:H,DBASE!$D:$D,OVERVIEW!$C8,DBASE!$G:$G,$U$2) -> 1 | G8: =SUMIFS(DBASE!I:I,DBASE!$D:$D,OVERVIEW!$C8,DBASE!$G:$G,$U$2) -> 2 | H8: =SUMIFS(DBASE!J:J,DBASE!$D:$D,OVERVIEW!$C8,DBASE!$G:$G,$U$2) -> 3 | I8: =SUMIFS(DBASE!K:K,DBASE!$D:$D,OVERVIEW!$C8,DBASE!$G:$G,$U$2) -> 4 | J8: =SUMIFS(DBASE!L:L,DBASE!$D:$D,OVERVIEW!$C8,DBASE!$G:$G,$U$2) -> 5 | K8: =SUMIFS(DBASE!M:M,DBASE!$D:$D,OVERVIEW!$C8,DBASE!$G:$G,$U$2) -> 6 | L8: =SUMIFS(DBASE!N:N,DBASE!$D:$D,OVERVIEW!$C8,DBASE!$G:$G,$U$2) -> 7 | M8: =SUMIFS(DBASE!O:O,DBASE!$D:$D,OVERVIEW!$C8,DBASE!$G:$G,$U$2) -> 8 | N8: =SUMIFS(DBASE!P:P,DBASE!$D:$D,OVERVIEW!$C8,DBASE!$G:$G,$U$2) -> 9 | O8: =SUMIFS(DBASE!Q:Q,DBASE!$D:$D,OVERVIEW!$C8,DBASE!$G:$G,$U$2) -> 10 | P8: =SUMIFS(DBASE!R:R,DBASE!$D:$D,OVERVIEW!$C8,DBASE!$G:$G,$U$2) -> 11 | Q8: =SUMIFS(DBASE!S:S,DBASE!$D:$D,OVERVIEW!$C8,DBASE!$G:$G,$U$2) -> 12 | R8: =SUMIFS(DBASE!T:T,DBASE!$D:$D,OVERVIEW!$C8,DBASE!$G:$G,$U$2) -> 13 | S8: =SUMIFS(DBASE!U:U,DBASE!$D:$D,OVERVIEW!$C8,DBASE!$G:$G,$U$2) -> 91
A9: 001 | B9: 2000 | C9: 15 | D9: 43191 | E9: Mitarbeiter 15 | F9: =SUMIFS(DBASE!H:H,DBASE!$D:$D,OVERVIEW!$C9,DBASE!$G:$G,$U$2) -> 1 | G9: =SUMIFS(DBASE!I:I,DBASE!$D:$D,OVERVIEW!$C9,DBASE!$G:$G,$U$2) -> 2 | H9: =SUMIFS(DBASE!J:J,DBASE!$D:$D,OVERVIEW!$C9,DBASE!$G:$G,$U$2) -> 3 | I9: =SUMIFS(DBASE!K:K,DBASE!$D:$D,OVERVIEW!$C9,DBASE!$G:$G,$U$2) -> 4 | J9: =SUMIFS(DBASE!L:L,DBASE!$D:$D,OVERVIEW!$C9,DBASE!$G:$G,$U$2) -> 5 | K9: =SUMIFS(DBASE!M:M,DBASE!$D:$D,OVERVIEW!$C9,DBASE!$G:$G,$U$2) -> 6 | L9: =SUMIFS(DBASE!N:N,DBASE!$D:$D,OVERVIEW!$C9,DBASE!$G:$G,$U$2) -> 7 | M9: =SUMIFS(DBASE!O:O,DBASE!$D:$D,OVERVIEW!$C9,DBASE!$G:$G,$U$2) -> 8 | N9: =SUMIFS(DBASE!P:P,DBASE!$D:$D,OVERVIEW!$C9,DBASE!$G:$G,$U$2) -> 9 | O9: =SUMIFS(DBASE!Q:Q,DBASE!$D:$D,OVERVIEW!$C9,DBASE!$G:$G,$U$2) -> 10 | P9: =SUMIFS(DBASE!R:R,DBASE!$D:$D,OVERVIEW!$C9,DBASE!$G:$G,$U$2) -> 11 | Q9: =SUMIFS(DBASE!S:S,DBASE!$D:$D,OVERVIEW!$C9,DBASE!$G:$G,$U$2) -> 12 | R9: =SUMIFS(DBASE!T:T,DBASE!$D:$D,OVERVIEW!$C9,DBASE!$G:$G,$U$2) -> 13 | S9: =SUMIFS(DBASE!U:U,DBASE!$D:$D,OVERVIEW!$C9,DBASE!$G:$G,$U$2) -> 91
A10: 002 | B10: 2000 | C10: 16 | D10: 43252 | E10: Mitarbeiter 16 | F10: =SUMIFS(DBASE!H:H,DBASE!$D:$D,OVERVIEW!$C10,DBASE!$G:$G,$U$2) -> 1 | G10: =SUMIFS(DBASE!I:I,DBASE!$D:$D,OVERVIEW!$C10,DBASE!$G:$G,$U$2) -> 2 | H10: =SUMIFS(DBASE!J:J,DBASE!$D:$D,OVERVIEW!$C10,DBASE!$G:$G,$U$2) -> 3 | I10: =SUMIFS(DBASE!K:K,DBASE!$D:$D,OVERVIEW!$C10,DBASE!$G:$G,$U$2) -> 4 | J10: =SUMIFS(DBASE!L:L,DBASE!$D:$D,OVERVIEW!$C10,DBASE!$G:$G,$U$2) -> 5 | K10: =SUMIFS(DBASE!M:M,DBASE!$D:$D,OVERVIEW!$C10,DBASE!$G:$G,$U$2) -> 6 | L10: =SUMIFS(DBASE!N:N,DBASE!$D:$D,OVERVIEW!$C10,DBASE!$G:$G,$U$2) -> 7 | M10: =SUMIFS(DBASE!O:O,DBASE!$D:$D,OVERVIEW!$C10,DBASE!$G:$G,$U$2) -> 8 | N10: =SUMIFS(DBASE!P:P,DBASE!$D:$D,OVERVIEW!$C10,DBASE!$G:$G,$U$2) -> 9 | O10: =SUMIFS(DBASE!Q:Q,DBASE!$D:$D,OVERVIEW!$C10,DBASE!$G:$G,$U$2) -> 10 | P10: =SUMIFS(DBASE!R:R,DBASE!$D:$D,OVERVIEW!$C10,DBASE!$G:$G,$U$2) -> 11 | Q10: =SUMIFS(DBASE!S:S,DBASE!$D:$D,OVERVIEW!$C10,DBASE!$G:$G,$U$2) -> 12 | R10: =SUMIFS(DBASE!T:T,DBASE!$D:$D,OVERVIEW!$C10,DBASE!$G:$G,$U$2) -> 13 | S10: =SUMIFS(DBASE!U:U,DBASE!$D:$D,OVERVIEW!$C10,DBASE!$G:$G,$U$2) -> 91
A11: 002 | B11: 2000 | C11: 17 | D11: 43252 | E11: Mitarbeiter 17 | F11: =SUMIFS(DBASE!H:H,DBASE!$D:$D,OVERVIEW!$C11,DBASE!$G:$G,$U$2) -> 1 | G11: =SUMIFS(DBASE!I:I,DBASE!$D:$D,OVERVIEW!$C11,DBASE!$G:$G,$U$2) -> 2 | H11: =SUMIFS(DBASE!J:J,DBASE!$D:$D,OVERVIEW!$C11,DBASE!$G:$G,$U$2) -> 3 | I11: =SUMIFS(DBASE!K:K,DBASE!$D:$D,OVERVIEW!$C11,DBASE!$G:$G,$U$2) -> 4 | J11: =SUMIFS(DBASE!L:L,DBASE!$D:$D,OVERVIEW!$C11,DBASE!$G:$G,$U$2) -> 5 | K11: =SUMIFS(DBASE!M:M,DBASE!$D:$D,OVERVIEW!$C11,DBASE!$G:$G,$U$2) -> 6 | L11: =SUMIFS(DBASE!N:N,DBASE!$D:$D,OVERVIEW!$C11,DBASE!$G:$G,$U$2) -> 7 | M11: =SUMIFS(DBASE!O:O,DBASE!$D:$D,OVERVIEW!$C11,DBASE!$G:$G,$U$2) -> 8 | N11: =SUMIFS(DBASE!P:P,DBASE!$D:$D,OVERVIEW!$C11,DBASE!$G:$G,$U$2) -> 9 | O11: =SUMIFS(DBASE!Q:Q,DBASE!$D:$D,OVERVIEW!$C11,DBASE!$G:$G,$U$2) -> 10 | P11: =SUMIFS(DBASE!R:R,DBASE!$D:$D,OVERVIEW!$C11,DBASE!$G:$G,$U$2) -> 11 | Q11: =SUMIFS(DBASE!S:S,DBASE!$D:$D,OVERVIEW!$C11,DBASE!$G:$G,$U$2) -> 12 | R11: =SUMIFS(DBASE!T:T,DBASE!$D:$D,OVERVIEW!$C11,DBASE!$G:$G,$U$2) -> 13 | S11: =SUMIFS(DBASE!U:U,DBASE!$D:$D,OVERVIEW!$C11,DBASE!$G:$G,$U$2) -> 91
A12: 002 | B12: 2000 | C12: 18 | D12: 43344 | E12: Mitarbeiter 18 | F12: =SUMIFS(DBASE!H:H,DBASE!$D:$D,OVERVIEW!$C12,DBASE!$G:$G,$U$2) -> 1 | G12: =SUMIFS(DBASE!I:I,DBASE!$D:$D,OVERVIEW!$C12,DBASE!$G:$G,$U$2) -> 2 | H12: =SUMIFS(DBASE!J:J,DBASE!$D:$D,OVERVIEW!$C12,DBASE!$G:$G,$U$2) -> 3 | I12: =SUMIFS(DBASE!K:K,DBASE!$D:$D,OVERVIEW!$C12,DBASE!$G:$G,$U$2) -> 4 | J12: =SUMIFS(DBASE!L:L,DBASE!$D:$D,OVERVIEW!$C12,DBASE!$G:$G,$U$2) -> 5 | K12: =SUMIFS(DBASE!M:M,DBASE!$D:$D,OVERVIEW!$C12,DBASE!$G:$G,$U$2) -> 6 | L12: =SUMIFS(DBASE!N:N,DBASE!$D:$D,OVERVIEW!$C12,DBASE!$G:$G,$U$2) -> 7 | M12: =SUMIFS(DBASE!O:O,DBASE!$D:$D,OVERVIEW!$C12,DBASE!$G:$G,$U$2) -> 8 | N12: =SUMIFS(DBASE!P:P,DBASE!$D:$D,OVERVIEW!$C12,DBASE!$G:$G,$U$2) -> 9 | O12: =SUMIFS(DBASE!Q:Q,DBASE!$D:$D,OVERVIEW!$C12,DBASE!$G:$G,$U$2) -> 10 | P12: =SUMIFS(DBASE!R:R,DBASE!$D:$D,OVERVIEW!$C12,DBASE!$G:$G,$U$2) -> 11 | Q12: =SUMIFS(DBASE!S:S,DBASE!$D:$D,OVERVIEW!$C12,DBASE!$G:$G,$U$2) -> 12 | R12: =SUMIFS(DBASE!T:T,DBASE!$D:$D,OVERVIEW!$C12,DBASE!$G:$G,$U$2) -> 13 | S12: =SUMIFS(DBASE!U:U,DBASE!$D:$D,OVERVIEW!$C12,DBASE!$G:$G,$U$2) -> 91
A13: 002 | B13: 2000 | C13: 19 | D13: 43405 | E13: Mitarbeiter 19 | F13: =SUMIFS(DBASE!H:H,DBASE!$D:$D,OVERVIEW!$C13,DBASE!$G:$G,$U$2) -> 1 | G13: =SUMIFS(DBASE!I:I,DBASE!$D:$D,OVERVIEW!$C13,DBASE!$G:$G,$U$2) -> 2 | H13: =SUMIFS(DBASE!J:J,DBASE!$D:$D,OVERVIEW!$C13,DBASE!$G:$G,$U$2) -> 3 | I13: =SUMIFS(DBASE!K:K,DBASE!$D:$D,OVERVIEW!$C13,DBASE!$G:$G,$U$2) -> 4 | J13: =SUMIFS(DBASE!L:L,DBASE!$D:$D,OVERVIEW!$C13,DBASE!$G:$G,$U$2) -> 5 | K13: =SUMIFS(DBASE!M:M,DBASE!$D:$D,OVERVIEW!$C13,DBASE!$G:$G,$U$2) -> 6 | L13: =SUMIFS(DBASE!N:N,DBASE!$D:$D,OVERVIEW!$C13,DBASE!$G:$G,$U$2) -> 7 | M13: =SUMIFS(DBASE!O:O,DBASE!$D:$D,OVERVIEW!$C13,DBASE!$G:$G,$U$2) -> 8 | N13: =SUMIFS(DBASE!P:P,DBASE!$D:$D,OVERVIEW!$C13,DBASE!$G:$G,$U$2) -> 9 | O13: =SUMIFS(DBASE!Q:Q,DBASE!$D:$D,OVERVIEW!$C13,DBASE!$G:$G,$U$2) -> 10 | P13: =SUMIFS(DBASE!R:R,DBASE!$D:$D,OVERVIEW!$C13,DBASE!$G:$G,$U$2) -> 11 | Q13: =SUMIFS(DBASE!S:S,DBASE!$D:$D,OVERVIEW!$C13,DBASE!$G:$G,$U$2) -> 12 | R13: =SUMIFS(DBASE!T:T,DBASE!$D:$D,OVERVIEW!$C13,DBASE!$G:$G,$U$2) -> 13 | S13: =SUMIFS(DBASE!U:U,DBASE!$D:$D,OVERVIEW!$C13,DBASE!$G:$G,$U$2) -> 91
A14: 002 | B14: 2000 | C14: 2 | D14: 36971 | E14: Mitarbeiter 2 | F14: =SUMIFS(DBASE!H:H,DBASE!$D:$D,OVERVIEW!$C14,DBASE!$G:$G,$U$2) -> 1 | G14: =SUMIFS(DBASE!I:I,DBASE!$D:$D,OVERVIEW!$C14,DBASE!$G:$G,$U$2) -> 2 | H14: =SUMIFS(DBASE!J:J,DBASE!$D:$D,OVERVIEW!$C14,DBASE!$G:$G,$U$2) -> 3 | I14: =SUMIFS(DBASE!K:K,DBASE!$D:$D,OVERVIEW!$C14,DBASE!$G:$G,$U$2) -> 4 | J14: =SUMIFS(DBASE!L:L,DBASE!$D:$D,OVERVIEW!$C14,DBASE!$G:$G,$U$2) -> 5 | K14: =SUMIFS(DBASE!M:M,DBASE!$D:$D,OVERVIEW!$C14,DBASE!$G:$G,$U$2) -> 6 | L14: =SUMIFS(DBASE!N:N,DBASE!$D:$D,OVERVIEW!$C14,DBASE!$G:$G,$U$2) -> 7 | M14: =SUMIFS(DBASE!O:O,DBASE!$D:$D,OVERVIEW!$C14,DBASE!$G:$G,$U$2) -> 8 | N14: =SUMIFS(DBASE!P:P,DBASE!$D:$D,OVERVIEW!$C14,DBASE!$G:$G,$U$2) -> 9 | O14: =SUMIFS(DBASE!Q:Q,DBASE!$D:$D,OVERVIEW!$C14,DBASE!$G:$G,$U$2) -> 10 | P14: =SUMIFS(DBASE!R:R,DBASE!$D:$D,OVERVIEW!$C14,DBASE!$G:$G,$U$2) -> 11 | Q14: =SUMIFS(DBASE!S:S,DBASE!$D:$D,OVERVIEW!$C14,DBASE!$G:$G,$U$2) -> 12 | R14: =SUMIFS(DBASE!T:T,DBASE!$D:$D,OVERVIEW!$C14,DBASE!$G:$G,$U$2) -> 13 | S14: =SUMIFS(DBASE!U:U,DBASE!$D:$D,OVERVIEW!$C14,DBASE!$G:$G,$U$2) -> 91
... A56: 0042 | B56: 2000 | C56: 9 | D56: 42248 | E56: Mitarbeiter 9 | F56: =SUMIFS(DBASE!H:H,DBASE!$D:$D,OVERVIEW!$C56,DBASE!$G:$G,$U$2) -> 1 | G56: =SUMIFS(DBASE!I:I,DBASE!$D:$D,OVERVIEW!$C56,DBASE!$G:$G,$U$2) -> 2 | H56: =SUMIFS(DBASE!J:J,DBASE!$D:$D,OVERVIEW!$C56,DBASE!$G:$G,$U$2) -> 3 | I56: =SUMIFS(DBASE!K:K,DBASE!$D:$D,OVERVIEW!$C56,DBASE!$G:$G,$U$2) -> 4 | J56: =SUMIFS(DBASE!L:L,DBASE!$D:$D,OVERVIEW!$C56,DBASE!$G:$G,$U$2) -> 5 | K56: =SUMIFS(DBASE!M:M,DBASE!$D:$D,OVERVIEW!$C56,DBASE!$G:$G,$U$2) -> 6 | L56: =SUMIFS(DBASE!N:N,DBASE!$D:$D,OVERVIEW!$C56,DBASE!$G:$G,$U$2) -> 7 | M56: =SUMIFS(DBASE!O:O,DBASE!$D:$D,OVERVIEW!$C56,DBASE!$G:$G,$U$2) -> 8 | N56: =SUMIFS(DBASE!P:P,DBASE!$D:$D,OVERVIEW!$C56,DBASE!$G:$G,$U$2) -> 9 | O56: =SUMIFS(DBASE!Q:Q,DBASE!$D:$D,OVERVIEW!$C56,DBASE!$G:$G,$U$2) -> 10 | P56: =SUMIFS(DBASE!R:R,DBASE!$D:$D,OVERVIEW!$C56,DBASE!$G:$G,$U$2) -> 11 | Q56: =SUMIFS(DBASE!S:S,DBASE!$D:$D,OVERVIEW!$C56,DBASE!$G:$G,$U$2) -> 12 | R56: =SUMIFS(DBASE!T:T,DBASE!$D:$D,OVERVIEW!$C56,DBASE!$G:$G,$U$2) -> 13 | S56: =SUMIFS(DBASE!U:U,DBASE!$D:$D,OVERVIEW!$C56,DBASE!$G:$G,$U$2) -> 91
A57: Total | F57: =SUBTOTAL(109,Tabelle1[BUD 31.03.2020]) -> 54 | G57: =SUBTOTAL(109,Tabelle1[BUD 30.04.2020]) -> 108 | H57: =SUBTOTAL(109,Tabelle1[BUD 31.05.2020]) -> 162 | I57: =SUBTOTAL(109,Tabelle1[BUD 30.06.2020]) -> 216 | J57: =SUBTOTAL(109,Tabelle1[BUD 31.07.2020]) -> 270 | K57: =SUBTOTAL(109,Tabelle1[BUD 31.08.2020]) -> 324 | L57: =SUBTOTAL(109,Tabelle1[BUD 30.09.2020]) -> 378 | M57: =SUBTOTAL(109,Tabelle1[BUD 31.10.2020]) -> 432 | N57: =SUBTOTAL(109,Tabelle1[BUD 30.11.2020]) -> 486 | O57: =SUBTOTAL(109,Tabelle1[BUD 31.12.2020]) -> 540 | P57: =SUBTOTAL(109,Tabelle1[BUD 31.01.2021]) -> 594 | Q57: =SUBTOTAL(109,Tabelle1[BUD 28.02.2021]) -> 648 | R57: =SUBTOTAL(109,Tabelle1[BUD 31.03.2021]) -> 702 | S57: =SUBTOTAL(109,Tabelle1[Total FY 20/21]) -> 4914
D59: 001 | E59: FTE (BUD) | F59: 0 | G59: 0 | H59: 0 | I59: 0 | J59: 0 | K59: 0 | L59: 0 | M59: 0 | N59: 0 | O59: 0 | P59: 0 | Q59: 0 | R59: 0 | S59: 0
D60: 001 | E60: SALARY (BUD) | F60: 0 | G60: 0 | H60: 0 | I60: 0 | J60: 0 | K60: 0 | L60: 0 | M60: 0 | N60: 0 | O60: 0 | P60: 0 | Q60: 0 | R60: 0 | S60: 0
D61: 001 | E61: SV-AG SALARY (BUD) | F61: 0 | G61: 0 | H61: 0 | I61: 0 | J61: 0 | K61: 0 | L61: 0 | M61: 0 | N61: 0 | O61: 0 | P61: 0 | Q61: 0 | R61: 0 | S61: 0
D62: 001 | E62: TRAVEL TIME (BUD) | F62: 0 | G62: 0 | H62: 0 | I62: 0 | J62: 0 | K62: 0 | L62: 0 | M62: 0 | N62: 0 | O62: 0 | P62: 0 | Q62: 0 | R62: 0 | S62: 0
D63: 001 | E63: PAID OVERTIME (BUD) | F63: 0 | G63: 0 | H63: 0 | I63: 0 | J63: 0 | K63: 0 | L63: 0 | M63: 0 | N63: 0 | O63: 0 | P63: 0 | Q63: 0 | R63: 0 | S63: 0
D64: 001 | E64: SURCHARG. FELPLG (BUD) | F64: 0 | G64: 0 | H64: 0 | I64: 0 | J64: 0 | K64: 0 | L64: 0 | M64: 0 | N64: 0 | O64: 0 | P64: 0 | Q64: 0 | R64: 0 | S64: 0
D65: 001 | E65: bAV (BUD) | F65: 0 | G65: 0 | H65: 0 | I65: 0 | J65: 0 | K65: 0 | L65: 0 | M65: 0 | N65: 0 | O65: 0 | P65: 0 | Q65: 0 | R65: 0 | S65: 0
D66: 001 | E66: SV-AG ADD (BUD) | F66: 0 | G66: 0 | H66: 0 | I66: 0 | J66: 0 | K66: 0 | L66: 0 | M66: 0 | N66: 0 | O66: 0 | P66: 0 | Q66: 0 | R66: 0 | S66: 0
D67: 001 | E67: Total CC | F67: 0 | G67: 0 | H67: 0 | I67: 0 | J67: 0 | K67: 0 | L67: 0 | M67: 0 | N67: 0 | O67: 0 | P67: 0 | Q67: 0 | R67: 0 | S67: 0
D68: 002 | E68: FTE (BUD) | F68: 0 | G68: 0 | H68: 0 | I68: 0 | J68: 0 | K68: 0 | L68: 0 | M68: 0 | N68: 0 | O68: 0 | P68: 0 | Q68: 0 | R68: 0 | S68: 0
D69: 002 | E69: SALARY (BUD) | F69: 0 | G69: 0 | H69: 0 | I69: 0 | J69: 0 | K69: 0 | L69: 0 | M69: 0 | N69: 0 | O69: 0 | P69: 0 | Q69: 0 | R69: 0 | S69: 0
D70: 002 | E70: SV-AG SALARY (BUD) | F70: 0 | G70: 0 | H70: 0 | I70: 0 | J70: 0 | K70: 0 | L70: 0 | M70: 0 | N70: 0 | O70: 0 | P70: 0 | Q70: 0 | R70: 0 | S70: 0
... D95: 0042 | E95: Total CC | F95: 0 | G95: 0 | H95: 0 | I95: 0 | J95: 0 | K95: 0 | L95: 0 | M95: 0 | N95: 0 | O95: 0 | P95: 0 | Q95: 0 | R95: 0 | S95: 0

Sheet DBASE
A1: CC | B1: Prang | C1: Branch | D1: PNO | E1: Join | F1: Name | G1: Typ | H1: BUD 31.03.2020 | I1: BUD 30.04.2020 | J1: BUD 31.05.2020 | K1: BUD 30.06.2020 | L1: BUD 31.07.2020 | M1: BUD 31.08.2020 | N1: BUD 30.09.2020 | O1: BUD 31.10.2020 | P1: BUD 30.11.2020 | Q1: BUD 31.12.2020 | R1: BUD 31.01.2021 | S1: BUD 28.02.2021 | T1: BUD 31.03.2021 | U1: Total FY 20/21
A2: 001 | B2: 1 | C2: 2000 | D2: 1 | E2: 36951 | F2: Mitarbeiter 1 | G2: FTE (BUD) | H2: 1 | I2: 1 | J2: 1 | K2: 1 | L2: 1 | M2: 1 | N2: 1 | O2: 1 | P2: 1 | Q2: 1 | R2: 1 | S2: 1 | T2: 1 | U2: 1
A3: 001 | B3: 2 | C3: 2000 | D3: 1 | E3: 36951 | F3: Mitarbeiter 1 | G3: SALARY (BUD) | H3: 1 | I3: 2 | J3: 3 | K3: 4 | L3: 5 | M3: 6 | N3: 7 | O3: 8 | P3: 9 | Q3: 10 | R3: 11 | S3: 12 | T3: 13 | U3: =SUM(H3:T3) -> 91
A4: 001 | B4: 1 | C4: 2000 | D4: 10 | E4: 42309 | F4: Mitarbeiter 10 | G4: FTE (BUD) | H4: 1 | I4: 1 | J4: 1 | K4: 1 | L4: 1 | M4: 1 | N4: 1 | O4: 1 | P4: 1 | Q4: 1 | R4: 1 | S4: 1 | T4: 1 | U4: 1
A5: 001 | B5: 2 | C5: 2000 | D5: 10 | E5: 42309 | F5: Mitarbeiter 10 | G5: SALARY (BUD) | H5: 1 | I5: 2 | J5: 3 | K5: 4 | L5: 5 | M5: 6 | N5: 7 | O5: 8 | P5: 9 | Q5: 10 | R5: 11 | S5: 12 | T5: 13 | U5: =SUM(H5:T5) -> 91
A6: 001 | B6: 1 | C6: 2000 | D6: 11 | E6: 42583 | F6: Mitarbeiter 11 | G6: FTE (BUD) | H6: 1 | I6: 1 | J6: 1 | K6: 1 | L6: 1 | M6: 1 | N6: 1 | O6: 1 | P6: 1 | Q6: 1 | R6: 1 | S6: 1 | T6: 1 | U6: 1
A7: 001 | B7: 2 | C7: 2000 | D7: 11 | E7: 42583 | F7: Mitarbeiter 11 | G7: SALARY (BUD) | H7: 1 | I7: 2 | J7: 3 | K7: 4 | L7: 5 | M7: 6 | N7: 7 | O7: 8 | P7: 9 | Q7: 10 | R7: 11 | S7: 12 | T7: 13 | U7: =SUM(H7:T7) -> 91
A8: 001 | B8: 1 | C8: 2000 | D8: 12 | E8: 42982 | F8: Mitarbeiter 12 | G8: FTE (BUD) | H8: 1 | I8: 1 | J8: 1 | K8: 1 | L8: 1 | M8: 1 | N8: 1 | O8: 1 | P8: 1 | Q8: 1 | R8: 1 | S8: 1 | T8: 1 | U8: 1
A9: 001 | B9: 2 | C9: 2000 | D9: 12 | E9: 42982 | F9: Mitarbeiter 12 | G9: SALARY (BUD) | H9: 1 | I9: 2 | J9: 3 | K9: 4 | L9: 5 | M9: 6 | N9: 7 | O9: 8 | P9: 9 | Q9: 10 | R9: 11 | S9: 12 | T9: 13 | U9: =SUM(H9:T9) -> 91
A10: 001 | B10: 1 | C10: 2000 | D10: 13 | E10: 42996 | F10: Mitarbeiter 13 | G10: FTE (BUD) | H10: 1 | I10: 1 | J10: 1 | K10: 1 | L10: 1 | M10: 1 | N10: 1 | O10: 1 | P10: 1 | Q10: 1 | R10: 1 | S10: 1 | T10: 1 | U10: 1
A11: 001 | B11: 2 | C11: 2000 | D11: 13 | E11: 42996 | F11: Mitarbeiter 13 | G11: SALARY (BUD) | H11: 1 | I11: 2 | J11: 3 | K11: 4 | L11: 5 | M11: 6 | N11: 7 | O11: 8 | P11: 9 | Q11: 10 | R11: 11 | S11: 12 | T11: 13 | U11: =SUM(H11:T11) -> 91
A12: 001 | B12: 1 | C12: 2000 | D12: 14 | E12: 43174 | F12: Mitarbeiter 14 | G12: FTE (BUD) | H12: 0.64102564 | I12: 0.64102564 | J12: 0.64102564 | K12: 0.64102564 | L12: 0.64102564 | M12: 0.64102564 | N12: 0.64102564 | O12: 0.64102564 | P12: 0.64102564 | Q12: 0.64102564 | R12: 0.64102564 | S12: 0.64102564 | T12: 0.64102564 | U12: 0.64102564
A13: 001 | B13: 2 | C13: 2000 | D13: 14 | E13: 43174 | F13: Mitarbeiter 14 | G13: SALARY (BUD) | H13: 1 | I13: 2 | J13: 3 | K13: 4 | L13: 5 | M13: 6 | N13: 7 | O13: 8 | P13: 9 | Q13: 10 | R13: 11 | S13: 12 | T13: 13 | U13: =SUM(H13:T13) -> 91
A14: 001 | B14: 1 | C14: 2000 | D14: 15 | E14: 43191 | F14: Mitarbeiter 15 | G14: FTE (BUD) | H14: 0.51282051 | I14: 0.51282051 | J14: 0.51282051 | K14: 0.51282051 | L14: 0.51282051 | M14: 0.51282051 | N14: 0.51282051 | O14: 0.51282051 | P14: 0.51282051 | Q14: 0.51282051 | R14: 0.51282051 | S14: 0.51282051 | T14: 0.51282051 | U14: 0.51282051
A15: 001 | B15: 2 | C15: 2000 | D15: 15 | E15: 43191 | F15: Mitarbeiter 15 | G15: SALARY (BUD) | H15: 1 | I15: 2 | J15: 3 | K15: 4 | L15: 5 | M15: 6 | N15: 7 | O15: 8 | P15: 9 | Q15: 10 | R15: 11 | S15: 12 | T15: 13 | U15: =SUM(H15:T15) -> 91
A16: 002 | B16: 1 | C16: 2000 | D16: 16 | E16: 43252 | F16: Mitarbeiter 16 | G16: FTE (BUD) | H16: 1 | I16: 1 | J16: 1 | K16: 1 | L16: 1 | M16: 1 | N16: 1 | O16: 1 | P16: 1 | Q16: 1 | R16: 1 | S16: 1 | T16: 1 | U16: 1
A17: 002 | B17: 2 | C17: 2000 | D17: 16 | E17: 43252 | F17: Mitarbeiter 16 | G17: SALARY (BUD) | H17: 1 | I17: 2 | J17: 3 | K17: 4 | L17: 5 | M17: 6 | N17: 7 | O17: 8 | P17: 9 | Q17: 10 | R17: 11 | S17: 12 | T17: 13 | U17: =SUM(H17:T17) -> 91
A18: 002 | B18: 1 | C18: 2000 | D18: 17 | E18: 43252 | F18: Mitarbeiter 17 | G18: FTE (BUD) | H18: 1 | I18: 1 | J18: 1 | K18: 1 | L18: 1 | M18: 1 | N18: 1 | O18: 1 | P18: 1 | Q18: 1 | R18: 1 | S18: 1 | T18: 1 | U18: 1
A19: 002 | B19: 2 | C19: 2000 | D19: 17 | E19: 43252 | F19: Mitarbeiter 17 | G19: SALARY (BUD) | H19: 1 | I19: 2 | J19: 3 | K19: 4 | L19: 5 | M19: 6 | N19: 7 | O19: 8 | P19: 9 | Q19: 10 | R19: 11 | S19: 12 | T19: 13 | U19: =SUM(H19:T19) -> 91
A20: 002 | B20: 1 | C20: 2000 | D20: 18 | E20: 43344 | F20: Mitarbeiter 18 | G20: FTE (BUD) | H20: 1 | I20: 1 | J20: 1 | K20: 1 | L20: 1 | M20: 1 | N20: 1 | O20: 1 | P20: 1 | Q20: 1 | R20: 1 | S20: 1 | T20: 1 | U20: 1
A21: 002 | B21: 2 | C21: 2000 | D21: 18 | E21: 43344 | F21: Mitarbeiter 18 | G21: SALARY (BUD) | H21: 1 | I21: 2 | J21: 3 | K21: 4 | L21: 5 | M21: 6 | N21: 7 | O21: 8 | P21: 9 | Q21: 10 | R21: 11 | S21: 12 | T21: 13 | U21: =SUM(H21:T21) -> 91
A22: 002 | B22: 1 | C22: 2000 | D22: 19 | E22: 43405 | F22: Mitarbeiter 19 | G22: FTE (BUD) | H22: 1 | I22: 1 | J22: 1 | K22: 1 | L22: 1 | M22: 1 | N22: 1 | O22: 1 | P22: 1 | Q22: 1 | R22: 1 | S22: 1 | T22: 1 | U22: 1
A23: 002 | B23: 2 | C23: 2000 | D23: 19 | E23: 43405 | F23: Mitarbeiter 19 | G23: SALARY (BUD) | H23: 1 | I23: 2 | J23: 3 | K23: 4 | L23: 5 | M23: 6 | N23: 7 | O23: 8 | P23: 9 | Q23: 10 | R23: 11 | S23: 12 | T23: 13 | U23: =SUM(H23:T23) -> 91
A24: 002 | B24: 1 | C24: 2000 | D24: 2 | E24: 36971 | F24: Mitarbeiter 2 | G24: FTE (BUD) | H24: 0.61538462 | I24: 0.61538462 | J24: 0.61538462 | K24: 0.61538462 | L24: 0.61538462 | M24: 0.61538462 | N24: 0.61538462 | O24: 0.61538462 | P24: 0.61538462 | Q24: 0.61538462 | R24: 0.61538462 | S24: 0.61538462 | T24: 0.61538462 | U24: 0.61538462
A25: 002 | B25: 2 | C25: 2000 | D25: 2 | E25: 36971 | F25: Mitarbeiter 2 | G25: SALARY (BUD) | H25: 1 | I25: 2 | J25: 3 | K25: 4 | L25: 5 | M25: 6 | N25: 7 | O25: 8 | P25: 9 | Q25: 10 | R25: 11 | S25: 12 | T25: 13 | U25: =SUM(H25:T25) -> 91
A26: 0021 | B26: 1 | C26: 2000 | D26: 20 | E26: 43405 | F26: Mitarbeiter 20 | G26: FTE (BUD) | H26: 0.51282051 | I26: 0.51282051 | J26: 0.51282051 | K26: 0.51282051 | L26: 0.51282051 | M26: 0.51282051 | N26: 0.51282051 | O26: 0.51282051 | P26: 0.51282051 | Q26: 0.51282051 | R26: 0.51282051 | S26: 0.51282051 | T26: 0.51282051 | U26: 0.51282051
A27: 0021 | B27: 2 | C27: 2000 | D27: 20 | E27: 43405 | F27: Mitarbeiter 20 | G27: SALARY (BUD) | H27: 1 | I27: 2 | J27: 3 | K27: 4 | L27: 5 | M27: 6 | N27: 7 | O27: 8 | P27: 9 | Q27: 10 | R27: 11 | S27: 12 | T27: 13 | U27: =SUM(H27:T27) -> 91
A28: 0021 | B28: 1 | C28: 2000 | D28: 21 | E28: 43405 | F28: Mitarbeiter 21 | G28: FTE (BUD) | H28: 0.64102564 | I28: 0.64102564 | J28: 0.64102564 | K28: 0.64102564 | L28: 0.64102564 | M28: 0.64102564 | N28: 0.64102564 | O28: 0.64102564 | P28: 0.64102564 | Q28: 0.64102564 | R28: 0.64102564 | S28: 0.64102564 | T28: 0.64102564 | U28: 0.64102564
A29: 0021 | B29: 2 | C29: 2000 | D29: 21 | E29: 43405 | F29: Mitarbeiter 21 | G29: SALARY (BUD) | H29: 1 | I29: 2 | J29: 3 | K29: 4 | L29: 5 | M29: 6 | N29: 7 | O29: 8 | P29: 9 | Q29: 10 | R29: 11 | S29: 12 | T29: 13 | U29: =SUM(H29:T29) -> 91
A30: 0021 | B30: 1 | C30: 2000 | D30: 22 | E30: 43556 | F30: Mitarbeiter 22 | G30: FTE (BUD) | H30: 1 | I30: 1 | J30: 1 | K30: 1 | L30: 1 | M30: 1 | N30: 1 | O30: 1 | P30: 1 | Q30: 1 | R30: 1 | S30: 1 | T30: 1 | U30: 1
A31: 0021 | B31: 2 | C31: 2000 | D31: 22 | E31: 43556 | F31: Mitarbeiter 22 | G31: SALARY (BUD) | H31: 1 | I31: 2 | J31: 3 | K31: 4 | L31: 5 | M31: 6 | N31: 7 | O31: 8 | P31: 9 | Q31: 10 | R31: 11 | S31: 12 | T31: 13 | U31: =SUM(H31:T31) -> 91
A32: 0021 | B32: 1 | C32: 2000 | D32: 23 | E32: 43617 | F32: Mitarbeiter 23 | G32: FTE (BUD) | H32: 1 | I32: 1 | J32: 1 | K32: 1 | L32: 1 | M32: 1 | N32: 1 | O32: 1 | P32: 1 | Q32: 1 | R32: 1 | S32: 1 | T32: 1 | U32: 1
A33: 0021 | B33: 2 | C33: 2000 | D33: 23 | E33: 43617 | F33: Mitarbeiter 23 | G33: SALARY (BUD) | H33: 1 | I33: 2 | J33: 3 | K33: 4 | L33: 5 | M33: 6 | N33: 7 | O33: 8 | P33: 9 | Q33: 10 | R33: 11 | S33: 12 | T33: 13 | U33: =SUM(H33:T33) -> 91
A34: 0021 | B34: 1 | C34: 2000 | D34: 24 | E34: 43641 | F34: Mitarbeiter 24 | G34: FTE (BUD) | H34: 1 | I34: 1 | J34: 1 | K34: 1 | L34: 1 | M34: 1 | N34: 1 | O34: 1 | P34: 1 | Q34: 1 | R34: 1 | S34: 1 | T34: 1 | U34: 1
A35: 0021 | B35: 2 | C35: 2000 | D35: 24 | E35: 43641 | F35: Mitarbeiter 24 | G35: SALARY (BUD) | H35: 1 | I35: 2 | J35: 3 | K35: 4 | L35: 5 | M35: 6 | N35: 7 | O35: 8 | P35: 9 | Q35: 10 | R35: 11 | S35: 12 | T35: 13 | U35: =SUM(H35:T35) -> 91
A36: 0021 | B36: 1 | C36: 2000 | D36: 25 | E36: 43831 | F36: Mitarbeiter 25 | G36: FTE (BUD) | H36: 1 | I36: 1 | J36: 1 | K36: 1 | L36: 1 | M36: 1 | N36: 1 | O36: 1 | P36: 1 | Q36: 1 | R36: 1 | S36: 1 | T36: 1 | U36: 1
A37: 0021 | B37: 2 | C37: 2000 | D37: 25 | E37: 43831 | F37: Mitarbeiter 25 | G37: SALARY (BUD) | H37: 1 | I37: 2 | J37: 3 | K37: 4 | L37: 5 | M37: 6 | N37: 7 | O37: 8 | P37: 9 | Q37: 10 | R37: 11 | S37: 12 | T37: 13 | U37: =SUM(H37:T37) -> 91
A38: 0021 | B38: 1 | C38: 2000 | D38: 26 | E38: 34669 | F38: Mitarbeiter 26 | G38: FTE (BUD) | H38: 1 | I38: 1 | J38: 1 | K38: 1 | L38: 1 | M38: 1 | N38: 1 | O38: 1 | P38: 1 | Q38: 1 | R38: 1 | S38: 1 | T38: 1 | U38: 1
A39: 0021 | B39: 2 | C39: 2000 | D39: 26 | E39: 34669 | F39: Mitarbeiter 26 | G39: SALARY (BUD) | H39: 1 | I39: 2 | J39: 3 | K39: 4 | L39: 5 | M39: 6 | N39: 7 | O39: 8 | P39: 9 | Q39: 10 | R39: 11 | S39: 12 | T39: 13 | U39: =SUM(H39:T39) -> 91
A40: 0021 | B40: 1 | C40: 2000 | D40: 27 | E40: 36800 | F40: Mitarbeiter 27 | G40: FTE (BUD) | H40: 1 | I40: 1 | J40: 1 | K40: 1 | L40: 1 | M40: 1 | N40: 1 | O40: 1 | P40: 1 | Q40: 1 | R40: 1 | S40: 1 | T40: 1 | U40: 1
...
