Workbook

Sheet Tabelle1
A2: Quelle
A9: Ziel

Sheet Auswahl
A1: In Liste | B1: Artikelnummer | C1: Artikelname | D1: Packungsgröße | E1: Anzahl
B2: 1234567 | C2: Handschuhe Größe S | D2: 100 | F2: TRUE | G2: =IF(F2=TRUE,B2,"") -> 1234567 | I2: Die Spalten F und G können ausgeblendet werden
B3: 23221232142 | C3: Handschuhe Größe M | D3: 200 | G3: =IF(F3=TRUE,B3,"") | I3: In Spalte F steht die Verknüpfung des Formularsteuerelements "Kontrollkästchen".
B4: 616547851 | C4: Handschuhe Größe L | D4: 300 | F4: TRUE | G4: =IF(F4=TRUE,B4,"") -> 616547851 | I4: In Spalte G wird in abhängigkeit von Spalte F die Artikelnummer ausgegeben
B5: 1247759845 | C5: Handschuhe steril Größe M | D5: 400 | F5: FALSE | G5: =IF(F5=TRUE,B5,"")

Sheet Bestellliste
A1: Artikelnummer | B1: Artikelname | C1: Packungsgröße | D1: Bedarf
A2: {=IFERROR(IF(ROW(A1)> COUNTA(Auswahl!$G$1:$G$100), "",INDEX(Auswahl!$G:$G, SMALL(IF(Auswahl!$G$1:$G$100<>"", ROW($1:$100)), ROW(A1)))),"")} -> 1234567 | B2: =IFERROR(VLOOKUP(A2,Auswahl!$B$2:$E$5,2,FALSE),"") -> Handschuhe Größe S | C2: =IFERROR(VLOOKUP(A2,Auswahl!$B$2:$E$5,3,FALSE),"") -> 100 | D2: =IFERROR(VLOOKUP(A2,Auswahl!$B$2:$E$5,4,FALSE),"") -> 0 | E2: <- Formeln soweit wie benötigt nach unten ziehen
A3: {=IFERROR(IF(ROW(A2)> COUNTA(Auswahl!$G$1:$G$100), "",INDEX(Auswahl!$G:$G, SMALL(IF(Auswahl!$G$1:$G$100<>"", ROW($1:$100)), ROW(A2)))),"")} -> 616547851 | B3: =IFERROR(VLOOKUP(A3,Auswahl!$B$2:$E$5,2,FALSE),"") -> Handschuhe Größe L | C3: =IFERROR(VLOOKUP(A3,Auswahl!$B$2:$E$5,3,FALSE),"") -> 300 | D3: =IFERROR(VLOOKUP(A3,Auswahl!$B$2:$E$5,4,FALSE),"") -> 0 | E3: Durch die Formel in Spalte A wird eine Liste aus dem Blatt "Auswahl" ohne Leerzeilen erstellt.
A4: {=IFERROR(IF(ROW(A3)> COUNTA(Auswahl!$G$1:$G$100), "",INDEX(Auswahl!$G:$G, SMALL(IF(Auswahl!$G$1:$G$100<>"", ROW($1:$100)), ROW(A3)))),"")} | B4: =IFERROR(VLOOKUP(A4,Auswahl!$B$2:$E$5,2,FALSE),"") | C4: =IFERROR(VLOOKUP(A4,Auswahl!$B$2:$E$5,3,FALSE),"") | D4: =IFERROR(VLOOKUP(A4,Auswahl!$B$2:$E$5,4,FALSE),"") | E4: Hierdurch werden die Artikelnummern aus Spalte G aufgelistet.
A5: {=IFERROR(IF(ROW(A4)> COUNTA(Auswahl!$G$1:$G$100), "",INDEX(Auswahl!$G:$G, SMALL(IF(Auswahl!$G$1:$G$100<>"", ROW($1:$100)), ROW(A4)))),"")} | B5: =IFERROR(VLOOKUP(A5,Auswahl!$B$2:$E$5,2,FALSE),"") | C5: =IFERROR(VLOOKUP(A5,Auswahl!$B$2:$E$5,3,FALSE),"") | D5: =IFERROR(VLOOKUP(A5,Auswahl!$B$2:$E$5,4,FALSE),"") | E5: Durch die Wenn-Fehler-Formeln können die Formeln soweit wie benötigt nach unten gezogen werden,
A6: {=IFERROR(IF(ROW(A5)> COUNTA(Auswahl!$G$1:$G$100), "",INDEX(Auswahl!$G:$G, SMALL(IF(Auswahl!$G$1:$G$100<>"", ROW($1:$100)), ROW(A5)))),"")} | B6: =IFERROR(VLOOKUP(A6,Auswahl!$B$2:$E$5,2,FALSE),"") | C6: =IFERROR(VLOOKUP(A6,Auswahl!$B$2:$E$5,3,FALSE),"") | D6: =IFERROR(VLOOKUP(A6,Auswahl!$B$2:$E$5,4,FALSE),"") | E6: ohne dass es zu Fehlern kommt, wenn keine Daten aus mehr G aufgelistet werden und die Artikelnummern
A7: {=IFERROR(IF(ROW(A6)> COUNTA(Auswahl!$G$1:$G$100), "",INDEX(Auswahl!$G:$G, SMALL(IF(Auswahl!$G$1:$G$100<>"", ROW($1:$100)), ROW(A6)))),"")} | B7: =IFERROR(VLOOKUP(A7,Auswahl!$B$2:$E$5,2,FALSE),"") | C7: =IFERROR(VLOOKUP(A7,Auswahl!$B$2:$E$5,3,FALSE),"") | D7: =IFERROR(VLOOKUP(A7,Auswahl!$B$2:$E$5,4,FALSE),"") | E7: daher leer bleiben.
A8: {=IFERROR(IF(ROW(A7)> COUNTA(Auswahl!$G$1:$G$100), "",INDEX(Auswahl!$G:$G, SMALL(IF(Auswahl!$G$1:$G$100<>"", ROW($1:$100)), ROW(A7)))),"")} | B8: =IFERROR(VLOOKUP(A8,Auswahl!$B$2:$E$5,2,FALSE),"") | C8: =IFERROR(VLOOKUP(A8,Auswahl!$B$2:$E$5,3,FALSE),"") | D8: =IFERROR(VLOOKUP(A8,Auswahl!$B$2:$E$5,4,FALSE),"") | E8: Die Bereich in den Formeln sind natürlich auf deine Bedürfnisse anzupassen.
A9: {=IFERROR(IF(ROW(A8)> COUNTA(Auswahl!$G$1:$G$100), "",INDEX(Auswahl!$G:$G, SMALL(IF(Auswahl!$G$1:$G$100<>"", ROW($1:$100)), ROW(A8)))),"")} | B9: =IFERROR(VLOOKUP(A9,Auswahl!$B$2:$E$5,2,FALSE),"") | C9: =IFERROR(VLOOKUP(A9,Auswahl!$B$2:$E$5,3,FALSE),"") | D9: =IFERROR(VLOOKUP(A9,Auswahl!$B$2:$E$5,4,FALSE),"")
A10: {=IFERROR(IF(ROW(A9)> COUNTA(Auswahl!$G$1:$G$100), "",INDEX(Auswahl!$G:$G, SMALL(IF(Auswahl!$G$1:$G$100<>"", ROW($1:$100)), ROW(A9)))),"")} | B10: =IFERROR(VLOOKUP(A10,Auswahl!$B$2:$E$5,2,FALSE),"") | C10: =IFERROR(VLOOKUP(A10,Auswahl!$B$2:$E$5,3,FALSE),"") | D10: =IFERROR(VLOOKUP(A10,Auswahl!$B$2:$E$5,4,FALSE),"")
A11: {=IFERROR(IF(ROW(A10)> COUNTA(Auswahl!$G$1:$G$100), "",INDEX(Auswahl!$G:$G, SMALL(IF(Auswahl!$G$1:$G$100<>"", ROW($1:$100)), ROW(A10)))),"")}
