Workbook

Sheet Master
B1: ORDER NUMBER 128 2019-01-23 - 2019-01-30 Equipment for the Rugby World Cup Showcase. Round up or down the number in order to make sure the boxes are filled up. Disposable we can order directly from Solia Japan. Need more option than on our website
C2: EQUIPMENT OVERVIEW Controlled by: Date: Signature: | J2: Disposable | L2: Qty total | N2: Press Cafe Ebene 0 | P2: Hauptküche Ebene 1 | Q2: Buffet 1.1 U Shape | R2: Buffet 1.2. I Shape | S2: Buffet 1.3. I Shape | T2: Buffet 1.4. U Shape | U2: Special Buffet I Burger Buffet | V2: Special Buffet II Handkäse Buffet | W2: Relais Küche Ebene 1 | Y2: Buffet 2.1. I Shape | Z2: Buffet 2.2. I Shape | AA2: Buffet 2.3.1. I Shape | AB2: Buffet 2.3.2 I Shape | AC2: Buffet 2.3. I Shape | AD2: Buffet 2.4. I Shape | AE2: Relais Küche Eben 2 | AG2: Relais Küche Ebene 3 | AH2: Buffet 3.1. I Shape | AI2: Buffet 3.2. I Shape | AJ2: Buffet 3.3. Live Cooking Table | AL2: Logen Eben 2 & 3 | AN2: Adler Viktoria Ebene 3 | AQ2: Legende | BE2: Buffet U Shape
C4: EQ BUFET & TABLE TOP | L4: =L2 -> Qty total | N4: =N2 -> Press Cafe Ebene 0 | P4: =P2 -> Hauptküche Ebene 1 | Q4: =AQ4 -> Buffet U Shape | R4: =AR4 -> Buffet I Shape 1 | S4: =AS4 -> Buffet I Shape I2 | T4: =AT4 -> F & B I Shape I3 | U4: =AS4 -> Buffet I Shape I2 | V4: =AR4 -> Buffet I Shape 1 | W4: =AQ4 -> Buffet U Shape | Y4: ='EQ Buffet & Table Top'!AR2 -> Buffet I Shape 1 | Z4: Buffet I Shape 1 | AA4: Buffet I Shape I6 | AB4: Buffet I Shape 1 | AC4: Buffet I Shape I5 | AD4: Buffet I Shape I4 | AE4: Relais Küche Ebene 2 | AG4: =AG2 -> Relais Küche Ebene 3 | AH4: =AH2 -> Buffet 3.1. I Shape | AI4: =AI2 -> Buffet 3.2. I Shape | AJ4: =AJ2 -> Buffet 3.3. Live Cooking Table | AL4: =AL2 -> Logen Eben 2 & 3 | AN4: =AN2 -> Adler Viktoria Ebene 3 | AQ4: Buffet U Shape | AR4: Buffet I Shape 1 | AS4: Buffet I Shape I2 | AT4: F & B I Shape I3 | AU4: Buffet I Shape I4 | AV4: Buffet I Shape I5 | AZ4: Buffet I Shape I6 | BA4: Buffet I Shape I7 | BB4: Buffet L Shape E2_1 Bar & Buffet | BC4: Buffet L Shape E2_2 Bar & Buffet
B5: # | C5: Designation | D5: Picture | G5: Power (kW) | H5: Price/Unit | I5: Size
B6: 1 | C6: ='EQ Buffet & Table Top'!C6 -> Square Riser | E6: ='EQ Buffet & Table Top'!E6 -> D.W. Haber Ash Grey Teak (AG) DWFB147WDAG | F6: ='EQ Buffet & Table Top'!F6 -> https://de.steelite.com/media/literature/brochures/dw-haber-fall-2019-23-oct-2019.pdf | G6: ='EQ Buffet & Table Top'!G6 -> 0 | H6: ='EQ Buffet & Table Top'!H6 -> 0 | I6: ='EQ Buffet & Table Top'!I6 -> L W 14” H 7” | L6: =SUM(N6:AN6) -> #VALUE! | N6: ='EQ Buffet & Table Top'!N6 -> 0 | Q6: =INDEX($AQ6:$BC6,MATCH(Q$4,$AQ$4:$BC$4,0)) -> 5 | R6: =INDEX($AQ6:$BC6,MATCH(R$4,$AQ$4:$BC$4,0)) -> 3 | S6: =INDEX($AQ6:$BC6,MATCH(S$4,$AQ$4:$BC$4,0)) -> 5 | T6: =INDEX($AQ6:$BC6,MATCH(T$4,$AQ$4:$BC$4,0)) -> 1 | U6: =INDEX($AQ6:$BC6,MATCH(U$4,$AQ$4:$BC$4,0)) -> 5 | V6: =INDEX($AQ6:$BC6,MATCH(V$4,$AQ$4:$BC$4,0)) -> 3 | W6: =INDEX($AQ6:$BC6,MATCH(W$4,$AQ$4:$BC$4,0)) -> 5 | Y6: =SUMIF($AQ$4:$BC$4,$Y$4,AU6) -> 4 | Z6: {=IF((Y4:AE4,AQ4,AQ6),IF(Y4:AE4,AR4,AR6))} -> #VALUE! | AA6: ='EQ Buffet & Table Top'!AA6 -> 1 | AB6: ='EQ Buffet & Table Top'!AB6 -> 0 | AC6: ='EQ Buffet & Table Top'!AC6 -> 0 | AD6: ='EQ Buffet & Table Top'!AD6 -> 0 | AE6: ='EQ Buffet & Table Top'!AD6 -> 0 | AG6: ='EQ Buffet & Table Top'!#REF! -> #REF! | AH6: {=SUMMWENN(AQ4:BC4,Y4:AE4,AQ6:BC6)} -> #NAME? | AI6: ='EQ Buffet & Table Top'!#REF! -> #REF! | AJ6: ='EQ Buffet & Table Top'!#REF! -> #REF! | AL6: ='EQ Buffet & Table Top'!#REF! -> #REF! | AN6: ='EQ Buffet & Table Top'!#REF! -> #REF! | AQ6: ='EQ Buffet & Table Top'!DL6 -> 5 | AR6: ='EQ Buffet & Table Top'!DM6 -> 3 | AS6: ='EQ Buffet & Table Top'!DN6 -> 5 | AT6: ='EQ Buffet & Table Top'!DO6 -> 1 | AU6: ='EQ Buffet & Table Top'!DP6 -> 4 | AV6: ='EQ Buffet & Table Top'!DQ6 -> 4 | AW6: ='EQ Buffet & Table Top'!DR6 -> 3 | AX6: ='EQ Buffet & Table Top'!DS6 -> 4 | ... BA6: ='EQ Buffet & Table Top'!DV6 -> 0 | BB6: ='EQ Buffet & Table Top'!DY6 -> 0 | BC6: ='EQ Buffet & Table Top'!DZ6 -> 0
B7: 2 | C7: ='EQ Buffet & Table Top'!C7 -> Square Riser | E7: ='EQ Buffet & Table Top'!E7 -> D.W. Haber Ash Grey Teak (AG) DWFB145WDAG | F7: ='EQ Buffet & Table Top'!F7 -> https://de.steelite.com/media/literature/brochures/dw-haber-fall-2019-23-oct-2019.pdf | G7: ='EQ Buffet & Table Top'!G7 -> 0 | H7: ='EQ Buffet & Table Top'!H7 -> 0 | I7: ='EQ Buffet & Table Top'!I7 -> L W 14” H 5” | L7: =SUM(N7:AN7) -> #REF! | N7: ='EQ Buffet & Table Top'!N7 -> 0 | Q7: =INDEX($AQ6:$BC6,MATCH(Q$4,$AQ$4:$BC$4,0)) -> 5 | R7: =SUMIF($AQ$4:$BC$4,$R$4,AR7) -> 0 | S7: =SUMIF($AQ$4:$BC$4,$S$4,AS7) -> 0 | T7: =SUMIF($AQ$4:$BC$4,$T$4,AT7) -> 0 | U7: =SUMIF($AQ$4:$BC$4,$U$4,AS7) -> 0 | V7: =SUMIF($AQ$4:$BC$4,$V$4,AR7) -> 0 | W7: =SUMIF($AQ$4:$BC$4,$W$4,AQ7) -> 0 | Y7: ='EQ Buffet & Table Top'!Y7 -> 0 | Z7: ='EQ Buffet & Table Top'!Z7 -> 0 | AA7: ='EQ Buffet & Table Top'!AA7 -> 0 | AB7: ='EQ Buffet & Table Top'!AB7 -> 0 | AC7: ='EQ Buffet & Table Top'!AC7 -> 0 | AD7: ='EQ Buffet & Table Top'!AD7 -> 0 | AE7: ='EQ Buffet & Table Top'!AD7 -> 0 | AG7: ='EQ Buffet & Table Top'!#REF! -> #REF! | AH7: ='EQ Buffet & Table Top'!#REF! -> #REF! | AI7: ='EQ Buffet & Table Top'!#REF! -> #REF! | AJ7: ='EQ Buffet & Table Top'!#REF! -> #REF! | AL7: ='EQ Buffet & Table Top'!#REF! -> #REF! | AN7: ='EQ Buffet & Table Top'!#REF! -> #REF! | AQ7: ='EQ Buffet & Table Top'!DL7 -> 0 | AR7: ='EQ Buffet & Table Top'!DM7 -> 0 | AS7: ='EQ Buffet & Table Top'!DN7 -> 0 | AT7: ='EQ Buffet & Table Top'!DO7 -> 0 | AU7: ='EQ Buffet & Table Top'!DP7 -> 0 | AV7: ='EQ Buffet & Table Top'!DQ7 -> 0 | AW7: ='EQ Buffet & Table Top'!DR7 -> 0 | AX7: ='EQ Buffet & Table Top'!DS7 -> 0 | ... BA7: ='EQ Buffet & Table Top'!DV7 -> 0 | BB7: ='EQ Buffet & Table Top'!DY7 -> 0 | BC7: ='EQ Buffet & Table Top'!DZ7 -> 0
B8: 3 | C8: ='EQ Buffet & Table Top'!C8 -> Square Riser | E8: ='EQ Buffet & Table Top'!E8 -> D.W. Haber Ash Grey Teak (AG) DWFB116WDAG | F8: ='EQ Buffet & Table Top'!F8 -> https://de.steelite.com/media/literature/brochures/dw-haber-fall-2019-23-oct-2019.pdf | G8: ='EQ Buffet & Table Top'!G8 -> 0 | H8: ='EQ Buffet & Table Top'!H8 -> 0 | I8: ='EQ Buffet & Table Top'!I8 -> L W 11” H 6” | L8: =SUM(N8:AN8) -> #REF! | N8: ='EQ Buffet & Table Top'!N8 -> 0 | Q8: =SUMIF($AQ$4:$BC$4,$Q$4,AQ8) -> 0 | R8: =SUMIF($AQ$4:$BC$4,$R$4,AR8) -> 0 | S8: =SUMIF($AQ$4:$BC$4,$S$4,AS8) -> 0 | T8: =SUMIF($AQ$4:$BC$4,$T$4,AT8) -> 0 | U8: =SUMIF($AQ$4:$BC$4,$U$4,AS8) -> 0 | V8: =SUMIF($AQ$4:$BC$4,$V$4,AR8) -> 0 | W8: =SUMIF($AQ$4:$BC$4,$W$4,AQ8) -> 0 | Y8: ='EQ Buffet & Table Top'!Y8 -> 0 | Z8: ='EQ Buffet & Table Top'!Z8 -> 0 | AA8: ='EQ Buffet & Table Top'!AA8 -> 0 | AB8: ='EQ Buffet & Table Top'!AB8 -> 0 | AC8: ='EQ Buffet & Table Top'!AC8 -> 0 | AD8: ='EQ Buffet & Table Top'!AD8 -> 0 | AE8: ='EQ Buffet & Table Top'!AD8 -> 0 | AG8: ='EQ Buffet & Table Top'!#REF! -> #REF! | AH8: ='EQ Buffet & Table Top'!#REF! -> #REF! | AI8: ='EQ Buffet & Table Top'!#REF! -> #REF! | AJ8: ='EQ Buffet & Table Top'!#REF! -> #REF! | AL8: ='EQ Buffet & Table Top'!#REF! -> #REF! | AN8: ='EQ Buffet & Table Top'!#REF! -> #REF! | AQ8: ='EQ Buffet & Table Top'!DL8 -> 0 | AR8: ='EQ Buffet & Table Top'!DM8 -> 0 | AS8: ='EQ Buffet & Table Top'!DN8 -> 0 | AT8: ='EQ Buffet & Table Top'!DO8 -> 0 | AU8: ='EQ Buffet & Table Top'!DP8 -> 0 | AV8: ='EQ Buffet & Table Top'!DQ8 -> 0 | AW8: ='EQ Buffet & Table Top'!DR8 -> 0 | AX8: ='EQ Buffet & Table Top'!DS8 -> 0 | ... BA8: ='EQ Buffet & Table Top'!DV8 -> 0 | BB8: ='EQ Buffet & Table Top'!DY8 -> 0 | BC8: ='EQ Buffet & Table Top'!DZ8 -> 0
B9: 4 | C9: ='EQ Buffet & Table Top'!C9 -> Square Riser | E9: ='EQ Buffet & Table Top'!E9 -> D.W. Haber Ash Grey Teak (AG) DWFB66WDAG | F9: ='EQ Buffet & Table Top'!F9 -> https://de.steelite.com/media/literature/brochures/dw-haber-fall-2019-23-oct-2019.pdf | G9: ='EQ Buffet & Table Top'!G9 -> 0 | H9: ='EQ Buffet & Table Top'!H9 -> 0 | I9: ='EQ Buffet & Table Top'!I9 -> L W 6” H 6” | L9: =SUM(N9:AN9) -> #REF! | N9: ='EQ Buffet & Table Top'!N9 -> 0 | Q9: =SUMIF($AQ$4:$BC$4,$Q$4,AQ9) -> 0 | R9: =SUMIF($AQ$4:$BC$4,$R$4,AR9) -> 0 | S9: =SUMIF($AQ$4:$BC$4,$S$4,AS9) -> 0 | T9: =SUMIF($AQ$4:$BC$4,$T$4,AT9) -> 0 | U9: =SUMIF($AQ$4:$BC$4,$U$4,AS9) -> 0 | V9: =SUMIF($AQ$4:$BC$4,$V$4,AR9) -> 0 | W9: =SUMIF($AQ$4:$BC$4,$W$4,AQ9) -> 0 | Y9: ='EQ Buffet & Table Top'!Y9 -> 0 | Z9: ='EQ Buffet & Table Top'!Z9 -> 0 | AA9: ='EQ Buffet & Table Top'!AA9 -> 0 | AB9: ='EQ Buffet & Table Top'!AB9 -> 0 | AC9: ='EQ Buffet & Table Top'!AC9 -> 0 | AD9: ='EQ Buffet & Table Top'!AD9 -> 0 | AE9: ='EQ Buffet & Table Top'!AD9 -> 0 | AG9: ='EQ Buffet & Table Top'!#REF! -> #REF! | AH9: ='EQ Buffet & Table Top'!#REF! -> #REF! | AI9: ='EQ Buffet & Table Top'!#REF! -> #REF! | AJ9: ='EQ Buffet & Table Top'!#REF! -> #REF! | AL9: ='EQ Buffet & Table Top'!#REF! -> #REF! | AN9: ='EQ Buffet & Table Top'!#REF! -> #REF! | AQ9: ='EQ Buffet & Table Top'!DL9 -> 0 | AR9: ='EQ Buffet & Table Top'!DM9 -> 0 | AS9: ='EQ Buffet & Table Top'!DN9 -> 0 | AT9: ='EQ Buffet & Table Top'!DO9 -> 0 | AU9: ='EQ Buffet & Table Top'!DP9 -> 0 | AV9: ='EQ Buffet & Table Top'!DQ9 -> 0 | AW9: ='EQ Buffet & Table Top'!DR9 -> 0 | AX9: ='EQ Buffet & Table Top'!DS9 -> 0 | ... BA9: ='EQ Buffet & Table Top'!DV9 -> 0 | BB9: ='EQ Buffet & Table Top'!DY9 -> 0 | BC9: ='EQ Buffet & Table Top'!DZ9 -> 0
B10: 5 | C10: ='EQ Buffet & Table Top'!C10 -> Square Tile | E10: ='EQ Buffet & Table Top'!E10 -> D.W. Haber Ash Grey Teak (AG) DWFBWD1414SAG | F10: ='EQ Buffet & Table Top'!F10 -> https://de.steelite.com/media/literature/brochures/dw-haber-fall-2019-23-oct-2019.pdf | G10: ='EQ Buffet & Table Top'!G10 -> 0 | H10: ='EQ Buffet & Table Top'!H10 -> 0 | I10: ='EQ Buffet & Table Top'!I10 -> L W 14” | L10: =SUM(N10:AN10) -> #REF! | N10: ='EQ Buffet & Table Top'!N10 -> 0 | Q10: =SUMIF($AQ$4:$BC$4,$Q$4,AQ10) -> 0 | R10: =SUMIF($AQ$4:$BC$4,$R$4,AR10) -> 0 | S10: =SUMIF($AQ$4:$BC$4,$S$4,AS10) -> 0 | T10: =SUMIF($AQ$4:$BC$4,$T$4,AT10) -> 0 | U10: =SUMIF($AQ$4:$BC$4,$U$4,AS10) -> 0 | V10: =SUMIF($AQ$4:$BC$4,$V$4,AR10) -> 0 | W10: =SUMIF($AQ$4:$BC$4,$W$4,AQ10) -> 0 | Y10: ='EQ Buffet & Table Top'!Y10 -> 0 | Z10: ='EQ Buffet & Table Top'!Z10 -> 0 | AA10: ='EQ Buffet & Table Top'!AA10 -> 0 | AB10: ='EQ Buffet & Table Top'!AB10 -> 0 | AC10: ='EQ Buffet & Table Top'!AC10 -> 0 | AD10: ='EQ Buffet & Table Top'!AD10 -> 0 | AE10: ='EQ Buffet & Table Top'!AD10 -> 0 | AG10: ='EQ Buffet & Table Top'!#REF! -> #REF! | AH10: ='EQ Buffet & Table Top'!#REF! -> #REF! | AI10: ='EQ Buffet & Table Top'!#REF! -> #REF! | AJ10: ='EQ Buffet & Table Top'!#REF! -> #REF! | AL10: ='EQ Buffet & Table Top'!#REF! -> #REF! | AN10: ='EQ Buffet & Table Top'!#REF! -> #REF! | AQ10: ='EQ Buffet & Table Top'!DL10 -> 0 | AR10: ='EQ Buffet & Table Top'!DM10 -> 0 | AS10: ='EQ Buffet & Table Top'!DN10 -> 0 | AT10: ='EQ Buffet & Table Top'!DO10 -> 0 | AU10: ='EQ Buffet & Table Top'!DP10 -> 0 | AV10: ='EQ Buffet & Table Top'!DQ10 -> 0 | AW10: ='EQ Buffet & Table Top'!DR10 -> 0 | AX10: ='EQ Buffet & Table Top'!DS10 -> 0 | ... BA10: ='EQ Buffet & Table Top'!DV10 -> 0 | BB10: ='EQ Buffet & Table Top'!DY10 -> 0 | BC10: ='EQ Buffet & Table Top'!DZ10 -> 0
B11: 6 | C11: ='EQ Buffet & Table Top'!C11 -> Square Tile | E11: ='EQ Buffet & Table Top'!E11 -> D.W. Haber Ash Grey Teak (AG) DWFBWD1111SAG | F11: ='EQ Buffet & Table Top'!F11 -> https://de.steelite.com/media/literature/brochures/dw-haber-fall-2019-23-oct-2019.pdf | G11: ='EQ Buffet & Table Top'!G11 -> 0 | H11: ='EQ Buffet & Table Top'!H11 -> 0 | I11: ='EQ Buffet & Table Top'!I11 -> L W 11” | L11: =SUM(N11:AN11) -> #REF! | N11: ='EQ Buffet & Table Top'!N11 -> 0 | Q11: =SUMIF($AQ$4:$BC$4,$Q$4,AQ11) -> 0 | R11: =SUMIF($AQ$4:$BC$4,$R$4,AR11) -> 0 | S11: =SUMIF($AQ$4:$BC$4,$S$4,AS11) -> 0 | T11: =SUMIF($AQ$4:$BC$4,$T$4,AT11) -> 0 | U11: =SUMIF($AQ$4:$BC$4,$U$4,AS11) -> 0 | V11: =SUMIF($AQ$4:$BC$4,$V$4,AR11) -> 0 | W11: =SUMIF($AQ$4:$BC$4,$W$4,AQ11) -> 0 | Y11: ='EQ Buffet & Table Top'!Y11 -> 0 | Z11: ='EQ Buffet & Table Top'!Z11 -> 0 | AA11: ='EQ Buffet & Table Top'!AA11 -> 0 | AB11: ='EQ Buffet & Table Top'!AB11 -> 0 | AC11: ='EQ Buffet & Table Top'!AC11 -> 0 | AD11: ='EQ Buffet & Table Top'!AD11 -> 0 | AE11: ='EQ Buffet & Table Top'!AD11 -> 0 | AG11: ='EQ Buffet & Table Top'!#REF! -> #REF! | AH11: ='EQ Buffet & Table Top'!#REF! -> #REF! | AI11: ='EQ Buffet & Table Top'!#REF! -> #REF! | AJ11: ='EQ Buffet & Table Top'!#REF! -> #REF! | AL11: ='EQ Buffet & Table Top'!#REF! -> #REF! | AN11: ='EQ Buffet & Table Top'!#REF! -> #REF! | AQ11: ='EQ Buffet & Table Top'!DL11 -> 0 | AR11: ='EQ Buffet & Table Top'!DM11 -> 0 | AS11: ='EQ Buffet & Table Top'!DN11 -> 0 | AT11: ='EQ Buffet & Table Top'!DO11 -> 0 | AU11: ='EQ Buffet & Table Top'!DP11 -> 0 | AV11: ='EQ Buffet & Table Top'!DQ11 -> 0 | AW11: ='EQ Buffet & Table Top'!DR11 -> 0 | AX11: ='EQ Buffet & Table Top'!DS11 -> 0 | ... BA11: ='EQ Buffet & Table Top'!DV11 -> 0 | BB11: ='EQ Buffet & Table Top'!DY11 -> 0 | BC11: ='EQ Buffet & Table Top'!DZ11 -> 0
B12: 7 | C12: ='EQ Buffet & Table Top'!C12 -> Square Tile | E12: ='EQ Buffet & Table Top'!E12 -> D.W. Haber Ash Grey Teak (AG) DWFBWD66SAG | F12: ='EQ Buffet & Table Top'!F12 -> https://de.steelite.com/media/literature/brochures/dw-haber-fall-2019-23-oct-2019.pdf | G12: ='EQ Buffet & Table Top'!G12 -> 0 | H12: ='EQ Buffet & Table Top'!H12 -> 0 | I12: ='EQ Buffet & Table Top'!I12 -> L W 6” | L12: =SUM(N12:AN12) -> #REF! | N12: ='EQ Buffet & Table Top'!N12 -> 0 | Q12: =SUMIF($AQ$4:$BC$4,$Q$4,AQ12) -> 0 | R12: =SUMIF($AQ$4:$BC$4,$R$4,AR12) -> 0 | S12: =SUMIF($AQ$4:$BC$4,$S$4,AS12) -> 0 | T12: =SUMIF($AQ$4:$BC$4,$T$4,AT12) -> 0 | U12: =SUMIF($AQ$4:$BC$4,$U$4,AS12) -> 0 | V12: =SUMIF($AQ$4:$BC$4,$V$4,AR12) -> 0 | W12: =SUMIF($AQ$4:$BC$4,$W$4,AQ12) -> 0 | Y12: ='EQ Buffet & Table Top'!Y12 -> 0 | Z12: ='EQ Buffet & Table Top'!Z12 -> 0 | AA12: ='EQ Buffet & Table Top'!AA12 -> 0 | AB12: ='EQ Buffet & Table Top'!AB12 -> 0 | AC12: ='EQ Buffet & Table Top'!AC12 -> 0 | AD12: ='EQ Buffet & Table Top'!AD12 -> 0 | AE12: ='EQ Buffet & Table Top'!AD12 -> 0 | AG12: ='EQ Buffet & Table Top'!#REF! -> #REF! | AH12: ='EQ Buffet & Table Top'!#REF! -> #REF! | AI12: ='EQ Buffet & Table Top'!#REF! -> #REF! | AJ12: ='EQ Buffet & Table Top'!#REF! -> #REF! | AL12: ='EQ Buffet & Table Top'!#REF! -> #REF! | AN12: ='EQ Buffet & Table Top'!#REF! -> #REF! | AQ12: ='EQ Buffet & Table Top'!DL12 -> 0 | AR12: ='EQ Buffet & Table Top'!DM12 -> 0 | AS12: ='EQ Buffet & Table Top'!DN12 -> 0 | AT12: ='EQ Buffet & Table Top'!DO12 -> 0 | AU12: ='EQ Buffet & Table Top'!DP12 -> 0 | AV12: ='EQ Buffet & Table Top'!DQ12 -> 0 | AW12: ='EQ Buffet & Table Top'!DR12 -> 0 | AX12: ='EQ Buffet & Table Top'!DS12 -> 0 | ... BA12: ='EQ Buffet & Table Top'!DV12 -> 0 | BB12: ='EQ Buffet & Table Top'!DY12 -> 0 | BC12: ='EQ Buffet & Table Top'!DZ12 -> 0
B13: 8 | C13: ='EQ Buffet & Table Top'!C13 -> Square Tile | E13: ='EQ Buffet & Table Top'!E13 -> D.W. Haber Ash Grey Teak (AG) DWFBWD2411SAG | F13: ='EQ Buffet & Table Top'!F13 -> https://de.steelite.com/media/literature/brochures/dw-haber-fall-2019-23-oct-2019.pdf | G13: ='EQ Buffet & Table Top'!G13 -> 0 | H13: ='EQ Buffet & Table Top'!H13 -> 0 | I13: ='EQ Buffet & Table Top'!I13 -> L 24” W 11” | L13: =SUM(N13:AN13) -> #REF! | N13: ='EQ Buffet & Table Top'!N13 -> 0 | Q13: =SUMIF($AQ$4:$BC$4,$Q$4,AQ13) -> 0 | R13: =SUMIF($AQ$4:$BC$4,$R$4,AR13) -> 0 | S13: =SUMIF($AQ$4:$BC$4,$S$4,AS13) -> 0 | T13: =SUMIF($AQ$4:$BC$4,$T$4,AT13) -> 0 | U13: =SUMIF($AQ$4:$BC$4,$U$4,AS13) -> 0 | V13: =SUMIF($AQ$4:$BC$4,$V$4,AR13) -> 0 | W13: =SUMIF($AQ$4:$BC$4,$W$4,AQ13) -> 0 | Y13: ='EQ Buffet & Table Top'!Y13 -> 0 | Z13: ='EQ Buffet & Table Top'!Z13 -> 0 | AA13: ='EQ Buffet & Table Top'!AA13 -> 0 | AB13: ='EQ Buffet & Table Top'!AB13 -> 0 | AC13: ='EQ Buffet & Table Top'!AC13 -> 0 | AD13: ='EQ Buffet & Table Top'!AD13 -> 0 | AE13: ='EQ Buffet & Table Top'!AD13 -> 0 | AG13: ='EQ Buffet & Table Top'!#REF! -> #REF! | AH13: ='EQ Buffet & Table Top'!#REF! -> #REF! | AI13: ='EQ Buffet & Table Top'!#REF! -> #REF! | AJ13: ='EQ Buffet & Table Top'!#REF! -> #REF! | AL13: ='EQ Buffet & Table Top'!#REF! -> #REF! | AN13: ='EQ Buffet & Table Top'!#REF! -> #REF! | AQ13: ='EQ Buffet & Table Top'!DL13 -> 0 | AR13: ='EQ Buffet & Table Top'!DM13 -> 0 | AS13: ='EQ Buffet & Table Top'!DN13 -> 0 | AT13: ='EQ Buffet & Table Top'!DO13 -> 0 | AU13: ='EQ Buffet & Table Top'!DP13 -> 0 | AV13: ='EQ Buffet & Table Top'!DQ13 -> 0 | AW13: ='EQ Buffet & Table Top'!DR13 -> 0 | AX13: ='EQ Buffet & Table Top'!DS13 -> 0 | ... BA13: ='EQ Buffet & Table Top'!DV13 -> 0 | BB13: ='EQ Buffet & Table Top'!DY13 -> 0 | BC13: ='EQ Buffet & Table Top'!DZ13 -> 0
B14: 9 | C14: ='EQ Buffet & Table Top'!C14 -> Square Bread Basket Angled | E14: ='EQ Buffet & Table Top'!E14 -> D.W. Haber Ash Grey Teak (AG) DWFBWDBASK1SAG | F14: ='EQ Buffet & Table Top'!F14 -> https://de.steelite.com/media/literature/brochures/dw-haber-fall-2019-23-oct-2019.pdf | G14: ='EQ Buffet & Table Top'!G14 -> 0 | H14: ='EQ Buffet & Table Top'!H14 -> 0 | I14: ='EQ Buffet & Table Top'!I14 -> L W 14” | L14: =SUM(N14:AN14) -> #REF! | N14: ='EQ Buffet & Table Top'!N14 -> 0 | Q14: =SUMIF($AQ$4:$BC$4,$Q$4,AQ14) -> 0 | R14: =SUMIF($AQ$4:$BC$4,$R$4,AR14) -> 0 | S14: =SUMIF($AQ$4:$BC$4,$S$4,AS14) -> 0 | T14: =SUMIF($AQ$4:$BC$4,$T$4,AT14) -> 0 | U14: =SUMIF($AQ$4:$BC$4,$U$4,AS14) -> 0 | V14: =SUMIF($AQ$4:$BC$4,$V$4,AR14) -> 0 | W14: =SUMIF($AQ$4:$BC$4,$W$4,AQ14) -> 0 | Y14: ='EQ Buffet & Table Top'!Y14 -> 0 | Z14: ='EQ Buffet & Table Top'!Z14 -> 0 | AA14: ='EQ Buffet & Table Top'!AA14 -> 0 | AB14: ='EQ Buffet & Table Top'!AB14 -> 0 | AC14: ='EQ Buffet & Table Top'!AC14 -> 0 | AD14: ='EQ Buffet & Table Top'!AD14 -> 0 | AE14: ='EQ Buffet & Table Top'!AD14 -> 0 | AG14: ='EQ Buffet & Table Top'!#REF! -> #REF! | AH14: ='EQ Buffet & Table Top'!#REF! -> #REF! | AI14: ='EQ Buffet & Table Top'!#REF! -> #REF! | AJ14: ='EQ Buffet & Table Top'!#REF! -> #REF! | AL14: ='EQ Buffet & Table Top'!#REF! -> #REF! | AN14: ='EQ Buffet & Table Top'!#REF! -> #REF! | AQ14: ='EQ Buffet & Table Top'!DL14 -> 0 | AR14: ='EQ Buffet & Table Top'!DM14 -> 0 | AS14: ='EQ Buffet & Table Top'!DN14 -> 0 | AT14: ='EQ Buffet & Table Top'!DO14 -> 0 | AU14: ='EQ Buffet & Table Top'!DP14 -> 0 | AV14: ='EQ Buffet & Table Top'!DQ14 -> 0 | AW14: ='EQ Buffet & Table Top'!DR14 -> 0 | AX14: ='EQ Buffet & Table Top'!DS14 -> 0 | ... BA14: ='EQ Buffet & Table Top'!DV14 -> 0 | BB14: ='EQ Buffet & Table Top'!DY14 -> 0 | BC14: ='EQ Buffet & Table Top'!DZ14 -> 0
B15: 10 | C15: ='EQ Buffet & Table Top'!C15 -> Square Flat Basket | E15: ='EQ Buffet & Table Top'!E15 -> D.W. Haber Ash Grey Teak (AG) DWFBWDBASK2SAG | F15: ='EQ Buffet & Table Top'!F15 -> https://de.steelite.com/media/literature/brochures/dw-haber-fall-2019-23-oct-2019.pdf | G15: ='EQ Buffet & Table Top'!G15 -> 0 | H15: ='EQ Buffet & Table Top'!H15 -> 0 | I15: ='EQ Buffet & Table Top'!I15 -> L W 14” | L15: =SUM(N15:AN15) -> #REF! | N15: ='EQ Buffet & Table Top'!N15 -> 0 | Q15: =SUMIF($AQ$4:$BC$4,$Q$4,AQ15) -> 0 | R15: =SUMIF($AQ$4:$BC$4,$R$4,AR15) -> 0 | S15: =SUMIF($AQ$4:$BC$4,$S$4,AS15) -> 0 | T15: =SUMIF($AQ$4:$BC$4,$T$4,AT15) -> 0 | U15: =SUMIF($AQ$4:$BC$4,$U$4,AS15) -> 0 | V15: =SUMIF($AQ$4:$BC$4,$V$4,AR15) -> 0 | W15: =SUMIF($AQ$4:$BC$4,$W$4,AQ15) -> 0 | Y15: ='EQ Buffet & Table Top'!Y15 -> 0 | Z15: ='EQ Buffet & Table Top'!Z15 -> 0 | AA15: ='EQ Buffet & Table Top'!AA15 -> 0 | AB15: ='EQ Buffet & Table Top'!AB15 -> 0 | AC15: ='EQ Buffet & Table Top'!AC15 -> 0 | AD15: ='EQ Buffet & Table Top'!AD15 -> 0 | AE15: ='EQ Buffet & Table Top'!AD15 -> 0 | AG15: ='EQ Buffet & Table Top'!#REF! -> #REF! | AH15: ='EQ Buffet & Table Top'!#REF! -> #REF! | AI15: ='EQ Buffet & Table Top'!#REF! -> #REF! | AJ15: ='EQ Buffet & Table Top'!#REF! -> #REF! | AL15: ='EQ Buffet & Table Top'!#REF! -> #REF! | AN15: ='EQ Buffet & Table Top'!#REF! -> #REF! | AQ15: ='EQ Buffet & Table Top'!DL15 -> 0 | AR15: ='EQ Buffet & Table Top'!DM15 -> 0 | AS15: ='EQ Buffet & Table Top'!DN15 -> 0 | AT15: ='EQ Buffet & Table Top'!DO15 -> 0 | AU15: ='EQ Buffet & Table Top'!DP15 -> 0 | AV15: ='EQ Buffet & Table Top'!DQ15 -> 0 | AW15: ='EQ Buffet & Table Top'!DR15 -> 0 | AX15: ='EQ Buffet & Table Top'!DS15 -> 0 | ... BA15: ='EQ Buffet & Table Top'!DV15 -> 0 | BB15: ='EQ Buffet & Table Top'!DY15 -> 0 | BC15: ='EQ Buffet & Table Top'!DZ15 -> 0
B16: 11 | C16: ='EQ Buffet & Table Top'!C16 -> Bowl 10 cm | E16: ='EQ Buffet & Table Top'!E16 -> Rosenthal Junto Pearl Grey | F16: ='EQ Buffet & Table Top'!F16 -> https://www.rosenthal.de/de/p/bowl-10-cm-de-4/ | G16: ='EQ Buffet & Table Top'!G16 -> 0 | H16: ='EQ Buffet & Table Top'!H16 -> 0 | I16: ='EQ Buffet & Table Top'!I16 -> 0 | L16: =SUM(N16:AN16) -> #REF! | N16: ='EQ Buffet & Table Top'!N16 -> 0 | Q16: =SUMIF($AQ$4:$BC$4,$Q$4,AQ16) -> 0 | R16: =SUMIF($AQ$4:$BC$4,$R$4,AR16) -> 0 | S16: =SUMIF($AQ$4:$BC$4,$S$4,AS16) -> 0 | T16: =SUMIF($AQ$4:$BC$4,$T$4,AT16) -> 0 | U16: =SUMIF($AQ$4:$BC$4,$U$4,AS16) -> 0 | V16: =SUMIF($AQ$4:$BC$4,$V$4,AR16) -> 0 | W16: =SUMIF($AQ$4:$BC$4,$W$4,AQ16) -> 0 | Y16: ='EQ Buffet & Table Top'!Y16 -> 0 | Z16: ='EQ Buffet & Table Top'!Z16 -> 0 | AA16: ='EQ Buffet & Table Top'!AA16 -> 0 | AB16: ='EQ Buffet & Table Top'!AB16 -> 0 | AC16: ='EQ Buffet & Table Top'!AC16 -> 0 | AD16: ='EQ Buffet & Table Top'!AD16 -> 0 | AE16: ='EQ Buffet & Table Top'!AD16 -> 0 | AG16: ='EQ Buffet & Table Top'!#REF! -> #REF! | AH16: ='EQ Buffet & Table Top'!#REF! -> #REF! | AI16: ='EQ Buffet & Table Top'!#REF! -> #REF! | AJ16: ='EQ Buffet & Table Top'!#REF! -> #REF! | AL16: ='EQ Buffet & Table Top'!#REF! -> #REF! | AN16: ='EQ Buffet & Table Top'!#REF! -> #REF! | AQ16: ='EQ Buffet & Table Top'!DL16 -> 0 | AR16: ='EQ Buffet & Table Top'!DM16 -> 0 | AS16: ='EQ Buffet & Table Top'!DN16 -> 0 | AT16: ='EQ Buffet & Table Top'!DO16 -> 0 | AU16: ='EQ Buffet & Table Top'!DP16 -> 0 | AV16: ='EQ Buffet & Table Top'!DQ16 -> 0 | AW16: ='EQ Buffet & Table Top'!DR16 -> 0 | AX16: ='EQ Buffet & Table Top'!DS16 -> 0 | ... BA16: ='EQ Buffet & Table Top'!DV16 -> 0 | BB16: ='EQ Buffet & Table Top'!DY16 -> 0 | BC16: ='EQ Buffet & Table Top'!DZ16 -> 0
B17: 12 | C17: ='EQ Buffet & Table Top'!C17 -> Bowl 12 cm | E17: ='EQ Buffet & Table Top'!E17 -> Rosenthal Junto Pearl Grey | F17: ='EQ Buffet & Table Top'!F17 -> https://www.rosenthal.de/de/p/bowl-12-cm-de-4/ | G17: ='EQ Buffet & Table Top'!G17 -> 0 | H17: ='EQ Buffet & Table Top'!H17 -> 0 | I17: ='EQ Buffet & Table Top'!I17 -> 0 | L17: =SUM(N17:AN17) -> #REF! | N17: ='EQ Buffet & Table Top'!N17 -> 0 | Q17: =SUMIF($AQ$4:$BC$4,$Q$4,AQ17) -> 0 | R17: =SUMIF($AQ$4:$BC$4,$R$4,AR17) -> 0 | S17: =SUMIF($AQ$4:$BC$4,$S$4,AS17) -> 0 | T17: =SUMIF($AQ$4:$BC$4,$T$4,AT17) -> 0 | U17: =SUMIF($AQ$4:$BC$4,$U$4,AS17) -> 0 | V17: =SUMIF($AQ$4:$BC$4,$V$4,AR17) -> 0 | W17: =SUMIF($AQ$4:$BC$4,$W$4,AQ17) -> 0 | Y17: ='EQ Buffet & Table Top'!Y17 -> 0 | Z17: ='EQ Buffet & Table Top'!Z17 -> 0 | AA17: ='EQ Buffet & Table Top'!AA17 -> 0 | AB17: ='EQ Buffet & Table Top'!AB17 -> 0 | AC17: ='EQ Buffet & Table Top'!AC17 -> 0 | AD17: ='EQ Buffet & Table Top'!AD17 -> 0 | AE17: ='EQ Buffet & Table Top'!AD17 -> 0 | AG17: ='EQ Buffet & Table Top'!#REF! -> #REF! | AH17: ='EQ Buffet & Table Top'!#REF! -> #REF! | AI17: ='EQ Buffet & Table Top'!#REF! -> #REF! | AJ17: ='EQ Buffet & Table Top'!#REF! -> #REF! | AL17: ='EQ Buffet & Table Top'!#REF! -> #REF! | AN17: ='EQ Buffet & Table Top'!#REF! -> #REF! | AQ17: ='EQ Buffet & Table Top'!DL17 -> 0 | AR17: ='EQ Buffet & Table Top'!DM17 -> 0 | AS17: ='EQ Buffet & Table Top'!DN17 -> 0 | AT17: ='EQ Buffet & Table Top'!DO17 -> 0 | AU17: ='EQ Buffet & Table Top'!DP17 -> 0 | AV17: ='EQ Buffet & Table Top'!DQ17 -> 0 | AW17: ='EQ Buffet & Table Top'!DR17 -> 0 | AX17: ='EQ Buffet & Table Top'!DS17 -> 0 | ... BA17: ='EQ Buffet & Table Top'!DV17 -> 0 | BB17: ='EQ Buffet & Table Top'!DY17 -> 0 | BC17: ='EQ Buffet & Table Top'!DZ17 -> 0
B18: 13 | C18: ='EQ Buffet & Table Top'!C18 -> Bowl 10 cm | E18: ='EQ Buffet & Table Top'!E18 -> Rosenthal Junto Ocean Blue | F18: ='EQ Buffet & Table Top'!F18 -> https://www.rosenthal.de/de/p/bowl-10-cm-de-5/ | G18: ='EQ Buffet & Table Top'!G18 -> 0 | H18: ='EQ Buffet & Table Top'!H18 -> 0 | I18: ='EQ Buffet & Table Top'!I18 -> 0 | L18: =SUM(N18:AN18) -> #REF! | N18: ='EQ Buffet & Table Top'!N18 -> 0 | Q18: =SUMIF($AQ$4:$BC$4,$Q$4,AQ18) -> 0 | R18: =SUMIF($AQ$4:$BC$4,$R$4,AR18) -> 0 | S18: =SUMIF($AQ$4:$BC$4,$S$4,AS18) -> 0 | T18: =SUMIF($AQ$4:$BC$4,$T$4,AT18) -> 0 | U18: =SUMIF($AQ$4:$BC$4,$U$4,AS18) -> 0 | V18: =SUMIF($AQ$4:$BC$4,$V$4,AR18) -> 0 | W18: =SUMIF($AQ$4:$BC$4,$W$4,AQ18) -> 0 | Y18: ='EQ Buffet & Table Top'!Y18 -> 0 | Z18: ='EQ Buffet & Table Top'!Z18 -> 0 | AA18: ='EQ Buffet & Table Top'!AA18 -> 0 | AB18: ='EQ Buffet & Table Top'!AB18 -> 0 | AC18: ='EQ Buffet & Table Top'!AC18 -> 0 | AD18: ='EQ Buffet & Table Top'!AD18 -> 0 | AE18: ='EQ Buffet & Table Top'!AD18 -> 0 | AG18: ='EQ Buffet & Table Top'!#REF! -> #REF! | AH18: ='EQ Buffet & Table Top'!#REF! -> #REF! | AI18: ='EQ Buffet & Table Top'!#REF! -> #REF! | AJ18: ='EQ Buffet & Table Top'!#REF! -> #REF! | AL18: ='EQ Buffet & Table Top'!#REF! -> #REF! | AN18: ='EQ Buffet & Table Top'!#REF! -> #REF! | AQ18: ='EQ Buffet & Table Top'!DL18 -> 0 | AR18: ='EQ Buffet & Table Top'!DM18 -> 0 | AS18: ='EQ Buffet & Table Top'!DN18 -> 0 | AT18: ='EQ Buffet & Table Top'!DO18 -> 0 | AU18: ='EQ Buffet & Table Top'!DP18 -> 0 | AV18: ='EQ Buffet & Table Top'!DQ18 -> 0 | AW18: ='EQ Buffet & Table Top'!DR18 -> 0 | AX18: ='EQ Buffet & Table Top'!DS18 -> 0 | ... BA18: ='EQ Buffet & Table Top'!DV18 -> 0 | BB18: ='EQ Buffet & Table Top'!DY18 -> 0 | BC18: ='EQ Buffet & Table Top'!DZ18 -> 0
B19: 14 | C19: ='EQ Buffet & Table Top'!C19 -> Bowl 12 cm | E19: ='EQ Buffet & Table Top'!E19 -> Rosenthal Junto Ocean Blue | F19: ='EQ Buffet & Table Top'!F19 -> https://www.rosenthal.de/de/p/bowl-12-cm-de-5/ | G19: ='EQ Buffet & Table Top'!G19 -> 0 | H19: ='EQ Buffet & Table Top'!H19 -> 0 | I19: ='EQ Buffet & Table Top'!I19 -> 0 | L19: =SUM(N19:AN19) -> #REF! | N19: ='EQ Buffet & Table Top'!N19 -> 0 | Q19: =SUMIF($AQ$4:$BC$4,$Q$4,AQ19) -> 0 | R19: =SUMIF($AQ$4:$BC$4,$R$4,AR19) -> 0 | S19: =SUMIF($AQ$4:$BC$4,$S$4,AS19) -> 0 | T19: =SUMIF($AQ$4:$BC$4,$T$4,AT19) -> 0 | U19: =SUMIF($AQ$4:$BC$4,$U$4,AS19) -> 0 | V19: =SUMIF($AQ$4:$BC$4,$V$4,AR19) -> 0 | W19: =SUMIF($AQ$4:$BC$4,$W$4,AQ19) -> 0 | Y19: ='EQ Buffet & Table Top'!Y19 -> 0 | Z19: ='EQ Buffet & Table Top'!Z19 -> 0 | AA19: ='EQ Buffet & Table Top'!AA19 -> 0 | AB19: ='EQ Buffet & Table Top'!AB19 -> 0 | AC19: ='EQ Buffet & Table Top'!AC19 -> 0 | AD19: ='EQ Buffet & Table Top'!AD19 -> 0 | AE19: ='EQ Buffet & Table Top'!AD19 -> 0 | AG19: ='EQ Buffet & Table Top'!#REF! -> #REF! | AH19: ='EQ Buffet & Table Top'!#REF! -> #REF! | AI19: ='EQ Buffet & Table Top'!#REF! -> #REF! | AJ19: ='EQ Buffet & Table Top'!#REF! -> #REF! | AL19: ='EQ Buffet & Table Top'!#REF! -> #REF! | AN19: ='EQ Buffet & Table Top'!#REF! -> #REF! | AQ19: ='EQ Buffet & Table Top'!DL19 -> 0 | AR19: ='EQ Buffet & Table Top'!DM19 -> 0 | AS19: ='EQ Buffet & Table Top'!DN19 -> 0 | AT19: ='EQ Buffet & Table Top'!DO19 -> 0 | AU19: ='EQ Buffet & Table Top'!DP19 -> 0 | AV19: ='EQ Buffet & Table Top'!DQ19 -> 0 | AW19: ='EQ Buffet & Table Top'!DR19 -> 0 | AX19: ='EQ Buffet & Table Top'!DS19 -> 0 | ... BA19: ='EQ Buffet & Table Top'!DV19 -> 0 | BB19: ='EQ Buffet & Table Top'!DY19 -> 0 | BC19: ='EQ Buffet & Table Top'!DZ19 -> 0
... B55: 50 | C55: ='EQ Buffet & Table Top'!C55 -> Cutlery Box | E55: ='EQ Buffet & Table Top'!E55 -> Rosenthal Junto Aquamarine | F55: ='EQ Buffet & Table Top'!F55 -> 0 | G55: ='EQ Buffet & Table Top'!G55 -> 0 | H55: ='EQ Buffet & Table Top'!H55 -> 0 | I55: ='EQ Buffet & Table Top'!I55 -> L: 26,5cm W: 16,2cm | L55: =SUM(N55:AN55) -> #REF! | N55: ='EQ Buffet & Table Top'!N55 -> 0 | Q55: =SUMIF($AQ$4:$BC$4,$Q$4,AQ55) -> 0 | R55: =SUMIF($AQ$4:$BC$4,$R$4,AR55) -> 0 | S55: =SUMIF($AQ$4:$BC$4,$S$4,AS55) -> 0 | T55: =SUMIF($AQ$4:$BC$4,$T$4,AT55) -> 0 | U55: =SUMIF($AQ$4:$BC$4,$U$4,AS55) -> 0 | V55: =SUMIF($AQ$4:$BC$4,$V$4,AR55) -> 0 | W55: =SUMIF($AQ$4:$BC$4,$W$4,AQ55) -> 0 | Y55: ='EQ Buffet & Table Top'!Y55 -> 0 | Z55: ='EQ Buffet & Table Top'!Z55 -> 0 | AA55: ='EQ Buffet & Table Top'!AA55 -> 0 | AB55: ='EQ Buffet & Table Top'!AB55 -> 0 | AC55: ='EQ Buffet & Table Top'!AC55 -> 0 | AD55: ='EQ Buffet & Table Top'!AD55 -> 0 | AE55: ='EQ Buffet & Table Top'!AD55 -> 0 | AG55: ='EQ Buffet & Table Top'!#REF! -> #REF! | AH55: ='EQ Buffet & Table Top'!#REF! -> #REF! | AI55: ='EQ Buffet & Table Top'!#REF! -> #REF! | AJ55: ='EQ Buffet & Table Top'!#REF! -> #REF! | AL55: ='EQ Buffet & Table Top'!#REF! -> #REF! | AN55: ='EQ Buffet & Table Top'!#REF! -> #REF! | AQ55: ='EQ Buffet & Table Top'!DL55 -> 0 | AR55: ='EQ Buffet & Table Top'!DM55 -> 0 | AS55: ='EQ Buffet & Table Top'!DN55 -> 0 | AT55: ='EQ Buffet & Table Top'!DO55 -> 0 | AU55: ='EQ Buffet & Table Top'!DP55 -> 0 | AV55: ='EQ Buffet & Table Top'!DQ55 -> 0 | AW55: ='EQ Buffet & Table Top'!DR55 -> 0 | AX55: ='EQ Buffet & Table Top'!DS55 -> 0 | ... BA55: ='EQ Buffet & Table Top'!DV55 -> 0 | BB55: ='EQ Buffet & Table Top'!DY55 -> 0 | BC55: ='EQ Buffet & Table Top'!DZ55 -> 0
C56: ='EQ Buffet & Table Top'!C4 -> EQ BUFET & TABLE TOP | N56: =N2 -> Press Cafe Ebene 0 | P56: =P2 -> Hauptküche Ebene 1 | Q56: =Q4 -> Buffet U Shape | R56: =R4 -> Buffet I Shape 1 | S56: =S4 -> Buffet I Shape I2 | T56: =T4 -> F & B I Shape I3 | U56: =U4 -> Buffet I Shape I2 | V56: =V4 -> Buffet I Shape 1 | W56: =W4 -> Buffet U Shape | Y56: =Y2 -> Buffet 2.1. I Shape | Z56: =Z2 -> Buffet 2.2. I Shape | AA56: =AA2 -> Buffet 2.3.1. I Shape | AB56: =AB2 -> Buffet 2.3.2 I Shape | AC56: =AC2 -> Buffet 2.3. I Shape | AD56: =AD2 -> Buffet 2.4. I Shape | AE56: =AE2 -> Relais Küche Eben 2 | AG56: =AG2 -> Relais Küche Ebene 3 | AH56: =AH2 -> Buffet 3.1. I Shape | AI56: =AI2 -> Buffet 3.2. I Shape | AJ56: =AJ2 -> Buffet 3.3. Live Cooking Table | AL56: =AL2 -> Logen Eben 2 & 3 | AN56: =AN2 -> Adler Viktoria Ebene 3 | AQ56: =AQ4 -> Buffet U Shape | AR56: =AR4 -> Buffet I Shape 1 | AS56: =AS4 -> Buffet I Shape I2 | AT56: =AT4 -> F & B I Shape I3 | AU56: =AU4 -> Buffet I Shape I4 | AV56: =AV4 -> Buffet I Shape I5 | AW56: =AW4 -> 0 | AX56: =AX4 -> 0 | ... BC56: =BC4 -> Buffet L Shape E2_2 Bar & Buffet
B57: # | C57: =$C$5 -> Designation | D57: =$D$5 -> Picture | E57: =$E$5 -> 0 | F57: =$F$5 -> 0 | G57: =$G$5 -> Power (kW) | H57: =$H$5 -> Price/Unit | I57: =$I$5 -> Size
B58: 51 | C58: ='EQ Buffet & Table Top'!C58 -> Oil and vinegar bottle | E58: ='EQ Buffet & Table Top'!E58 -> 0 | F58: ='EQ Buffet & Table Top'!F58 -> 0 | G58: ='EQ Buffet & Table Top'!G58 -> 0 | H58: ='EQ Buffet & Table Top'!H58 -> 0 | I58: ='EQ Buffet & Table Top'!I58 -> Volume 500 ml | L58: =SUM(N58:AN58) -> #REF! | N58: ='EQ Buffet & Table Top'!N58 -> 0 | Q58: =SUMIF($AQ$4:$BC$4,$Q$4,AQ58) -> 0 | R58: =SUMIF($AQ$4:$BC$4,$R$4,AR58) -> 0 | S58: =SUMIF($AQ$4:$BC$4,$S$4,AS58) -> 0 | T58: =SUMIF($AQ$4:$BC$4,$T$4,AT58) -> 0 | U58: =SUMIF($AQ$4:$BC$4,$U$4,AS58) -> 0 | V58: =SUMIF($AQ$4:$BC$4,$V$4,AR58) -> 0 | W58: =SUMIF($AQ$4:$BC$4,$W$4,AQ58) -> 0 | Y58: ='EQ Buffet & Table Top'!Y58 -> 0 | Z58: ='EQ Buffet & Table Top'!Z58 -> 0 | AA58: ='EQ Buffet & Table Top'!AA58 -> 0 | AB58: ='EQ Buffet & Table Top'!AB58 -> 0 | AC58: ='EQ Buffet & Table Top'!AC58 -> 0 | AD58: ='EQ Buffet & Table Top'!AD58 -> 0 | AE58: ='EQ Buffet & Table Top'!AD58 -> 0 | AG58: ='EQ Buffet & Table Top'!#REF! -> #REF! | AH58: ='EQ Buffet & Table Top'!#REF! -> #REF! | AI58: ='EQ Buffet & Table Top'!#REF! -> #REF! | AJ58: ='EQ Buffet & Table Top'!#REF! -> #REF! | AL58: ='EQ Buffet & Table Top'!#REF! -> #REF! | AN58: ='EQ Buffet & Table Top'!#REF! -> #REF! | AQ58: ='EQ Buffet & Table Top'!DL58 -> 0 | AR58: ='EQ Buffet & Table Top'!DM58 -> 0 | AS58: ='EQ Buffet & Table Top'!DN58 -> 0 | AT58: ='EQ Buffet & Table Top'!DO58 -> 0 | AU58: ='EQ Buffet & Table Top'!DP58 -> 0 | AV58: ='EQ Buffet & Table Top'!DQ58 -> 0 | AW58: ='EQ Buffet & Table Top'!DR58 -> 0 | AX58: ='EQ Buffet & Table Top'!DS58 -> 0 | ... BA58: ='EQ Buffet & Table Top'!DV58 -> 0 | BB58: ='EQ Buffet & Table Top'!DY58 -> 0 | BC58: ='EQ Buffet & Table Top'!DZ58 -> 0
B59: 52 | C59: ='EQ Buffet & Table Top'!C59 -> Salt & pepper mills | E59: ='EQ Buffet & Table Top'!E59 -> 0 | F59: ='EQ Buffet & Table Top'!F59 -> 0 | G59: ='EQ Buffet & Table Top'!G59 -> 0 | H59: ='EQ Buffet & Table Top'!H59 -> 0 | I59: ='EQ Buffet & Table Top'!I59 -> ⌀:3,5cm H: 7 cm | L59: =SUM(N59:AN59) -> #REF! | N59: ='EQ Buffet & Table Top'!N59 -> 0 | Q59: =SUMIF($AQ$4:$BC$4,$Q$4,AQ59) -> 0 | R59: =SUMIF($AQ$4:$BC$4,$R$4,AR59) -> 0 | S59: =SUMIF($AQ$4:$BC$4,$S$4,AS59) -> 0 | T59: =SUMIF($AQ$4:$BC$4,$T$4,AT59) -> 0 | U59: =SUMIF($AQ$4:$BC$4,$U$4,AS59) -> 0 | V59: =SUMIF($AQ$4:$BC$4,$V$4,AR59) -> 0 | W59: =SUMIF($AQ$4:$BC$4,$W$4,AQ59) -> 0 | Y59: ='EQ Buffet & Table Top'!Y59 -> 0 | Z59: ='EQ Buffet & Table Top'!Z59 -> 0 | AA59: ='EQ Buffet & Table Top'!AA59 -> 0 | AB59: ='EQ Buffet & Table Top'!AB59 -> 0 | AC59: ='EQ Buffet & Table Top'!AC59 -> 0 | AD59: ='EQ Buffet & Table Top'!AD59 -> 0 | AE59: ='EQ Buffet & Table Top'!AD59 -> 0 | AG59: ='EQ Buffet & Table Top'!#REF! -> #REF! | AH59: ='EQ Buffet & Table Top'!#REF! -> #REF! | AI59: ='EQ Buffet & Table Top'!#REF! -> #REF! | AJ59: ='EQ Buffet & Table Top'!#REF! -> #REF! | AL59: ='EQ Buffet & Table Top'!#REF! -> #REF! | AN59: ='EQ Buffet & Table Top'!#REF! -> #REF! | AQ59: ='EQ Buffet & Table Top'!DL59 -> 0 | AR59: ='EQ Buffet & Table Top'!DM59 -> 0 | AS59: ='EQ Buffet & Table Top'!DN59 -> 0 | AT59: ='EQ Buffet & Table Top'!DO59 -> 0 | AU59: ='EQ Buffet & Table Top'!DP59 -> 0 | AV59: ='EQ Buffet & Table Top'!DQ59 -> 0 | AW59: ='EQ Buffet & Table Top'!DR59 -> 0 | AX59: ='EQ Buffet & Table Top'!DS59 -> 0 | ... BA59: ='EQ Buffet & Table Top'!DV59 -> 0 | BB59: ='EQ Buffet & Table Top'!DY59 -> 0 | BC59: ='EQ Buffet & Table Top'!DZ59 -> 0
B60: 53 | C60: ='EQ Buffet & Table Top'!C60 -> Wooden base, 3 ceramic bowl | E60: ='EQ Buffet & Table Top'!E60 -> 0 | F60: ='EQ Buffet & Table Top'!F60 -> 0 | G60: ='EQ Buffet & Table Top'!G60 -> 0 | H60: ='EQ Buffet & Table Top'!H60 -> 0 | I60: ='EQ Buffet & Table Top'!I60 -> Bowl : ⌀:7cm H: 3,5cm Wooden Tray: L 30cm W:10cm H:2,5cm | L60: =SUM(N60:AN60) -> #REF! | N60: ='EQ Buffet & Table Top'!N60 -> 0 | Q60: =SUMIF($AQ$4:$BC$4,$Q$4,AQ60) -> 0 | R60: =SUMIF($AQ$4:$BC$4,$R$4,AR60) -> 0 | S60: =SUMIF($AQ$4:$BC$4,$S$4,AS60) -> 0 | T60: =SUMIF($AQ$4:$BC$4,$T$4,AT60) -> 0 | U60: =SUMIF($AQ$4:$BC$4,$U$4,AS60) -> 0 | V60: =SUMIF($AQ$4:$BC$4,$V$4,AR60) -> 0 | W60: =SUMIF($AQ$4:$BC$4,$W$4,AQ60) -> 0 | Y60: ='EQ Buffet & Table Top'!Y60 -> 0 | Z60: ='EQ Buffet & Table Top'!Z60 -> 0 | AA60: ='EQ Buffet & Table Top'!AA60 -> 0 | AB60: ='EQ Buffet & Table Top'!AB60 -> 0 | AC60: ='EQ Buffet & Table Top'!AC60 -> 0 | AD60: ='EQ Buffet & Table Top'!AD60 -> 0 | AE60: ='EQ Buffet & Table Top'!AD60 -> 0 | AG60: ='EQ Buffet & Table Top'!#REF! -> #REF! | AH60: ='EQ Buffet & Table Top'!#REF! -> #REF! | AI60: ='EQ Buffet & Table Top'!#REF! -> #REF! | AJ60: ='EQ Buffet & Table Top'!#REF! -> #REF! | AL60: ='EQ Buffet & Table Top'!#REF! -> #REF! | AN60: ='EQ Buffet & Table Top'!#REF! -> #REF! | AQ60: ='EQ Buffet & Table Top'!DL60 -> 0 | AR60: ='EQ Buffet & Table Top'!DM60 -> 0 | AS60: ='EQ Buffet & Table Top'!DN60 -> 0 | AT60: ='EQ Buffet & Table Top'!DO60 -> 0 | AU60: ='EQ Buffet & Table Top'!DP60 -> 0 | AV60: ='EQ Buffet & Table Top'!DQ60 -> 0 | AW60: ='EQ Buffet & Table Top'!DR60 -> 0 | AX60: ='EQ Buffet & Table Top'!DS60 -> 0 | ... BA60: ='EQ Buffet & Table Top'!DV60 -> 0 | BB60: ='EQ Buffet & Table Top'!DY60 -> 0 | BC60: ='EQ Buffet & Table Top'!DZ60 -> 0
B61: 54 | C61: ='EQ Buffet & Table Top'!C61 -> Wooden Box | E61: ='EQ Buffet & Table Top'!E61 -> 0 | F61: ='EQ Buffet & Table Top'!F61 -> 0 | G61: ='EQ Buffet & Table Top'!G61 -> 0 | H61: ='EQ Buffet & Table Top'!H61 -> 0 | I61: ='EQ Buffet & Table Top'!I61 -> L:36 cm W:26cm H:17 cm | L61: =SUM(N61:AN61) -> #REF! | N61: ='EQ Buffet & Table Top'!N61 -> 0 | Q61: =SUMIF($AQ$4:$BC$4,$Q$4,AQ61) -> 0 | R61: =SUMIF($AQ$4:$BC$4,$R$4,AR61) -> 0 | S61: =SUMIF($AQ$4:$BC$4,$S$4,AS61) -> 0 | T61: =SUMIF($AQ$4:$BC$4,$T$4,AT61) -> 0 | U61: =SUMIF($AQ$4:$BC$4,$U$4,AS61) -> 0 | V61: =SUMIF($AQ$4:$BC$4,$V$4,AR61) -> 0 | W61: =SUMIF($AQ$4:$BC$4,$W$4,AQ61) -> 0 | Y61: ='EQ Buffet & Table Top'!Y61 -> 0 | Z61: ='EQ Buffet & Table Top'!Z61 -> 0 | AA61: ='EQ Buffet & Table Top'!AA61 -> 0 | AB61: ='EQ Buffet & Table Top'!AB61 -> 0 | AC61: ='EQ Buffet & Table Top'!AC61 -> 0 | AD61: ='EQ Buffet & Table Top'!AD61 -> 0 | AE61: ='EQ Buffet & Table Top'!AD61 -> 0 | AG61: ='EQ Buffet & Table Top'!#REF! -> #REF! | AH61: ='EQ Buffet & Table Top'!#REF! -> #REF! | AI61: ='EQ Buffet & Table Top'!#REF! -> #REF! | AJ61: ='EQ Buffet & Table Top'!#REF! -> #REF! | AL61: ='EQ Buffet & Table Top'!#REF! -> #REF! | AN61: ='EQ Buffet & Table Top'!#REF! -> #REF! | AQ61: ='EQ Buffet & Table Top'!DL61 -> 0 | AR61: ='EQ Buffet & Table Top'!DM61 -> 0 | AS61: ='EQ Buffet & Table Top'!DN61 -> 0 | AT61: ='EQ Buffet & Table Top'!DO61 -> 0 | AU61: ='EQ Buffet & Table Top'!DP61 -> 0 | AV61: ='EQ Buffet & Table Top'!DQ61 -> 0 | AW61: ='EQ Buffet & Table Top'!DR61 -> 0 | AX61: ='EQ Buffet & Table Top'!DS61 -> 0 | ... BA61: ='EQ Buffet & Table Top'!DV61 -> 0 | BB61: ='EQ Buffet & Table Top'!DY61 -> 0 | BC61: ='EQ Buffet & Table Top'!DZ61 -> 0
B62: 55 | C62: ='EQ Buffet & Table Top'!C62 -> Wooden Box | E62: ='EQ Buffet & Table Top'!E62 -> 0 | F62: ='EQ Buffet & Table Top'!F62 -> 0 | G62: ='EQ Buffet & Table Top'!G62 -> 0 | H62: ='EQ Buffet & Table Top'!H62 -> 0 | I62: ='EQ Buffet & Table Top'!I62 -> L:26 cm W:16cm H:14 cm | L62: =SUM(N62:AN62) -> #REF! | N62: ='EQ Buffet & Table Top'!N62 -> 0 | Q62: =SUMIF($AQ$4:$BC$4,$Q$4,AQ62) -> 0 | R62: =SUMIF($AQ$4:$BC$4,$R$4,AR62) -> 0 | S62: =SUMIF($AQ$4:$BC$4,$S$4,AS62) -> 0 | T62: =SUMIF($AQ$4:$BC$4,$T$4,AT62) -> 0 | U62: =SUMIF($AQ$4:$BC$4,$U$4,AS62) -> 0 | V62: =SUMIF($AQ$4:$BC$4,$V$4,AR62) -> 0 | W62: =SUMIF($AQ$4:$BC$4,$W$4,AQ62) -> 0 | Y62: ='EQ Buffet & Table Top'!Y62 -> 0 | Z62: ='EQ Buffet & Table Top'!Z62 -> 0 | AA62: ='EQ Buffet & Table Top'!AA62 -> 0 | AB62: ='EQ Buffet & Table Top'!AB62 -> 0 | AC62: ='EQ Buffet & Table Top'!AC62 -> 0 | AD62: ='EQ Buffet & Table Top'!AD62 -> 0 | AE62: ='EQ Buffet & Table Top'!AD62 -> 0 | AG62: ='EQ Buffet & Table Top'!#REF! -> #REF! | AH62: ='EQ Buffet & Table Top'!#REF! -> #REF! | AI62: ='EQ Buffet & Table Top'!#REF! -> #REF! | AJ62: ='EQ Buffet & Table Top'!#REF! -> #REF! | AL62: ='EQ Buffet & Table Top'!#REF! -> #REF! | AN62: ='EQ Buffet & Table Top'!#REF! -> #REF! | AQ62: ='EQ Buffet & Table Top'!DL62 -> 0 | AR62: ='EQ Buffet & Table Top'!DM62 -> 0 | AS62: ='EQ Buffet & Table Top'!DN62 -> 0 | AT62: ='EQ Buffet & Table Top'!DO62 -> 0 | AU62: ='EQ Buffet & Table Top'!DP62 -> 0 | AV62: ='EQ Buffet & Table Top'!DQ62 -> 0 | AW62: ='EQ Buffet & Table Top'!DR62 -> 0 | AX62: ='EQ Buffet & Table Top'!DS62 -> 0 | ... BA62: ='EQ Buffet & Table Top'!DV62 -> 0 | BB62: ='EQ Buffet & Table Top'!DY62 -> 0 | BC62: ='EQ Buffet & Table Top'!DZ62 -> 0
B63: 56 | C63: ='EQ Buffet & Table Top'!C63 -> Cheese board | E63: ='EQ Buffet & Table Top'!E63 -> 0 | F63: ='EQ Buffet & Table Top'!F63 -> 0 | G63: ='EQ Buffet & Table Top'!G63 -> 0 | H63: ='EQ Buffet & Table Top'!H63 -> 0 | I63: ='EQ Buffet & Table Top'!I63 -> L:60 cm W:30 cm | L63: =SUM(N63:AN63) -> #REF! | N63: ='EQ Buffet & Table Top'!N63 -> 0 | Q63: =SUMIF($AQ$4:$BC$4,$Q$4,AQ63) -> 0 | R63: =SUMIF($AQ$4:$BC$4,$R$4,AR63) -> 0 | S63: =SUMIF($AQ$4:$BC$4,$S$4,AS63) -> 0 | T63: =SUMIF($AQ$4:$BC$4,$T$4,AT63) -> 0 | U63: =SUMIF($AQ$4:$BC$4,$U$4,AS63) -> 0 | V63: =SUMIF($AQ$4:$BC$4,$V$4,AR63) -> 0 | W63: =SUMIF($AQ$4:$BC$4,$W$4,AQ63) -> 0 | Y63: ='EQ Buffet & Table Top'!Y63 -> 0 | Z63: ='EQ Buffet & Table Top'!Z63 -> 0 | AA63: ='EQ Buffet & Table Top'!AA63 -> 0 | AB63: ='EQ Buffet & Table Top'!AB63 -> 0 | AC63: ='EQ Buffet & Table Top'!AC63 -> 0 | AD63: ='EQ Buffet & Table Top'!AD63 -> 0 | AE63: ='EQ Buffet & Table Top'!AD63 -> 0 | AG63: ='EQ Buffet & Table Top'!#REF! -> #REF! | AH63: ='EQ Buffet & Table Top'!#REF! -> #REF! | AI63: ='EQ Buffet & Table Top'!#REF! -> #REF! | AJ63: ='EQ Buffet & Table Top'!#REF! -> #REF! | AL63: ='EQ Buffet & Table Top'!#REF! -> #REF! | AN63: ='EQ Buffet & Table Top'!#REF! -> #REF! | AQ63: ='EQ Buffet & Table Top'!DL63 -> 0 | AR63: ='EQ Buffet & Table Top'!DM63 -> 0 | AS63: ='EQ Buffet & Table Top'!DN63 -> 0 | AT63: ='EQ Buffet & Table Top'!DO63 -> 0 | AU63: ='EQ Buffet & Table Top'!DP63 -> 0 | AV63: ='EQ Buffet & Table Top'!DQ63 -> 0 | AW63: ='EQ Buffet & Table Top'!DR63 -> 0 | AX63: ='EQ Buffet & Table Top'!DS63 -> 0 | ... BA63: ='EQ Buffet & Table Top'!DV63 -> 0 | BB63: ='EQ Buffet & Table Top'!DY63 -> 0 | BC63: ='EQ Buffet & Table Top'!DZ63 -> 0
B64: 57 | C64: ='EQ Buffet & Table Top'!C64 -> Cheese knife | E64: ='EQ Buffet & Table Top'!E64 -> 0 | F64: ='EQ Buffet & Table Top'!F64 -> 0 | G64: ='EQ Buffet & Table Top'!G64 -> 0 | H64: ='EQ Buffet & Table Top'!H64 -> 0 | I64: ='EQ Buffet & Table Top'!I64 -> L:23,8 cm - 21,8 cm - 15,9cm | L64: =SUM(N64:AN64) -> #REF! | N64: ='EQ Buffet & Table Top'!N64 -> 0 | Q64: =SUMIF($AQ$4:$BC$4,$Q$4,AQ64) -> 0 | R64: =SUMIF($AQ$4:$BC$4,$R$4,AR64) -> 0 | S64: =SUMIF($AQ$4:$BC$4,$S$4,AS64) -> 0 | T64: =SUMIF($AQ$4:$BC$4,$T$4,AT64) -> 0 | U64: =SUMIF($AQ$4:$BC$4,$U$4,AS64) -> 0 | V64: =SUMIF($AQ$4:$BC$4,$V$4,AR64) -> 0 | W64: =SUMIF($AQ$4:$BC$4,$W$4,AQ64) -> 0 | Y64: ='EQ Buffet & Table Top'!Y64 -> 0 | Z64: ='EQ Buffet & Table Top'!Z64 -> 0 | AA64: ='EQ Buffet & Table Top'!AA64 -> 0 | AB64: ='EQ Buffet & Table Top'!AB64 -> 0 | AC64: ='EQ Buffet & Table Top'!AC64 -> 0 | AD64: ='EQ Buffet & Table Top'!AD64 -> 0 | AE64: ='EQ Buffet & Table Top'!AD64 -> 0 | AG64: ='EQ Buffet & Table Top'!#REF! -> #REF! | AH64: ='EQ Buffet & Table Top'!#REF! -> #REF! | AI64: ='EQ Buffet & Table Top'!#REF! -> #REF! | AJ64: ='EQ Buffet & Table Top'!#REF! -> #REF! | AL64: ='EQ Buffet & Table Top'!#REF! -> #REF! | AN64: ='EQ Buffet & Table Top'!#REF! -> #REF! | AQ64: ='EQ Buffet & Table Top'!DL64 -> 0 | AR64: ='EQ Buffet & Table Top'!DM64 -> 0 | AS64: ='EQ Buffet & Table Top'!DN64 -> 0 | AT64: ='EQ Buffet & Table Top'!DO64 -> 0 | AU64: ='EQ Buffet & Table Top'!DP64 -> 0 | AV64: ='EQ Buffet & Table Top'!DQ64 -> 0 | AW64: ='EQ Buffet & Table Top'!DR64 -> 0 | AX64: ='EQ Buffet & Table Top'!DS64 -> 0 | ... BA64: ='EQ Buffet & Table Top'!DV64 -> 0 | BB64: ='EQ Buffet & Table Top'!DY64 -> 0 | BC64: ='EQ Buffet & Table Top'!DZ64 -> 0
B65: 58 | C65: ='EQ Buffet & Table Top'!C65 -> Bread tong | E65: ='EQ Buffet & Table Top'!E65 -> 0 | F65: ='EQ Buffet & Table Top'!F65 -> 0 | G65: ='EQ Buffet & Table Top'!G65 -> 0 | H65: ='EQ Buffet & Table Top'!H65 -> 0 | I65: ='EQ Buffet & Table Top'!I65 -> L: 18 cm W: 8cm H: 4cm | L65: =SUM(N65:AN65) -> #REF! | N65: ='EQ Buffet & Table Top'!N65 -> 0 | Q65: =SUMIF($AQ$4:$BC$4,$Q$4,AQ65) -> 0 | R65: =SUMIF($AQ$4:$BC$4,$R$4,AR65) -> 0 | S65: =SUMIF($AQ$4:$BC$4,$S$4,AS65) -> 0 | T65: =SUMIF($AQ$4:$BC$4,$T$4,AT65) -> 0 | U65: =SUMIF($AQ$4:$BC$4,$U$4,AS65) -> 0 | V65: =SUMIF($AQ$4:$BC$4,$V$4,AR65) -> 0 | W65: =SUMIF($AQ$4:$BC$4,$W$4,AQ65) -> 0 | Y65: ='EQ Buffet & Table Top'!Y65 -> 0 | Z65: ='EQ Buffet & Table Top'!Z65 -> 0 | AA65: ='EQ Buffet & Table Top'!AA65 -> 0 | AB65: ='EQ Buffet & Table Top'!AB65 -> 0 | AC65: ='EQ Buffet & Table Top'!AC65 -> 0 | AD65: ='EQ Buffet & Table Top'!AD65 -> 0 | AE65: ='EQ Buffet & Table Top'!AD65 -> 0 | AG65: ='EQ Buffet & Table Top'!#REF! -> #REF! | AH65: ='EQ Buffet & Table Top'!#REF! -> #REF! | AI65: ='EQ Buffet & Table Top'!#REF! -> #REF! | AJ65: ='EQ Buffet & Table Top'!#REF! -> #REF! | AL65: ='EQ Buffet & Table Top'!#REF! -> #REF! | AN65: ='EQ Buffet & Table Top'!#REF! -> #REF! | AQ65: ='EQ Buffet & Table Top'!DL65 -> 0 | AR65: ='EQ Buffet & Table Top'!DM65 -> 0 | AS65: ='EQ Buffet & Table Top'!DN65 -> 0 | AT65: ='EQ Buffet & Table Top'!DO65 -> 0 | AU65: ='EQ Buffet & Table Top'!DP65 -> 0 | AV65: ='EQ Buffet & Table Top'!DQ65 -> 0 | AW65: ='EQ Buffet & Table Top'!DR65 -> 0 | AX65: ='EQ Buffet & Table Top'!DS65 -> 0 | ... BA65: ='EQ Buffet & Table Top'!DV65 -> 0 | BB65: ='EQ Buffet & Table Top'!DY65 -> 0 | BC65: ='EQ Buffet & Table Top'!DZ65 -> 0
B66: 59 | C66: ='EQ Buffet & Table Top'!C66 -> Bread tong holder | E66: ='EQ Buffet & Table Top'!E66 -> 0 | F66: ='EQ Buffet & Table Top'!F66 -> 0 | G66: ='EQ Buffet & Table Top'!G66 -> 0 | H66: ='EQ Buffet & Table Top'!H66 -> 0 | I66: ='EQ Buffet & Table Top'!I66 -> L: 24 cm | L66: =SUM(N66:AN66) -> #REF! | N66: ='EQ Buffet & Table Top'!N66 -> 0 | Q66: =SUMIF($AQ$4:$BC$4,$Q$4,AQ66) -> 0 | R66: =SUMIF($AQ$4:$BC$4,$R$4,AR66) -> 0 | S66: =SUMIF($AQ$4:$BC$4,$S$4,AS66) -> 0 | T66: =SUMIF($AQ$4:$BC$4,$T$4,AT66) -> 0 | U66: =SUMIF($AQ$4:$BC$4,$U$4,AS66) -> 0 | V66: =SUMIF($AQ$4:$BC$4,$V$4,AR66) -> 0 | W66: =SUMIF($AQ$4:$BC$4,$W$4,AQ66) -> 0 | Y66: ='EQ Buffet & Table Top'!Y66 -> 0 | Z66: ='EQ Buffet & Table Top'!Z66 -> 0 | AA66: ='EQ Buffet & Table Top'!AA66 -> 0 | AB66: ='EQ Buffet & Table Top'!AB66 -> 0 | AC66: ='EQ Buffet & Table Top'!AC66 -> 0 | AD66: ='EQ Buffet & Table Top'!AD66 -> 0 | AE66: ='EQ Buffet & Table Top'!AD66 -> 0 | AG66: ='EQ Buffet & Table Top'!#REF! -> #REF! | AH66: ='EQ Buffet & Table Top'!#REF! -> #REF! | AI66: ='EQ Buffet & Table Top'!#REF! -> #REF! | AJ66: ='EQ Buffet & Table Top'!#REF! -> #REF! | AL66: ='EQ Buffet & Table Top'!#REF! -> #REF! | AN66: ='EQ Buffet & Table Top'!#REF! -> #REF! | AQ66: ='EQ Buffet & Table Top'!DL66 -> 0 | AR66: ='EQ Buffet & Table Top'!DM66 -> 0 | AS66: ='EQ Buffet & Table Top'!DN66 -> 0 | AT66: ='EQ Buffet & Table Top'!DO66 -> 0 | AU66: ='EQ Buffet & Table Top'!DP66 -> 0 | AV66: ='EQ Buffet & Table Top'!DQ66 -> 0 | AW66: ='EQ Buffet & Table Top'!DR66 -> 0 | AX66: ='EQ Buffet & Table Top'!DS66 -> 0 | ... BA66: ='EQ Buffet & Table Top'!DV66 -> 0 | BB66: ='EQ Buffet & Table Top'!DY66 -> 0 | BC66: ='EQ Buffet & Table Top'!DZ66 -> 0
B67: 60 | C67: ='EQ Buffet & Table Top'!C67 -> Service spoon | E67: ='EQ Buffet & Table Top'!E67 -> 0 | F67: ='EQ Buffet & Table Top'!F67 -> 0 | G67: ='EQ Buffet & Table Top'!G67 -> 0 | H67: ='EQ Buffet & Table Top'!H67 -> 0 | I67: ='EQ Buffet & Table Top'!I67 -> L: 25 cm | L67: =SUM(N67:AN67) -> #REF! | N67: ='EQ Buffet & Table Top'!N67 -> 0 | Q67: =SUMIF($AQ$4:$BC$4,$Q$4,AQ67) -> 0 | R67: =SUMIF($AQ$4:$BC$4,$R$4,AR67) -> 0 | S67: =SUMIF($AQ$4:$BC$4,$S$4,AS67) -> 0 | T67: =SUMIF($AQ$4:$BC$4,$T$4,AT67) -> 0 | U67: =SUMIF($AQ$4:$BC$4,$U$4,AS67) -> 0 | V67: =SUMIF($AQ$4:$BC$4,$V$4,AR67) -> 0 | W67: =SUMIF($AQ$4:$BC$4,$W$4,AQ67) -> 0 | Y67: ='EQ Buffet & Table Top'!Y67 -> 0 | Z67: ='EQ Buffet & Table Top'!Z67 -> 0 | AA67: ='EQ Buffet & Table Top'!AA67 -> 0 | AB67: ='EQ Buffet & Table Top'!AB67 -> 0 | AC67: ='EQ Buffet & Table Top'!AC67 -> 0 | AD67: ='EQ Buffet & Table Top'!AD67 -> 0 | AE67: ='EQ Buffet & Table Top'!AD67 -> 0 | AG67: ='EQ Buffet & Table Top'!#REF! -> #REF! | AH67: ='EQ Buffet & Table Top'!#REF! -> #REF! | AI67: ='EQ Buffet & Table Top'!#REF! -> #REF! | AJ67: ='EQ Buffet & Table Top'!#REF! -> #REF! | AL67: ='EQ Buffet & Table Top'!#REF! -> #REF! | AN67: ='EQ Buffet & Table Top'!#REF! -> #REF! | AQ67: ='EQ Buffet & Table Top'!DL67 -> 0 | AR67: ='EQ Buffet & Table Top'!DM67 -> 0 | AS67: ='EQ Buffet & Table Top'!DN67 -> 0 | AT67: ='EQ Buffet & Table Top'!DO67 -> 0 | AU67: ='EQ Buffet & Table Top'!DP67 -> 0 | AV67: ='EQ Buffet & Table Top'!DQ67 -> 0 | AW67: ='EQ Buffet & Table Top'!DR67 -> 0 | AX67: ='EQ Buffet & Table Top'!DS67 -> 0 | ... BA67: ='EQ Buffet & Table Top'!DV67 -> 0 | BB67: ='EQ Buffet & Table Top'!DY67 -> 0 | BC67: ='EQ Buffet & Table Top'!DZ67 -> 0
B68: 61 | C68: ='EQ Buffet & Table Top'!C68 -> Melamin tray slate optic | E68: ='EQ Buffet & Table Top'!E68 -> 0 | F68: ='EQ Buffet & Table Top'!F68 -> 0 | G68: ='EQ Buffet & Table Top'!G68 -> 0 | H68: ='EQ Buffet & Table Top'!H68 -> 0 | I68: ='EQ Buffet & Table Top'!I68 -> L:40 cm W:20cm | L68: =SUM(N68:AN68) -> #REF! | N68: ='EQ Buffet & Table Top'!N68 -> 0 | Q68: =SUMIF($AQ$4:$BC$4,$Q$4,AQ68) -> 0 | R68: =SUMIF($AQ$4:$BC$4,$R$4,AR68) -> 0 | S68: =SUMIF($AQ$4:$BC$4,$S$4,AS68) -> 0 | T68: =SUMIF($AQ$4:$BC$4,$T$4,AT68) -> 0 | U68: =SUMIF($AQ$4:$BC$4,$U$4,AS68) -> 0 | V68: =SUMIF($AQ$4:$BC$4,$V$4,AR68) -> 0 | W68: =SUMIF($AQ$4:$BC$4,$W$4,AQ68) -> 0 | Y68: ='EQ Buffet & Table Top'!Y68 -> 0 | Z68: ='EQ Buffet & Table Top'!Z68 -> 0 | AA68: ='EQ Buffet & Table Top'!AA68 -> 0 | AB68: ='EQ Buffet & Table Top'!AB68 -> 0 | AC68: ='EQ Buffet & Table Top'!AC68 -> 0 | AD68: ='EQ Buffet & Table Top'!AD68 -> 0 | AE68: ='EQ Buffet & Table Top'!AD68 -> 0 | AG68: ='EQ Buffet & Table Top'!#REF! -> #REF! | AH68: ='EQ Buffet & Table Top'!#REF! -> #REF! | AI68: ='EQ Buffet & Table Top'!#REF! -> #REF! | AJ68: ='EQ Buffet & Table Top'!#REF! -> #REF! | AL68: ='EQ Buffet & Table Top'!#REF! -> #REF! | AN68: ='EQ Buffet & Table Top'!#REF! -> #REF! | AQ68: ='EQ Buffet & Table Top'!DL68 -> 0 | AR68: ='EQ Buffet & Table Top'!DM68 -> 0 | AS68: ='EQ Buffet & Table Top'!DN68 -> 0 | AT68: ='EQ Buffet & Table Top'!DO68 -> 0 | AU68: ='EQ Buffet & Table Top'!DP68 -> 0 | AV68: ='EQ Buffet & Table Top'!DQ68 -> 0 | AW68: ='EQ Buffet & Table Top'!DR68 -> 0 | AX68: ='EQ Buffet & Table Top'!DS68 -> 0 | ... BA68: ='EQ Buffet & Table Top'!DV68 -> 0 | BB68: ='EQ Buffet & Table Top'!DY68 -> 0 | BC68: ='EQ Buffet & Table Top'!DZ68 -> 0
B69: 62 | C69: ='EQ Buffet & Table Top'!C69 -> Melamin tray slate optic | E69: ='EQ Buffet & Table Top'!E69 -> 0 | F69: ='EQ Buffet & Table Top'!F69 -> 0 | G69: ='EQ Buffet & Table Top'!G69 -> 0 | H69: ='EQ Buffet & Table Top'!H69 -> 0 | I69: ='EQ Buffet & Table Top'!I69 -> L:40 cm W:30cm | L69: =SUM(N69:AN69) -> #REF! | N69: ='EQ Buffet & Table Top'!N69 -> 0 | Q69: =SUMIF($AQ$4:$BC$4,$Q$4,AQ69) -> 0 | R69: =SUMIF($AQ$4:$BC$4,$R$4,AR69) -> 0 | S69: =SUMIF($AQ$4:$BC$4,$S$4,AS69) -> 0 | T69: =SUMIF($AQ$4:$BC$4,$T$4,AT69) -> 0 | U69: =SUMIF($AQ$4:$BC$4,$U$4,AS69) -> 0 | V69: =SUMIF($AQ$4:$BC$4,$V$4,AR69) -> 0 | W69: =SUMIF($AQ$4:$BC$4,$W$4,AQ69) -> 0 | Y69: ='EQ Buffet & Table Top'!Y69 -> 0 | Z69: ='EQ Buffet & Table Top'!Z69 -> 0 | AA69: ='EQ Buffet & Table Top'!AA69 -> 0 | AB69: ='EQ Buffet & Table Top'!AB69 -> 0 | AC69: ='EQ Buffet & Table Top'!AC69 -> 0 | AD69: ='EQ Buffet & Table Top'!AD69 -> 0 | AE69: ='EQ Buffet & Table Top'!AD69 -> 0 | AG69: ='EQ Buffet & Table Top'!#REF! -> #REF! | AH69: ='EQ Buffet & Table Top'!#REF! -> #REF! | AI69: ='EQ Buffet & Table Top'!#REF! -> #REF! | AJ69: ='EQ Buffet & Table Top'!#REF! -> #REF! | AL69: ='EQ Buffet & Table Top'!#REF! -> #REF! | AN69: ='EQ Buffet & Table Top'!#REF! -> #REF! | AQ69: ='EQ Buffet & Table Top'!DL69 -> 0 | AR69: ='EQ Buffet & Table Top'!DM69 -> 0 | AS69: ='EQ Buffet & Table Top'!DN69 -> 0 | AT69: ='EQ Buffet & Table Top'!DO69 -> 0 | AU69: ='EQ Buffet & Table Top'!DP69 -> 0 | AV69: ='EQ Buffet & Table Top'!DQ69 -> 0 | AW69: ='EQ Buffet & Table Top'!DR69 -> 0 | AX69: ='EQ Buffet & Table Top'!DS69 -> 0 | ... BA69: ='EQ Buffet & Table Top'!DV69 -> 0 | BB69: ='EQ Buffet & Table Top'!DY69 -> 0 | BC69: ='EQ Buffet & Table Top'!DZ69 -> 0
... B86: 79 | C86: ='EQ Buffet & Table Top'!C86 -> Glass Long Drink | E86: ='EQ Buffet & Table Top'!E86 -> 0 | F86: ='EQ Buffet & Table Top'!F86 -> 0 | G86: ='EQ Buffet & Table Top'!G86 -> 0 | H86: ='EQ Buffet & Table Top'!H86 -> 0 | I86: ='EQ Buffet & Table Top'!I86 -> Ø:70 mm H:150 mm | L86: =SUM(N86:AN86) -> #REF! | N86: ='EQ Buffet & Table Top'!N86 -> 0 | Q86: =SUMIF($AQ$4:$BC$4,$Q$4,AQ86) -> 0 | R86: =SUMIF($AQ$4:$BC$4,$R$4,AR86) -> 0 | S86: =SUMIF($AQ$4:$BC$4,$S$4,AS86) -> 0 | T86: =SUMIF($AQ$4:$BC$4,$T$4,AT86) -> 0 | U86: =SUMIF($AQ$4:$BC$4,$U$4,AS86) -> 0 | V86: =SUMIF($AQ$4:$BC$4,$V$4,AR86) -> 0 | W86: =SUMIF($AQ$4:$BC$4,$W$4,AQ86) -> 0 | Y86: ='EQ Buffet & Table Top'!Y86 -> 0 | Z86: ='EQ Buffet & Table Top'!Z86 -> 0 | AA86: ='EQ Buffet & Table Top'!AA86 -> 0 | AB86: ='EQ Buffet & Table Top'!AB86 -> 0 | AC86: ='EQ Buffet & Table Top'!AC86 -> 0 | AD86: ='EQ Buffet & Table Top'!AD86 -> 0 | AE86: ='EQ Buffet & Table Top'!AD86 -> 0 | AG86: ='EQ Buffet & Table Top'!#REF! -> #REF! | AH86: ='EQ Buffet & Table Top'!#REF! -> #REF! | AI86: ='EQ Buffet & Table Top'!#REF! -> #REF! | AJ86: ='EQ Buffet & Table Top'!#REF! -> #REF! | AL86: ='EQ Buffet & Table Top'!#REF! -> #REF! | AN86: ='EQ Buffet & Table Top'!#REF! -> #REF! | AQ86: ='EQ Buffet & Table Top'!DL86 -> 0 | AR86: ='EQ Buffet & Table Top'!DM86 -> 0 | AS86: ='EQ Buffet & Table Top'!DN86 -> 0 | AT86: ='EQ Buffet & Table Top'!DO86 -> 0 | AU86: ='EQ Buffet & Table Top'!DP86 -> 0 | AV86: ='EQ Buffet & Table Top'!DQ86 -> 0 | AW86: ='EQ Buffet & Table Top'!DR86 -> 0 | AX86: ='EQ Buffet & Table Top'!DS86 -> 0 | ... BA86: ='EQ Buffet & Table Top'!DV86 -> 0 | BB86: ='EQ Buffet & Table Top'!DY86 -> 0 | BC86: ='EQ Buffet & Table Top'!DZ86 -> 0
B87: Solia Disposable Equipment | L87: =L2 -> Qty total | N87: =N2 -> Press Cafe Ebene 0 | P87: =P2 -> Hauptküche Ebene 1 | Q87: =Q4 -> Buffet U Shape | R87: =R4 -> Buffet I Shape 1 | S87: =S4 -> Buffet I Shape I2 | T87: =T4 -> F & B I Shape I3 | U87: =U4 -> Buffet I Shape I2 | V87: =V4 -> Buffet I Shape 1 | W87: =W4 -> Buffet U Shape | Y87: =Y2 -> Buffet 2.1. I Shape | Z87: =Z2 -> Buffet 2.2. I Shape | AA87: =AA2 -> Buffet 2.3.1. I Shape | AB87: =AB2 -> Buffet 2.3.2 I Shape | AC87: =AC2 -> Buffet 2.3. I Shape | AD87: =AD2 -> Buffet 2.4. I Shape | AE87: =AE2 -> Relais Küche Eben 2 | AG87: =AG2 -> Relais Küche Ebene 3 | AH87: =AH2 -> Buffet 3.1. I Shape | AI87: =AI2 -> Buffet 3.2. I Shape | AJ87: =AJ2 -> Buffet 3.3. Live Cooking Table | AL87: =AL2 -> Logen Eben 2 & 3 | AN87: =AN2 -> Adler Viktoria Ebene 3 | AQ87: =SUM('EQ Buffet & Table Top'!AH87:AN87) -> 0 | AR87: =AR4 -> Buffet I Shape 1 | AS87: =AS4 -> Buffet I Shape I2 | AT87: =AT4 -> F & B I Shape I3 | AU87: =AU4 -> Buffet I Shape I4 | AV87: =AV4 -> Buffet I Shape I5 | AW87: =AW4 -> 0 | AX87: =AX4 -> 0 | AY87: =AY4 -> 0 | ... BC87: =BC4 -> Buffet L Shape E2_2 Bar & Buffet
B88: # | C88: =$C$5 -> Designation | D88: =$D$5 -> Picture | E88: =$E$5 -> 0 | F88: =$F$5 -> 0 | G88: =$G$5 -> Power (kW) | H88: =$H$5 -> Price/Unit | I88: =$I$5 -> Size | AQ88: =SUM('EQ Buffet & Table Top'!AH88:AN88) -> 0
B89: 80 | C89: ='EQ Buffet & Table Top'!C89 -> Imagine cup | E89: ='EQ Buffet & Table Top'!E89 -> 0 | F89: ='EQ Buffet & Table Top'!F89 -> 0 | G89: ='EQ Buffet & Table Top'!G89 -> 0 | H89: ='EQ Buffet & Table Top'!H89 -> 0 | I89: ='EQ Buffet & Table Top'!I89 -> 130x120x25 | J89: ='EQ Buffet & Table Top'!J89 -> x | L89: =SUM(N89:AN89) -> #REF! | N89: ='EQ Buffet & Table Top'!N89 -> 0 | O89: ='EQ Buffet & Table Top'!O89 -> 0 | Q89: =SUMIF($AQ$4:$BC$4,$Q$4,AQ89) -> 0 | R89: =SUMIF($AQ$4:$BC$4,$R$4,AR89) -> 0 | S89: =SUMIF($AQ$4:$BC$4,$S$4,AS89) -> 0 | T89: =SUMIF($AQ$4:$BC$4,$T$4,AT89) -> 0 | U89: =SUMIF($AQ$4:$BC$4,$U$4,AS89) -> 0 | V89: =SUMIF($AQ$4:$BC$4,$V$4,AR89) -> 0 | W89: =SUMIF($AQ$4:$BC$4,$W$4,AQ89) -> 0 | X89: ='EQ Buffet & Table Top'!X89 -> 0 | Y89: ='EQ Buffet & Table Top'!Y89 -> 0 | Z89: ='EQ Buffet & Table Top'!Z89 -> 0 | AA89: ='EQ Buffet & Table Top'!AA89 -> 0 | AB89: ='EQ Buffet & Table Top'!AB89 -> 0 | AC89: ='EQ Buffet & Table Top'!AC89 -> 0 | AD89: ='EQ Buffet & Table Top'!AD89 -> 0 | AE89: ='EQ Buffet & Table Top'!AD89 -> 0 | AF89: ='EQ Buffet & Table Top'!AE89 -> 0 | AG89: ='EQ Buffet & Table Top'!#REF! -> #REF! | AH89: ='EQ Buffet & Table Top'!#REF! -> #REF! | AI89: ='EQ Buffet & Table Top'!#REF! -> #REF! | AJ89: ='EQ Buffet & Table Top'!#REF! -> #REF! | AK89: ='EQ Buffet & Table Top'!#REF! -> #REF! | AL89: ='EQ Buffet & Table Top'!#REF! -> #REF! | AM89: ='EQ Buffet & Table Top'!#REF! -> #REF! | AN89: ='EQ Buffet & Table Top'!#REF! -> #REF! | AQ89: =SUM('EQ Buffet & Table Top'!AH89:AN89) -> 0 | AR89: ='EQ Buffet & Table Top'!DL89 -> 0 | AS89: ='EQ Buffet & Table Top'!DM89 -> 0 | AT89: ='EQ Buffet & Table Top'!DN89 -> 0 | AU89: ='EQ Buffet & Table Top'!DO89 -> 0 | AV89: ='EQ Buffet & Table Top'!DP89 -> 0 | AW89: ='EQ Buffet & Table Top'!DQ89 -> 0 | AX89: ='EQ Buffet & Table Top'!DR89 -> 0 | AY89: ='EQ Buffet & Table Top'!DS89 -> 0 | ... BB89: ='EQ Buffet & Table Top'!DV89 -> 0 | BC89: ='EQ Buffet & Table Top'!DY89 -> 0
B90: 81 | C90: ='EQ Buffet & Table Top'!C90 -> Tin can silver | E90: ='EQ Buffet & Table Top'!E90 -> 0 | F90: ='EQ Buffet & Table Top'!F90 -> 0 | G90: ='EQ Buffet & Table Top'!G90 -> 0 | H90: ='EQ Buffet & Table Top'!H90 -> 0 | I90: ='EQ Buffet & Table Top'!I90 -> H59,5 Ø60,8 | J90: ='EQ Buffet & Table Top'!J90 -> x | L90: =SUM(N90:AN90) -> #REF! | N90: ='EQ Buffet & Table Top'!N90 -> 0 | O90: ='EQ Buffet & Table Top'!O90 -> 0 | Q90: =SUMIF($AQ$4:$BC$4,$Q$4,AQ90) -> 0 | R90: =SUMIF($AQ$4:$BC$4,$R$4,AR90) -> 0 | S90: =SUMIF($AQ$4:$BC$4,$S$4,AS90) -> 0 | T90: =SUMIF($AQ$4:$BC$4,$T$4,AT90) -> 0 | U90: =SUMIF($AQ$4:$BC$4,$U$4,AS90) -> 0 | V90: =SUMIF($AQ$4:$BC$4,$V$4,AR90) -> 0 | W90: =SUMIF($AQ$4:$BC$4,$W$4,AQ90) -> 0 | X90: ='EQ Buffet & Table Top'!X90 -> 0 | Y90: ='EQ Buffet & Table Top'!Y90 -> 0 | Z90: ='EQ Buffet & Table Top'!Z90 -> 0 | AA90: ='EQ Buffet & Table Top'!AA90 -> 0 | AB90: ='EQ Buffet & Table Top'!AB90 -> 0 | AC90: ='EQ Buffet & Table Top'!AC90 -> 0 | AD90: ='EQ Buffet & Table Top'!AD90 -> 0 | AE90: ='EQ Buffet & Table Top'!AD90 -> 0 | AF90: ='EQ Buffet & Table Top'!AE90 -> 0 | AG90: ='EQ Buffet & Table Top'!#REF! -> #REF! | AH90: ='EQ Buffet & Table Top'!#REF! -> #REF! | AI90: ='EQ Buffet & Table Top'!#REF! -> #REF! | AJ90: ='EQ Buffet & Table Top'!#REF! -> #REF! | AK90: ='EQ Buffet & Table Top'!#REF! -> #REF! | AL90: ='EQ Buffet & Table Top'!#REF! -> #REF! | AM90: ='EQ Buffet & Table Top'!#REF! -> #REF! | AN90: ='EQ Buffet & Table Top'!#REF! -> #REF! | AQ90: =SUM('EQ Buffet & Table Top'!AH90:AN90) -> 0 | AR90: ='EQ Buffet & Table Top'!DL90 -> 0 | AS90: ='EQ Buffet & Table Top'!DM90 -> 0 | AT90: ='EQ Buffet & Table Top'!DN90 -> 0 | AU90: ='EQ Buffet & Table Top'!DO90 -> 0 | AV90: ='EQ Buffet & Table Top'!DP90 -> 0 | AW90: ='EQ Buffet & Table Top'!DQ90 -> 0 | AX90: ='EQ Buffet & Table Top'!DR90 -> 0 | AY90: ='EQ Buffet & Table Top'!DS90 -> 0 | ... BB90: ='EQ Buffet & Table Top'!DV90 -> 0 | BC90: ='EQ Buffet & Table Top'!DY90 -> 0
B91: 82 | C91: ='EQ Buffet & Table Top'!C91 -> Tin can transparent | E91: ='EQ Buffet & Table Top'!E91 -> 0 | F91: ='EQ Buffet & Table Top'!F91 -> 0 | G91: ='EQ Buffet & Table Top'!G91 -> 0 | H91: ='EQ Buffet & Table Top'!H91 -> 0 | I91: ='EQ Buffet & Table Top'!I91 -> H37,4 Ø74,5 mm Capacity: 100 ml | J91: ='EQ Buffet & Table Top'!J91 -> x | L91: =SUM(N91:AN91) -> #REF! | N91: ='EQ Buffet & Table Top'!N91 -> 0 | O91: ='EQ Buffet & Table Top'!O91 -> 0 | Q91: =SUMIF($AQ$4:$BC$4,$Q$4,AQ91) -> 0 | R91: =SUMIF($AQ$4:$BC$4,$R$4,AR91) -> 0 | S91: =SUMIF($AQ$4:$BC$4,$S$4,AS91) -> 0 | T91: =SUMIF($AQ$4:$BC$4,$T$4,AT91) -> 0 | U91: =SUMIF($AQ$4:$BC$4,$U$4,AS91) -> 0 | V91: =SUMIF($AQ$4:$BC$4,$V$4,AR91) -> 0 | W91: =SUMIF($AQ$4:$BC$4,$W$4,AQ91) -> 0 | X91: ='EQ Buffet & Table Top'!X91 -> 0 | Y91: ='EQ Buffet & Table Top'!Y91 -> 0 | Z91: ='EQ Buffet & Table Top'!Z91 -> 0 | AA91: ='EQ Buffet & Table Top'!AA91 -> 0 | AB91: ='EQ Buffet & Table Top'!AB91 -> 0 | AC91: ='EQ Buffet & Table Top'!AC91 -> 0 | AD91: ='EQ Buffet & Table Top'!AD91 -> 0 | AE91: ='EQ Buffet & Table Top'!AD91 -> 0 | AF91: ='EQ Buffet & Table Top'!AE91 -> 0 | AG91: ='EQ Buffet & Table Top'!#REF! -> #REF! | AH91: ='EQ Buffet & Table Top'!#REF! -> #REF! | AI91: ='EQ Buffet & Table Top'!#REF! -> #REF! | AJ91: ='EQ Buffet & Table Top'!#REF! -> #REF! | AK91: ='EQ Buffet & Table Top'!#REF! -> #REF! | AL91: ='EQ Buffet & Table Top'!#REF! -> #REF! | AM91: ='EQ Buffet & Table Top'!#REF! -> #REF! | AN91: ='EQ Buffet & Table Top'!#REF! -> #REF! | AQ91: =SUM('EQ Buffet & Table Top'!AH91:AN91) -> 0 | AR91: ='EQ Buffet & Table Top'!DL91 -> 0 | AS91: ='EQ Buffet & Table Top'!DM91 -> 0 | AT91: ='EQ Buffet & Table Top'!DN91 -> 0 | AU91: ='EQ Buffet & Table Top'!DO91 -> 0 | AV91: ='EQ Buffet & Table Top'!DP91 -> 0 | AW91: ='EQ Buffet & Table Top'!DQ91 -> 0 | AX91: ='EQ Buffet & Table Top'!DR91 -> 0 | AY91: ='EQ Buffet & Table Top'!DS91 -> 0 | ... BB91: ='EQ Buffet & Table Top'!DV91 -> 0 | BC91: ='EQ Buffet & Table Top'!DY91 -> 0
B92: 83 | C92: ='EQ Buffet & Table Top'!C92 -> Wooden pallet | E92: ='EQ Buffet & Table Top'!E92 -> 0 | F92: ='EQ Buffet & Table Top'!F92 -> 0 | G92: ='EQ Buffet & Table Top'!G92 -> 0 | H92: ='EQ Buffet & Table Top'!H92 -> 0 | I92: ='EQ Buffet & Table Top'!I92 -> L:30 cm W:20 cm H:3,6 cm | J92: ='EQ Buffet & Table Top'!J92 -> x | L92: =SUM(N92:AN92) -> #REF! | N92: ='EQ Buffet & Table Top'!N92 -> 0 | O92: ='EQ Buffet & Table Top'!O92 -> 0 | Q92: =SUMIF($AQ$4:$BC$4,$Q$4,AQ92) -> 0 | R92: =SUMIF($AQ$4:$BC$4,$R$4,AR92) -> 0 | S92: =SUMIF($AQ$4:$BC$4,$S$4,AS92) -> 0 | T92: =SUMIF($AQ$4:$BC$4,$T$4,AT92) -> 0 | U92: =SUMIF($AQ$4:$BC$4,$U$4,AS92) -> 0 | V92: =SUMIF($AQ$4:$BC$4,$V$4,AR92) -> 0 | W92: =SUMIF($AQ$4:$BC$4,$W$4,AQ92) -> 0 | X92: ='EQ Buffet & Table Top'!X92 -> 0 | Y92: ='EQ Buffet & Table Top'!Y92 -> 0 | Z92: ='EQ Buffet & Table Top'!Z92 -> 0 | AA92: ='EQ Buffet & Table Top'!AA92 -> 0 | AB92: ='EQ Buffet & Table Top'!AB92 -> 0 | AC92: ='EQ Buffet & Table Top'!AC92 -> 0 | AD92: ='EQ Buffet & Table Top'!AD92 -> 0 | AE92: ='EQ Buffet & Table Top'!AD92 -> 0 | AF92: ='EQ Buffet & Table Top'!AE92 -> 0 | AG92: ='EQ Buffet & Table Top'!#REF! -> #REF! | AH92: ='EQ Buffet & Table Top'!#REF! -> #REF! | AI92: ='EQ Buffet & Table Top'!#REF! -> #REF! | AJ92: ='EQ Buffet & Table Top'!#REF! -> #REF! | AK92: ='EQ Buffet & Table Top'!#REF! -> #REF! | AL92: ='EQ Buffet & Table Top'!#REF! -> #REF! | AM92: ='EQ Buffet & Table Top'!#REF! -> #REF! | AN92: ='EQ Buffet & Table Top'!#REF! -> #REF! | AQ92: =SUM('EQ Buffet & Table Top'!AH92:AN92) -> 0 | AR92: ='EQ Buffet & Table Top'!DL92 -> 0 | AS92: ='EQ Buffet & Table Top'!DM92 -> 0 | AT92: ='EQ Buffet & Table Top'!DN92 -> 0 | AU92: ='EQ Buffet & Table Top'!DO92 -> 0 | AV92: ='EQ Buffet & Table Top'!DP92 -> 0 | AW92: ='EQ Buffet & Table Top'!DQ92 -> 0 | AX92: ='EQ Buffet & Table Top'!DR92 -> 0 | AY92: ='EQ Buffet & Table Top'!DS92 -> 0 | ... BB92: ='EQ Buffet & Table Top'!DV92 -> 0 | BC92: ='EQ Buffet & Table Top'!DY92 -> 0
B93: 84 | C93: ='EQ Buffet & Table Top'!C93 -> Wooden board | E93: ='EQ Buffet & Table Top'!E93 -> 0 | F93: ='EQ Buffet & Table Top'!F93 -> 0 | G93: ='EQ Buffet & Table Top'!G93 -> 0 | H93: ='EQ Buffet & Table Top'!H93 -> 0 | I93: ='EQ Buffet & Table Top'!I93 -> 90x300x4 | J93: ='EQ Buffet & Table Top'!J93 -> x | L93: =SUM(N93:AN93) -> #REF! | N93: ='EQ Buffet & Table Top'!N93 -> 0 | O93: ='EQ Buffet & Table Top'!O93 -> 0 | Q93: =SUMIF($AQ$4:$BC$4,$Q$4,AQ93) -> 0 | R93: =SUMIF($AQ$4:$BC$4,$R$4,AR93) -> 0 | S93: =SUMIF($AQ$4:$BC$4,$S$4,AS93) -> 0 | T93: =SUMIF($AQ$4:$BC$4,$T$4,AT93) -> 0 | U93: =SUMIF($AQ$4:$BC$4,$U$4,AS93) -> 0 | V93: =SUMIF($AQ$4:$BC$4,$V$4,AR93) -> 0 | W93: =SUMIF($AQ$4:$BC$4,$W$4,AQ93) -> 0 | X93: ='EQ Buffet & Table Top'!X93 -> 0 | Y93: ='EQ Buffet & Table Top'!Y93 -> 0 | Z93: ='EQ Buffet & Table Top'!Z93 -> 0 | AA93: ='EQ Buffet & Table Top'!AA93 -> 0 | AB93: ='EQ Buffet & Table Top'!AB93 -> 0 | AC93: ='EQ Buffet & Table Top'!AC93 -> 0 | AD93: ='EQ Buffet & Table Top'!AD93 -> 0 | AE93: ='EQ Buffet & Table Top'!AD93 -> 0 | AF93: ='EQ Buffet & Table Top'!AE93 -> 0 | AG93: ='EQ Buffet & Table Top'!#REF! -> #REF! | AH93: ='EQ Buffet & Table Top'!#REF! -> #REF! | AI93: ='EQ Buffet & Table Top'!#REF! -> #REF! | AJ93: ='EQ Buffet & Table Top'!#REF! -> #REF! | AK93: ='EQ Buffet & Table Top'!#REF! -> #REF! | AL93: ='EQ Buffet & Table Top'!#REF! -> #REF! | AM93: ='EQ Buffet & Table Top'!#REF! -> #REF! | AN93: ='EQ Buffet & Table Top'!#REF! -> #REF! | AQ93: =SUM('EQ Buffet & Table Top'!AH93:AN93) -> 0 | AR93: ='EQ Buffet & Table Top'!DL93 -> 0 | AS93: ='EQ Buffet & Table Top'!DM93 -> 0 | AT93: ='EQ Buffet & Table Top'!DN93 -> 0 | AU93: ='EQ Buffet & Table Top'!DO93 -> 0 | AV93: ='EQ Buffet & Table Top'!DP93 -> 0 | AW93: ='EQ Buffet & Table Top'!DQ93 -> 0 | AX93: ='EQ Buffet & Table Top'!DR93 -> 0 | AY93: ='EQ Buffet & Table Top'!DS93 -> 0 | ... BB93: ='EQ Buffet & Table Top'!DV93 -> 0 | BC93: ='EQ Buffet & Table Top'!DY93 -> 0
B94: 85 | C94: ='EQ Buffet & Table Top'!C94 -> Wooden board | E94: ='EQ Buffet & Table Top'!E94 -> 0 | F94: ='EQ Buffet & Table Top'!F94 -> 0 | G94: ='EQ Buffet & Table Top'!G94 -> 0 | H94: ='EQ Buffet & Table Top'!H94 -> 0 | I94: ='EQ Buffet & Table Top'!I94 -> 180x300x4 | J94: ='EQ Buffet & Table Top'!J94 -> x | L94: =SUM(N94:AN94) -> #REF! | N94: ='EQ Buffet & Table Top'!N94 -> 0 | O94: ='EQ Buffet & Table Top'!O94 -> 0 | Q94: =SUMIF($AQ$4:$BC$4,$Q$4,AQ94) -> 0 | R94: =SUMIF($AQ$4:$BC$4,$R$4,AR94) -> 0 | S94: =SUMIF($AQ$4:$BC$4,$S$4,AS94) -> 0 | T94: =SUMIF($AQ$4:$BC$4,$T$4,AT94) -> 0 | U94: =SUMIF($AQ$4:$BC$4,$U$4,AS94) -> 0 | V94: =SUMIF($AQ$4:$BC$4,$V$4,AR94) -> 0 | W94: =SUMIF($AQ$4:$BC$4,$W$4,AQ94) -> 0 | X94: ='EQ Buffet & Table Top'!X94 -> 0 | Y94: ='EQ Buffet & Table Top'!Y94 -> 0 | Z94: ='EQ Buffet & Table Top'!Z94 -> 0 | AA94: ='EQ Buffet & Table Top'!AA94 -> 0 | AB94: ='EQ Buffet & Table Top'!AB94 -> 0 | AC94: ='EQ Buffet & Table Top'!AC94 -> 0 | AD94: ='EQ Buffet & Table Top'!AD94 -> 0 | AE94: ='EQ Buffet & Table Top'!AD94 -> 0 | AF94: ='EQ Buffet & Table Top'!AE94 -> 0 | AG94: ='EQ Buffet & Table Top'!#REF! -> #REF! | AH94: ='EQ Buffet & Table Top'!#REF! -> #REF! | AI94: ='EQ Buffet & Table Top'!#REF! -> #REF! | AJ94: ='EQ Buffet & Table Top'!#REF! -> #REF! | AK94: ='EQ Buffet & Table Top'!#REF! -> #REF! | AL94: ='EQ Buffet & Table Top'!#REF! -> #REF! | AM94: ='EQ Buffet & Table Top'!#REF! -> #REF! | AN94: ='EQ Buffet & Table Top'!#REF! -> #REF! | AQ94: =SUM('EQ Buffet & Table Top'!AH94:AN94) -> 0 | AR94: ='EQ Buffet & Table Top'!DL94 -> 0 | AS94: ='EQ Buffet & Table Top'!DM94 -> 0 | AT94: ='EQ Buffet & Table Top'!DN94 -> 0 | AU94: ='EQ Buffet & Table Top'!DO94 -> 0 | AV94: ='EQ Buffet & Table Top'!DP94 -> 0 | AW94: ='EQ Buffet & Table Top'!DQ94 -> 0 | AX94: ='EQ Buffet & Table Top'!DR94 -> 0 | AY94: ='EQ Buffet & Table Top'!DS94 -> 0 | ... BB94: ='EQ Buffet & Table Top'!DV94 -> 0 | BC94: ='EQ Buffet & Table Top'!DY94 -> 0
B95: 86 | C95: ='EQ Buffet & Table Top'!C95 -> Wooden pallet | E95: ='EQ Buffet & Table Top'!E95 -> 0 | F95: ='EQ Buffet & Table Top'!F95 -> 0 | G95: ='EQ Buffet & Table Top'!G95 -> 0 | H95: ='EQ Buffet & Table Top'!H95 -> 0 | I95: ='EQ Buffet & Table Top'!I95 -> L:40 cm W:30 cm H:4,3 cm | J95: ='EQ Buffet & Table Top'!J95 -> x | L95: =SUM(N95:AN95) -> #REF! | N95: ='EQ Buffet & Table Top'!N95 -> 0 | O95: ='EQ Buffet & Table Top'!O95 -> 0 | Q95: =SUMIF($AQ$4:$BC$4,$Q$4,AQ95) -> 0 | R95: =SUMIF($AQ$4:$BC$4,$R$4,AR95) -> 0 | S95: =SUMIF($AQ$4:$BC$4,$S$4,AS95) -> 0 | T95: =SUMIF($AQ$4:$BC$4,$T$4,AT95) -> 0 | U95: =SUMIF($AQ$4:$BC$4,$U$4,AS95) -> 0 | V95: =SUMIF($AQ$4:$BC$4,$V$4,AR95) -> 0 | W95: =SUMIF($AQ$4:$BC$4,$W$4,AQ95) -> 0 | X95: ='EQ Buffet & Table Top'!X95 -> 0 | Y95: ='EQ Buffet & Table Top'!Y95 -> 0 | Z95: ='EQ Buffet & Table Top'!Z95 -> 0 | AA95: ='EQ Buffet & Table Top'!AA95 -> 0 | AB95: ='EQ Buffet & Table Top'!AB95 -> 0 | AC95: ='EQ Buffet & Table Top'!AC95 -> 0 | AD95: ='EQ Buffet & Table Top'!AD95 -> 0 | AE95: ='EQ Buffet & Table Top'!AD95 -> 0 | AF95: ='EQ Buffet & Table Top'!AE95 -> 0 | AG95: ='EQ Buffet & Table Top'!#REF! -> #REF! | AH95: ='EQ Buffet & Table Top'!#REF! -> #REF! | AI95: ='EQ Buffet & Table Top'!#REF! -> #REF! | AJ95: ='EQ Buffet & Table Top'!#REF! -> #REF! | AK95: ='EQ Buffet & Table Top'!#REF! -> #REF! | AL95: ='EQ Buffet & Table Top'!#REF! -> #REF! | AM95: ='EQ Buffet & Table Top'!#REF! -> #REF! | AN95: ='EQ Buffet & Table Top'!#REF! -> #REF! | AQ95: =SUM('EQ Buffet & Table Top'!AH95:AN95) -> 0 | AR95: ='EQ Buffet & Table Top'!DL95 -> 0 | AS95: ='EQ Buffet & Table Top'!DM95 -> 0 | AT95: ='EQ Buffet & Table Top'!DN95 -> 0 | AU95: ='EQ Buffet & Table Top'!DO95 -> 0 | AV95: ='EQ Buffet & Table Top'!DP95 -> 0 | AW95: ='EQ Buffet & Table Top'!DQ95 -> 0 | AX95: ='EQ Buffet & Table Top'!DR95 -> 0 | AY95: ='EQ Buffet & Table Top'!DS95 -> 0 | ... BB95: ='EQ Buffet & Table Top'!DV95 -> 0 | BC95: ='EQ Buffet & Table Top'!DY95 -> 0
B96: 87 | C96: ='EQ Buffet & Table Top'!C96 -> Wooden pallet | E96: ='EQ Buffet & Table Top'!E96 -> 0 | F96: ='EQ Buffet & Table Top'!F96 -> 0 | G96: ='EQ Buffet & Table Top'!G96 -> 0 | H96: ='EQ Buffet & Table Top'!H96 -> 0 | I96: ='EQ Buffet & Table Top'!I96 -> L:58 cm W:38 cm H:4,3 cm | J96: ='EQ Buffet & Table Top'!J96 -> x | L96: =SUM(N96:AN96) -> #REF! | N96: ='EQ Buffet & Table Top'!N96 -> 0 | O96: ='EQ Buffet & Table Top'!O96 -> 0 | Q96: =SUMIF($AQ$4:$BC$4,$Q$4,AQ96) -> 0 | R96: =SUMIF($AQ$4:$BC$4,$R$4,AR96) -> 0 | S96: =SUMIF($AQ$4:$BC$4,$S$4,AS96) -> 0 | T96: =SUMIF($AQ$4:$BC$4,$T$4,AT96) -> 0 | U96: =SUMIF($AQ$4:$BC$4,$U$4,AS96) -> 0 | V96: =SUMIF($AQ$4:$BC$4,$V$4,AR96) -> 0 | W96: =SUMIF($AQ$4:$BC$4,$W$4,AQ96) -> 0 | X96: ='EQ Buffet & Table Top'!X96 -> 0 | Y96: ='EQ Buffet & Table Top'!Y96 -> 0 | Z96: ='EQ Buffet & Table Top'!Z96 -> 0 | AA96: ='EQ Buffet & Table Top'!AA96 -> 0 | AB96: ='EQ Buffet & Table Top'!AB96 -> 0 | AC96: ='EQ Buffet & Table Top'!AC96 -> 0 | AD96: ='EQ Buffet & Table Top'!AD96 -> 0 | AE96: ='EQ Buffet & Table Top'!AD96 -> 0 | AF96: ='EQ Buffet & Table Top'!AE96 -> 0 | AG96: ='EQ Buffet & Table Top'!#REF! -> #REF! | AH96: ='EQ Buffet & Table Top'!#REF! -> #REF! | AI96: ='EQ Buffet & Table Top'!#REF! -> #REF! | AJ96: ='EQ Buffet & Table Top'!#REF! -> #REF! | AK96: ='EQ Buffet & Table Top'!#REF! -> #REF! | AL96: ='EQ Buffet & Table Top'!#REF! -> #REF! | AM96: ='EQ Buffet & Table Top'!#REF! -> #REF! | AN96: ='EQ Buffet & Table Top'!#REF! -> #REF! | AQ96: =SUM('EQ Buffet & Table Top'!AH96:AN96) -> 0 | AR96: ='EQ Buffet & Table Top'!DL96 -> 0 | AS96: ='EQ Buffet & Table Top'!DM96 -> 0 | AT96: ='EQ Buffet & Table Top'!DN96 -> 0 | AU96: ='EQ Buffet & Table Top'!DO96 -> 0 | AV96: ='EQ Buffet & Table Top'!DP96 -> 0 | AW96: ='EQ Buffet & Table Top'!DQ96 -> 0 | AX96: ='EQ Buffet & Table Top'!DR96 -> 0 | AY96: ='EQ Buffet & Table Top'!DS96 -> 0 | ... BB96: ='EQ Buffet & Table Top'!DV96 -> 0 | BC96: ='EQ Buffet & Table Top'!DY96 -> 0
B97: 88 | C97: ='EQ Buffet & Table Top'!C97 -> Saladier Imagine - Imagine salad bowl 250ml | E97: ='EQ Buffet & Table Top'!E97 -> 0 | F97: ='EQ Buffet & Table Top'!F97 -> 0 | G97: ='EQ Buffet & Table Top'!G97 -> 0 | H97: ='EQ Buffet & Table Top'!H97 -> 0 | I97: ='EQ Buffet & Table Top'!I97 -> 130x120x25 Capacity: 250 ml | J97: ='EQ Buffet & Table Top'!J97 -> VF42200 | L97: =SUM(N97:AN97) -> #REF! | N97: ='EQ Buffet & Table Top'!N97 -> 0 | O97: ='EQ Buffet & Table Top'!O97 -> 0 | Q97: =SUMIF($AQ$4:$BC$4,$Q$4,AQ97) -> 0 | R97: =SUMIF($AQ$4:$BC$4,$R$4,AR97) -> 0 | S97: =SUMIF($AQ$4:$BC$4,$S$4,AS97) -> 0 | T97: =SUMIF($AQ$4:$BC$4,$T$4,AT97) -> 0 | U97: =SUMIF($AQ$4:$BC$4,$U$4,AS97) -> 0 | V97: =SUMIF($AQ$4:$BC$4,$V$4,AR97) -> 0 | W97: =SUMIF($AQ$4:$BC$4,$W$4,AQ97) -> 0 | X97: ='EQ Buffet & Table Top'!X97 -> 0 | Y97: ='EQ Buffet & Table Top'!Y97 -> 0 | Z97: ='EQ Buffet & Table Top'!Z97 -> 0 | AA97: ='EQ Buffet & Table Top'!AA97 -> 0 | AB97: ='EQ Buffet & Table Top'!AB97 -> 0 | AC97: ='EQ Buffet & Table Top'!AC97 -> 0 | AD97: ='EQ Buffet & Table Top'!AD97 -> 0 | AE97: ='EQ Buffet & Table Top'!AD97 -> 0 | AF97: ='EQ Buffet & Table Top'!AE97 -> 0 | AG97: ='EQ Buffet & Table Top'!#REF! -> #REF! | AH97: ='EQ Buffet & Table Top'!#REF! -> #REF! | AI97: ='EQ Buffet & Table Top'!#REF! -> #REF! | AJ97: ='EQ Buffet & Table Top'!#REF! -> #REF! | AK97: ='EQ Buffet & Table Top'!#REF! -> #REF! | AL97: ='EQ Buffet & Table Top'!#REF! -> #REF! | AM97: ='EQ Buffet & Table Top'!#REF! -> #REF! | AN97: ='EQ Buffet & Table Top'!#REF! -> #REF! | AQ97: =SUM('EQ Buffet & Table Top'!AH97:AN97) -> 0 | AR97: ='EQ Buffet & Table Top'!DL97 -> 0 | AS97: ='EQ Buffet & Table Top'!DM97 -> 0 | AT97: ='EQ Buffet & Table Top'!DN97 -> 0 | AU97: ='EQ Buffet & Table Top'!DO97 -> 0 | AV97: ='EQ Buffet & Table Top'!DP97 -> 0 | AW97: ='EQ Buffet & Table Top'!DQ97 -> 0 | AX97: ='EQ Buffet & Table Top'!DR97 -> 0 | AY97: ='EQ Buffet & Table Top'!DS97 -> 0 | ... BB97: ='EQ Buffet & Table Top'!DV97 -> 0 | BC97: ='EQ Buffet & Table Top'!DY97 -> 0
B98: 89 | C98: ='EQ Buffet & Table Top'!C98 -> Assiette Imagine - Imagine plate | E98: ='EQ Buffet & Table Top'!E98 -> 0 | F98: ='EQ Buffet & Table Top'!F98 -> 0 | G98: ='EQ Buffet & Table Top'!G98 -> 0 | H98: ='EQ Buffet & Table Top'!H98 -> 0 | I98: ='EQ Buffet & Table Top'!I98 -> Size: 110x110mm Höhe: 15mm | J98: ='EQ Buffet & Table Top'!J98 -> VF42000 | L98: =SUM(N98:AN98) -> #REF! | N98: ='EQ Buffet & Table Top'!N98 -> 0 | O98: ='EQ Buffet & Table Top'!O98 -> 0 | Q98: =SUMIF($AQ$4:$BC$4,$Q$4,AQ98) -> 0 | R98: =SUMIF($AQ$4:$BC$4,$R$4,AR98) -> 0 | S98: =SUMIF($AQ$4:$BC$4,$S$4,AS98) -> 0 | T98: =SUMIF($AQ$4:$BC$4,$T$4,AT98) -> 0 | U98: =SUMIF($AQ$4:$BC$4,$U$4,AS98) -> 0 | V98: =SUMIF($AQ$4:$BC$4,$V$4,AR98) -> 0 | W98: =SUMIF($AQ$4:$BC$4,$W$4,AQ98) -> 0 | X98: ='EQ Buffet & Table Top'!X98 -> 0 | Y98: ='EQ Buffet & Table Top'!Y98 -> 0 | Z98: ='EQ Buffet & Table Top'!Z98 -> 0 | AA98: ='EQ Buffet & Table Top'!AA98 -> 0 | AB98: ='EQ Buffet & Table Top'!AB98 -> 0 | AC98: ='EQ Buffet & Table Top'!AC98 -> 0 | AD98: ='EQ Buffet & Table Top'!AD98 -> 0 | AE98: ='EQ Buffet & Table Top'!AD98 -> 0 | AF98: ='EQ Buffet & Table Top'!AE98 -> 0 | AG98: ='EQ Buffet & Table Top'!#REF! -> #REF! | AH98: ='EQ Buffet & Table Top'!#REF! -> #REF! | AI98: ='EQ Buffet & Table Top'!#REF! -> #REF! | AJ98: ='EQ Buffet & Table Top'!#REF! -> #REF! | AK98: ='EQ Buffet & Table Top'!#REF! -> #REF! | AL98: ='EQ Buffet & Table Top'!#REF! -> #REF! | AM98: ='EQ Buffet & Table Top'!#REF! -> #REF! | AN98: ='EQ Buffet & Table Top'!#REF! -> #REF! | AQ98: =SUM('EQ Buffet & Table Top'!AH98:AN98) -> 0 | AR98: ='EQ Buffet & Table Top'!DL98 -> 0 | AS98: ='EQ Buffet & Table Top'!DM98 -> 0 | AT98: ='EQ Buffet & Table Top'!DN98 -> 0 | AU98: ='EQ Buffet & Table Top'!DO98 -> 0 | AV98: ='EQ Buffet & Table Top'!DP98 -> 0 | AW98: ='EQ Buffet & Table Top'!DQ98 -> 0 | AX98: ='EQ Buffet & Table Top'!DR98 -> 0 | AY98: ='EQ Buffet & Table Top'!DS98 -> 0 | ... BB98: ='EQ Buffet & Table Top'!DV98 -> 0 | BC98: ='EQ Buffet & Table Top'!DY98 -> 0
B99: 90 | C99: ='EQ Buffet & Table Top'!C99 -> Assiette Imagine - Imagine plate 200 x 200mm | E99: ='EQ Buffet & Table Top'!E99 -> 0 | F99: ='EQ Buffet & Table Top'!F99 -> 0 | G99: ='EQ Buffet & Table Top'!G99 -> 0 | H99: ='EQ Buffet & Table Top'!H99 -> 0 | I99: ='EQ Buffet & Table Top'!I99 -> Assiette Imagine - Imagine plate 200 x 200mm | J99: ='EQ Buffet & Table Top'!J99 -> VF42020 | L99: =SUM(N99:AN99) -> #REF! | N99: ='EQ Buffet & Table Top'!N99 -> 0 | O99: ='EQ Buffet & Table Top'!O99 -> 0 | Q99: =SUMIF($AQ$4:$BC$4,$Q$4,AQ99) -> 0 | R99: =SUMIF($AQ$4:$BC$4,$R$4,AR99) -> 0 | S99: =SUMIF($AQ$4:$BC$4,$S$4,AS99) -> 0 | T99: =SUMIF($AQ$4:$BC$4,$T$4,AT99) -> 0 | U99: =SUMIF($AQ$4:$BC$4,$U$4,AS99) -> 0 | V99: =SUMIF($AQ$4:$BC$4,$V$4,AR99) -> 0 | W99: =SUMIF($AQ$4:$BC$4,$W$4,AQ99) -> 0 | X99: ='EQ Buffet & Table Top'!X99 -> 0 | Y99: ='EQ Buffet & Table Top'!Y99 -> 0 | Z99: ='EQ Buffet & Table Top'!Z99 -> 0 | AA99: ='EQ Buffet & Table Top'!AA99 -> 0 | AB99: ='EQ Buffet & Table Top'!AB99 -> 0 | AC99: ='EQ Buffet & Table Top'!AC99 -> 0 | AD99: ='EQ Buffet & Table Top'!AD99 -> 0 | AE99: ='EQ Buffet & Table Top'!AD99 -> 0 | AF99: ='EQ Buffet & Table Top'!AE99 -> 0 | AG99: ='EQ Buffet & Table Top'!#REF! -> #REF! | AH99: ='EQ Buffet & Table Top'!#REF! -> #REF! | AI99: ='EQ Buffet & Table Top'!#REF! -> #REF! | AJ99: ='EQ Buffet & Table Top'!#REF! -> #REF! | AK99: ='EQ Buffet & Table Top'!#REF! -> #REF! | AL99: ='EQ Buffet & Table Top'!#REF! -> #REF! | AM99: ='EQ Buffet & Table Top'!#REF! -> #REF! | AN99: ='EQ Buffet & Table Top'!#REF! -> #REF! | AQ99: =SUM('EQ Buffet & Table Top'!AH99:AN99) -> 0 | AR99: ='EQ Buffet & Table Top'!DL99 -> 0 | AS99: ='EQ Buffet & Table Top'!DM99 -> 0 | AT99: ='EQ Buffet & Table Top'!DN99 -> 0 | AU99: ='EQ Buffet & Table Top'!DO99 -> 0 | AV99: ='EQ Buffet & Table Top'!DP99 -> 0 | AW99: ='EQ Buffet & Table Top'!DQ99 -> 0 | AX99: ='EQ Buffet & Table Top'!DR99 -> 0 | AY99: ='EQ Buffet & Table Top'!DS99 -> 0 | ... BB99: ='EQ Buffet & Table Top'!DV99 -> 0 | BC99: ='EQ Buffet & Table Top'!DY99 -> 0
B100: 91 | C100: ='EQ Buffet & Table Top'!C100 -> Assiette Imagine - Imagine plate 200 x 90mm | E100: ='EQ Buffet & Table Top'!E100 -> 0 | F100: ='EQ Buffet & Table Top'!F100 -> 0 | G100: ='EQ Buffet & Table Top'!G100 -> 0 | H100: ='EQ Buffet & Table Top'!H100 -> 0 | I100: ='EQ Buffet & Table Top'!I100 -> "Size: 200 x 90mm Höhe: 15mm" | J100: ='EQ Buffet & Table Top'!J100 -> VF42050 | L100: =SUM(N100:AN100) -> #REF! | N100: ='EQ Buffet & Table Top'!N100 -> 0 | O100: ='EQ Buffet & Table Top'!O100 -> 0 | Q100: =SUMIF($AQ$4:$BC$4,$Q$4,AQ100) -> 0 | R100: =SUMIF($AQ$4:$BC$4,$R$4,AR100) -> 0 | S100: =SUMIF($AQ$4:$BC$4,$S$4,AS100) -> 0 | T100: =SUMIF($AQ$4:$BC$4,$T$4,AT100) -> 0 | U100: =SUMIF($AQ$4:$BC$4,$U$4,AS100) -> 0 | V100: =SUMIF($AQ$4:$BC$4,$V$4,AR100) -> 0 | W100: =SUMIF($AQ$4:$BC$4,$W$4,AQ100) -> 0 | X100: ='EQ Buffet & Table Top'!X100 -> 0 | Y100: ='EQ Buffet & Table Top'!Y100 -> 0 | Z100: ='EQ Buffet & Table Top'!Z100 -> 0 | AA100: ='EQ Buffet & Table Top'!AA100 -> 0 | AB100: ='EQ Buffet & Table Top'!AB100 -> 0 | AC100: ='EQ Buffet & Table Top'!AC100 -> 0 | AD100: ='EQ Buffet & Table Top'!AD100 -> 0 | AE100: ='EQ Buffet & Table Top'!AD100 -> 0 | AF100: ='EQ Buffet & Table Top'!AE100 -> 0 | AG100: ='EQ Buffet & Table Top'!#REF! -> #REF! | AH100: ='EQ Buffet & Table Top'!#REF! -> #REF! | AI100: ='EQ Buffet & Table Top'!#REF! -> #REF! | AJ100: ='EQ Buffet & Table Top'!#REF! -> #REF! | AK100: ='EQ Buffet & Table Top'!#REF! -> #REF! | AL100: ='EQ Buffet & Table Top'!#REF! -> #REF! | AM100: ='EQ Buffet & Table Top'!#REF! -> #REF! | AN100: ='EQ Buffet & Table Top'!#REF! -> #REF! | AQ100: =SUM('EQ Buffet & Table Top'!AH100:AN100) -> 0 | AR100: ='EQ Buffet & Table Top'!DL100 -> 0 | AS100: ='EQ Buffet & Table Top'!DM100 -> 0 | AT100: ='EQ Buffet & Table Top'!DN100 -> 0 | AU100: ='EQ Buffet & Table Top'!DO100 -> 0 | AV100: ='EQ Buffet & Table Top'!DP100 -> 0 | AW100: ='EQ Buffet & Table Top'!DQ100 -> 0 | AX100: ='EQ Buffet & Table Top'!DR100 -> 0 | AY100: ='EQ Buffet & Table Top'!DS100 -> 0 | ... BB100: ='EQ Buffet & Table Top'!DV100 -> 0 | BC100: ='EQ Buffet & Table Top'!DY100 -> 0
... B108: 99 | C108: ='EQ Buffet & Table Top'!C108 -> Assiette "Accueil" Accueil plate | E108: ='EQ Buffet & Table Top'!E108 -> 0 | F108: ='EQ Buffet & Table Top'!F108 -> 0 | G108: ='EQ Buffet & Table Top'!G108 -> 0 | H108: ='EQ Buffet & Table Top'!H108 -> 0 | I108: ='EQ Buffet & Table Top'!I108 -> H38 Ø230 | J108: ='EQ Buffet & Table Top'!J108 -> VF40521 | L108: =SUM(N108:AN108) -> #REF! | N108: ='EQ Buffet & Table Top'!N108 -> 0 | O108: ='EQ Buffet & Table Top'!O108 -> 0 | Q108: =SUMIF($AQ$4:$BC$4,$Q$4,AQ108) -> 0 | R108: =SUMIF($AQ$4:$BC$4,$R$4,AR108) -> 0 | S108: =SUMIF($AQ$4:$BC$4,$S$4,AS108) -> 0 | T108: =SUMIF($AQ$4:$BC$4,$T$4,AT108) -> 0 | U108: =SUMIF($AQ$4:$BC$4,$U$4,AS108) -> 0 | V108: =SUMIF($AQ$4:$BC$4,$V$4,AR108) -> 0 | W108: =SUMIF($AQ$4:$BC$4,$W$4,AQ108) -> 0 | X108: ='EQ Buffet & Table Top'!X108 -> 0 | Y108: ='EQ Buffet & Table Top'!Y108 -> 0 | Z108: ='EQ Buffet & Table Top'!Z108 -> 0 | AA108: ='EQ Buffet & Table Top'!AA108 -> 0 | AB108: ='EQ Buffet & Table Top'!AB108 -> 0 | AC108: ='EQ Buffet & Table Top'!AC108 -> 0 | AD108: ='EQ Buffet & Table Top'!AD108 -> 0 | AE108: ='EQ Buffet & Table Top'!AD108 -> 0 | AF108: ='EQ Buffet & Table Top'!AE108 -> 0 | AG108: ='EQ Buffet & Table Top'!#REF! -> #REF! | AH108: ='EQ Buffet & Table Top'!#REF! -> #REF! | AI108: ='EQ Buffet & Table Top'!#REF! -> #REF! | AJ108: ='EQ Buffet & Table Top'!#REF! -> #REF! | AK108: ='EQ Buffet & Table Top'!#REF! -> #REF! | AL108: ='EQ Buffet & Table Top'!#REF! -> #REF! | AM108: ='EQ Buffet & Table Top'!#REF! -> #REF! | AN108: ='EQ Buffet & Table Top'!#REF! -> #REF! | AQ108: =SUM('EQ Buffet & Table Top'!AH108:AN108) -> 0 | AR108: ='EQ Buffet & Table Top'!DL108 -> 0 | AS108: ='EQ Buffet & Table Top'!DM108 -> 0 | AT108: ='EQ Buffet & Table Top'!DN108 -> 0 | AU108: ='EQ Buffet & Table Top'!DO108 -> 0 | AV108: ='EQ Buffet & Table Top'!DP108 -> 0 | AW108: ='EQ Buffet & Table Top'!DQ108 -> 0 | AX108: ='EQ Buffet & Table Top'!DR108 -> 0 | AY108: ='EQ Buffet & Table Top'!DS108 -> 0 | ... BB108: ='EQ Buffet & Table Top'!DV108 -> 0 | BC108: ='EQ Buffet & Table Top'!DY108 -> 0
C109: ='EQ Buffet & Table Top'!C109 -> EQ LIVE COOKING BUFFET | L109: =L2 -> Qty total | N109: =N2 -> Press Cafe Ebene 0 | P109: =P2 -> Hauptküche Ebene 1 | Q109: =Q4 -> Buffet U Shape | R109: =R4 -> Buffet I Shape 1 | S109: =S4 -> Buffet I Shape I2 | T109: =T4 -> F & B I Shape I3 | U109: =U4 -> Buffet I Shape I2 | V109: =V4 -> Buffet I Shape 1 | W109: =W4 -> Buffet U Shape | Y109: =Y2 -> Buffet 2.1. I Shape | Z109: =Z2 -> Buffet 2.2. I Shape | AA109: =AA2 -> Buffet 2.3.1. I Shape | AB109: =AB2 -> Buffet 2.3.2 I Shape | AC109: =AC2 -> Buffet 2.3. I Shape | AD109: =AD2 -> Buffet 2.4. I Shape | AE109: =AE2 -> Relais Küche Eben 2 | AG109: =AG2 -> Relais Küche Ebene 3 | AH109: =AH2 -> Buffet 3.1. I Shape | AI109: =AI2 -> Buffet 3.2. I Shape | AJ109: =AJ2 -> Buffet 3.3. Live Cooking Table | AL109: =AL2 -> Logen Eben 2 & 3 | AN109: =AN2 -> Adler Viktoria Ebene 3 | AQ109: =AQ4 -> Buffet U Shape | AR109: =AR4 -> Buffet I Shape 1 | AS109: =AS4 -> Buffet I Shape I2 | AT109: =AT4 -> F & B I Shape I3 | AU109: =AU4 -> Buffet I Shape I4 | AV109: =AV4 -> Buffet I Shape I5 | AW109: =AW4 -> 0 | AX109: =AX4 -> 0 | ... BC109: =BC4 -> Buffet L Shape E2_2 Bar & Buffet
Q110: =SUM(Q112*$G$112)+(Q113*$G$113)+(Q114*$G$114)+(Q115*$G$115)+(Q116*$G$116)+(Q117*$G$117)+(Q118*$G$118)+(Q119*$G$119)+(Q120*$G$120)+(Q121*$G$121)+(Q122*$G$122)+(Q123*$G$123)+(Q124*$G$124)+(Q125*$G$125) -> 26.78 | R110: =SUM(R112*$G$112)+(R113*$G$113)+(R114*$G$114)+(R115*$G$115)+(R116*$G$116)+(R117*$G$117)+(R118*$G$118)+(R119*$G$119)+(R120*$G$120)+(R121*$G$121)+(R122*$G$122)+(R123*$G$123)+(R124*$G$124)+(R125*$G$125) -> 29.48 | S110: =SUM(S112*$G$112)+(S113*$G$113)+(S114*$G$114)+(S115*$G$115)+(S116*$G$116)+(S117*$G$117)+(S118*$G$118)+(S119*$G$119)+(S120*$G$120)+(S121*$G$121)+(S122*$G$122)+(S123*$G$123)+(S124*$G$124)+(S125*$G$125) -> 12.68 | T110: =SUM(T112*$G$112)+(T113*$G$113)+(T114*$G$114)+(T115*$G$115)+(T116*$G$116)+(T117*$G$117)+(T118*$G$118)+(T119*$G$119)+(T120*$G$120)+(T121*$G$121)+(T122*$G$122)+(T123*$G$123)+(T124*$G$124)+(T125*$G$125) -> 8.98 | U110: =SUM(U112*$G$112)+(U113*$G$113)+(U114*$G$114)+(U115*$G$115)+(U116*$G$116)+(U117*$G$117)+(U118*$G$118)+(U119*$G$119)+(U120*$G$120)+(U121*$G$121)+(U122*$G$122)+(U123*$G$123)+(U124*$G$124)+(U125*$G$125) -> 12.68 | V110: =SUM(V112*$G$112)+(V113*$G$113)+(V114*$G$114)+(V115*$G$115)+(V116*$G$116)+(V117*$G$117)+(V118*$G$118)+(V119*$G$119)+(V120*$G$120)+(V121*$G$121)+(V122*$G$122)+(V123*$G$123)+(V124*$G$124)+(V125*$G$125) -> 29.48 | Y110: =SUM(Y112*$G$112)+(Y113*$G$113)+(Y114*$G$114)+(Y115*$G$115)+(Y116*$G$116)+(Y117*$G$117)+(Y118*$G$118)+(Y119*$G$119)+(Y120*$G$120)+(Y121*$G$121)+(Y122*$G$122)+(Y123*$G$123)+(Y124*$G$124)+(Y125*$G$125) -> 9.4 | Z110: =SUM(Z112*$G$112)+(Z113*$G$113)+(Z114*$G$114)+(Z115*$G$115)+(Z116*$G$116)+(Z117*$G$117)+(Z118*$G$118)+(Z119*$G$119)+(Z120*$G$120)+(Z121*$G$121)+(Z122*$G$122)+(Z123*$G$123)+(Z124*$G$124)+(Z125*$G$125) -> 3.66 | AA110: =SUM(AA112*$G$112)+(AA113*$G$113)+(AA114*$G$114)+(AA115*$G$115)+(AA116*$G$116)+(AA117*$G$117)+(AA118*$G$118)+(AA119*$G$119)+(AA120*$G$120)+(AA121*$G$121)+(AA122*$G$122)+(AA123*$G$123)+(AA124*$G$124)+(AA125*$G$125) -> 2.62 | AB110: =SUM(AB112*$G$112)+(AB113*$G$113)+(AB114*$G$114)+(AB115*$G$115)+(AB116*$G$116)+(AB117*$G$117)+(AB118*$G$118)+(AB119*$G$119)+(AB120*$G$120)+(AB121*$G$121)+(AB122*$G$122)+(AB123*$G$123)+(AB124*$G$124)+(AB125*$G$125) -> 0 | AC110: =SUM(AC112*$G$112)+(AC113*$G$113)+(AC114*$G$114)+(AC115*$G$115)+(AC116*$G$116)+(AC117*$G$117)+(AC118*$G$118)+(AC119*$G$119)+(AC120*$G$120)+(AC121*$G$121)+(AC122*$G$122)+(AC123*$G$123)+(AC124*$G$124)+(AC125*$G$125) -> 0 | AD110: =SUM(AD112*$G$112)+(AD113*$G$113)+(AD114*$G$114)+(AD115*$G$115)+(AD116*$G$116)+(AD117*$G$117)+(AD118*$G$118)+(AD119*$G$119)+(AD120*$G$120)+(AD121*$G$121)+(AD122*$G$122)+(AD123*$G$123)+(AD124*$G$124)+(AD125*$G$125) -> 10.96 | AH110: =SUM(AH112*$G$112)+(AH113*$G$113)+(AH114*$G$114)+(AH115*$G$115)+(AH116*$G$116)+(AH117*$G$117)+(AH118*$G$118)+(AH119*$G$119)+(AH120*$G$120)+(AH121*$G$121)+(AH122*$G$122)+(AH123*$G$123)+(AH124*$G$124)+(AH125*$G$125) -> #REF! | AI110: =SUM(AI112*$G$112)+(AI113*$G$113)+(AI114*$G$114)+(AI115*$G$115)+(AI116*$G$116)+(AI117*$G$117)+(AI118*$G$118)+(AI119*$G$119)+(AI120*$G$120)+(AI121*$G$121)+(AI122*$G$122)+(AI123*$G$123)+(AI124*$G$124)+(AI125*$G$125) -> #REF! | AJ110: =SUM(AJ112*$G$112)+(AJ113*$G$113)+(AJ114*$G$114)+(AJ115*$G$115)+(AJ116*$G$116)+(AJ117*$G$117)+(AJ118*$G$118)+(AJ119*$G$119)+(AJ120*$G$120)+(AJ121*$G$121)+(AJ122*$G$122)+(AJ123*$G$123)+(AJ124*$G$124)+(AJ125*$G$125) -> #REF! | AQ110: =SUM('EQ Buffet & Table Top'!AH110:AN110) -> 26.78 | AR110: =SUM('EQ Buffet & Table Top'!AP110:AV110) -> 2.64 | AS110: =SUM('EQ Buffet & Table Top'!AX110:BD110) -> 29.48 | AT110: =SUM('EQ Buffet & Table Top'!BF110:BL110) -> 3.66 | AU110: =SUM('EQ Buffet & Table Top'!BN110:BT110) -> 12.68 | AV110: =SUM('EQ Buffet & Table Top'!BV110:CB110) -> 21.98 | AZ110: =SUM('EQ Buffet & Table Top'!CD110:CJ110) -> 8.98 | BA110: =SUM('EQ Buffet & Table Top'!CL110:CR110) -> 26.18 | BB110: =SUM('EQ Buffet & Table Top'!CT110:CZ110) -> 6.28 | BC110: =SUM('EQ Buffet & Table Top'!DB110:DH110) -> 22.48
B111: # | C111: =$C$5 -> Designation | D111: =$D$5 -> Picture | E111: =$E$5 -> 0 | F111: =$F$5 -> 0 | G111: =$G$5 -> Power (kW) | H111: Price/Unit | I111: =$I$5 -> Size
B112: 100 | C112: ='EQ Buffet & Table Top'!C112 -> Table Top induction Cooker IK 27TC | E112: ='EQ Buffet & Table Top'!E112 -> Maintain sauces hot | F112: ='EQ Buffet & Table Top'!F112 -> https://www.grimm-gastrobedarf.de/bartscher-induktionskocher-ik-27tc_bar-105927.html | G112: ='EQ Buffet & Table Top'!G112 -> 2.7 | H112: ='EQ Buffet & Table Top'!H112 -> 145.18 | I112: ='EQ Buffet & Table Top'!I112 -> W340 × D425 × H75 mm | J112: ='EQ Buffet & Table Top'!J112 -> 0 | L112: =SUM(N112:AN112) -> #REF! | N112: =SUM('EQ Buffet & Table Top'!N112) -> 1 | Q112: =SUMIF($AQ$4:$BC$4,$Q$4,AQ112) -> 3 | R112: =SUMIF($AQ$4:$BC$4,$R$4,AR112) -> 4 | S112: =SUMIF($AQ$4:$BC$4,$S$4,AS112) -> 2 | T112: =SUMIF($AQ$4:$BC$4,$T$4,AT112) -> 2 | U112: =SUMIF($AQ$4:$BC$4,$U$4,AS112) -> 2 | V112: =SUMIF($AQ$4:$BC$4,$V$4,AR112) -> 4 | W112: =SUMIF($AQ$4:$BC$4,$W$4,AQ112) -> 3 | X112: =SUM('EQ Buffet & Table Top'!X112) -> 0 | Y112: =SUM('EQ Buffet & Table Top'!Y112) -> 0 | Z112: =SUM('EQ Buffet & Table Top'!Z112) -> 1 | AA112: =SUM('EQ Buffet & Table Top'!AA112) -> 0 | AB112: =SUM('EQ Buffet & Table Top'!AB112) -> 0 | AC112: =SUM('EQ Buffet & Table Top'!AC112) -> 0 | AD112: =SUM('EQ Buffet & Table Top'!AD112) -> 1 | AE112: =SUM('EQ Buffet & Table Top'!AD112) -> 1 | AF112: =SUM('EQ Buffet & Table Top'!AE112) -> 0 | AG112: =SUM('EQ Buffet & Table Top'!#REF!) -> #REF! | AH112: =SUM('EQ Buffet & Table Top'!#REF!) -> #REF! | AI112: =SUM('EQ Buffet & Table Top'!#REF!) -> #REF! | AJ112: =SUM('EQ Buffet & Table Top'!#REF!) -> #REF! | AK112: =SUM('EQ Buffet & Table Top'!#REF!) -> #REF! | AL112: =SUM('EQ Buffet & Table Top'!#REF!) -> #REF! | AM112: =SUM('EQ Buffet & Table Top'!#REF!) -> #REF! | AN112: =SUM('EQ Buffet & Table Top'!#REF!) -> #REF! | AQ112: ='EQ Buffet & Table Top'!DL112 -> 3 | AR112: ='EQ Buffet & Table Top'!DM112 -> 0 | AS112: ='EQ Buffet & Table Top'!DN112 -> 4 | AT112: ='EQ Buffet & Table Top'!DO112 -> 1 | AU112: ='EQ Buffet & Table Top'!DP112 -> 2 | AV112: ='EQ Buffet & Table Top'!DQ112 -> 2 | AW112: ='EQ Buffet & Table Top'!DR112 -> 2 | AX112: ='EQ Buffet & Table Top'!DS112 -> 3 | ... BA112: ='EQ Buffet & Table Top'!DV112 -> 0 | BB112: ='EQ Buffet & Table Top'!DY112 -> 0 | BC112: ='EQ Buffet & Table Top'!DZ112 -> 0
B113: 101 | C113: ='EQ Buffet & Table Top'!C113 -> Single sink | E113: ='EQ Buffet & Table Top'!E113 -> Hand wash | F113: ='EQ Buffet & Table Top'!F113 -> https://www.grimm-gastrobedarf.de/rieber-handwasch-ausgussbecken-kombination-hak-k-ii_rie-82110152.html | G113: ='EQ Buffet & Table Top'!G113 -> 2 | H113: ='EQ Buffet & Table Top'!H113 -> 485.52 | I113: ='EQ Buffet & Table Top'!I113 -> W450 x D640 x H1250 mm | J113: ='EQ Buffet & Table Top'!J113 -> 0 | L113: =SUM(N113:AN113) -> #REF! | N113: =SUM('EQ Buffet & Table Top'!N113) -> 1 | Q113: =SUMIF($AQ$4:$BC$4,$Q$4,AQ113) -> 1 | R113: =SUMIF($AQ$4:$BC$4,$R$4,AR113) -> 1 | S113: =SUMIF($AQ$4:$BC$4,$S$4,AS113) -> 0 | T113: =SUMIF($AQ$4:$BC$4,$T$4,AT113) -> 0 | U113: =SUMIF($AQ$4:$BC$4,$U$4,AS113) -> 0 | V113: =SUMIF($AQ$4:$BC$4,$V$4,AR113) -> 1 | W113: =SUMIF($AQ$4:$BC$4,$W$4,AQ113) -> 1 | X113: =SUM('EQ Buffet & Table Top'!X113) -> 0 | Y113: =SUM('EQ Buffet & Table Top'!Y113) -> 0 | Z113: =SUM('EQ Buffet & Table Top'!Z113) -> 0 | AA113: =SUM('EQ Buffet & Table Top'!AA113) -> 0 | AB113: =SUM('EQ Buffet & Table Top'!AB113) -> 0 | AC113: =SUM('EQ Buffet & Table Top'!AC113) -> 0 | AD113: =SUM('EQ Buffet & Table Top'!AD113) -> 1 | AE113: =SUM('EQ Buffet & Table Top'!AD113) -> 1 | AF113: =SUM('EQ Buffet & Table Top'!AE113) -> 0 | AG113: =SUM('EQ Buffet & Table Top'!#REF!) -> #REF! | AH113: =SUM('EQ Buffet & Table Top'!#REF!) -> #REF! | AI113: =SUM('EQ Buffet & Table Top'!#REF!) -> #REF! | AJ113: =SUM('EQ Buffet & Table Top'!#REF!) -> #REF! | AK113: =SUM('EQ Buffet & Table Top'!#REF!) -> #REF! | AL113: =SUM('EQ Buffet & Table Top'!#REF!) -> #REF! | AM113: =SUM('EQ Buffet & Table Top'!#REF!) -> #REF! | AN113: =SUM('EQ Buffet & Table Top'!#REF!) -> #REF! | AQ113: ='EQ Buffet & Table Top'!DL113 -> 1 | AR113: ='EQ Buffet & Table Top'!DM113 -> 0 | AS113: ='EQ Buffet & Table Top'!DN113 -> 1 | AT113: ='EQ Buffet & Table Top'!DO113 -> 0 | AU113: ='EQ Buffet & Table Top'!DP113 -> 0 | AV113: ='EQ Buffet & Table Top'!DQ113 -> 1 | AW113: ='EQ Buffet & Table Top'!DR113 -> 0 | AX113: ='EQ Buffet & Table Top'!DS113 -> 1 | ... BA113: ='EQ Buffet & Table Top'!DV113 -> 0 | BB113: ='EQ Buffet & Table Top'!DY113 -> 0 | BC113: ='EQ Buffet & Table Top'!DZ113 -> 0
B114: 102 | C114: ='EQ Buffet & Table Top'!C114 -> refrigator unter table GN 1/1 size | E114: ='EQ Buffet & Table Top'!E114 -> cool storage GN 1/1 optimized | F114: ='EQ Buffet & Table Top'!F114 -> https://www.nordcap.de/produkte/kuehltechnik/kuehlschraenke/gewerbekuehlschraenke/detail/uku-165-i-405216510/ | G114: ='EQ Buffet & Table Top'!G114 -> 0.16 | H114: ='EQ Buffet & Table Top'!H114 -> 982 | I114: ='EQ Buffet & Table Top'!I114 -> W600 x D615 x H830 mm | J114: ='EQ Buffet & Table Top'!J114 -> 0 | L114: =SUM(N114:AN114) -> #REF! | N114: =SUM('EQ Buffet & Table Top'!N114) -> 2 | Q114: =SUMIF($AQ$4:$BC$4,$Q$4,AQ114) -> 4 | R114: =SUMIF($AQ$4:$BC$4,$R$4,AR114) -> 4 | S114: =SUMIF($AQ$4:$BC$4,$S$4,AS114) -> 4 | T114: =SUMIF($AQ$4:$BC$4,$T$4,AT114) -> 4 | U114: =SUMIF($AQ$4:$BC$4,$U$4,AS114) -> 4 | V114: =SUMIF($AQ$4:$BC$4,$V$4,AR114) -> 4 | W114: =SUMIF($AQ$4:$BC$4,$W$4,AQ114) -> 4 | X114: =SUM('EQ Buffet & Table Top'!X114) -> 0 | Y114: =SUM('EQ Buffet & Table Top'!Y114) -> 0 | Z114: =SUM('EQ Buffet & Table Top'!Z114) -> 1 | AA114: =SUM('EQ Buffet & Table Top'!AA114) -> 2 | AB114: =SUM('EQ Buffet & Table Top'!AB114) -> 0 | AC114: =SUM('EQ Buffet & Table Top'!AC114) -> 0 | AD114: =SUM('EQ Buffet & Table Top'!AD114) -> 2 | AE114: =SUM('EQ Buffet & Table Top'!AD114) -> 2 | AF114: =SUM('EQ Buffet & Table Top'!AE114) -> 0 | AG114: =SUM('EQ Buffet & Table Top'!#REF!) -> #REF! | AH114: =SUM('EQ Buffet & Table Top'!#REF!) -> #REF! | AI114: =SUM('EQ Buffet & Table Top'!#REF!) -> #REF! | AJ114: =SUM('EQ Buffet & Table Top'!#REF!) -> #REF! | AK114: =SUM('EQ Buffet & Table Top'!#REF!) -> #REF! | AL114: =SUM('EQ Buffet & Table Top'!#REF!) -> #REF! | AM114: =SUM('EQ Buffet & Table Top'!#REF!) -> #REF! | AN114: =SUM('EQ Buffet & Table Top'!#REF!) -> #REF! | AQ114: ='EQ Buffet & Table Top'!DL114 -> 4 | AR114: ='EQ Buffet & Table Top'!DM114 -> 6 | AS114: ='EQ Buffet & Table Top'!DN114 -> 4 | AT114: ='EQ Buffet & Table Top'!DO114 -> 1 | AU114: ='EQ Buffet & Table Top'!DP114 -> 4 | AV114: ='EQ Buffet & Table Top'!DQ114 -> 4 | AW114: ='EQ Buffet & Table Top'!DR114 -> 4 | AX114: ='EQ Buffet & Table Top'!DS114 -> 2 | ... BA114: ='EQ Buffet & Table Top'!DV114 -> 0 | BB114: ='EQ Buffet & Table Top'!DY114 -> 0 | BC114: ='EQ Buffet & Table Top'!DZ114 -> 0
B115: 103 | C115: ='EQ Buffet & Table Top'!C115 -> Heating Lamp | E115: ='EQ Buffet & Table Top'!E115 -> to hold the food hot | F115: ='EQ Buffet & Table Top'!F115 -> https://www.nordcap.de/produkte/kuehltechnik/kuehlschraenke/gewerbekuehlschraenke/detail/uku-165-i-405216510/ | G115: ='EQ Buffet & Table Top'!G115 -> 0.25 | H115: ='EQ Buffet & Table Top'!H115 -> 264.18 | I115: ='EQ Buffet & Table Top'!I115 -> ⍉ 290 mm | J115: ='EQ Buffet & Table Top'!J115 -> 0 | L115: =SUM(N115:AN115) -> #REF! | N115: =SUM('EQ Buffet & Table Top'!N115) -> 4 | Q115: =SUMIF($AQ$4:$BC$4,$Q$4,AQ115) -> 6 | R115: =SUMIF($AQ$4:$BC$4,$R$4,AR115) -> 6 | S115: =SUMIF($AQ$4:$BC$4,$S$4,AS115) -> 4 | T115: =SUMIF($AQ$4:$BC$4,$T$4,AT115) -> 2 | U115: =SUMIF($AQ$4:$BC$4,$U$4,AS115) -> 4 | V115: =SUMIF($AQ$4:$BC$4,$V$4,AR115) -> 6 | W115: =SUMIF($AQ$4:$BC$4,$W$4,AQ115) -> 6 | X115: =SUM('EQ Buffet & Table Top'!X115) -> 0 | Y115: =SUM('EQ Buffet & Table Top'!Y115) -> 2 | Z115: =SUM('EQ Buffet & Table Top'!Z115) -> 0 | AA115: =SUM('EQ Buffet & Table Top'!AA115) -> 0 | AB115: =SUM('EQ Buffet & Table Top'!AB115) -> 0 | AC115: =SUM('EQ Buffet & Table Top'!AC115) -> 0 | AD115: =SUM('EQ Buffet & Table Top'!AD115) -> 4 | AE115: =SUM('EQ Buffet & Table Top'!AD115) -> 4 | AF115: =SUM('EQ Buffet & Table Top'!AE115) -> 0 | AG115: =SUM('EQ Buffet & Table Top'!#REF!) -> #REF! | AH115: =SUM('EQ Buffet & Table Top'!#REF!) -> #REF! | AI115: =SUM('EQ Buffet & Table Top'!#REF!) -> #REF! | AJ115: =SUM('EQ Buffet & Table Top'!#REF!) -> #REF! | AK115: =SUM('EQ Buffet & Table Top'!#REF!) -> #REF! | AL115: =SUM('EQ Buffet & Table Top'!#REF!) -> #REF! | AM115: =SUM('EQ Buffet & Table Top'!#REF!) -> #REF! | AN115: =SUM('EQ Buffet & Table Top'!#REF!) -> #REF! | AQ115: ='EQ Buffet & Table Top'!DL115 -> 6 | AR115: ='EQ Buffet & Table Top'!DM115 -> 0 | AS115: ='EQ Buffet & Table Top'!DN115 -> 6 | AT115: ='EQ Buffet & Table Top'!DO115 -> 0 | AU115: ='EQ Buffet & Table Top'!DP115 -> 4 | AV115: ='EQ Buffet & Table Top'!DQ115 -> 4 | AW115: ='EQ Buffet & Table Top'!DR115 -> 2 | AX115: ='EQ Buffet & Table Top'!DS115 -> 6 | ... BA115: ='EQ Buffet & Table Top'!DV115 -> 0 | BB115: ='EQ Buffet & Table Top'!DY115 -> 0 | BC115: ='EQ Buffet & Table Top'!DZ115 -> 0
B116: 104 | C116: ='EQ Buffet & Table Top'!C116 -> Contact cooling plate | E116: ='EQ Buffet & Table Top'!E116 -> to cool the food | F116: ='EQ Buffet & Table Top'!F116 -> https://www.hagola.de/gastro-produkte-gastronomie/wannen-gastronomie/kontakt-kuehlplatte-gastronomie | G116: ='EQ Buffet & Table Top'!G116 -> 0.14 | H116: ='EQ Buffet & Table Top'!H116 -> 1779.2 | I116: ='EQ Buffet & Table Top'!I116 -> W670 x D530 x H42 mm | J116: ='EQ Buffet & Table Top'!J116 -> 0 | L116: =SUM(N116:AN116) -> #REF! | N116: =SUM('EQ Buffet & Table Top'!N116) -> 0 | Q116: =SUMIF($AQ$4:$BC$4,$Q$4,AQ116) -> 2 | R116: =SUMIF($AQ$4:$BC$4,$R$4,AR116) -> 2 | S116: =SUMIF($AQ$4:$BC$4,$S$4,AS116) -> 2 | T116: =SUMIF($AQ$4:$BC$4,$T$4,AT116) -> 2 | U116: =SUMIF($AQ$4:$BC$4,$U$4,AS116) -> 2 | V116: =SUMIF($AQ$4:$BC$4,$V$4,AR116) -> 2 | W116: =SUMIF($AQ$4:$BC$4,$W$4,AQ116) -> 2 | X116: =SUM('EQ Buffet & Table Top'!X116) -> 0 | Y116: =SUM('EQ Buffet & Table Top'!Y116) -> 0 | Z116: =SUM('EQ Buffet & Table Top'!Z116) -> 0 | AA116: =SUM('EQ Buffet & Table Top'!AA116) -> 0 | AB116: =SUM('EQ Buffet & Table Top'!AB116) -> 0 | AC116: =SUM('EQ Buffet & Table Top'!AC116) -> 0 | AD116: =SUM('EQ Buffet & Table Top'!AD116) -> 0 | AE116: =SUM('EQ Buffet & Table Top'!AD116) -> 0 | AF116: =SUM('EQ Buffet & Table Top'!AE116) -> 0 | AG116: =SUM('EQ Buffet & Table Top'!#REF!) -> #REF! | AH116: =SUM('EQ Buffet & Table Top'!#REF!) -> #REF! | AI116: =SUM('EQ Buffet & Table Top'!#REF!) -> #REF! | AJ116: =SUM('EQ Buffet & Table Top'!#REF!) -> #REF! | AK116: =SUM('EQ Buffet & Table Top'!#REF!) -> #REF! | AL116: =SUM('EQ Buffet & Table Top'!#REF!) -> #REF! | AM116: =SUM('EQ Buffet & Table Top'!#REF!) -> #REF! | AN116: =SUM('EQ Buffet & Table Top'!#REF!) -> #REF! | AQ116: ='EQ Buffet & Table Top'!DL116 -> 2 | AR116: ='EQ Buffet & Table Top'!DM116 -> 6 | AS116: ='EQ Buffet & Table Top'!DN116 -> 2 | AT116: ='EQ Buffet & Table Top'!DO116 -> 0 | AU116: ='EQ Buffet & Table Top'!DP116 -> 2 | AV116: ='EQ Buffet & Table Top'!DQ116 -> 2 | AW116: ='EQ Buffet & Table Top'!DR116 -> 2 | AX116: ='EQ Buffet & Table Top'!DS116 -> 2 | ... BA116: ='EQ Buffet & Table Top'!DV116 -> 0 | BB116: ='EQ Buffet & Table Top'!DY116 -> 0 | BC116: ='EQ Buffet & Table Top'!DZ116 -> 0
B117: 105 | C117: ='EQ Buffet & Table Top'!C117 -> Contact cooling plate Scholl CPZ 660 | E117: ='EQ Buffet & Table Top'!E117 -> to cool the food | F117: ='EQ Buffet & Table Top'!F117 -> https://www.scholl-gastro.de/de/kalt-warm-platten-einbaugeräte-0 | G117: ='EQ Buffet & Table Top'!G117 -> 0.14 | H117: ='EQ Buffet & Table Top'!H117 -> 3594 | I117: ='EQ Buffet & Table Top'!I117 -> W660 x D 530 x H140 mm | J117: ='EQ Buffet & Table Top'!J117 -> 0 | L117: =SUM(N117:AN117) -> #REF! | N117: =SUM('EQ Buffet & Table Top'!N117) -> 1 | Q117: =SUMIF($AQ$4:$BC$4,$Q$4,AQ117) -> 4 | R117: =SUMIF($AQ$4:$BC$4,$R$4,AR117) -> 4 | S117: =SUMIF($AQ$4:$BC$4,$S$4,AS117) -> 4 | T117: =SUMIF($AQ$4:$BC$4,$T$4,AT117) -> 4 | U117: =SUMIF($AQ$4:$BC$4,$U$4,AS117) -> 4 | V117: =SUMIF($AQ$4:$BC$4,$V$4,AR117) -> 4 | W117: =SUMIF($AQ$4:$BC$4,$W$4,AQ117) -> 4 | X117: =SUM('EQ Buffet & Table Top'!X117) -> 0 | Y117: =SUM('EQ Buffet & Table Top'!Y117) -> 0 | Z117: =SUM('EQ Buffet & Table Top'!Z117) -> 0 | AA117: =SUM('EQ Buffet & Table Top'!AA117) -> 0 | AB117: =SUM('EQ Buffet & Table Top'!AB117) -> 0 | AC117: =SUM('EQ Buffet & Table Top'!AC117) -> 0 | AD117: =SUM('EQ Buffet & Table Top'!AD117) -> 1 | AE117: =SUM('EQ Buffet & Table Top'!AD117) -> 1 | AF117: =SUM('EQ Buffet & Table Top'!AE117) -> 0 | AG117: =SUM('EQ Buffet & Table Top'!#REF!) -> #REF! | AH117: =SUM('EQ Buffet & Table Top'!#REF!) -> #REF! | AI117: =SUM('EQ Buffet & Table Top'!#REF!) -> #REF! | AJ117: =SUM('EQ Buffet & Table Top'!#REF!) -> #REF! | AK117: =SUM('EQ Buffet & Table Top'!#REF!) -> #REF! | AL117: =SUM('EQ Buffet & Table Top'!#REF!) -> #REF! | AM117: =SUM('EQ Buffet & Table Top'!#REF!) -> #REF! | AN117: =SUM('EQ Buffet & Table Top'!#REF!) -> #REF! | AQ117: ='EQ Buffet & Table Top'!DL117 -> 4 | AR117: ='EQ Buffet & Table Top'!DM117 -> 6 | AS117: ='EQ Buffet & Table Top'!DN117 -> 4 | AT117: ='EQ Buffet & Table Top'!DO117 -> 0 | AU117: ='EQ Buffet & Table Top'!DP117 -> 4 | AV117: ='EQ Buffet & Table Top'!DQ117 -> 4 | AW117: ='EQ Buffet & Table Top'!DR117 -> 4 | AX117: ='EQ Buffet & Table Top'!DS117 -> 2 | ... BA117: ='EQ Buffet & Table Top'!DV117 -> 0 | BB117: ='EQ Buffet & Table Top'!DY117 -> 0 | BC117: ='EQ Buffet & Table Top'!DZ117 -> 0
B118: 106 | C118: ='EQ Buffet & Table Top'!C118 -> K Pot 1/1 800 black | E118: ='EQ Buffet & Table Top'!E118 -> Rieber K Pot | F118: ='EQ Buffet & Table Top'!F118 -> http://www2.rieber.de/produkte/item/warmhaltegeraete/product/k-pot-11-550/article/k-pot-11-550-schwarz/level/4/controller/Frontend/action/detail/path/44,17,11,2/?type=personne physique%27a=0&cHash=03dad94ee97b39ba1d4d099bc8f772d1 | G118: ='EQ Buffet & Table Top'!G118 -> 0.8 | H118: ='EQ Buffet & Table Top'!H118 -> 570.01 | I118: ='EQ Buffet & Table Top'!I118 -> W533 x D380 x H88 mm | J118: ='EQ Buffet & Table Top'!J118 -> 0 | L118: =SUM(N118:AN118) -> #REF! | N118: =SUM('EQ Buffet & Table Top'!N118) -> 4 | Q118: =SUMIF($AQ$4:$BC$4,$Q$4,AQ118) -> 6 | R118: =SUMIF($AQ$4:$BC$4,$R$4,AR118) -> 6 | S118: =SUMIF($AQ$4:$BC$4,$S$4,AS118) -> 4 | T118: =SUMIF($AQ$4:$BC$4,$T$4,AT118) -> 1 | U118: =SUMIF($AQ$4:$BC$4,$U$4,AS118) -> 4 | V118: =SUMIF($AQ$4:$BC$4,$V$4,AR118) -> 6 | W118: =SUMIF($AQ$4:$BC$4,$W$4,AQ118) -> 6 | X118: =SUM('EQ Buffet & Table Top'!X118) -> 0 | Y118: =SUM('EQ Buffet & Table Top'!Y118) -> 2 | Z118: =SUM('EQ Buffet & Table Top'!Z118) -> 1 | AA118: =SUM('EQ Buffet & Table Top'!AA118) -> 0 | AB118: =SUM('EQ Buffet & Table Top'!AB118) -> 0 | AC118: =SUM('EQ Buffet & Table Top'!AC118) -> 0 | AD118: =SUM('EQ Buffet & Table Top'!AD118) -> 4 | AE118: =SUM('EQ Buffet & Table Top'!AD118) -> 4 | AF118: =SUM('EQ Buffet & Table Top'!AE118) -> 0 | AG118: =SUM('EQ Buffet & Table Top'!#REF!) -> #REF! | AH118: =SUM('EQ Buffet & Table Top'!#REF!) -> #REF! | AI118: =SUM('EQ Buffet & Table Top'!#REF!) -> #REF! | AJ118: =SUM('EQ Buffet & Table Top'!#REF!) -> #REF! | AK118: =SUM('EQ Buffet & Table Top'!#REF!) -> #REF! | AL118: =SUM('EQ Buffet & Table Top'!#REF!) -> #REF! | AM118: =SUM('EQ Buffet & Table Top'!#REF!) -> #REF! | AN118: =SUM('EQ Buffet & Table Top'!#REF!) -> #REF! | AQ118: ='EQ Buffet & Table Top'!DL118 -> 6 | AR118: ='EQ Buffet & Table Top'!DM118 -> 0 | AS118: ='EQ Buffet & Table Top'!DN118 -> 6 | AT118: ='EQ Buffet & Table Top'!DO118 -> 1 | AU118: ='EQ Buffet & Table Top'!DP118 -> 4 | AV118: ='EQ Buffet & Table Top'!DQ118 -> 5 | AW118: ='EQ Buffet & Table Top'!DR118 -> 1 | AX118: ='EQ Buffet & Table Top'!DS118 -> 6 | ... BA118: ='EQ Buffet & Table Top'!DV118 -> 0 | BB118: ='EQ Buffet & Table Top'!DY118 -> 0 | BC118: ='EQ Buffet & Table Top'!DZ118 -> 0
B119: 107 | C119: ='EQ Buffet & Table Top'!C119 -> Lid for thermoplate GN 1/1 silver | E119: ='EQ Buffet & Table Top'!E119 -> Rieber K Pot Lid | F119: ='EQ Buffet & Table Top'!F119 -> https://www.grimm-gastrobedarf.de/rieber-gn-deckel-gn-1-1_rie-84012131.html | G119: ='EQ Buffet & Table Top'!G119 -> 0 | H119: ='EQ Buffet & Table Top'!H119 -> 55.93 | I119: ='EQ Buffet & Table Top'!I119 -> 0 | J119: ='EQ Buffet & Table Top'!J119 -> 0 | L119: =SUM(N119:AN119) -> #REF! | N119: =SUM('EQ Buffet & Table Top'!N119) -> 4 | Q119: =SUMIF($AQ$4:$BC$4,$Q$4,AQ119) -> 6 | R119: =SUMIF($AQ$4:$BC$4,$R$4,AR119) -> 6 | S119: =SUMIF($AQ$4:$BC$4,$S$4,AS119) -> 4 | T119: =SUMIF($AQ$4:$BC$4,$T$4,AT119) -> 1 | U119: =SUMIF($AQ$4:$BC$4,$U$4,AS119) -> 4 | V119: =SUMIF($AQ$4:$BC$4,$V$4,AR119) -> 6 | W119: =SUMIF($AQ$4:$BC$4,$W$4,AQ119) -> 6 | X119: =SUM('EQ Buffet & Table Top'!X119) -> 0 | Y119: =SUM('EQ Buffet & Table Top'!Y119) -> 2 | Z119: =SUM('EQ Buffet & Table Top'!Z119) -> 1 | AA119: =SUM('EQ Buffet & Table Top'!AA119) -> 0 | AB119: =SUM('EQ Buffet & Table Top'!AB119) -> 0 | AC119: =SUM('EQ Buffet & Table Top'!AC119) -> 0 | AD119: =SUM('EQ Buffet & Table Top'!AD119) -> 4 | AE119: =SUM('EQ Buffet & Table Top'!AD119) -> 4 | AF119: =SUM('EQ Buffet & Table Top'!AE119) -> 0 | AG119: =SUM('EQ Buffet & Table Top'!#REF!) -> #REF! | AH119: =SUM('EQ Buffet & Table Top'!#REF!) -> #REF! | AI119: =SUM('EQ Buffet & Table Top'!#REF!) -> #REF! | AJ119: =SUM('EQ Buffet & Table Top'!#REF!) -> #REF! | AK119: =SUM('EQ Buffet & Table Top'!#REF!) -> #REF! | AL119: =SUM('EQ Buffet & Table Top'!#REF!) -> #REF! | AM119: =SUM('EQ Buffet & Table Top'!#REF!) -> #REF! | AN119: =SUM('EQ Buffet & Table Top'!#REF!) -> #REF! | AQ119: ='EQ Buffet & Table Top'!DL119 -> 6 | AR119: ='EQ Buffet & Table Top'!DM119 -> 0 | AS119: ='EQ Buffet & Table Top'!DN119 -> 6 | AT119: ='EQ Buffet & Table Top'!DO119 -> 1 | AU119: ='EQ Buffet & Table Top'!DP119 -> 4 | AV119: ='EQ Buffet & Table Top'!DQ119 -> 5 | AW119: ='EQ Buffet & Table Top'!DR119 -> 1 | AX119: ='EQ Buffet & Table Top'!DS119 -> 6 | ... BA119: ='EQ Buffet & Table Top'!DV119 -> 0 | BB119: ='EQ Buffet & Table Top'!DY119 -> 0 | BC119: ='EQ Buffet & Table Top'!DZ119 -> 0
B120: 108 | C120: ='EQ Buffet & Table Top'!C120 -> thermoplate GN 1/1 65 mm | E120: ='EQ Buffet & Table Top'!E120 -> Rieber Thermopkate | F120: ='EQ Buffet & Table Top'!F120 -> https://www.grimm-gastrobedarf.de/rieber-thermoplate-1-1-gn-65-mm_rie-84010861.html | G120: ='EQ Buffet & Table Top'!G120 -> 0 | H120: ='EQ Buffet & Table Top'!H120 -> 199.92 | I120: ='EQ Buffet & Table Top'!I120 -> 0 | J120: ='EQ Buffet & Table Top'!J120 -> 0 | L120: =SUM(N120:AN120) -> #REF! | N120: =SUM('EQ Buffet & Table Top'!N120) -> 8 | Q120: =SUMIF($AQ$4:$BC$4,$Q$4,AQ120) -> 12 | R120: =SUMIF($AQ$4:$BC$4,$R$4,AR120) -> 12 | S120: =SUMIF($AQ$4:$BC$4,$S$4,AS120) -> 8 | T120: =SUMIF($AQ$4:$BC$4,$T$4,AT120) -> 2 | U120: =SUMIF($AQ$4:$BC$4,$U$4,AS120) -> 8 | V120: =SUMIF($AQ$4:$BC$4,$V$4,AR120) -> 12 | W120: =SUMIF($AQ$4:$BC$4,$W$4,AQ120) -> 12 | X120: =SUM('EQ Buffet & Table Top'!X120) -> 0 | Y120: =SUM('EQ Buffet & Table Top'!Y120) -> 4 | Z120: =SUM('EQ Buffet & Table Top'!Z120) -> 2 | AA120: =SUM('EQ Buffet & Table Top'!AA120) -> 0 | AB120: =SUM('EQ Buffet & Table Top'!AB120) -> 0 | AC120: =SUM('EQ Buffet & Table Top'!AC120) -> 0 | AD120: =SUM('EQ Buffet & Table Top'!AD120) -> 8 | AE120: =SUM('EQ Buffet & Table Top'!AD120) -> 8 | AF120: =SUM('EQ Buffet & Table Top'!AE120) -> 0 | AG120: =SUM('EQ Buffet & Table Top'!#REF!) -> #REF! | AH120: =SUM('EQ Buffet & Table Top'!#REF!) -> #REF! | AI120: =SUM('EQ Buffet & Table Top'!#REF!) -> #REF! | AJ120: =SUM('EQ Buffet & Table Top'!#REF!) -> #REF! | AK120: =SUM('EQ Buffet & Table Top'!#REF!) -> #REF! | AL120: =SUM('EQ Buffet & Table Top'!#REF!) -> #REF! | AM120: =SUM('EQ Buffet & Table Top'!#REF!) -> #REF! | AN120: =SUM('EQ Buffet & Table Top'!#REF!) -> #REF! | AQ120: ='EQ Buffet & Table Top'!DL120 -> 12 | AR120: ='EQ Buffet & Table Top'!DM120 -> 0 | AS120: ='EQ Buffet & Table Top'!DN120 -> 12 | AT120: ='EQ Buffet & Table Top'!DO120 -> 2 | AU120: ='EQ Buffet & Table Top'!DP120 -> 8 | AV120: ='EQ Buffet & Table Top'!DQ120 -> 10 | AW120: ='EQ Buffet & Table Top'!DR120 -> 2 | AX120: ='EQ Buffet & Table Top'!DS120 -> 12 | ... BA120: ='EQ Buffet & Table Top'!DV120 -> 0 | BB120: ='EQ Buffet & Table Top'!DY120 -> 0 | BC120: ='EQ Buffet & Table Top'!DZ120 -> 0
B121: 109 | C121: ='EQ Buffet & Table Top'!C121 -> frsh & smart Roka | E121: ='EQ Buffet & Table Top'!E121 -> Frankl | F121: ='EQ Buffet & Table Top'!F121 -> http://frankl24.de/muenchen/shop/frontkochgeraete_k201/fresh--smart-geraet-roka-mit-integriertem-bohner-flachgrill-hochglanz-bratflaeche-16a-cee--6917.php | G121: ='EQ Buffet & Table Top'!G121 -> 0.5 | H121: ='EQ Buffet & Table Top'!H121 -> 8700 | I121: ='EQ Buffet & Table Top'!I121 -> W1100 x D700 x H900 mm | J121: ='EQ Buffet & Table Top'!J121 -> 0 | L121: =SUM(N121:AN121) -> #REF! | N121: =SUM('EQ Buffet & Table Top'!N121) -> 0 | Q121: =SUMIF($AQ$4:$BC$4,$Q$4,AQ121) -> 1 | R121: =SUMIF($AQ$4:$BC$4,$R$4,AR121) -> 1 | S121: =SUMIF($AQ$4:$BC$4,$S$4,AS121) -> 0 | T121: =SUMIF($AQ$4:$BC$4,$T$4,AT121) -> 0 | U121: =SUMIF($AQ$4:$BC$4,$U$4,AS121) -> 0 | V121: =SUMIF($AQ$4:$BC$4,$V$4,AR121) -> 1 | W121: =SUMIF($AQ$4:$BC$4,$W$4,AQ121) -> 1 | X121: =SUM('EQ Buffet & Table Top'!X121) -> 0 | Y121: =SUM('EQ Buffet & Table Top'!Y121) -> 1 | Z121: =SUM('EQ Buffet & Table Top'!Z121) -> 0 | AA121: =SUM('EQ Buffet & Table Top'!AA121) -> 0 | AB121: =SUM('EQ Buffet & Table Top'!AB121) -> 0 | AC121: =SUM('EQ Buffet & Table Top'!AC121) -> 0 | AD121: =SUM('EQ Buffet & Table Top'!AD121) -> 0 | AE121: =SUM('EQ Buffet & Table Top'!AD121) -> 0 | AF121: =SUM('EQ Buffet & Table Top'!AE121) -> 0 | AG121: =SUM('EQ Buffet & Table Top'!#REF!) -> #REF! | AH121: =SUM('EQ Buffet & Table Top'!#REF!) -> #REF! | AI121: =SUM('EQ Buffet & Table Top'!#REF!) -> #REF! | AJ121: =SUM('EQ Buffet & Table Top'!#REF!) -> #REF! | AK121: =SUM('EQ Buffet & Table Top'!#REF!) -> #REF! | AL121: =SUM('EQ Buffet & Table Top'!#REF!) -> #REF! | AM121: =SUM('EQ Buffet & Table Top'!#REF!) -> #REF! | AN121: =SUM('EQ Buffet & Table Top'!#REF!) -> #REF! | AQ121: ='EQ Buffet & Table Top'!DL121 -> 1 | AR121: ='EQ Buffet & Table Top'!DM121 -> 0 | AS121: ='EQ Buffet & Table Top'!DN121 -> 1 | AT121: ='EQ Buffet & Table Top'!DO121 -> 0 | AU121: ='EQ Buffet & Table Top'!DP121 -> 0 | AV121: ='EQ Buffet & Table Top'!DQ121 -> 1 | AW121: ='EQ Buffet & Table Top'!DR121 -> 0 | AX121: ='EQ Buffet & Table Top'!DS121 -> 1 | ... BA121: ='EQ Buffet & Table Top'!DV121 -> 0 | BB121: ='EQ Buffet & Table Top'!DY121 -> 0 | BC121: ='EQ Buffet & Table Top'!DZ121 -> 0
B122: 110 | C122: ='EQ Buffet & Table Top'!C122 -> Griddle Plate GN 1/1 | E122: ='EQ Buffet & Table Top'!E122 -> Bohner | F122: ='EQ Buffet & Table Top'!F122 -> https://www.bohnergmbh.de/de/content/download/pdf/Bohner_GrillplattePROFI.pdf | G122: ='EQ Buffet & Table Top'!G122 -> 3 | H122: ='EQ Buffet & Table Top'!H122 -> 2722.72 | I122: ='EQ Buffet & Table Top'!I122 -> W600 x D400 x H200 mm | J122: ='EQ Buffet & Table Top'!J122 -> 0 | L122: =SUM(N122:AN122) -> #REF! | N122: =SUM('EQ Buffet & Table Top'!N122) -> 0 | Q122: =SUMIF($AQ$4:$BC$4,$Q$4,AQ122) -> 2 | R122: =SUMIF($AQ$4:$BC$4,$R$4,AR122) -> 2 | S122: =SUMIF($AQ$4:$BC$4,$S$4,AS122) -> 0 | T122: =SUMIF($AQ$4:$BC$4,$T$4,AT122) -> 0 | U122: =SUMIF($AQ$4:$BC$4,$U$4,AS122) -> 0 | V122: =SUMIF($AQ$4:$BC$4,$V$4,AR122) -> 2 | W122: =SUMIF($AQ$4:$BC$4,$W$4,AQ122) -> 2 | X122: =SUM('EQ Buffet & Table Top'!X122) -> 0 | Y122: =SUM('EQ Buffet & Table Top'!Y122) -> 2 | Z122: =SUM('EQ Buffet & Table Top'!Z122) -> 0 | AA122: =SUM('EQ Buffet & Table Top'!AA122) -> 0 | AB122: =SUM('EQ Buffet & Table Top'!AB122) -> 0 | AC122: =SUM('EQ Buffet & Table Top'!AC122) -> 0 | AD122: =SUM('EQ Buffet & Table Top'!AD122) -> 0 | AE122: =SUM('EQ Buffet & Table Top'!AD122) -> 0 | AF122: =SUM('EQ Buffet & Table Top'!AE122) -> 0 | AG122: =SUM('EQ Buffet & Table Top'!#REF!) -> #REF! | AH122: =SUM('EQ Buffet & Table Top'!#REF!) -> #REF! | AI122: =SUM('EQ Buffet & Table Top'!#REF!) -> #REF! | AJ122: =SUM('EQ Buffet & Table Top'!#REF!) -> #REF! | AK122: =SUM('EQ Buffet & Table Top'!#REF!) -> #REF! | AL122: =SUM('EQ Buffet & Table Top'!#REF!) -> #REF! | AM122: =SUM('EQ Buffet & Table Top'!#REF!) -> #REF! | AN122: =SUM('EQ Buffet & Table Top'!#REF!) -> #REF! | AQ122: ='EQ Buffet & Table Top'!DL122 -> 2 | AR122: ='EQ Buffet & Table Top'!DM122 -> 0 | AS122: ='EQ Buffet & Table Top'!DN122 -> 2 | AT122: ='EQ Buffet & Table Top'!DO122 -> 0 | AU122: ='EQ Buffet & Table Top'!DP122 -> 0 | AV122: ='EQ Buffet & Table Top'!DQ122 -> 2 | AW122: ='EQ Buffet & Table Top'!DR122 -> 0 | AX122: ='EQ Buffet & Table Top'!DS122 -> 2 | ... BA122: ='EQ Buffet & Table Top'!DV122 -> 0 | BB122: ='EQ Buffet & Table Top'!DY122 -> 0 | BC122: ='EQ Buffet & Table Top'!DZ122 -> 0
B123: 111 | C123: ='EQ Buffet & Table Top'!C123 -> Flywheel slicer Berkel Volano B2 | E123: ='EQ Buffet & Table Top'!E123 -> Berkel | F123: ='EQ Buffet & Table Top'!F123 -> https://www.theberkelworld.com/de/volano-b2-red.html | G123: ='EQ Buffet & Table Top'!G123 -> 0 | H123: ='EQ Buffet & Table Top'!H123 -> 4999 | I123: ='EQ Buffet & Table Top'!I123 -> W680 x D530 x H540 mm | J123: ='EQ Buffet & Table Top'!J123 -> 0 | L123: =SUM(N123:AN123) -> #REF! | N123: =SUM('EQ Buffet & Table Top'!N123) -> 0 | Q123: =SUMIF($AQ$4:$BC$4,$Q$4,AQ123) -> 0 | R123: =SUMIF($AQ$4:$BC$4,$R$4,AR123) -> 0 | S123: =SUMIF($AQ$4:$BC$4,$S$4,AS123) -> 0 | T123: =SUMIF($AQ$4:$BC$4,$T$4,AT123) -> 0 | U123: =SUMIF($AQ$4:$BC$4,$U$4,AS123) -> 0 | V123: =SUMIF($AQ$4:$BC$4,$V$4,AR123) -> 0 | W123: =SUMIF($AQ$4:$BC$4,$W$4,AQ123) -> 0 | X123: =SUM('EQ Buffet & Table Top'!X123) -> 0 | Y123: =SUM('EQ Buffet & Table Top'!Y123) -> 0 | Z123: =SUM('EQ Buffet & Table Top'!Z123) -> 0 | AA123: =SUM('EQ Buffet & Table Top'!AA123) -> 1 | AB123: =SUM('EQ Buffet & Table Top'!AB123) -> 0 | AC123: =SUM('EQ Buffet & Table Top'!AC123) -> 0 | AD123: =SUM('EQ Buffet & Table Top'!AD123) -> 0 | AE123: =SUM('EQ Buffet & Table Top'!AD123) -> 0 | AF123: =SUM('EQ Buffet & Table Top'!AE123) -> 0 | AG123: =SUM('EQ Buffet & Table Top'!#REF!) -> #REF! | AH123: =SUM('EQ Buffet & Table Top'!#REF!) -> #REF! | AI123: =SUM('EQ Buffet & Table Top'!#REF!) -> #REF! | AJ123: =SUM('EQ Buffet & Table Top'!#REF!) -> #REF! | AK123: =SUM('EQ Buffet & Table Top'!#REF!) -> #REF! | AL123: =SUM('EQ Buffet & Table Top'!#REF!) -> #REF! | AM123: =SUM('EQ Buffet & Table Top'!#REF!) -> #REF! | AN123: =SUM('EQ Buffet & Table Top'!#REF!) -> #REF! | AQ123: ='EQ Buffet & Table Top'!DL123 -> 0 | AR123: ='EQ Buffet & Table Top'!DM123 -> 0 | AS123: ='EQ Buffet & Table Top'!DN123 -> 0 | AT123: ='EQ Buffet & Table Top'!DO123 -> 0 | AU123: ='EQ Buffet & Table Top'!DP123 -> 0 | AV123: ='EQ Buffet & Table Top'!DQ123 -> 0 | AW123: ='EQ Buffet & Table Top'!DR123 -> 0 | AX123: ='EQ Buffet & Table Top'!DS123 -> 0 | ... BA123: ='EQ Buffet & Table Top'!DV123 -> 0 | BB123: ='EQ Buffet & Table Top'!DY123 -> 0 | BC123: ='EQ Buffet & Table Top'!DZ123 -> 0
... B125: 113 | C125: ='EQ Buffet & Table Top'!C125 -> Table grill | E125: ='EQ Buffet & Table Top'!E125 -> Philips HD4419 | F125: ='EQ Buffet & Table Top'!F125 -> https://www.philips.de/c-p/HD4419_20/tischgrill | G125: ='EQ Buffet & Table Top'!G125 -> 2.3 | H125: ='EQ Buffet & Table Top'!H125 -> 64.99 | I125: ='EQ Buffet & Table Top'!I125 -> W516 x D 312 x H73 mm | J125: ='EQ Buffet & Table Top'!J125 -> 0 | L125: =SUM(N125:AN125) -> #REF! | N125: =SUM('EQ Buffet & Table Top'!N125) -> 0 | Q125: =SUMIF($AQ$4:$BC$4,$Q$4,AQ125) -> 0 | R125: =SUMIF($AQ$4:$BC$4,$R$4,AR125) -> 0 | S125: =SUMIF($AQ$4:$BC$4,$S$4,AS125) -> 0 | T125: =SUMIF($AQ$4:$BC$4,$T$4,AT125) -> 0 | U125: =SUMIF($AQ$4:$BC$4,$U$4,AS125) -> 0 | V125: =SUMIF($AQ$4:$BC$4,$V$4,AR125) -> 0 | W125: =SUMIF($AQ$4:$BC$4,$W$4,AQ125) -> 0 | X125: =SUM('EQ Buffet & Table Top'!X125) -> 0 | Y125: =SUM('EQ Buffet & Table Top'!Y125) -> 0 | Z125: =SUM('EQ Buffet & Table Top'!Z125) -> 0 | AA125: =SUM('EQ Buffet & Table Top'!AA125) -> 1 | AB125: =SUM('EQ Buffet & Table Top'!AB125) -> 0 | AC125: =SUM('EQ Buffet & Table Top'!AC125) -> 0 | AD125: =SUM('EQ Buffet & Table Top'!AD125) -> 0 | AE125: =SUM('EQ Buffet & Table Top'!AD125) -> 0 | AF125: =SUM('EQ Buffet & Table Top'!AE125) -> 0 | AG125: =SUM('EQ Buffet & Table Top'!#REF!) -> #REF! | AH125: =SUM('EQ Buffet & Table Top'!#REF!) -> #REF! | AI125: =SUM('EQ Buffet & Table Top'!#REF!) -> #REF! | AJ125: =SUM('EQ Buffet & Table Top'!#REF!) -> #REF! | AK125: =SUM('EQ Buffet & Table Top'!#REF!) -> #REF! | AL125: =SUM('EQ Buffet & Table Top'!#REF!) -> #REF! | AM125: =SUM('EQ Buffet & Table Top'!#REF!) -> #REF! | AN125: =SUM('EQ Buffet & Table Top'!#REF!) -> #REF! | AQ125: ='EQ Buffet & Table Top'!DL125 -> 0 | AR125: ='EQ Buffet & Table Top'!DM125 -> 0 | AS125: ='EQ Buffet & Table Top'!DN125 -> 0 | AT125: ='EQ Buffet & Table Top'!DO125 -> 0 | AU125: ='EQ Buffet & Table Top'!DP125 -> 0 | AV125: ='EQ Buffet & Table Top'!DQ125 -> 0 | AW125: ='EQ Buffet & Table Top'!DR125 -> 0 | AX125: ='EQ Buffet & Table Top'!DS125 -> 0 | ... BA125: ='EQ Buffet & Table Top'!DV125 -> 0 | BB125: ='EQ Buffet & Table Top'!DY125 -> 0 | BC125: ='EQ Buffet & Table Top'!DZ125 -> 0
B126: 114 | C126: ='EQ Buffet & Table Top'!C126 -> Hot Car | E126: ='EQ Buffet & Table Top'!E126 -> Rieber Bankettwagen BKW 1 x 2/1 GN, 18 Roste - beheizt | F126: ='EQ Buffet & Table Top'!F126 -> https://www.grimm-gastrobedarf.de/rieber-bankettwagen-bkw-1-x-2-1-gn-beheizt_rie-88230105.html | G126: ='EQ Buffet & Table Top'!G126 -> 2 | H126: ='EQ Buffet & Table Top'!H126 -> 4934.93 | I126: ='EQ Buffet & Table Top'!I126 -> W516 x D 312 x H73 mm | J126: ='EQ Buffet & Table Top'!J126 -> 0 | Q126: =SUMIF($AQ$4:$BC$4,$Q$4,AQ126) -> 0 | R126: =SUMIF($AQ$4:$BC$4,$R$4,AR126) -> 0 | S126: =SUMIF($AQ$4:$BC$4,$S$4,AS126) -> 0 | T126: =SUMIF($AQ$4:$BC$4,$T$4,AT126) -> 0 | U126: =SUMIF($AQ$4:$BC$4,$U$4,AS126) -> 0 | V126: =SUMIF($AQ$4:$BC$4,$V$4,AR126) -> 0 | W126: =SUMIF($AQ$4:$BC$4,$W$4,AQ126) -> 0 | X126: =SUM('EQ Buffet & Table Top'!X126) -> 0 | Y126: =SUM('EQ Buffet & Table Top'!Y126) -> 0 | Z126: =SUM('EQ Buffet & Table Top'!Z126) -> 0 | AA126: =SUM('EQ Buffet & Table Top'!AA126) -> 0 | AB126: =SUM('EQ Buffet & Table Top'!AB126) -> 0 | AC126: =SUM('EQ Buffet & Table Top'!AC126) -> 0 | AD126: =SUM('EQ Buffet & Table Top'!AD126) -> 0 | AE126: =SUM('EQ Buffet & Table Top'!AD126) -> 0 | AF126: =SUM('EQ Buffet & Table Top'!AE126) -> 0 | AG126: =SUM('EQ Buffet & Table Top'!#REF!) -> #REF! | AH126: =SUM('EQ Buffet & Table Top'!#REF!) -> #REF! | AI126: =SUM('EQ Buffet & Table Top'!#REF!) -> #REF! | AJ126: =SUM('EQ Buffet & Table Top'!#REF!) -> #REF! | AK126: =SUM('EQ Buffet & Table Top'!#REF!) -> #REF! | AL126: =SUM('EQ Buffet & Table Top'!#REF!) -> #REF! | AM126: =SUM('EQ Buffet & Table Top'!#REF!) -> #REF! | AN126: =SUM('EQ Buffet & Table Top'!#REF!) -> #REF! | AQ126: ='EQ Buffet & Table Top'!DL126 -> 0 | AR126: ='EQ Buffet & Table Top'!DM126 -> 0 | AS126: ='EQ Buffet & Table Top'!DN126 -> 0 | AT126: ='EQ Buffet & Table Top'!DO126 -> 0 | AU126: ='EQ Buffet & Table Top'!DP126 -> 0 | AV126: ='EQ Buffet & Table Top'!DQ126 -> 0 | AW126: ='EQ Buffet & Table Top'!DR126 -> 0 | AX126: ='EQ Buffet & Table Top'!DS126 -> 0 | ... BA126: ='EQ Buffet & Table Top'!DV126 -> 0 | BB126: ='EQ Buffet & Table Top'!DY126 -> 0 | BC126: ='EQ Buffet & Table Top'!DZ126 -> 0
B127: 115 | C127: ='EQ Buffet & Table Top'!C127 -> Salamander | E127: ='EQ Buffet & Table Top'!E127 -> Elektro-Lift-Salamander ECO 600 | F127: ='EQ Buffet & Table Top'!F127 -> https://www.gastro24.de/Elektro-Lift-Salamander-ECO-600 | G127: ='EQ Buffet & Table Top'!G127 -> 3.6 | H127: ='EQ Buffet & Table Top'!H127 -> 525 | I127: ='EQ Buffet & Table Top'!I127 -> W600 x D 480 x H520 mm | J127: ='EQ Buffet & Table Top'!J127 -> 0 | Q127: =SUMIF($AQ$4:$BC$4,$Q$4,AQ127) -> 0 | R127: =SUMIF($AQ$4:$BC$4,$R$4,AR127) -> 1 | S127: =SUMIF($AQ$4:$BC$4,$S$4,AS127) -> 0 | T127: =SUMIF($AQ$4:$BC$4,$T$4,AT127) -> 0 | U127: =SUMIF($AQ$4:$BC$4,$U$4,AS127) -> 0 | V127: =SUMIF($AQ$4:$BC$4,$V$4,AR127) -> 1 | W127: =SUMIF($AQ$4:$BC$4,$W$4,AQ127) -> 0 | X127: =SUM('EQ Buffet & Table Top'!X127) -> 0 | Y127: =SUM('EQ Buffet & Table Top'!Y127) -> 0 | Z127: =SUM('EQ Buffet & Table Top'!Z127) -> 0 | AA127: =SUM('EQ Buffet & Table Top'!AA127) -> 0 | AB127: =SUM('EQ Buffet & Table Top'!AB127) -> 0 | AC127: =SUM('EQ Buffet & Table Top'!AC127) -> 0 | AD127: =SUM('EQ Buffet & Table Top'!AD127) -> 0 | AE127: =SUM('EQ Buffet & Table Top'!AD127) -> 0 | AF127: =SUM('EQ Buffet & Table Top'!AE127) -> 0 | AG127: =SUM('EQ Buffet & Table Top'!#REF!) -> #REF! | AH127: =SUM('EQ Buffet & Table Top'!#REF!) -> #REF! | AI127: =SUM('EQ Buffet & Table Top'!#REF!) -> #REF! | AJ127: =SUM('EQ Buffet & Table Top'!#REF!) -> #REF! | AK127: =SUM('EQ Buffet & Table Top'!#REF!) -> #REF! | AL127: =SUM('EQ Buffet & Table Top'!#REF!) -> #REF! | AM127: =SUM('EQ Buffet & Table Top'!#REF!) -> #REF! | AN127: =SUM('EQ Buffet & Table Top'!#REF!) -> #REF! | AQ127: ='EQ Buffet & Table Top'!DL127 -> 0 | AR127: ='EQ Buffet & Table Top'!DM127 -> 0 | AS127: ='EQ Buffet & Table Top'!DN127 -> 1 | AT127: ='EQ Buffet & Table Top'!DO127 -> 0 | AU127: ='EQ Buffet & Table Top'!DP127 -> 0 | AV127: ='EQ Buffet & Table Top'!DQ127 -> 1 | AW127: ='EQ Buffet & Table Top'!DR127 -> 0 | AX127: ='EQ Buffet & Table Top'!DS127 -> 0 | ... BA127: ='EQ Buffet & Table Top'!DV127 -> 0 | BB127: ='EQ Buffet & Table Top'!DY127 -> 0 | BC127: ='EQ Buffet & Table Top'!DZ127 -> 0
C129: ='EQ Produktion Kitchen'!C4 -> Production kitchen equipment (Main | Relais | Show kitchen) | L129: =L2 -> Qty total | N129: =N2 -> Press Cafe Ebene 0 | P129: =P2 -> Hauptküche Ebene 1 | Q129: =Q2 -> Buffet 1.1 U Shape | R129: =R2 -> Buffet 1.2. I Shape | S129: =S2 -> Buffet 1.3. I Shape | T129: =T2 -> Buffet 1.4. U Shape | U129: =U2 -> Special Buffet I Burger Buffet | V129: =V2 -> Special Buffet II Handkäse Buffet | W129: =W2 -> Relais Küche Ebene 1 | Y129: =Y2 -> Buffet 2.1. I Shape | Z129: =Z2 -> Buffet 2.2. I Shape | AA129: =AA2 -> Buffet 2.3.1. I Shape | AB129: =AB2 -> Buffet 2.3.2 I Shape | AC129: =AC2 -> Buffet 2.3. I Shape | AD129: =AD2 -> Buffet 2.4. I Shape | AE129: =AE2 -> Relais Küche Eben 2 | AG129: =AG2 -> Relais Küche Ebene 3 | AH129: =AH2 -> Buffet 3.1. I Shape | AI129: =AI2 -> Buffet 3.2. I Shape | AJ129: =AJ2 -> Buffet 3.3. Live Cooking Table | AL129: =AL2 -> Logen Eben 2 & 3 | AN129: =AN2 -> Adler Viktoria Ebene 3
P130: =SUM(P132*$G$132)+(P133*$G$133)+(P134*$G$134)+(P135*$G$135)+(P137*$G$137)+(P138*$G$138)+(P139*$G$139)+(P140*$G$140)+(P141*$G$141) -> 338.8 | Q130: =SUM(Q132*$G$132)+(Q133*$G$133)+(Q134*$G$134)+(Q135*$G$135)+(Q137*$G$137)+(Q138*$G$138)+(Q139*$G$139)+(Q140*$G$140)+(Q141*$G$141) -> 0 | R130: =SUM(R132*$G$132)+(R133*$G$133)+(R134*$G$134)+(R135*$G$135)+(R137*$G$137)+(R138*$G$138)+(R139*$G$139)+(R140*$G$140)+(R141*$G$141) -> 0 | S130: =SUM(S132*$G$132)+(S133*$G$133)+(S134*$G$134)+(S135*$G$135)+(S137*$G$137)+(S138*$G$138)+(S139*$G$139)+(S140*$G$140)+(S141*$G$141) -> 0 | T130: =SUM(T132*$G$132)+(T133*$G$133)+(T134*$G$134)+(T135*$G$135)+(T137*$G$137)+(T138*$G$138)+(T139*$G$139)+(T140*$G$140)+(T141*$G$141) -> 0 | U130: =SUM(U132*$G$132)+(U133*$G$133)+(U134*$G$134)+(U135*$G$135)+(U137*$G$137)+(U138*$G$138)+(U139*$G$139)+(U140*$G$140)+(U141*$G$141) -> 0 | V130: =SUM(V132*$G$132)+(V133*$G$133)+(V134*$G$134)+(V135*$G$135)+(V137*$G$137)+(V138*$G$138)+(V139*$G$139)+(V140*$G$140)+(V141*$G$141) -> 0 | W130: =SUM(W132*$G$132)+(W133*$G$133)+(W134*$G$134)+(W135*$G$135)+(W137*$G$137)+(W138*$G$138)+(W139*$G$139)+(W140*$G$140)+(W141*$G$141) -> 180.9 | Y130: =SUM(Y132*$G$132)+(Y133*$G$133)+(Y134*$G$134)+(Y135*$G$135)+(Y137*$G$137)+(Y138*$G$138)+(Y139*$G$139)+(Y140*$G$140)+(Y141*$G$141) -> 0 | Z130: =SUM(Z132*$G$132)+(Z133*$G$133)+(Z134*$G$134)+(Z135*$G$135)+(Z137*$G$137)+(Z138*$G$138)+(Z139*$G$139)+(Z140*$G$140)+(Z141*$G$141) -> 0 | AA130: =SUM(AA132*$G$132)+(AA133*$G$133)+(AA134*$G$134)+(AA135*$G$135)+(AA137*$G$137)+(AA138*$G$138)+(AA139*$G$139)+(AA140*$G$140)+(AA141*$G$141) -> 0 | AB130: =SUM(AB132*$G$132)+(AB133*$G$133)+(AB134*$G$134)+(AB135*$G$135)+(AB137*$G$137)+(AB138*$G$138)+(AB139*$G$139)+(AB140*$G$140)+(AB141*$G$141) -> 0 | AC130: =SUM(AC132*$G$132)+(AC133*$G$133)+(AC134*$G$134)+(AC135*$G$135)+(AC137*$G$137)+(AC138*$G$138)+(AC139*$G$139)+(AC140*$G$140)+(AC141*$G$141) -> 0 | AD130: =SUM(AD132*$G$132)+(AD133*$G$133)+(AD134*$G$134)+(AD135*$G$135)+(AD137*$G$137)+(AD138*$G$138)+(AD139*$G$139)+(AD140*$G$140)+(AD141*$G$141) -> 143.7 | AE130: =SUM(AE132*$G$132)+(AE133*$G$133)+(AE134*$G$134)+(AE135*$G$135)+(AE137*$G$137)+(AE138*$G$138)+(AE139*$G$139)+(AE140*$G$140)+(AE141*$G$141) -> 143.7 | AG130: =SUM(AG132*$G$132)+(AG133*$G$133)+(AG134*$G$134)+(AG135*$G$135)+(AG137*$G$137)+(AG138*$G$138)+(AG139*$G$139)+(AG140*$G$140)+(AG141*$G$141) -> 153.7 | AH130: =SUM(AH132*$G$132)+(AH133*$G$133)+(AH134*$G$134)+(AH135*$G$135)+(AH137*$G$137)+(AH138*$G$138)+(AH139*$G$139)+(AH140*$G$140)+(AH141*$G$141) -> 0 | AI130: =SUM(AI132*$G$132)+(AI133*$G$133)+(AI134*$G$134)+(AI135*$G$135)+(AI137*$G$137)+(AI138*$G$138)+(AI139*$G$139)+(AI140*$G$140)+(AI141*$G$141) -> 0 | AJ130: =SUM(AJ132*$G$132)+(AJ133*$G$133)+(AJ134*$G$134)+(AJ135*$G$135)+(AJ137*$G$137)+(AJ138*$G$138)+(AJ139*$G$139)+(AJ140*$G$140)+(AJ141*$G$141) -> 0 | AL130: =SUM(AL132*$G$132)+(AL133*$G$133)+(AL134*$G$134)+(AL135*$G$135)+(AL137*$G$137)+(AL138*$G$138)+(AL139*$G$139)+(AL140*$G$140)+(AL141*$G$141) -> 0 | AN130: =SUM(AN132*$G$132)+(AN133*$G$133)+(AN134*$G$134)+(AN135*$G$135)+(AN137*$G$137)+(AN138*$G$138)+(AN139*$G$139)+(AN140*$G$140)+(AN141*$G$141) -> 13.5
B131: # | C131: =$C$5 -> Designation | D131: =$D$5 -> Picture | E131: =$E$5 -> 0 | F131: =$F$5 -> 0 | G131: =$G$5 -> Power (kW) | H131: Price/Unit | I131: =$I$5 -> Size
B132: 116 | C132: ='EQ Produktion Kitchen'!C7 -> Table Top induction Cooker IK 27TC | E132: ='EQ Produktion Kitchen'!E7 -> Maintain sauces hot | F132: ='EQ Produktion Kitchen'!F7 -> https://www.grimm-gastrobedarf.de/bartscher-induktionskocher-ik-27tc_bar-105927.html | G132: ='EQ Produktion Kitchen'!G7 -> 2.7 | H132: ='EQ Produktion Kitchen'!H7 -> 145.18 | I132: ='EQ Produktion Kitchen'!I7 -> W340 × D425 × H75 mm | J132: ='EQ Produktion Kitchen'!J7 -> 0 | L132: =SUM(N132:AN132) -> 13 | P132: ='EQ Produktion Kitchen'!P7 -> 4 | W132: ='EQ Produktion Kitchen'!W7 -> 1 | X132: ='EQ Produktion Kitchen'!X7 -> 0 | Y132: ='EQ Produktion Kitchen'!Y7 -> 0 | Z132: ='EQ Produktion Kitchen'!Z7 -> 0 | AA132: ='EQ Produktion Kitchen'!AA7 -> 0 | AB132: ='EQ Produktion Kitchen'!AB7 -> 0 | AC132: ='EQ Produktion Kitchen'!AC7 -> 0 | AD132: ='EQ Produktion Kitchen'!AD7 -> 1 | AE132: ='EQ Produktion Kitchen'!AD7 -> 1 | AF132: ='EQ Produktion Kitchen'!AE7 -> 0 | AG132: ='EQ Produktion Kitchen'!AF7 -> 1 | AH132: ='EQ Produktion Kitchen'!AG7 -> 0 | AI132: ='EQ Produktion Kitchen'!AH7 -> 0 | AJ132: ='EQ Produktion Kitchen'!AI7 -> 0 | AK132: ='EQ Produktion Kitchen'!AJ7 -> 0 | AL132: ='EQ Produktion Kitchen'!AK7 -> 0 | ... AN132: ='EQ Produktion Kitchen'!AM7 -> 5
B133: 117 | C133: ='EQ Produktion Kitchen'!C8 -> Single sink | E133: ='EQ Produktion Kitchen'!E8 -> 0 | F133: ='EQ Produktion Kitchen'!F8 -> 0 | G133: ='EQ Produktion Kitchen'!G8 -> 0 | H133: ='EQ Produktion Kitchen'!H8 -> 0 | I133: ='EQ Produktion Kitchen'!I8 -> 0 | J133: ='EQ Produktion Kitchen'!J8 -> 0 | L133: =SUM(N133:AN133) -> 0 | P133: ='EQ Produktion Kitchen'!P8 -> 0 | W133: ='EQ Produktion Kitchen'!W8 -> 0 | X133: ='EQ Produktion Kitchen'!X8 -> 0 | Y133: ='EQ Produktion Kitchen'!Y8 -> 0 | Z133: ='EQ Produktion Kitchen'!Z8 -> 0 | AA133: ='EQ Produktion Kitchen'!AA8 -> 0 | AB133: ='EQ Produktion Kitchen'!AB8 -> 0 | AC133: ='EQ Produktion Kitchen'!AC8 -> 0 | AD133: ='EQ Produktion Kitchen'!AD8 -> 0 | AE133: ='EQ Produktion Kitchen'!AD8 -> 0 | AF133: ='EQ Produktion Kitchen'!AE8 -> 0 | AG133: ='EQ Produktion Kitchen'!AF8 -> 0 | AH133: ='EQ Produktion Kitchen'!AG8 -> 0 | AI133: ='EQ Produktion Kitchen'!AH8 -> 0 | AJ133: ='EQ Produktion Kitchen'!AI8 -> 0 | AK133: ='EQ Produktion Kitchen'!AJ8 -> 0 | AL133: ='EQ Produktion Kitchen'!AK8 -> 0 | ... AN133: ='EQ Produktion Kitchen'!AM8 -> 0
B134: 118 | C134: ='EQ Produktion Kitchen'!C9 -> Convection oven 20 x 2/1 GN | E134: ='EQ Produktion Kitchen'!E9 -> Rational SCC 202 | F134: ='EQ Produktion Kitchen'!F9 -> https://www.rational-online.com/de_de/selfcookingcenter_10/model_overview_12/models___options/result/compareproduct_result_9.php?products=2 | G134: ='EQ Produktion Kitchen'!G9 -> 65.5 | H134: ='EQ Produktion Kitchen'!H9 -> 25606.42 | I134: ='EQ Produktion Kitchen'!I9 -> W1084 x D996 x H1782 mm | J134: ='EQ Produktion Kitchen'!J9 -> 0 | L134: =SUM(N134:AN134) -> 10 | P134: ='EQ Produktion Kitchen'!P9 -> 2 | W134: ='EQ Produktion Kitchen'!W9 -> 2 | X134: ='EQ Produktion Kitchen'!X9 -> 0 | Y134: ='EQ Produktion Kitchen'!Y9 -> 0 | Z134: ='EQ Produktion Kitchen'!Z9 -> 0 | AA134: ='EQ Produktion Kitchen'!AA9 -> 0 | AB134: ='EQ Produktion Kitchen'!AB9 -> 0 | AC134: ='EQ Produktion Kitchen'!AC9 -> 0 | AD134: ='EQ Produktion Kitchen'!AD9 -> 2 | AE134: ='EQ Produktion Kitchen'!AD9 -> 2 | AF134: ='EQ Produktion Kitchen'!AE9 -> 0 | AG134: ='EQ Produktion Kitchen'!AF9 -> 2 | AH134: ='EQ Produktion Kitchen'!AG9 -> 0 | AI134: ='EQ Produktion Kitchen'!AH9 -> 0 | AJ134: ='EQ Produktion Kitchen'!AI9 -> 0 | AK134: ='EQ Produktion Kitchen'!AJ9 -> 0 | AL134: ='EQ Produktion Kitchen'!AK9 -> 0 | ... AN134: ='EQ Produktion Kitchen'!AM9 -> 0
B135: 119 | C135: ='EQ Produktion Kitchen'!C10 -> Convection oven 10 x 1/1 GN | E135: ='EQ Produktion Kitchen'!E10 -> Rational SCC 101 | F135: ='EQ Produktion Kitchen'!F10 -> https://www.rational-online.com/de_de/selfcookingcenter_10/model_overview_12/models___options/result/compareproduct_result_9.php?products=2 | G135: ='EQ Produktion Kitchen'!G10 -> 18.6 | H135: ='EQ Produktion Kitchen'!H10 -> 10613.61 | I135: ='EQ Produktion Kitchen'!I10 -> W847 x D776 x H1042 mm | J135: ='EQ Produktion Kitchen'!J10 -> 0 | L135: =SUM(N135:AN135) -> 4 | P135: ='EQ Produktion Kitchen'!P10 -> 2 | W135: ='EQ Produktion Kitchen'!W10 -> 2 | X135: ='EQ Produktion Kitchen'!X10 -> 0 | Y135: ='EQ Produktion Kitchen'!Y10 -> 0 | Z135: ='EQ Produktion Kitchen'!Z10 -> 0 | AA135: ='EQ Produktion Kitchen'!AA10 -> 0 | AB135: ='EQ Produktion Kitchen'!AB10 -> 0 | AC135: ='EQ Produktion Kitchen'!AC10 -> 0 | AD135: ='EQ Produktion Kitchen'!AD10 -> 0 | AE135: ='EQ Produktion Kitchen'!AD10 -> 0 | AF135: ='EQ Produktion Kitchen'!AE10 -> 0 | AG135: ='EQ Produktion Kitchen'!AF10 -> 0 | AH135: ='EQ Produktion Kitchen'!AG10 -> 0 | AI135: ='EQ Produktion Kitchen'!AH10 -> 0 | AJ135: ='EQ Produktion Kitchen'!AI10 -> 0 | AK135: ='EQ Produktion Kitchen'!AJ10 -> 0 | AL135: ='EQ Produktion Kitchen'!AK10 -> 0 | ... AN135: ='EQ Produktion Kitchen'!AM10 -> 0
B136: 120 | C136: ='EQ Produktion Kitchen'!C11 -> Convection oven 10 x 1/1 GN | E136: ='EQ Produktion Kitchen'!E11 -> Rational CombiMaster Plus XS | F136: ='EQ Produktion Kitchen'!F11 -> https://www.grimm-gastrobedarf.de/rational-kombidaempfer-combimaster-plus-xs-elektro_rat-b609100-01-202.html | G136: ='EQ Produktion Kitchen'!G11 -> 5.7 | H136: ='EQ Produktion Kitchen'!H11 -> 4813.55 | I136: ='EQ Produktion Kitchen'!I11 -> W655 x D555 xH567 mm | J136: ='EQ Produktion Kitchen'!J11 -> 0 | L136: =SUM(N136:AN136) -> 1 | P136: ='EQ Produktion Kitchen'!P11 -> 0 | W136: ='EQ Produktion Kitchen'!W11 -> 0 | X136: ='EQ Produktion Kitchen'!X11 -> 0 | Y136: ='EQ Produktion Kitchen'!Y11 -> 0 | Z136: ='EQ Produktion Kitchen'!Z11 -> 0 | AA136: ='EQ Produktion Kitchen'!AA11 -> 0 | AB136: ='EQ Produktion Kitchen'!AB11 -> 0 | AC136: ='EQ Produktion Kitchen'!AC11 -> 0 | AD136: ='EQ Produktion Kitchen'!AD11 -> 0 | AE136: ='EQ Produktion Kitchen'!AD11 -> 0 | AF136: ='EQ Produktion Kitchen'!AE11 -> 0 | AG136: ='EQ Produktion Kitchen'!AF11 -> 0 | AH136: ='EQ Produktion Kitchen'!AG11 -> 0 | AI136: ='EQ Produktion Kitchen'!AH11 -> 0 | AJ136: ='EQ Produktion Kitchen'!AI11 -> 0 | AK136: ='EQ Produktion Kitchen'!AJ11 -> 0 | AL136: ='EQ Produktion Kitchen'!AK11 -> 0 | ... AN136: ='EQ Produktion Kitchen'!AM11 -> 1
B137: 121 | C137: ='EQ Produktion Kitchen'!C12 -> Tilting pan | E137: ='EQ Produktion Kitchen'!E12 -> Rational VarioCookingCenter 311 | F137: ='EQ Produktion Kitchen'!F12 -> https://www.rational-online.com/de_de/VarioCookingCenter®/Modelle/VarioCookingCenter®?products=1412,1415 | G137: ='EQ Produktion Kitchen'!G12 -> 45 | H137: ='EQ Produktion Kitchen'!H12 -> 24631.81 | I137: ='EQ Produktion Kitchen'!I12 -> W1542 x D914 x H1100 mm | J137: ='EQ Produktion Kitchen'!J12 -> 0 | L137: =SUM(N137:AN137) -> 2 | P137: ='EQ Produktion Kitchen'!P12 -> 2 | W137: ='EQ Produktion Kitchen'!W12 -> 0 | X137: ='EQ Produktion Kitchen'!X12 -> 0 | Y137: ='EQ Produktion Kitchen'!Y12 -> 0 | Z137: ='EQ Produktion Kitchen'!Z12 -> 0 | AA137: ='EQ Produktion Kitchen'!AA12 -> 0 | AB137: ='EQ Produktion Kitchen'!AB12 -> 0 | AC137: ='EQ Produktion Kitchen'!AC12 -> 0 | AD137: ='EQ Produktion Kitchen'!AD12 -> 0 | AE137: ='EQ Produktion Kitchen'!AD12 -> 0 | AF137: ='EQ Produktion Kitchen'!AE12 -> 0 | AG137: ='EQ Produktion Kitchen'!AF12 -> 0 | AH137: ='EQ Produktion Kitchen'!AG12 -> 0 | AI137: ='EQ Produktion Kitchen'!AH12 -> 0 | AJ137: ='EQ Produktion Kitchen'!AI12 -> 0 | AK137: ='EQ Produktion Kitchen'!AJ12 -> 0 | AL137: ='EQ Produktion Kitchen'!AK12 -> 0 | ... AN137: ='EQ Produktion Kitchen'!AM12 -> 0
B138: 122 | C138: ='EQ Produktion Kitchen'!C13 -> Tilting pan | E138: ='EQ Produktion Kitchen'!E13 -> Rational VarioCookingCenter 112+ | F138: ='EQ Produktion Kitchen'!F13 -> https://www.rational-online.com/de_de/VarioCookingCenter®/Modelle/VarioCookingCenter®?products=1412,1415 | G138: ='EQ Produktion Kitchen'!G13 -> 19 | H138: ='EQ Produktion Kitchen'!H13 -> 16063.81 | I138: ='EQ Produktion Kitchen'!I13 -> W1224 x D800 x H1100 | J138: ='EQ Produktion Kitchen'!J13 -> 0 | L138: =SUM(N138:AN138) -> 1 | P138: ='EQ Produktion Kitchen'!P13 -> 1 | W138: ='EQ Produktion Kitchen'!W13 -> 0 | X138: ='EQ Produktion Kitchen'!X13 -> 0 | Y138: ='EQ Produktion Kitchen'!Y13 -> 0 | Z138: ='EQ Produktion Kitchen'!Z13 -> 0 | AA138: ='EQ Produktion Kitchen'!AA13 -> 0 | AB138: ='EQ Produktion Kitchen'!AB13 -> 0 | AC138: ='EQ Produktion Kitchen'!AC13 -> 0 | AD138: ='EQ Produktion Kitchen'!AD13 -> 0 | AE138: ='EQ Produktion Kitchen'!AD13 -> 0 | AF138: ='EQ Produktion Kitchen'!AE13 -> 0 | AG138: ='EQ Produktion Kitchen'!AF13 -> 0 | AH138: ='EQ Produktion Kitchen'!AG13 -> 0 | AI138: ='EQ Produktion Kitchen'!AH13 -> 0 | AJ138: ='EQ Produktion Kitchen'!AI13 -> 0 | AK138: ='EQ Produktion Kitchen'!AJ13 -> 0 | AL138: ='EQ Produktion Kitchen'!AK13 -> 0 | ... AN138: ='EQ Produktion Kitchen'!AM13 -> 0
B139: 123 | C139: ='EQ Produktion Kitchen'!C14 -> stove 4 hobs | E139: ='EQ Produktion Kitchen'!E14 -> Induktionsher MKN Optima 850 | F139: ='EQ Produktion Kitchen'!F14 -> https://www.grimm-gastrobedarf.de/mkn-induktionsherd-mit-4-kochfeldern-optima-850_mkn-2023105.html | G139: ='EQ Produktion Kitchen'!G14 -> 20 | H139: ='EQ Produktion Kitchen'!H14 -> 12738.95 | I139: ='EQ Produktion Kitchen'!I14 -> W800 x D850 x H700 mm | J139: ='EQ Produktion Kitchen'!J14 -> 0 | L139: =SUM(N139:AN139) -> 2 | P139: ='EQ Produktion Kitchen'!P14 -> 2 | W139: ='EQ Produktion Kitchen'!W14 -> 0 | X139: ='EQ Produktion Kitchen'!X14 -> 0 | Y139: ='EQ Produktion Kitchen'!Y14 -> 0 | Z139: ='EQ Produktion Kitchen'!Z14 -> 0 | AA139: ='EQ Produktion Kitchen'!AA14 -> 0 | AB139: ='EQ Produktion Kitchen'!AB14 -> 0 | AC139: ='EQ Produktion Kitchen'!AC14 -> 0 | AD139: ='EQ Produktion Kitchen'!AD14 -> 0 | AE139: ='EQ Produktion Kitchen'!AD14 -> 0 | AF139: ='EQ Produktion Kitchen'!AE14 -> 0 | AG139: ='EQ Produktion Kitchen'!AF14 -> 0 | AH139: ='EQ Produktion Kitchen'!AG14 -> 0 | AI139: ='EQ Produktion Kitchen'!AH14 -> 0 | AJ139: ='EQ Produktion Kitchen'!AI14 -> 0 | AK139: ='EQ Produktion Kitchen'!AJ14 -> 0 | AL139: ='EQ Produktion Kitchen'!AK14 -> 0 | ... AN139: ='EQ Produktion Kitchen'!AM14 -> 0
B140: 124 | C140: ='EQ Produktion Kitchen'!C15 -> stove 2 hobs | E140: ='EQ Produktion Kitchen'!E15 -> Induktionsherd MKN Optima 850 | F140: ='EQ Produktion Kitchen'!F15 -> https://www.grimm-gastrobedarf.de/mkn-induktionsherd-mit-2-kochfeldern-optima-850_mkn-2023104.html | G140: ='EQ Produktion Kitchen'!G15 -> 10 | H140: ='EQ Produktion Kitchen'!H15 -> 7646.94 | I140: ='EQ Produktion Kitchen'!I15 -> W400 x D 850 x H700 mm | J140: ='EQ Produktion Kitchen'!J15 -> 0 | L140: =SUM(N140:AN140) -> 5 | P140: ='EQ Produktion Kitchen'!P15 -> 0 | W140: ='EQ Produktion Kitchen'!W15 -> 1 | X140: ='EQ Produktion Kitchen'!X15 -> 0 | Y140: ='EQ Produktion Kitchen'!Y15 -> 0 | Z140: ='EQ Produktion Kitchen'!Z15 -> 0 | AA140: ='EQ Produktion Kitchen'!AA15 -> 0 | AB140: ='EQ Produktion Kitchen'!AB15 -> 0 | AC140: ='EQ Produktion Kitchen'!AC15 -> 0 | AD140: ='EQ Produktion Kitchen'!AD15 -> 1 | AE140: ='EQ Produktion Kitchen'!AD15 -> 1 | AF140: ='EQ Produktion Kitchen'!AE15 -> 0 | AG140: ='EQ Produktion Kitchen'!AF15 -> 2 | AH140: ='EQ Produktion Kitchen'!AG15 -> 0 | AI140: ='EQ Produktion Kitchen'!AH15 -> 0 | AJ140: ='EQ Produktion Kitchen'!AI15 -> 0 | AK140: ='EQ Produktion Kitchen'!AJ15 -> 0 | AL140: ='EQ Produktion Kitchen'!AK15 -> 0 | ... AN140: ='EQ Produktion Kitchen'!AM15 -> 0
B141: 125 | C141: ='EQ Produktion Kitchen'!C16 -> Griddle plate 2 zone | E141: ='EQ Produktion Kitchen'!E16 -> Griddleplatte 2 Supra Optima 850 | F141: ='EQ Produktion Kitchen'!F16 -> https://www.grimm-gastrobedarf.de/mkn-griddleplatte-2-supra-optima-850-cns-elektro_mkn-2021131a.html | G141: ='EQ Produktion Kitchen'!G16 -> 10.8 | H141: ='EQ Produktion Kitchen'!H16 -> 7813.54 | I141: ='EQ Produktion Kitchen'!I16 -> W800 x D850 x H700 mm | J141: ='EQ Produktion Kitchen'!J16 -> 0 | L141: =SUM(N141:AN141) -> 1 | P141: ='EQ Produktion Kitchen'!P16 -> 1 | W141: ='EQ Produktion Kitchen'!W16 -> 0 | X141: ='EQ Produktion Kitchen'!X16 -> 0 | Y141: ='EQ Produktion Kitchen'!Y16 -> 0 | Z141: ='EQ Produktion Kitchen'!Z16 -> 0 | AA141: ='EQ Produktion Kitchen'!AA16 -> 0 | AB141: ='EQ Produktion Kitchen'!AB16 -> 0 | AC141: ='EQ Produktion Kitchen'!AC16 -> 0 | AD141: ='EQ Produktion Kitchen'!AD16 -> 0 | AE141: ='EQ Produktion Kitchen'!AD16 -> 0 | AF141: ='EQ Produktion Kitchen'!AE16 -> 0 | AG141: ='EQ Produktion Kitchen'!AF16 -> 0 | AH141: ='EQ Produktion Kitchen'!AG16 -> 0 | AI141: ='EQ Produktion Kitchen'!AH16 -> 0 | AJ141: ='EQ Produktion Kitchen'!AI16 -> 0 | AK141: ='EQ Produktion Kitchen'!AJ16 -> 0 | AL141: ='EQ Produktion Kitchen'!AK16 -> 0 | ... AN141: ='EQ Produktion Kitchen'!AM16 -> 0
B142: 126 | C142: ='EQ Produktion Kitchen'!C17 -> Forced-air refrigerator 350 Ltr. GN suitable | E142: ='EQ Produktion Kitchen'!E17 -> KBS Kühlschrank KU 355 CNS | F142: ='EQ Produktion Kitchen'!F17 -> https://www.grimm-gastrobedarf.de/kbs-kuhlschrank-ku-355-cns_kbs-342400.html | G142: ='EQ Produktion Kitchen'!G17 -> 0.3 | H142: ='EQ Produktion Kitchen'!H17 -> 1047.2 | I142: ='EQ Produktion Kitchen'!I17 -> W484 x D735 X H2010 mm | J142: ='EQ Produktion Kitchen'!J17 -> 0 | L142: =SUM(N142:AN142) -> 4 | P142: ='EQ Produktion Kitchen'!P17 -> 0 | W142: ='EQ Produktion Kitchen'!W17 -> 0 | X142: ='EQ Produktion Kitchen'!X17 -> 0 | Y142: ='EQ Produktion Kitchen'!Y17 -> 0 | Z142: ='EQ Produktion Kitchen'!Z17 -> 0 | AA142: ='EQ Produktion Kitchen'!AA17 -> 0 | AB142: ='EQ Produktion Kitchen'!AB17 -> 0 | AC142: ='EQ Produktion Kitchen'!AC17 -> 0 | AD142: ='EQ Produktion Kitchen'!AD17 -> 0 | AE142: ='EQ Produktion Kitchen'!AD17 -> 0 | AF142: ='EQ Produktion Kitchen'!AE17 -> 0 | AG142: ='EQ Produktion Kitchen'!AF17 -> 0 | AH142: ='EQ Produktion Kitchen'!AG17 -> 0 | AI142: ='EQ Produktion Kitchen'!AH17 -> 0 | AJ142: ='EQ Produktion Kitchen'!AI17 -> 0 | AK142: ='EQ Produktion Kitchen'!AJ17 -> 0 | AL142: ='EQ Produktion Kitchen'!AK17 -> 0 | ... AN142: ='EQ Produktion Kitchen'!AM17 -> 4
B143: 127 | C143: ='EQ Produktion Kitchen'!C18 -> Cooling table with pull-out | E143: ='EQ Produktion Kitchen'!E18 -> KBS Kühltisch KTM 306 | F143: ='EQ Produktion Kitchen'!F18 -> https://www.grimm-gastrobedarf.de/kbs-kuhltisch-ktm-306_kbs-343060.html | G143: ='EQ Produktion Kitchen'!G18 -> 0.3 | H143: ='EQ Produktion Kitchen'!H18 -> 1785 | I143: ='EQ Produktion Kitchen'!I18 -> W1370 x D700 X H875 mm | J143: ='EQ Produktion Kitchen'!J18 -> 0 | L143: =SUM(N143:AN143) -> 3 | P143: ='EQ Produktion Kitchen'!P18 -> 0 | W143: ='EQ Produktion Kitchen'!W18 -> 0 | X143: ='EQ Produktion Kitchen'!X18 -> 0 | Y143: ='EQ Produktion Kitchen'!Y18 -> 0 | Z143: ='EQ Produktion Kitchen'!Z18 -> 0 | AA143: ='EQ Produktion Kitchen'!AA18 -> 0 | AB143: ='EQ Produktion Kitchen'!AB18 -> 0 | AC143: ='EQ Produktion Kitchen'!AC18 -> 0 | AD143: ='EQ Produktion Kitchen'!AD18 -> 0 | AE143: ='EQ Produktion Kitchen'!AD18 -> 0 | AF143: ='EQ Produktion Kitchen'!AE18 -> 0 | AG143: ='EQ Produktion Kitchen'!AF18 -> 0 | AH143: ='EQ Produktion Kitchen'!AG18 -> 0 | AI143: ='EQ Produktion Kitchen'!AH18 -> 0 | AJ143: ='EQ Produktion Kitchen'!AI18 -> 0 | AK143: ='EQ Produktion Kitchen'!AJ18 -> 0 | AL143: ='EQ Produktion Kitchen'!AK18 -> 0 | ... AN143: ='EQ Produktion Kitchen'!AM18 -> 3
... B148: 132 | C148: ='EQ Produktion Kitchen'!C23 -> Hot Car | E148: ='EQ Produktion Kitchen'!E23 -> Rieber Bankettwagen BKW 1 x 2/1 GN, 18 Roste - beheizt | F148: ='EQ Produktion Kitchen'!F23 -> https://www.grimm-gastrobedarf.de/rieber-bankettwagen-bkw-1-x-2-1-gn-beheizt_rie-88230105.html | G148: ='EQ Produktion Kitchen'!G23 -> 2 | H148: ='EQ Produktion Kitchen'!H23 -> 4934.93 | I148: ='EQ Produktion Kitchen'!I23 -> W516 x D 312 x H73 mm | J148: ='EQ Produktion Kitchen'!J23 -> 0 | L148: =SUM(N148:AN148) -> 10 | P148: ='EQ Produktion Kitchen'!P23 -> 2 | W148: ='EQ Produktion Kitchen'!W23 -> 2 | X148: ='EQ Produktion Kitchen'!X23 -> 0 | Y148: ='EQ Produktion Kitchen'!Y23 -> 0 | Z148: ='EQ Produktion Kitchen'!Z23 -> 0 | AA148: ='EQ Produktion Kitchen'!AA23 -> 0 | AB148: ='EQ Produktion Kitchen'!AB23 -> 0 | AC148: ='EQ Produktion Kitchen'!AC23 -> 0 | AD148: ='EQ Produktion Kitchen'!AD23 -> 2 | AE148: ='EQ Produktion Kitchen'!AD23 -> 2 | AF148: ='EQ Produktion Kitchen'!AE23 -> 0 | AG148: ='EQ Produktion Kitchen'!AF23 -> 2 | AH148: ='EQ Produktion Kitchen'!AG23 -> 0 | AI148: ='EQ Produktion Kitchen'!AH23 -> 0 | AJ148: ='EQ Produktion Kitchen'!AI23 -> 0 | AK148: ='EQ Produktion Kitchen'!AJ23 -> 0 | AL148: ='EQ Produktion Kitchen'!AK23 -> 0 | ... AN148: ='EQ Produktion Kitchen'!AM23 -> 0
C149: ='EQ Produktion Kitchen'!C24 -> 0 | D149: ='EQ Produktion Kitchen'!D24 -> 0 | E149: ='EQ Produktion Kitchen'!E24 -> 0 | F149: ='EQ Produktion Kitchen'!F24 -> 0 | G149: ='EQ Produktion Kitchen'!G24 -> 0 | H149: ='EQ Produktion Kitchen'!H24 -> 0 | I149: ='EQ Produktion Kitchen'!I24 -> 0 | J149: ='EQ Produktion Kitchen'!J24 -> 0
C150: ='EQ Produktion Kitchen'!C25 -> 0 | D150: ='EQ Produktion Kitchen'!D25 -> 0 | E150: ='EQ Produktion Kitchen'!E25 -> 0 | F150: ='EQ Produktion Kitchen'!F25 -> 0 | G150: ='EQ Produktion Kitchen'!G25 -> 0 | H150: ='EQ Produktion Kitchen'!H25 -> 0 | I150: ='EQ Produktion Kitchen'!I25 -> 0 | J150: ='EQ Produktion Kitchen'!J25 -> 0
C151: ='EQ Logen Buffet'!C4 -> EQ Logen Buffets | L151: =L2 -> Qty total | N151: =N15 -> 0 | P151: =P2 -> Hauptküche Ebene 1 | Q151: =Q2 -> Buffet 1.1 U Shape | R151: =R2 -> Buffet 1.2. I Shape | S151: =S2 -> Buffet 1.3. I Shape | T151: =T2 -> Buffet 1.4. U Shape | U151: =U2 -> Special Buffet I Burger Buffet | V151: =V2 -> Special Buffet II Handkäse Buffet | W151: =W2 -> Relais Küche Ebene 1 | Y151: =Y2 -> Buffet 2.1. I Shape | Z151: =Z2 -> Buffet 2.2. I Shape | AA151: =AA2 -> Buffet 2.3.1. I Shape | AB151: =AB2 -> Buffet 2.3.2 I Shape | AC151: =AC2 -> Buffet 2.3. I Shape | AD151: =AD2 -> Buffet 2.4. I Shape | AE151: =AE2 -> Relais Küche Eben 2 | AG151: =AG2 -> Relais Küche Ebene 3 | AH151: =AH2 -> Buffet 3.1. I Shape | AI151: =AI2 -> Buffet 3.2. I Shape | AJ151: =AJ2 -> Buffet 3.3. Live Cooking Table | AL151: =AL2 -> Logen Eben 2 & 3 | AN151: =AN2 -> Adler Viktoria Ebene 3
H152: Boxen | I152: 80 | L152: 13 | P152: =SUM(P154*$G$132)+(P155*$G$133)+(P156*$G$134)+(P157*$G$135)+(P158*$G$137)+(P159*$G$138)+(P160*$G$139)+(P161*$G$140)+(P162*$G$141) -> 0 | Q152: =SUM(Q154*$G$132)+(Q155*$G$133)+(Q156*$G$134)+(Q157*$G$135)+(Q158*$G$137)+(Q159*$G$138)+(Q160*$G$139)+(Q161*$G$140)+(Q162*$G$141) -> 0 | R152: =SUM(R154*$G$132)+(R155*$G$133)+(R156*$G$134)+(R157*$G$135)+(R158*$G$137)+(R159*$G$138)+(R160*$G$139)+(R161*$G$140)+(R162*$G$141) -> 0 | S152: =SUM(S154*$G$132)+(S155*$G$133)+(S156*$G$134)+(S157*$G$135)+(S158*$G$137)+(S159*$G$138)+(S160*$G$139)+(S161*$G$140)+(S162*$G$141) -> 0 | T152: =SUM(T154*$G$132)+(T155*$G$133)+(T156*$G$134)+(T157*$G$135)+(T158*$G$137)+(T159*$G$138)+(T160*$G$139)+(T161*$G$140)+(T162*$G$141) -> 0 | U152: =SUM(U154*$G$132)+(U155*$G$133)+(U156*$G$134)+(U157*$G$135)+(U158*$G$137)+(U159*$G$138)+(U160*$G$139)+(U161*$G$140)+(U162*$G$141) -> 0 | V152: =SUM(V154*$G$132)+(V155*$G$133)+(V156*$G$134)+(V157*$G$135)+(V158*$G$137)+(V159*$G$138)+(V160*$G$139)+(V161*$G$140)+(V162*$G$141) -> 0 | W152: =SUM(W154*$G$132)+(W155*$G$133)+(W156*$G$134)+(W157*$G$135)+(W158*$G$137)+(W159*$G$138)+(W160*$G$139)+(W161*$G$140)+(W162*$G$141) -> 0 | Y152: =SUM(Y154*$G$132)+(Y155*$G$133)+(Y156*$G$134)+(Y157*$G$135)+(Y158*$G$137)+(Y159*$G$138)+(Y160*$G$139)+(Y161*$G$140)+(Y162*$G$141) -> 0 | Z152: =SUM(Z154*$G$132)+(Z155*$G$133)+(Z156*$G$134)+(Z157*$G$135)+(Z158*$G$137)+(Z159*$G$138)+(Z160*$G$139)+(Z161*$G$140)+(Z162*$G$141) -> 0 | AA152: =SUM(AA154*$G$132)+(AA155*$G$133)+(AA156*$G$134)+(AA157*$G$135)+(AA158*$G$137)+(AA159*$G$138)+(AA160*$G$139)+(AA161*$G$140)+(AA162*$G$141) -> 0 | AB152: =SUM(AB154*$G$132)+(AB155*$G$133)+(AB156*$G$134)+(AB157*$G$135)+(AB158*$G$137)+(AB159*$G$138)+(AB160*$G$139)+(AB161*$G$140)+(AB162*$G$141) -> 0 | AC152: =SUM(AC154*$G$132)+(AC155*$G$133)+(AC156*$G$134)+(AC157*$G$135)+(AC158*$G$137)+(AC159*$G$138)+(AC160*$G$139)+(AC161*$G$140)+(AC162*$G$141) -> 0 | AD152: =SUM(AD154*$G$132)+(AD155*$G$133)+(AD156*$G$134)+(AD157*$G$135)+(AD158*$G$137)+(AD159*$G$138)+(AD160*$G$139)+(AD161*$G$140)+(AD162*$G$141) -> 0 | AE152: =SUM(AE154*$G$132)+(AE155*$G$133)+(AE156*$G$134)+(AE157*$G$135)+(AE158*$G$137)+(AE159*$G$138)+(AE160*$G$139)+(AE161*$G$140)+(AE162*$G$141) -> 0 | AG152: =SUM(AG154*$G$132)+(AG155*$G$133)+(AG156*$G$134)+(AG157*$G$135)+(AG158*$G$137)+(AG159*$G$138)+(AG160*$G$139)+(AG161*$G$140)+(AG162*$G$141) -> 0 | AH152: =SUM(AH154*$G$132)+(AH155*$G$133)+(AH156*$G$134)+(AH157*$G$135)+(AH158*$G$137)+(AH159*$G$138)+(AH160*$G$139)+(AH161*$G$140)+(AH162*$G$141) -> 0 | AI152: =SUM(AI154*$G$132)+(AI155*$G$133)+(AI156*$G$134)+(AI157*$G$135)+(AI158*$G$137)+(AI159*$G$138)+(AI160*$G$139)+(AI161*$G$140)+(AI162*$G$141) -> 0 | AJ152: =SUM(AJ154*$G$132)+(AJ155*$G$133)+(AJ156*$G$134)+(AJ157*$G$135)+(AJ158*$G$137)+(AJ159*$G$138)+(AJ160*$G$139)+(AJ161*$G$140)+(AJ162*$G$141) -> 0 | AL152: =SUM(AL154*$G$154)+(AL155*$G$155)+(AL156*$G$156)+(AL157*$G$157)+(AL158*$G$158)+(AL159*$G$159)+(AL160*$G$160)+(AL161*$G$161)+(AL162*$G$162) -> 2.1 | AN152: =SUM(AN154*$G$154)+(AN155*$G$155)+(AN156*$G$156)+(AN157*$G$157)+(AN158*$G$158)+(AN159*$G$159)+(AN160*$G$160)+(AN161*$G$161)+(AN162*$G$162) -> 0
B153: # | C153: =$C$5 -> Designation | D153: =$D$5 -> Picture | E153: =$E$5 -> 0 | F153: =$F$5 -> 0 | G153: =$G$5 -> Power (kW) | H153: Price / Unit | I153: =$I$5 -> Size | P153: ='EQ Logen Buffet'!P6 -> 0 | Q153: ='EQ Logen Buffet'!Q6 -> 0 | R153: ='EQ Logen Buffet'!R6 -> 0 | S153: ='EQ Logen Buffet'!S6 -> 0 | T153: ='EQ Logen Buffet'!T6 -> 0 | U153: ='EQ Logen Buffet'!U6 -> 0 | V153: ='EQ Logen Buffet'!V6 -> 0 | W153: ='EQ Logen Buffet'!W6 -> 0 | ... AD153: ='EQ Logen Buffet'!AD6 -> 0 | AE153: ='EQ Logen Buffet'!AD6 -> 0 | AF153: ='EQ Logen Buffet'!AE6 -> 0 | AG153: ='EQ Logen Buffet'!AF6 -> 0 | AH153: ='EQ Logen Buffet'!AG6 -> 0 | AI153: ='EQ Logen Buffet'!AH6 -> 0 | AJ153: ='EQ Logen Buffet'!AI6 -> 0 | AK153: ='EQ Logen Buffet'!AJ6 -> 0 | AL153: ='EQ Logen Buffet'!AK6 -> 0 | ... AN153: ='EQ Logen Buffet'!AM6 -> 0
B154: 133 | C154: ='EQ Logen Buffet'!C7 -> Heating Lamp | E154: ='EQ Logen Buffet'!E7 -> to hold the food hot | F154: ='EQ Logen Buffet'!F7 -> https://www.grimm-gastrobedarf.de/neumarker-warmelampe-kupfer_neu-10-10553.html | G154: ='EQ Logen Buffet'!G7 -> 0.25 | H154: ='EQ Logen Buffet'!H7 -> 264.18 | I154: ='EQ Logen Buffet'!I7 -> ⍉ 290 mm | J154: ='EQ Logen Buffet'!J7 -> 0 | L154: =SUM($I$152*AL154) -> 160 | P154: ='EQ Logen Buffet'!P7 -> 0 | Q154: ='EQ Logen Buffet'!Q7 -> 0 | R154: ='EQ Logen Buffet'!R7 -> 0 | S154: ='EQ Logen Buffet'!S7 -> 0 | T154: ='EQ Logen Buffet'!T7 -> 0 | U154: ='EQ Logen Buffet'!U7 -> 0 | V154: ='EQ Logen Buffet'!V7 -> 0 | W154: ='EQ Logen Buffet'!W7 -> 0 | ... AD154: ='EQ Logen Buffet'!AD7 -> 0 | AE154: ='EQ Logen Buffet'!AD7 -> 0 | AF154: ='EQ Logen Buffet'!AE7 -> 0 | AG154: ='EQ Logen Buffet'!AF7 -> 0 | AH154: ='EQ Logen Buffet'!AG7 -> 0 | AI154: ='EQ Logen Buffet'!AH7 -> 0 | AJ154: ='EQ Logen Buffet'!AI7 -> 0 | AK154: ='EQ Logen Buffet'!AJ7 -> 0 | AL154: ='EQ Logen Buffet'!AK7 -> 2 | ... AN154: ='EQ Logen Buffet'!AM7 -> 0
B155: 134 | C155: ='EQ Logen Buffet'!C8 -> K Pot 1/1 800 black | E155: ='EQ Logen Buffet'!E8 -> Rieber K Pot | F155: ='EQ Logen Buffet'!F8 -> http://www2.rieber.de/produkte/item/warmhaltegeraete/product/k-pot-11-550/article/k-pot-11-550-schwarz/level/4/controller/Frontend/action/detail/path/44,17,11,2/?type=personne physique%27a=0&cHash=03dad94ee97b39ba1d4d099bc8f772d1 | G155: ='EQ Logen Buffet'!G8 -> 0.8 | H155: ='EQ Logen Buffet'!H8 -> 570.01 | I155: ='EQ Logen Buffet'!I8 -> W533 x D380 x H88 mm | J155: ='EQ Logen Buffet'!J8 -> 0 | L155: =SUM($I$152*AL155) -> 160 | P155: ='EQ Logen Buffet'!P8 -> 0 | Q155: ='EQ Logen Buffet'!Q8 -> 0 | R155: ='EQ Logen Buffet'!R8 -> 0 | S155: ='EQ Logen Buffet'!S8 -> 0 | T155: ='EQ Logen Buffet'!T8 -> 0 | U155: ='EQ Logen Buffet'!U8 -> 0 | V155: ='EQ Logen Buffet'!V8 -> 0 | W155: ='EQ Logen Buffet'!W8 -> 0 | ... AD155: ='EQ Logen Buffet'!AD8 -> 0 | AE155: ='EQ Logen Buffet'!AD8 -> 0 | AF155: ='EQ Logen Buffet'!AE8 -> 0 | AG155: ='EQ Logen Buffet'!AF8 -> 0 | AH155: ='EQ Logen Buffet'!AG8 -> 0 | AI155: ='EQ Logen Buffet'!AH8 -> 0 | AJ155: ='EQ Logen Buffet'!AI8 -> 0 | AK155: ='EQ Logen Buffet'!AJ8 -> 0 | AL155: ='EQ Logen Buffet'!AK8 -> 2 | ... AN155: ='EQ Logen Buffet'!AM8 -> 0
B156: 135 | C156: ='EQ Logen Buffet'!C9 -> Lid for thermoplate GN 1/3 silver | E156: ='EQ Logen Buffet'!E9 -> Rieber K Pot Lid | F156: ='EQ Logen Buffet'!F9 -> https://www.grimm-gastrobedarf.de/rieber-gn-deckel-gn-1-2_rie-84012133.html | G156: ='EQ Logen Buffet'!G9 -> 0 | H156: ='EQ Logen Buffet'!H9 -> 55.93 | I156: ='EQ Logen Buffet'!I9 -> 0 | J156: ='EQ Logen Buffet'!J9 -> 0 | L156: =SUM($I$152*AL156) -> 480 | P156: ='EQ Logen Buffet'!P9 -> 0 | Q156: ='EQ Logen Buffet'!Q9 -> 0 | R156: ='EQ Logen Buffet'!R9 -> 0 | S156: ='EQ Logen Buffet'!S9 -> 0 | T156: ='EQ Logen Buffet'!T9 -> 0 | U156: ='EQ Logen Buffet'!U9 -> 0 | V156: ='EQ Logen Buffet'!V9 -> 0 | W156: ='EQ Logen Buffet'!W9 -> 0 | ... AD156: ='EQ Logen Buffet'!AD9 -> 0 | AE156: ='EQ Logen Buffet'!AD9 -> 0 | AF156: ='EQ Logen Buffet'!AE9 -> 0 | AG156: ='EQ Logen Buffet'!AF9 -> 0 | AH156: ='EQ Logen Buffet'!AG9 -> 0 | AI156: ='EQ Logen Buffet'!AH9 -> 0 | AJ156: ='EQ Logen Buffet'!AI9 -> 0 | AK156: ='EQ Logen Buffet'!AJ9 -> 0 | AL156: ='EQ Logen Buffet'!AK9 -> 6 | ... AN156: ='EQ Logen Buffet'!AM9 -> 0
B157: 136 | C157: ='EQ Logen Buffet'!C10 -> thermoplate GN 1/3 65 mm | E157: ='EQ Logen Buffet'!E10 -> Rieber Thermopkate | F157: ='EQ Logen Buffet'!F10 -> https://www.grimm-gastrobedarf.de/rieber-thermoplate-ggn-1-3-65-mm_rie-84010944.html?___store=b2c_de | G157: ='EQ Logen Buffet'!G10 -> 0 | H157: ='EQ Logen Buffet'!H10 -> 199.92 | I157: ='EQ Logen Buffet'!I10 -> 0 | J157: ='EQ Logen Buffet'!J10 -> 0 | L157: =SUM($I$152*AL157) -> 640 | P157: ='EQ Logen Buffet'!P10 -> 0 | Q157: ='EQ Logen Buffet'!Q10 -> 0 | R157: ='EQ Logen Buffet'!R10 -> 0 | S157: ='EQ Logen Buffet'!S10 -> 0 | T157: ='EQ Logen Buffet'!T10 -> 0 | U157: ='EQ Logen Buffet'!U10 -> 0 | V157: ='EQ Logen Buffet'!V10 -> 0 | W157: ='EQ Logen Buffet'!W10 -> 0 | ... AD157: ='EQ Logen Buffet'!AD10 -> 0 | AE157: ='EQ Logen Buffet'!AD10 -> 0 | AF157: ='EQ Logen Buffet'!AE10 -> 0 | AG157: ='EQ Logen Buffet'!AF10 -> 0 | AH157: ='EQ Logen Buffet'!AG10 -> 0 | AI157: ='EQ Logen Buffet'!AH10 -> 0 | AJ157: ='EQ Logen Buffet'!AI10 -> 0 | AK157: ='EQ Logen Buffet'!AJ10 -> 0 | AL157: ='EQ Logen Buffet'!AK10 -> 8 | ... AN157: ='EQ Logen Buffet'!AM10 -> 0
B158: 137 | C158: ='EQ Logen Buffet'!C11 -> Shelf trolley 18 x GN 1/1 | E158: ='EQ Logen Buffet'!E11 -> Blanco RWR 161 | F158: ='EQ Logen Buffet'!F11 -> https://www.grimm-gastrobedarf.de/blanco-regalwagen-rwr-160_bla-572934.html?___store=b2c_de | G158: ='EQ Logen Buffet'!G11 -> 0 | H158: ='EQ Logen Buffet'!H11 -> 332.01 | I158: ='EQ Logen Buffet'!I11 -> 0 | J158: ='EQ Logen Buffet'!J11 -> 0 | L158: =ROUNDUP(((L157)/(3*18)),0)+AN158 -> 16 | P158: ='EQ Logen Buffet'!P11 -> 0 | Q158: ='EQ Logen Buffet'!Q11 -> 0 | R158: ='EQ Logen Buffet'!R11 -> 0 | S158: ='EQ Logen Buffet'!S11 -> 0 | T158: ='EQ Logen Buffet'!T11 -> 0 | U158: ='EQ Logen Buffet'!U11 -> 0 | V158: ='EQ Logen Buffet'!V11 -> 0 | W158: ='EQ Logen Buffet'!W11 -> 0 | ... AD158: ='EQ Logen Buffet'!AD11 -> 0 | AE158: ='EQ Logen Buffet'!AD11 -> 0 | AF158: ='EQ Logen Buffet'!AE11 -> 0 | AG158: ='EQ Logen Buffet'!AF11 -> 0 | AH158: ='EQ Logen Buffet'!AG11 -> 0 | AI158: ='EQ Logen Buffet'!AH11 -> 0 | AJ158: ='EQ Logen Buffet'!AI11 -> 0 | AK158: ='EQ Logen Buffet'!AJ11 -> 0 | AL158: ='EQ Logen Buffet'!AK11 -> 0 | ... AN158: ='EQ Logen Buffet'!AM11 -> 4
B159: 138 | C159: Cooling tray | E159: Stay Cool | F159: https://www.xxlgastro.de/kuehl-servierplatte-stay-cool-1-3-gn-aluminium-325.html | H159: 82 | I159: GN 1/2 | J159: ='EQ Logen Buffet'!J12 -> 0 | L159: =SUM($I$152*AL159) -> 240 | P159: ='EQ Logen Buffet'!P12 -> 0 | Q159: ='EQ Logen Buffet'!Q12 -> 0 | R159: ='EQ Logen Buffet'!R12 -> 0 | S159: ='EQ Logen Buffet'!S12 -> 0 | T159: ='EQ Logen Buffet'!T12 -> 0 | U159: ='EQ Logen Buffet'!U12 -> 0 | V159: ='EQ Logen Buffet'!V12 -> 0 | W159: ='EQ Logen Buffet'!W12 -> 0 | ... AD159: ='EQ Logen Buffet'!AD12 -> 0 | AE159: ='EQ Logen Buffet'!AD12 -> 0 | AF159: ='EQ Logen Buffet'!AE12 -> 0 | AG159: ='EQ Logen Buffet'!AF12 -> 0 | AH159: ='EQ Logen Buffet'!AG12 -> 0 | AI159: ='EQ Logen Buffet'!AH12 -> 0 | AJ159: ='EQ Logen Buffet'!AI12 -> 0 | AK159: ='EQ Logen Buffet'!AJ12 -> 0 | AL159: ='EQ Logen Buffet'!AK12 -> 3 | ... AN159: ='EQ Logen Buffet'!AM12 -> 0
B160: 139 | C160: Cooling tray | E160: Stay Cool | F160: https://www.xxlgastro.de/kuehl-servierplatte-stay-cool-1-2gn-aluminium-325x.html | H160: 100 | I160: GN 1/3 | J160: ='EQ Logen Buffet'!J13 -> 0 | L160: =SUM($I$152*AL160) -> 160 | P160: ='EQ Logen Buffet'!P13 -> 0 | Q160: ='EQ Logen Buffet'!Q13 -> 0 | R160: ='EQ Logen Buffet'!R13 -> 0 | S160: ='EQ Logen Buffet'!S13 -> 0 | T160: ='EQ Logen Buffet'!T13 -> 0 | U160: ='EQ Logen Buffet'!U13 -> 0 | V160: ='EQ Logen Buffet'!V13 -> 0 | W160: ='EQ Logen Buffet'!W13 -> 0 | ... AD160: ='EQ Logen Buffet'!AD13 -> 0 | AE160: ='EQ Logen Buffet'!AD13 -> 0 | AF160: ='EQ Logen Buffet'!AE13 -> 0 | AG160: ='EQ Logen Buffet'!AF13 -> 0 | AH160: ='EQ Logen Buffet'!AG13 -> 0 | AI160: ='EQ Logen Buffet'!AH13 -> 0 | AJ160: ='EQ Logen Buffet'!AI13 -> 0 | AK160: ='EQ Logen Buffet'!AJ13 -> 0 | AL160: ='EQ Logen Buffet'!AK13 -> 2 | ... AN160: ='EQ Logen Buffet'!AM13 -> 0
G163: Produktionsküchen + Relaisküchen | L163: =SUM(L132*H132+L133*H133+L134*H134+L135*H135+L136*H136+L137*H137+L138 *H138+L139 *H139+L140*H140+L141*H141+L142*H142+L143*H143+L144*H144+L145*H145+L146*H146+L147*H147+L148*H148) -> 514136.29
G165: Buffetequipment (Küchengeräte) | L165: =SUM(L112*H112+L113*H113+L114*H114+L115*H115+L116*H116+L117*H117+L118*H118+L119*H119+L120*H120+L121*H121+L122*H122++L123*H123+L124*H124+L125*H125+L126*H126+L127*H127) -> #REF!
G167: Logen (K-Pot + Cooling) | L167: =SUM(L154*H154+L155*H155+L156*H156+L157*H157+L158*H158+L159*H159+L160*H160) -> 329257.76
G169: Total | L169: =SUM(L163:L168) -> #REF!

Sheet EQ Buffet & Table Top
B1: ORDER NUMBER 128 2019-01-23 - 2019-01-30 Equipment for the Rugby World Cup Showcase. Round up or down the number in order to make sure the boxes are filled up. Disposable we can order directly from Solia Japan. Need more option than on our website
C2: EQUIPMENT OVERVIEW Controlled by: Date: Signature: | J2: Disposable | N2: Press Cafe | P2: Starter Mix | Q2: Meat dish Carving | R2: Meat Dish in honor of guest team | S2: Pasta/Risotto vegetarian option | T2: Fish dish Live Cooking | U2: Fish dish No Live Cooking | V2: sweets | Y2: Burger Buffet | Z2: Handkäse Buffet | AA2: Special Buffet III Butter bread station Ham and Antipasti | AC2: Buffet Staff | AD2: Buffet Presse | AH2: Buffet U Shape | AI2: =AH2 -> Buffet U Shape | AJ2: =AH2 -> Buffet U Shape | AK2: =AH2 -> Buffet U Shape | AL2: =AJ2 -> Buffet U Shape | AM2: =AH2 -> Buffet U Shape | AN2: =AH2 -> Buffet U Shape | AP2: Buffet I Shape 1 | AQ2: =AP2 -> Buffet I Shape 1 | AR2: =AP2 -> Buffet I Shape 1 | AS2: =AP2 -> Buffet I Shape 1 | AT2: =AR2 -> Buffet I Shape 1 | AU2: =AP2 -> Buffet I Shape 1 | AV2: =AP2 -> Buffet I Shape 1 | AX2: Buffet I Shape I2 | AY2: =AX2 -> Buffet I Shape I2 | AZ2: =AX2 -> Buffet I Shape I2 | BA2: =AX2 -> Buffet I Shape I2 | BB2: =AZ2 -> Buffet I Shape I2 | BC2: =AX2 -> Buffet I Shape I2 | BD2: =AX2 -> Buffet I Shape I2 | BF2: F & B I Shape I3 | BG2: =BF2 -> F & B I Shape I3 | BH2: =BF2 -> F & B I Shape I3 | BI2: =BF2 -> F & B I Shape I3 | BJ2: =BH2 -> F & B I Shape I3 | BK2: =BF2 -> F & B I Shape I3 | BL2: =BF2 -> F & B I Shape I3 | BN2: Buffet I Shape I4 | BO2: =BN2 -> Buffet I Shape I4 | BP2: =BN2 -> Buffet I Shape I4 | BQ2: =BN2 -> Buffet I Shape I4 | BR2: =BP2 -> Buffet I Shape I4 | BS2: =BN2 -> Buffet I Shape I4 | BT2: =BN2 -> Buffet I Shape I4 | BV2: Buffet I Shape I5 | BW2: =BV2 -> Buffet I Shape I5 | BX2: =BV2 -> Buffet I Shape I5 | BY2: =BV2 -> Buffet I Shape I5 | BZ2: =BX2 -> Buffet I Shape I5 | CA2: =BV2 -> Buffet I Shape I5 | CB2: =BV2 -> Buffet I Shape I5 | CD2: Buffet I Shape I6 | CE2: =CD2 -> Buffet I Shape I6 | CF2: =CD2 -> Buffet I Shape I6 | CG2: =CD2 -> Buffet I Shape I6 | CH2: =CF2 -> Buffet I Shape I6 | CI2: =CD2 -> Buffet I Shape I6 | CJ2: =CD2 -> Buffet I Shape I6 | CL2: Buffet I Shape I7 | CM2: =CL2 -> Buffet I Shape I7 | CN2: =CL2 -> Buffet I Shape I7 | CO2: =CL2 -> Buffet I Shape I7 | CP2: =CN2 -> Buffet I Shape I7 | CQ2: =CL2 -> Buffet I Shape I7 | CR2: =CL2 -> Buffet I Shape I7 | CT2: Buffet L Shape E2_1 Bar & Buffet | CU2: =CT2 -> Buffet L Shape E2_1 Bar & Buffet | CV2: =CT2 -> Buffet L Shape E2_1 Bar & Buffet | CW2: =CT2 -> Buffet L Shape E2_1 Bar & Buffet | CX2: =CV2 -> Buffet L Shape E2_1 Bar & Buffet | CY2: =CT2 -> Buffet L Shape E2_1 Bar & Buffet | CZ2: =CT2 -> Buffet L Shape E2_1 Bar & Buffet | DB2: Buffet L Shape E2_2 Bar & Buffet | DC2: =DB2 -> Buffet L Shape E2_2 Bar & Buffet | DD2: =DB2 -> Buffet L Shape E2_2 Bar & Buffet | DE2: =DB2 -> Buffet L Shape E2_2 Bar & Buffet | DF2: =DD2 -> Buffet L Shape E2_2 Bar & Buffet | DG2: =DB2 -> Buffet L Shape E2_2 Bar & Buffet | DH2: =DB2 -> Buffet L Shape E2_2 Bar & Buffet | DL2: =AH2 -> Buffet U Shape | DM2: =AP2 -> Buffet I Shape 1 | DN2: =AX2 -> Buffet I Shape I2 | DO2: =BF2 -> F & B I Shape I3 | DP2: =BN2 -> Buffet I Shape I4 | DQ2: =BV2 -> Buffet I Shape I5 | DR2: =CD2 -> Buffet I Shape I6 | DS2: =CL2 -> Buffet I Shape I7 | DT2: =CT2 -> Buffet L Shape E2_1 Bar & Buffet | DU2: =DB2 -> Buffet L Shape E2_2 Bar & Buffet | DZ2: =AT2 -> Buffet I Shape 1 | EA2: =BB2 -> Buffet I Shape I2 | EB2: =BJ2 -> F & B I Shape I3 | EC2: =BR2 -> Buffet I Shape I4 | ED2: =BZ2 -> Buffet I Shape I5 | EE2: =CH2 -> Buffet I Shape I6 | EF2: =CP2 -> Buffet I Shape I7 | EG2: =CX2 -> Buffet L Shape E2_1 Bar & Buffet | EH2: =DF2 -> Buffet L Shape E2_2 Bar & Buffet | EI2: =DN2 -> Buffet I Shape I2
C4: EQ BUFET & TABLE TOP | P4: =P2 -> Starter Mix | Q4: =Q2 -> Meat dish Carving | R4: =R2 -> Meat Dish in honor of guest team | S4: =S2 -> Pasta/Risotto vegetarian option | T4: =T2 -> Fish dish Live Cooking | U4: =U2 -> Fish dish No Live Cooking | V4: =V2 -> sweets | Y4: =Y2 -> Burger Buffet | Z4: =Z2 -> Handkäse Buffet | AA4: =AA2 -> Special Buffet III Butter bread station Ham and Antipasti | AB4: =AB2 -> 0 | AC4: =AC2 -> Buffet Staff | AD4: =AD2 -> Buffet Presse | AH4: Starter Mix | AI4: Fish dish Live Cooking | AJ4: Meat Dish in honor of guest team | AK4: Pasta/Risotto vegetarian option | AL4: sweets | AP4: Starter Mix | AQ4: Burger Buffet | AR4: sweets | AX4: Starter Mix | AY4: Meat dish Carving | AZ4: Pasta/Risotto vegetarian option | BA4: Fish dish No Live Cooking | BB4: sweets | BF4: Handkäse Buffet | BN4: Starter Mix | BO4: sweets | BP4: Meat Dish in honor of guest team | BQ4: Pasta/Risotto vegetarian option | BV4: Starter Mix | BW4: Meat dish Carving | BX4: Fish dish Live Cooking | BY4: sweets | CD4: Starter Mix | CE4: Pasta/Risotto vegetarian option | CF4: sweets | CL4: Starter Mix | CM4: Fish dish No Live Cooking | CN4: Meat Dish in honor of guest team | CO4: Pasta/Risotto vegetarian option | CT4: Starter Mix | CU4: Special of the match in honor of guest team | CV4: Pasta/Risotto vegetarian option | CW4: sweets | DB4: Starter Mix | DC4: Meat dish Carving / Ragout | DD4: Fish dish Live Cooking | DE4: sweets | DL4: =DL2 -> Buffet U Shape | DM4: =DM2 -> Buffet I Shape 1 | DN4: =DN2 -> Buffet I Shape I2 | DO4: =DO2 -> F & B I Shape I3 | DP4: =DP2 -> Buffet I Shape I4 | DQ4: =DQ2 -> Buffet I Shape I5 | DR4: =DR2 -> Buffet I Shape I6 | DS4: =DS2 -> Buffet I Shape I7 | ... DU4: =DU2 -> Buffet L Shape E2_2 Bar & Buffet | DX4: PAX in diesem Bereich
B5: # | C5: Designation | D5: Picture | E5: Specification | F5: Referenz | G5: Power (kW) | H5: Qty | I5: Size
B6: 1 | C6: Square Riser | E6: D.W. Haber Ash Grey Teak (AG) DWFB147WDAG | F6: https://de.steelite.com/media/literature/brochures/dw-haber-fall-2019-23-oct-2019.pdf | I6: L W 14” H 7” | L6: =SUM(N6:AE6) -> 10 | P6: 1 | Q6: 1 | R6: 1 | S6: 1 | T6: 1 | U6: 1 | V6: 1 | Y6: 1 | Z6: 1 | AA6: 1 | AH6: =SUMIF($P$2:$AD$2,$AH$4,P6:AD6) -> 1 | AI6: =SUMIF($P$2:$AD$2,$AI$4,P6:AD6) -> 1 | AJ6: =SUMIF($P$2:$AD$2,$AJ$4,P6:AD6) -> 1 | AK6: =SUMIF($P$2:$AD$2,$AK$4,P6:AD6) -> 1 | AL6: =SUMIF($P$2:$AD$2,$AL$4,P6:AD6) -> 1 | AM6: =SUMIF($P$2:$AD$2,$AM$4,P6:AD6) -> 0 | AN6: =SUMIF($P$2:$AD$2,$AN$4,P6:AD6) -> 0 | AP6: =SUMIF($P$2:$AD$2,$AP$4,P6:AD6) -> 1 | AQ6: =SUMIF($P$2:$AD$2,$AP$4,P6:AD6) -> 1 | AR6: =SUMIF($P$2:$AD$2,$AP$4,P6:AD6) -> 1 | AS6: =SUMIF($P$2:$AD$2,$AS$4,P6:AD6) -> 0 | AT6: =SUMIF($P$2:$AD$2,$AT$4,P6:AD6) -> 0 | AU6: =SUMIF($P$2:$AD$2,$AU$4,P6:AD6) -> 0 | AV6: =SUMIF($P$2:$AD$2,$AV$4,P6:AD6) -> 0 | AX6: =SUMIF($P$2:$AD$2,$AX$4,P6:AD6) -> 1 | AY6: =SUMIF($P$2:$AD$2,$AY$4,P6:AD6) -> 1 | AZ6: =SUMIF($P$2:$AD$2,$AZ$4,P6:AD6) -> 1 | BA6: =SUMIF($P$2:$AD$2,$BA$4,P6:AD6) -> 1 | BB6: =SUMIF($P$2:$AD$2,$BB$4,P6:AD6) -> 1 | BC6: =SUMIF($P$2:$AD$2,$BC$4,P6:AD6) -> 0 | BD6: =SUMIF($P$2:$AD$2,$BD$4,P6:AD6) -> 0 | BF6: =SUMIF($P$2:$AD$2,$BF$4,P6:AD6) -> 1 | BG6: =SUMIF($P$2:$AD$2,$BG$4,P6:AD6) -> 0 | BH6: =SUMIF($P$2:$AD$2,$BH$4,P6:AD6) -> 0 | BI6: =SUMIF($P$2:$AD$2,$BI$4,P6:AD6) -> 0 | BJ6: =SUMIF($P$2:$AD$2,$BJ$4,P6:AD6) -> 0 | BK6: =SUMIF($P$2:$AD$2,$BK$4,P6:AD6) -> 0 | BL6: =SUMIF($P$2:$AD$2,$BL$4,P6:AD6) -> 0 | BN6: =SUMIF($P$2:$AD$2,$BN$4,P6:AD6) -> 1 | BO6: =SUMIF($P$2:$AD$2,$BO$4,P6:AD6) -> 1 | BP6: =SUMIF($P$2:$AD$2,$BP$4,P6:AD6) -> 1 | BQ6: =SUMIF($P$2:$AD$2,$BQ$4,P6:AD6) -> 1 | BR6: =SUMIF($P$2:$AD$2,$BR$4,P6:AD6) -> 0 | BS6: =SUMIF($P$2:$AD$2,$BS$4,P6:AD6) -> 0 | BT6: =SUMIF($P$2:$AD$2,$BT$4,P6:AD6) -> 0 | BV6: =SUMIF($P$2:$AD$2,$BV$4,P6:AD6) -> 1 | BW6: =SUMIF($P$2:$AD$2,$BW$4,P6:AD6) -> 1 | BX6: =SUMIF($P$2:$AD$2,$BX$4,P6:AD6) -> 1 | BY6: =SUMIF($P$2:$AD$2,$BY$4,P6:AD6) -> 1 | BZ6: =SUMIF($P$2:$AD$2,$BZ$4,P6:AD6) -> 0 | CA6: =SUMIF($P$2:$AD$2,$CA$4,P6:AD6) -> 0 | CB6: =SUMIF($P$2:$AD$2,$CB$4,P6:AD6) -> 0 | CD6: =SUMIF($P$2:$AD$2,$CD$4,P6:AD6) -> 1 | CE6: =SUMIF($P$2:$AD$2,$CE$4,P6:AD6) -> 1 | CF6: =SUMIF($P$2:$AD$2,$CF$4,P6:AD6) -> 1 | CG6: =SUMIF($P$2:$AD$2,$CG$4,P6:AD6) -> 0 | CH6: =SUMIF($P$2:$AD$2,$CH$4,P6:AD6) -> 0 | CI6: =SUMIF($P$2:$AD$2,$CI$4,P6:AD6) -> 0 | CJ6: =SUMIF($P$2:$AD$2,$CJ$4,P6:AD6) -> 0 | CL6: =SUMIF($P$2:$AD$2,$CL$4,P6:AD6) -> 1 | CM6: =SUMIF($P$2:$AD$2,$CM$4,P6:AD6) -> 1 | CN6: =SUMIF($P$2:$AD$2,$CN$4,P6:AD6) -> 1 | CO6: =SUMIF($P$2:$AD$2,$CO$4,P6:AD6) -> 1 | CP6: =SUMIF($P$2:$AD$2,$CP$4,P6:AD6) -> 0 | CQ6: =SUMIF($P$2:$AD$2,$CQ$4,P6:AD6) -> 0 | CR6: =SUMIF($P$2:$AD$2,$CR$4,P6:AD6) -> 0 | CT6: =SUMIF($P$2:$AD$2,$CL$4,X6:AL6) -> 0 | CU6: =SUMIF($P$2:$AD$2,$CM$4,X6:AL6) -> 0 | CV6: =SUMIF($P$2:$AD$2,$CN$4,X6:AL6) -> 1 | CW6: =SUMIF($P$2:$AD$2,$CO$4,X6:AL6) -> 1 | CX6: =SUMIF($P$2:$AD$2,$CP$4,X6:AL6) -> 0 | CY6: =SUMIF($P$2:$AD$2,$CQ$4,X6:AL6) -> 0 | CZ6: =SUMIF($P$2:$AD$2,$CR$4,X6:AL6) -> 0 | DB6: =SUMIF($P$2:$AD$2,$CL$4,AF6:AT6) -> 0 | DC6: =SUMIF($P$2:$AD$2,$CM$4,AF6:AT6) -> 1 | DD6: =SUMIF($P$2:$AD$2,$CN$4,AF6:AT6) -> 1 | DE6: =SUMIF($P$2:$AD$2,$CO$4,AF6:AT6) -> 1 | DF6: =SUMIF($P$2:$AD$2,$CP$4,AF6:AT6) -> 0 | DG6: =SUMIF($P$2:$AD$2,$CQ$4,AF6:AT6) -> 0 | DH6: =SUMIF($P$2:$AD$2,$CR$4,AF6:AT6) -> 0 | DL6: =SUM(AH6:AN6) -> 5 | DM6: =SUM(AP6:AV6) -> 3 | DN6: =SUM(AX6:BD6) -> 5 | DO6: =SUM(BF6:BL6) -> 1 | DP6: =SUM(BN6:BT6) -> 4 | DQ6: =SUM(BV6:CB6) -> 4 | DR6: =SUM(CD6:CJ6) -> 3 | DS6: =SUM(CL6:CR6) -> 4 | DT6: =SUM(CT6:CZ6) -> 2 | DU6: =SUM(DB6:DH6) -> 3
B7: 2 | C7: Square Riser | E7: D.W. Haber Ash Grey Teak (AG) DWFB145WDAG | F7: https://de.steelite.com/media/literature/brochures/dw-haber-fall-2019-23-oct-2019.pdf | I7: L W 14” H 5” | L7: =SUM(N7:AE7) -> 0 | AH7: =SUMIF($P$2:$AD$2,$AH$4,P7:AD7) -> 0 | AI7: =SUMIF($P$2:$AD$2,$AI$4,P7:AD7) -> 0 | AJ7: =SUMIF($P$2:$AD$2,$AJ$4,P7:AD7) -> 0 | AK7: =SUMIF($P$2:$AD$2,$AK$4,P7:AD7) -> 0 | AL7: =SUMIF($P$2:$AD$2,$AL$4,P7:AD7) -> 0 | AM7: =SUMIF($P$2:$AD$2,$AM$4,P7:AD7) -> 0 | AN7: =SUMIF($P$2:$AD$2,$AN$4,P7:AD7) -> 0 | AP7: =SUMIF($P$2:$AD$2,$AP$4,P7:AD7) -> 0 | AQ7: =SUMIF($P$2:$AD$2,$AP$4,P7:AD7) -> 0 | AR7: =SUMIF($P$2:$AD$2,$AP$4,P7:AD7) -> 0 | AS7: =SUMIF($P$2:$AD$2,$AS$4,P7:AD7) -> 0 | AT7: =SUMIF($P$2:$AD$2,$AT$4,P7:AD7) -> 0 | AU7: =SUMIF($P$2:$AD$2,$AU$4,P7:AD7) -> 0 | AV7: =SUMIF($P$2:$AD$2,$AV$4,P7:AD7) -> 0 | AX7: =SUMIF($P$2:$AD$2,$AX$4,P7:AD7) -> 0 | AY7: =SUMIF($P$2:$AD$2,$AY$4,P7:AD7) -> 0 | AZ7: =SUMIF($P$2:$AD$2,$AZ$4,P7:AD7) -> 0 | BA7: =SUMIF($P$2:$AD$2,$BA$4,P7:AD7) -> 0 | BB7: =SUMIF($P$2:$AD$2,$BB$4,P7:AD7) -> 0 | BC7: =SUMIF($P$2:$AD$2,$BC$4,P7:AD7) -> 0 | BD7: =SUMIF($P$2:$AD$2,$BD$4,P7:AD7) -> 0 | BF7: =SUMIF($P$2:$AD$2,$BF$4,P7:AD7) -> 0 | BG7: =SUMIF($P$2:$AD$2,$BG$4,P7:AD7) -> 0 | BH7: =SUMIF($P$2:$AD$2,$BH$4,P7:AD7) -> 0 | BI7: =SUMIF($P$2:$AD$2,$BI$4,P7:AD7) -> 0 | BJ7: =SUMIF($P$2:$AD$2,$BJ$4,P7:AD7) -> 0 | BK7: =SUMIF($P$2:$AD$2,$BK$4,P7:AD7) -> 0 | BL7: =SUMIF($P$2:$AD$2,$BL$4,P7:AD7) -> 0 | BN7: =SUMIF($P$2:$AD$2,$BN$4,P7:AD7) -> 0 | BO7: =SUMIF($P$2:$AD$2,$BO$4,P7:AD7) -> 0 | BP7: =SUMIF($P$2:$AD$2,$BP$4,P7:AD7) -> 0 | BQ7: =SUMIF($P$2:$AD$2,$BQ$4,P7:AD7) -> 0 | BR7: =SUMIF($P$2:$AD$2,$BR$4,P7:AD7) -> 0 | BS7: =SUMIF($P$2:$AD$2,$BS$4,P7:AD7) -> 0 | BT7: =SUMIF($P$2:$AD$2,$BT$4,P7:AD7) -> 0 | BV7: =SUMIF($P$2:$AD$2,$BV$4,P7:AD7) -> 0 | BW7: =SUMIF($P$2:$AD$2,$BW$4,P7:AD7) -> 0 | BX7: =SUMIF($P$2:$AD$2,$BX$4,P7:AD7) -> 0 | BY7: =SUMIF($P$2:$AD$2,$BY$4,P7:AD7) -> 0 | BZ7: =SUMIF($P$2:$AD$2,$BZ$4,P7:AD7) -> 0 | CA7: =SUMIF($P$2:$AD$2,$CA$4,P7:AD7) -> 0 | CB7: =SUMIF($P$2:$AD$2,$CB$4,P7:AD7) -> 0 | CD7: =SUMIF($P$2:$AD$2,$CD$4,P7:AD7) -> 0 | CE7: =SUMIF($P$2:$AD$2,$CE$4,P7:AD7) -> 0 | CF7: =SUMIF($P$2:$AD$2,$CF$4,P7:AD7) -> 0 | CG7: =SUMIF($P$2:$AD$2,$CG$4,P7:AD7) -> 0 | CH7: =SUMIF($P$2:$AD$2,$CH$4,P7:AD7) -> 0 | CI7: =SUMIF($P$2:$AD$2,$CI$4,P7:AD7) -> 0 | CJ7: =SUMIF($P$2:$AD$2,$CJ$4,P7:AD7) -> 0 | CL7: =SUMIF($P$2:$AD$2,$CL$4,P7:AD7) -> 0 | CM7: =SUMIF($P$2:$AD$2,$CM$4,P7:AD7) -> 0 | CN7: =SUMIF($P$2:$AD$2,$CN$4,P7:AD7) -> 0 | CO7: =SUMIF($P$2:$AD$2,$CO$4,P7:AD7) -> 0 | CP7: =SUMIF($P$2:$AD$2,$CP$4,P7:AD7) -> 0 | CQ7: =SUMIF($P$2:$AD$2,$CQ$4,P7:AD7) -> 0 | CR7: =SUMIF($P$2:$AD$2,$CR$4,P7:AD7) -> 0 | CT7: =SUMIF($P$2:$AD$2,$CL$4,X7:AL7) -> 0 | CU7: =SUMIF($P$2:$AD$2,$CM$4,X7:AL7) -> 0 | CV7: =SUMIF($P$2:$AD$2,$CN$4,X7:AL7) -> 0 | CW7: =SUMIF($P$2:$AD$2,$CO$4,X7:AL7) -> 0 | CX7: =SUMIF($P$2:$AD$2,$CP$4,X7:AL7) -> 0 | CY7: =SUMIF($P$2:$AD$2,$CQ$4,X7:AL7) -> 0 | CZ7: =SUMIF($P$2:$AD$2,$CR$4,X7:AL7) -> 0 | DB7: =SUMIF($P$2:$AD$2,$CL$4,AF7:AT7) -> 0 | DC7: =SUMIF($P$2:$AD$2,$CM$4,AF7:AT7) -> 0 | DD7: =SUMIF($P$2:$AD$2,$CN$4,AF7:AT7) -> 0 | DE7: =SUMIF($P$2:$AD$2,$CO$4,AF7:AT7) -> 0 | DF7: =SUMIF($P$2:$AD$2,$CP$4,AF7:AT7) -> 0 | DG7: =SUMIF($P$2:$AD$2,$CQ$4,AF7:AT7) -> 0 | DH7: =SUMIF($P$2:$AD$2,$CR$4,AF7:AT7) -> 0 | DL7: =SUM(AH7:AN7) -> 0 | DM7: =SUM(AP7:AV7) -> 0 | DN7: =SUM(AX7:BD7) -> 0 | DO7: =SUM(BF7:BL7) -> 0 | DP7: =SUM(BN7:BT7) -> 0 | DQ7: =SUM(BV7:CB7) -> 0 | DR7: =SUM(CD7:CJ7) -> 0 | DS7: =SUM(CL7:CR7) -> 0 | DT7: =SUM(CT7:CZ7) -> 0 | DU7: =SUM(DB7:DH7) -> 0
B8: 3 | C8: Square Riser | E8: D.W. Haber Ash Grey Teak (AG) DWFB116WDAG | F8: https://de.steelite.com/media/literature/brochures/dw-haber-fall-2019-23-oct-2019.pdf | I8: L W 11” H 6” | L8: =SUM(N8:AE8) -> 0 | AH8: =SUMIF($P$2:$AD$2,$AH$4,P8:AD8) -> 0 | AI8: =SUMIF($P$2:$AD$2,$AI$4,P8:AD8) -> 0 | AJ8: =SUMIF($P$2:$AD$2,$AJ$4,P8:AD8) -> 0 | AK8: =SUMIF($P$2:$AD$2,$AK$4,P8:AD8) -> 0 | AL8: =SUMIF($P$2:$AD$2,$AL$4,P8:AD8) -> 0 | AM8: =SUMIF($P$2:$AD$2,$AM$4,P8:AD8) -> 0 | AN8: =SUMIF($P$2:$AD$2,$AN$4,P8:AD8) -> 0 | AP8: =SUMIF($P$2:$AD$2,$AP$4,P8:AD8) -> 0 | AQ8: =SUMIF($P$2:$AD$2,$AP$4,P8:AD8) -> 0 | AR8: =SUMIF($P$2:$AD$2,$AP$4,P8:AD8) -> 0 | AS8: =SUMIF($P$2:$AD$2,$AS$4,P8:AD8) -> 0 | AT8: =SUMIF($P$2:$AD$2,$AT$4,P8:AD8) -> 0 | AU8: =SUMIF($P$2:$AD$2,$AU$4,P8:AD8) -> 0 | AV8: =SUMIF($P$2:$AD$2,$AV$4,P8:AD8) -> 0 | AX8: =SUMIF($P$2:$AD$2,$AX$4,P8:AD8) -> 0 | AY8: =SUMIF($P$2:$AD$2,$AY$4,P8:AD8) -> 0 | AZ8: =SUMIF($P$2:$AD$2,$AZ$4,P8:AD8) -> 0 | BA8: =SUMIF($P$2:$AD$2,$BA$4,P8:AD8) -> 0 | BB8: =SUMIF($P$2:$AD$2,$BB$4,P8:AD8) -> 0 | BC8: =SUMIF($P$2:$AD$2,$BC$4,P8:AD8) -> 0 | BD8: =SUMIF($P$2:$AD$2,$BD$4,P8:AD8) -> 0 | BF8: =SUMIF($P$2:$AD$2,$BF$4,P8:AD8) -> 0 | BG8: =SUMIF($P$2:$AD$2,$BG$4,P8:AD8) -> 0 | BH8: =SUMIF($P$2:$AD$2,$BH$4,P8:AD8) -> 0 | BI8: =SUMIF($P$2:$AD$2,$BI$4,P8:AD8) -> 0 | BJ8: =SUMIF($P$2:$AD$2,$BJ$4,P8:AD8) -> 0 | BK8: =SUMIF($P$2:$AD$2,$BK$4,P8:AD8) -> 0 | BL8: =SUMIF($P$2:$AD$2,$BL$4,P8:AD8) -> 0 | BN8: =SUMIF($P$2:$AD$2,$BN$4,P8:AD8) -> 0 | BO8: =SUMIF($P$2:$AD$2,$BO$4,P8:AD8) -> 0 | BP8: =SUMIF($P$2:$AD$2,$BP$4,P8:AD8) -> 0 | BQ8: =SUMIF($P$2:$AD$2,$BQ$4,P8:AD8) -> 0 | BR8: =SUMIF($P$2:$AD$2,$BR$4,P8:AD8) -> 0 | BS8: =SUMIF($P$2:$AD$2,$BS$4,P8:AD8) -> 0 | BT8: =SUMIF($P$2:$AD$2,$BT$4,P8:AD8) -> 0 | BV8: =SUMIF($P$2:$AD$2,$BV$4,P8:AD8) -> 0 | BW8: =SUMIF($P$2:$AD$2,$BW$4,P8:AD8) -> 0 | BX8: =SUMIF($P$2:$AD$2,$BX$4,P8:AD8) -> 0 | BY8: =SUMIF($P$2:$AD$2,$BY$4,P8:AD8) -> 0 | BZ8: =SUMIF($P$2:$AD$2,$BZ$4,P8:AD8) -> 0 | CA8: =SUMIF($P$2:$AD$2,$CA$4,P8:AD8) -> 0 | CB8: =SUMIF($P$2:$AD$2,$CB$4,P8:AD8) -> 0 | CD8: =SUMIF($P$2:$AD$2,$CD$4,P8:AD8) -> 0 | CE8: =SUMIF($P$2:$AD$2,$CE$4,P8:AD8) -> 0 | CF8: =SUMIF($P$2:$AD$2,$CF$4,P8:AD8) -> 0 | CG8: =SUMIF($P$2:$AD$2,$CG$4,P8:AD8) -> 0 | CH8: =SUMIF($P$2:$AD$2,$CH$4,P8:AD8) -> 0 | CI8: =SUMIF($P$2:$AD$2,$CI$4,P8:AD8) -> 0 | CJ8: =SUMIF($P$2:$AD$2,$CJ$4,P8:AD8) -> 0 | CL8: =SUMIF($P$2:$AD$2,$CL$4,P8:AD8) -> 0 | CM8: =SUMIF($P$2:$AD$2,$CM$4,P8:AD8) -> 0 | CN8: =SUMIF($P$2:$AD$2,$CN$4,P8:AD8) -> 0 | CO8: =SUMIF($P$2:$AD$2,$CO$4,P8:AD8) -> 0 | CP8: =SUMIF($P$2:$AD$2,$CP$4,P8:AD8) -> 0 | CQ8: =SUMIF($P$2:$AD$2,$CQ$4,P8:AD8) -> 0 | CR8: =SUMIF($P$2:$AD$2,$CR$4,P8:AD8) -> 0 | CT8: =SUMIF($P$2:$AD$2,$CL$4,X8:AL8) -> 0 | CU8: =SUMIF($P$2:$AD$2,$CM$4,X8:AL8) -> 0 | CV8: =SUMIF($P$2:$AD$2,$CN$4,X8:AL8) -> 0 | CW8: =SUMIF($P$2:$AD$2,$CO$4,X8:AL8) -> 0 | CX8: =SUMIF($P$2:$AD$2,$CP$4,X8:AL8) -> 0 | CY8: =SUMIF($P$2:$AD$2,$CQ$4,X8:AL8) -> 0 | CZ8: =SUMIF($P$2:$AD$2,$CR$4,X8:AL8) -> 0 | DB8: =SUMIF($P$2:$AD$2,$CL$4,AF8:AT8) -> 0 | DC8: =SUMIF($P$2:$AD$2,$CM$4,AF8:AT8) -> 0 | DD8: =SUMIF($P$2:$AD$2,$CN$4,AF8:AT8) -> 0 | DE8: =SUMIF($P$2:$AD$2,$CO$4,AF8:AT8) -> 0 | DF8: =SUMIF($P$2:$AD$2,$CP$4,AF8:AT8) -> 0 | DG8: =SUMIF($P$2:$AD$2,$CQ$4,AF8:AT8) -> 0 | DH8: =SUMIF($P$2:$AD$2,$CR$4,AF8:AT8) -> 0 | DL8: =SUM(AH8:AN8) -> 0 | DM8: =SUM(AP8:AV8) -> 0 | DN8: =SUM(AX8:BD8) -> 0 | DO8: =SUM(BF8:BL8) -> 0 | DP8: =SUM(BN8:BT8) -> 0 | DQ8: =SUM(BV8:CB8) -> 0 | DR8: =SUM(CD8:CJ8) -> 0 | DS8: =SUM(CL8:CR8) -> 0 | DT8: =SUM(CT8:CZ8) -> 0 | DU8: =SUM(DB8:DH8) -> 0
B9: 4 | C9: Square Riser | E9: D.W. Haber Ash Grey Teak (AG) DWFB66WDAG | F9: https://de.steelite.com/media/literature/brochures/dw-haber-fall-2019-23-oct-2019.pdf | I9: L W 6” H 6” | L9: =SUM(N9:AE9) -> 0 | AH9: =SUMIF($P$2:$AD$2,$AH$4,P9:AD9) -> 0 | AI9: =SUMIF($P$2:$AD$2,$AI$4,P9:AD9) -> 0 | AJ9: =SUMIF($P$2:$AD$2,$AJ$4,P9:AD9) -> 0 | AK9: =SUMIF($P$2:$AD$2,$AK$4,P9:AD9) -> 0 | AL9: =SUMIF($P$2:$AD$2,$AL$4,P9:AD9) -> 0 | AM9: =SUMIF($P$2:$AD$2,$AM$4,P9:AD9) -> 0 | AN9: =SUMIF($P$2:$AD$2,$AN$4,P9:AD9) -> 0 | AP9: =SUMIF($P$2:$AD$2,$AP$4,P9:AD9) -> 0 | AQ9: =SUMIF($P$2:$AD$2,$AP$4,P9:AD9) -> 0 | AR9: =SUMIF($P$2:$AD$2,$AP$4,P9:AD9) -> 0 | AS9: =SUMIF($P$2:$AD$2,$AS$4,P9:AD9) -> 0 | AT9: =SUMIF($P$2:$AD$2,$AT$4,P9:AD9) -> 0 | AU9: =SUMIF($P$2:$AD$2,$AU$4,P9:AD9) -> 0 | AV9: =SUMIF($P$2:$AD$2,$AV$4,P9:AD9) -> 0 | AX9: =SUMIF($P$2:$AD$2,$AX$4,P9:AD9) -> 0 | AY9: =SUMIF($P$2:$AD$2,$AY$4,P9:AD9) -> 0 | AZ9: =SUMIF($P$2:$AD$2,$AZ$4,P9:AD9) -> 0 | BA9: =SUMIF($P$2:$AD$2,$BA$4,P9:AD9) -> 0 | BB9: =SUMIF($P$2:$AD$2,$BB$4,P9:AD9) -> 0 | BC9: =SUMIF($P$2:$AD$2,$BC$4,P9:AD9) -> 0 | BD9: =SUMIF($P$2:$AD$2,$BD$4,P9:AD9) -> 0 | BF9: =SUMIF($P$2:$AD$2,$BF$4,P9:AD9) -> 0 | BG9: =SUMIF($P$2:$AD$2,$BG$4,P9:AD9) -> 0 | BH9: =SUMIF($P$2:$AD$2,$BH$4,P9:AD9) -> 0 | BI9: =SUMIF($P$2:$AD$2,$BI$4,P9:AD9) -> 0 | BJ9: =SUMIF($P$2:$AD$2,$BJ$4,P9:AD9) -> 0 | BK9: =SUMIF($P$2:$AD$2,$BK$4,P9:AD9) -> 0 | BL9: =SUMIF($P$2:$AD$2,$BL$4,P9:AD9) -> 0 | BN9: =SUMIF($P$2:$AD$2,$BN$4,P9:AD9) -> 0 | BO9: =SUMIF($P$2:$AD$2,$BO$4,P9:AD9) -> 0 | BP9: =SUMIF($P$2:$AD$2,$BP$4,P9:AD9) -> 0 | BQ9: =SUMIF($P$2:$AD$2,$BQ$4,P9:AD9) -> 0 | BR9: =SUMIF($P$2:$AD$2,$BR$4,P9:AD9) -> 0 | BS9: =SUMIF($P$2:$AD$2,$BS$4,P9:AD9) -> 0 | BT9: =SUMIF($P$2:$AD$2,$BT$4,P9:AD9) -> 0 | BV9: =SUMIF($P$2:$AD$2,$BV$4,P9:AD9) -> 0 | BW9: =SUMIF($P$2:$AD$2,$BW$4,P9:AD9) -> 0 | BX9: =SUMIF($P$2:$AD$2,$BX$4,P9:AD9) -> 0 | BY9: =SUMIF($P$2:$AD$2,$BY$4,P9:AD9) -> 0 | BZ9: =SUMIF($P$2:$AD$2,$BZ$4,P9:AD9) -> 0 | CA9: =SUMIF($P$2:$AD$2,$CA$4,P9:AD9) -> 0 | CB9: =SUMIF($P$2:$AD$2,$CB$4,P9:AD9) -> 0 | CD9: =SUMIF($P$2:$AD$2,$CD$4,P9:AD9) -> 0 | CE9: =SUMIF($P$2:$AD$2,$CE$4,P9:AD9) -> 0 | CF9: =SUMIF($P$2:$AD$2,$CF$4,P9:AD9) -> 0 | CG9: =SUMIF($P$2:$AD$2,$CG$4,P9:AD9) -> 0 | CH9: =SUMIF($P$2:$AD$2,$CH$4,P9:AD9) -> 0 | CI9: =SUMIF($P$2:$AD$2,$CI$4,P9:AD9) -> 0 | CJ9: =SUMIF($P$2:$AD$2,$CJ$4,P9:AD9) -> 0 | CL9: =SUMIF($P$2:$AD$2,$CL$4,P9:AD9) -> 0 | CM9: =SUMIF($P$2:$AD$2,$CM$4,P9:AD9) -> 0 | CN9: =SUMIF($P$2:$AD$2,$CN$4,P9:AD9) -> 0 | CO9: =SUMIF($P$2:$AD$2,$CO$4,P9:AD9) -> 0 | CP9: =SUMIF($P$2:$AD$2,$CP$4,P9:AD9) -> 0 | CQ9: =SUMIF($P$2:$AD$2,$CQ$4,P9:AD9) -> 0 | CR9: =SUMIF($P$2:$AD$2,$CR$4,P9:AD9) -> 0 | CT9: =SUMIF($P$2:$AD$2,$CL$4,X9:AL9) -> 0 | CU9: =SUMIF($P$2:$AD$2,$CM$4,X9:AL9) -> 0 | CV9: =SUMIF($P$2:$AD$2,$CN$4,X9:AL9) -> 0 | CW9: =SUMIF($P$2:$AD$2,$CO$4,X9:AL9) -> 0 | CX9: =SUMIF($P$2:$AD$2,$CP$4,X9:AL9) -> 0 | CY9: =SUMIF($P$2:$AD$2,$CQ$4,X9:AL9) -> 0 | CZ9: =SUMIF($P$2:$AD$2,$CR$4,X9:AL9) -> 0 | DB9: =SUMIF($P$2:$AD$2,$CL$4,AF9:AT9) -> 0 | DC9: =SUMIF($P$2:$AD$2,$CM$4,AF9:AT9) -> 0 | DD9: =SUMIF($P$2:$AD$2,$CN$4,AF9:AT9) -> 0 | DE9: =SUMIF($P$2:$AD$2,$CO$4,AF9:AT9) -> 0 | DF9: =SUMIF($P$2:$AD$2,$CP$4,AF9:AT9) -> 0 | DG9: =SUMIF($P$2:$AD$2,$CQ$4,AF9:AT9) -> 0 | DH9: =SUMIF($P$2:$AD$2,$CR$4,AF9:AT9) -> 0 | DL9: =SUM(AH9:AN9) -> 0 | DM9: =SUM(AP9:AV9) -> 0 | DN9: =SUM(AX9:BD9) -> 0 | DO9: =SUM(BF9:BL9) -> 0 | DP9: =SUM(BN9:BT9) -> 0 | DQ9: =SUM(BV9:CB9) -> 0 | DR9: =SUM(CD9:CJ9) -> 0 | DS9: =SUM(CL9:CR9) -> 0 | DT9: =SUM(CT9:CZ9) -> 0 | DU9: =SUM(DB9:DH9) -> 0
B10: 5 | C10: Square Tile | E10: D.W. Haber Ash Grey Teak (AG) DWFBWD1414SAG | F10: https://de.steelite.com/media/literature/brochures/dw-haber-fall-2019-23-oct-2019.pdf | I10: L W 14” | L10: =SUM(N10:AE10) -> 0 | AH10: =SUMIF($P$2:$AD$2,$AH$4,P10:AD10) -> 0 | AI10: =SUMIF($P$2:$AD$2,$AI$4,P10:AD10) -> 0 | AJ10: =SUMIF($P$2:$AD$2,$AJ$4,P10:AD10) -> 0 | AK10: =SUMIF($P$2:$AD$2,$AK$4,P10:AD10) -> 0 | AL10: =SUMIF($P$2:$AD$2,$AL$4,P10:AD10) -> 0 | AM10: =SUMIF($P$2:$AD$2,$AM$4,P10:AD10) -> 0 | AN10: =SUMIF($P$2:$AD$2,$AN$4,P10:AD10) -> 0 | AP10: =SUMIF($P$2:$AD$2,$AP$4,P10:AD10) -> 0 | AQ10: =SUMIF($P$2:$AD$2,$AP$4,P10:AD10) -> 0 | AR10: =SUMIF($P$2:$AD$2,$AP$4,P10:AD10) -> 0 | AS10: =SUMIF($P$2:$AD$2,$AS$4,P10:AD10) -> 0 | AT10: =SUMIF($P$2:$AD$2,$AT$4,P10:AD10) -> 0 | AU10: =SUMIF($P$2:$AD$2,$AU$4,P10:AD10) -> 0 | AV10: =SUMIF($P$2:$AD$2,$AV$4,P10:AD10) -> 0 | AX10: =SUMIF($P$2:$AD$2,$AX$4,P10:AD10) -> 0 | AY10: =SUMIF($P$2:$AD$2,$AY$4,P10:AD10) -> 0 | AZ10: =SUMIF($P$2:$AD$2,$AZ$4,P10:AD10) -> 0 | BA10: =SUMIF($P$2:$AD$2,$BA$4,P10:AD10) -> 0 | BB10: =SUMIF($P$2:$AD$2,$BB$4,P10:AD10) -> 0 | BC10: =SUMIF($P$2:$AD$2,$BC$4,P10:AD10) -> 0 | BD10: =SUMIF($P$2:$AD$2,$BD$4,P10:AD10) -> 0 | BF10: =SUMIF($P$2:$AD$2,$BF$4,P10:AD10) -> 0 | BG10: =SUMIF($P$2:$AD$2,$BG$4,P10:AD10) -> 0 | BH10: =SUMIF($P$2:$AD$2,$BH$4,P10:AD10) -> 0 | BI10: =SUMIF($P$2:$AD$2,$BI$4,P10:AD10) -> 0 | BJ10: =SUMIF($P$2:$AD$2,$BJ$4,P10:AD10) -> 0 | BK10: =SUMIF($P$2:$AD$2,$BK$4,P10:AD10) -> 0 | BL10: =SUMIF($P$2:$AD$2,$BL$4,P10:AD10) -> 0 | BN10: =SUMIF($P$2:$AD$2,$BN$4,P10:AD10) -> 0 | BO10: =SUMIF($P$2:$AD$2,$BO$4,P10:AD10) -> 0 | BP10: =SUMIF($P$2:$AD$2,$BP$4,P10:AD10) -> 0 | BQ10: =SUMIF($P$2:$AD$2,$BQ$4,P10:AD10) -> 0 | BR10: =SUMIF($P$2:$AD$2,$BR$4,P10:AD10) -> 0 | BS10: =SUMIF($P$2:$AD$2,$BS$4,P10:AD10) -> 0 | BT10: =SUMIF($P$2:$AD$2,$BT$4,P10:AD10) -> 0 | BV10: =SUMIF($P$2:$AD$2,$BV$4,P10:AD10) -> 0 | BW10: =SUMIF($P$2:$AD$2,$BW$4,P10:AD10) -> 0 | BX10: =SUMIF($P$2:$AD$2,$BX$4,P10:AD10) -> 0 | BY10: =SUMIF($P$2:$AD$2,$BY$4,P10:AD10) -> 0 | BZ10: =SUMIF($P$2:$AD$2,$BZ$4,P10:AD10) -> 0 | CA10: =SUMIF($P$2:$AD$2,$CA$4,P10:AD10) -> 0 | CB10: =SUMIF($P$2:$AD$2,$CB$4,P10:AD10) -> 0 | CD10: =SUMIF($P$2:$AD$2,$CD$4,P10:AD10) -> 0 | CE10: =SUMIF($P$2:$AD$2,$CE$4,P10:AD10) -> 0 | CF10: =SUMIF($P$2:$AD$2,$CF$4,P10:AD10) -> 0 | CG10: =SUMIF($P$2:$AD$2,$CG$4,P10:AD10) -> 0 | CH10: =SUMIF($P$2:$AD$2,$CH$4,P10:AD10) -> 0 | CI10: =SUMIF($P$2:$AD$2,$CI$4,P10:AD10) -> 0 | CJ10: =SUMIF($P$2:$AD$2,$CJ$4,P10:AD10) -> 0 | CL10: =SUMIF($P$2:$AD$2,$CL$4,P10:AD10) -> 0 | CM10: =SUMIF($P$2:$AD$2,$CM$4,P10:AD10) -> 0 | CN10: =SUMIF($P$2:$AD$2,$CN$4,P10:AD10) -> 0 | CO10: =SUMIF($P$2:$AD$2,$CO$4,P10:AD10) -> 0 | CP10: =SUMIF($P$2:$AD$2,$CP$4,P10:AD10) -> 0 | CQ10: =SUMIF($P$2:$AD$2,$CQ$4,P10:AD10) -> 0 | CR10: =SUMIF($P$2:$AD$2,$CR$4,P10:AD10) -> 0 | CT10: =SUMIF($P$2:$AD$2,$CL$4,X10:AL10) -> 0 | CU10: =SUMIF($P$2:$AD$2,$CM$4,X10:AL10) -> 0 | CV10: =SUMIF($P$2:$AD$2,$CN$4,X10:AL10) -> 0 | CW10: =SUMIF($P$2:$AD$2,$CO$4,X10:AL10) -> 0 | CX10: =SUMIF($P$2:$AD$2,$CP$4,X10:AL10) -> 0 | CY10: =SUMIF($P$2:$AD$2,$CQ$4,X10:AL10) -> 0 | CZ10: =SUMIF($P$2:$AD$2,$CR$4,X10:AL10) -> 0 | DB10: =SUMIF($P$2:$AD$2,$CL$4,AF10:AT10) -> 0 | DC10: =SUMIF($P$2:$AD$2,$CM$4,AF10:AT10) -> 0 | DD10: =SUMIF($P$2:$AD$2,$CN$4,AF10:AT10) -> 0 | DE10: =SUMIF($P$2:$AD$2,$CO$4,AF10:AT10) -> 0 | DF10: =SUMIF($P$2:$AD$2,$CP$4,AF10:AT10) -> 0 | DG10: =SUMIF($P$2:$AD$2,$CQ$4,AF10:AT10) -> 0 | DH10: =SUMIF($P$2:$AD$2,$CR$4,AF10:AT10) -> 0 | DL10: =SUM(AH10:AN10) -> 0 | DM10: =SUM(AP10:AV10) -> 0 | DN10: =SUM(AX10:BD10) -> 0 | DO10: =SUM(BF10:BL10) -> 0 | DP10: =SUM(BN10:BT10) -> 0 | DQ10: =SUM(BV10:CB10) -> 0 | DR10: =SUM(CD10:CJ10) -> 0 | DS10: =SUM(CL10:CR10) -> 0 | DT10: =SUM(CT10:CZ10) -> 0 | DU10: =SUM(DB10:DH10) -> 0
B11: 6 | C11: Square Tile | E11: D.W. Haber Ash Grey Teak (AG) DWFBWD1111SAG | F11: https://de.steelite.com/media/literature/brochures/dw-haber-fall-2019-23-oct-2019.pdf | I11: L W 11” | L11: =SUM(N11:AE11) -> 0 | AH11: =SUMIF($P$2:$AD$2,$AH$4,P11:AD11) -> 0 | AI11: =SUMIF($P$2:$AD$2,$AI$4,P11:AD11) -> 0 | AJ11: =SUMIF($P$2:$AD$2,$AJ$4,P11:AD11) -> 0 | AK11: =SUMIF($P$2:$AD$2,$AK$4,P11:AD11) -> 0 | AL11: =SUMIF($P$2:$AD$2,$AL$4,P11:AD11) -> 0 | AM11: =SUMIF($P$2:$AD$2,$AM$4,P11:AD11) -> 0 | AN11: =SUMIF($P$2:$AD$2,$AN$4,P11:AD11) -> 0 | AP11: =SUMIF($P$2:$AD$2,$AP$4,P11:AD11) -> 0 | AQ11: =SUMIF($P$2:$AD$2,$AP$4,P11:AD11) -> 0 | AR11: =SUMIF($P$2:$AD$2,$AP$4,P11:AD11) -> 0 | AS11: =SUMIF($P$2:$AD$2,$AS$4,P11:AD11) -> 0 | AT11: =SUMIF($P$2:$AD$2,$AT$4,P11:AD11) -> 0 | AU11: =SUMIF($P$2:$AD$2,$AU$4,P11:AD11) -> 0 | AV11: =SUMIF($P$2:$AD$2,$AV$4,P11:AD11) -> 0 | AX11: =SUMIF($P$2:$AD$2,$AX$4,P11:AD11) -> 0 | AY11: =SUMIF($P$2:$AD$2,$AY$4,P11:AD11) -> 0 | AZ11: =SUMIF($P$2:$AD$2,$AZ$4,P11:AD11) -> 0 | BA11: =SUMIF($P$2:$AD$2,$BA$4,P11:AD11) -> 0 | BB11: =SUMIF($P$2:$AD$2,$BB$4,P11:AD11) -> 0 | BC11: =SUMIF($P$2:$AD$2,$BC$4,P11:AD11) -> 0 | BD11: =SUMIF($P$2:$AD$2,$BD$4,P11:AD11) -> 0 | BF11: =SUMIF($P$2:$AD$2,$BF$4,P11:AD11) -> 0 | BG11: =SUMIF($P$2:$AD$2,$BG$4,P11:AD11) -> 0 | BH11: =SUMIF($P$2:$AD$2,$BH$4,P11:AD11) -> 0 | BI11: =SUMIF($P$2:$AD$2,$BI$4,P11:AD11) -> 0 | BJ11: =SUMIF($P$2:$AD$2,$BJ$4,P11:AD11) -> 0 | BK11: =SUMIF($P$2:$AD$2,$BK$4,P11:AD11) -> 0 | BL11: =SUMIF($P$2:$AD$2,$BL$4,P11:AD11) -> 0 | BN11: =SUMIF($P$2:$AD$2,$BN$4,P11:AD11) -> 0 | BO11: =SUMIF($P$2:$AD$2,$BO$4,P11:AD11) -> 0 | BP11: =SUMIF($P$2:$AD$2,$BP$4,P11:AD11) -> 0 | BQ11: =SUMIF($P$2:$AD$2,$BQ$4,P11:AD11) -> 0 | BR11: =SUMIF($P$2:$AD$2,$BR$4,P11:AD11) -> 0 | BS11: =SUMIF($P$2:$AD$2,$BS$4,P11:AD11) -> 0 | BT11: =SUMIF($P$2:$AD$2,$BT$4,P11:AD11) -> 0 | BV11: =SUMIF($P$2:$AD$2,$BV$4,P11:AD11) -> 0 | BW11: =SUMIF($P$2:$AD$2,$BW$4,P11:AD11) -> 0 | BX11: =SUMIF($P$2:$AD$2,$BX$4,P11:AD11) -> 0 | BY11: =SUMIF($P$2:$AD$2,$BY$4,P11:AD11) -> 0 | BZ11: =SUMIF($P$2:$AD$2,$BZ$4,P11:AD11) -> 0 | CA11: =SUMIF($P$2:$AD$2,$CA$4,P11:AD11) -> 0 | CB11: =SUMIF($P$2:$AD$2,$CB$4,P11:AD11) -> 0 | CD11: =SUMIF($P$2:$AD$2,$CD$4,P11:AD11) -> 0 | CE11: =SUMIF($P$2:$AD$2,$CE$4,P11:AD11) -> 0 | CF11: =SUMIF($P$2:$AD$2,$CF$4,P11:AD11) -> 0 | CG11: =SUMIF($P$2:$AD$2,$CG$4,P11:AD11) -> 0 | CH11: =SUMIF($P$2:$AD$2,$CH$4,P11:AD11) -> 0 | CI11: =SUMIF($P$2:$AD$2,$CI$4,P11:AD11) -> 0 | CJ11: =SUMIF($P$2:$AD$2,$CJ$4,P11:AD11) -> 0 | CL11: =SUMIF($P$2:$AD$2,$CL$4,P11:AD11) -> 0 | CM11: =SUMIF($P$2:$AD$2,$CM$4,P11:AD11) -> 0 | CN11: =SUMIF($P$2:$AD$2,$CN$4,P11:AD11) -> 0 | CO11: =SUMIF($P$2:$AD$2,$CO$4,P11:AD11) -> 0 | CP11: =SUMIF($P$2:$AD$2,$CP$4,P11:AD11) -> 0 | CQ11: =SUMIF($P$2:$AD$2,$CQ$4,P11:AD11) -> 0 | CR11: =SUMIF($P$2:$AD$2,$CR$4,P11:AD11) -> 0 | CT11: =SUMIF($P$2:$AD$2,$CL$4,X11:AL11) -> 0 | CU11: =SUMIF($P$2:$AD$2,$CM$4,X11:AL11) -> 0 | CV11: =SUMIF($P$2:$AD$2,$CN$4,X11:AL11) -> 0 | CW11: =SUMIF($P$2:$AD$2,$CO$4,X11:AL11) -> 0 | CX11: =SUMIF($P$2:$AD$2,$CP$4,X11:AL11) -> 0 | CY11: =SUMIF($P$2:$AD$2,$CQ$4,X11:AL11) -> 0 | CZ11: =SUMIF($P$2:$AD$2,$CR$4,X11:AL11) -> 0 | DB11: =SUMIF($P$2:$AD$2,$CL$4,AF11:AT11) -> 0 | DC11: =SUMIF($P$2:$AD$2,$CM$4,AF11:AT11) -> 0 | DD11: =SUMIF($P$2:$AD$2,$CN$4,AF11:AT11) -> 0 | DE11: =SUMIF($P$2:$AD$2,$CO$4,AF11:AT11) -> 0 | DF11: =SUMIF($P$2:$AD$2,$CP$4,AF11:AT11) -> 0 | DG11: =SUMIF($P$2:$AD$2,$CQ$4,AF11:AT11) -> 0 | DH11: =SUMIF($P$2:$AD$2,$CR$4,AF11:AT11) -> 0 | DL11: =SUM(AH11:AN11) -> 0 | DM11: =SUM(AP11:AV11) -> 0 | DN11: =SUM(AX11:BD11) -> 0 | DO11: =SUM(BF11:BL11) -> 0 | DP11: =SUM(BN11:BT11) -> 0 | DQ11: =SUM(BV11:CB11) -> 0 | DR11: =SUM(CD11:CJ11) -> 0 | DS11: =SUM(CL11:CR11) -> 0 | DT11: =SUM(CT11:CZ11) -> 0 | DU11: =SUM(DB11:DH11) -> 0
B12: 7 | C12: Square Tile | E12: D.W. Haber Ash Grey Teak (AG) DWFBWD66SAG | F12: https://de.steelite.com/media/literature/brochures/dw-haber-fall-2019-23-oct-2019.pdf | I12: L W 6” | L12: =SUM(N12:AE12) -> 0 | AH12: =SUMIF($P$2:$AD$2,$AH$4,P12:AD12) -> 0 | AI12: =SUMIF($P$2:$AD$2,$AI$4,P12:AD12) -> 0 | AJ12: =SUMIF($P$2:$AD$2,$AJ$4,P12:AD12) -> 0 | AK12: =SUMIF($P$2:$AD$2,$AK$4,P12:AD12) -> 0 | AL12: =SUMIF($P$2:$AD$2,$AL$4,P12:AD12) -> 0 | AM12: =SUMIF($P$2:$AD$2,$AM$4,P12:AD12) -> 0 | AN12: =SUMIF($P$2:$AD$2,$AN$4,P12:AD12) -> 0 | AP12: =SUMIF($P$2:$AD$2,$AP$4,P12:AD12) -> 0 | AQ12: =SUMIF($P$2:$AD$2,$AP$4,P12:AD12) -> 0 | AR12: =SUMIF($P$2:$AD$2,$AP$4,P12:AD12) -> 0 | AS12: =SUMIF($P$2:$AD$2,$AS$4,P12:AD12) -> 0 | AT12: =SUMIF($P$2:$AD$2,$AT$4,P12:AD12) -> 0 | AU12: =SUMIF($P$2:$AD$2,$AU$4,P12:AD12) -> 0 | AV12: =SUMIF($P$2:$AD$2,$AV$4,P12:AD12) -> 0 | AX12: =SUMIF($P$2:$AD$2,$AX$4,P12:AD12) -> 0 | AY12: =SUMIF($P$2:$AD$2,$AY$4,P12:AD12) -> 0 | AZ12: =SUMIF($P$2:$AD$2,$AZ$4,P12:AD12) -> 0 | BA12: =SUMIF($P$2:$AD$2,$BA$4,P12:AD12) -> 0 | BB12: =SUMIF($P$2:$AD$2,$BB$4,P12:AD12) -> 0 | BC12: =SUMIF($P$2:$AD$2,$BC$4,P12:AD12) -> 0 | BD12: =SUMIF($P$2:$AD$2,$BD$4,P12:AD12) -> 0 | BF12: =SUMIF($P$2:$AD$2,$BF$4,P12:AD12) -> 0 | BG12: =SUMIF($P$2:$AD$2,$BG$4,P12:AD12) -> 0 | BH12: =SUMIF($P$2:$AD$2,$BH$4,P12:AD12) -> 0 | BI12: =SUMIF($P$2:$AD$2,$BI$4,P12:AD12) -> 0 | BJ12: =SUMIF($P$2:$AD$2,$BJ$4,P12:AD12) -> 0 | BK12: =SUMIF($P$2:$AD$2,$BK$4,P12:AD12) -> 0 | BL12: =SUMIF($P$2:$AD$2,$BL$4,P12:AD12) -> 0 | BN12: =SUMIF($P$2:$AD$2,$BN$4,P12:AD12) -> 0 | BO12: =SUMIF($P$2:$AD$2,$BO$4,P12:AD12) -> 0 | BP12: =SUMIF($P$2:$AD$2,$BP$4,P12:AD12) -> 0 | BQ12: =SUMIF($P$2:$AD$2,$BQ$4,P12:AD12) -> 0 | BR12: =SUMIF($P$2:$AD$2,$BR$4,P12:AD12) -> 0 | BS12: =SUMIF($P$2:$AD$2,$BS$4,P12:AD12) -> 0 | BT12: =SUMIF($P$2:$AD$2,$BT$4,P12:AD12) -> 0 | BV12: =SUMIF($P$2:$AD$2,$BV$4,P12:AD12) -> 0 | BW12: =SUMIF($P$2:$AD$2,$BW$4,P12:AD12) -> 0 | BX12: =SUMIF($P$2:$AD$2,$BX$4,P12:AD12) -> 0 | BY12: =SUMIF($P$2:$AD$2,$BY$4,P12:AD12) -> 0 | BZ12: =SUMIF($P$2:$AD$2,$BZ$4,P12:AD12) -> 0 | CA12: =SUMIF($P$2:$AD$2,$CA$4,P12:AD12) -> 0 | CB12: =SUMIF($P$2:$AD$2,$CB$4,P12:AD12) -> 0 | CD12: =SUMIF($P$2:$AD$2,$CD$4,P12:AD12) -> 0 | CE12: =SUMIF($P$2:$AD$2,$CE$4,P12:AD12) -> 0 | CF12: =SUMIF($P$2:$AD$2,$CF$4,P12:AD12) -> 0 | CG12: =SUMIF($P$2:$AD$2,$CG$4,P12:AD12) -> 0 | CH12: =SUMIF($P$2:$AD$2,$CH$4,P12:AD12) -> 0 | CI12: =SUMIF($P$2:$AD$2,$CI$4,P12:AD12) -> 0 | CJ12: =SUMIF($P$2:$AD$2,$CJ$4,P12:AD12) -> 0 | CL12: =SUMIF($P$2:$AD$2,$CL$4,P12:AD12) -> 0 | CM12: =SUMIF($P$2:$AD$2,$CM$4,P12:AD12) -> 0 | CN12: =SUMIF($P$2:$AD$2,$CN$4,P12:AD12) -> 0 | CO12: =SUMIF($P$2:$AD$2,$CO$4,P12:AD12) -> 0 | CP12: =SUMIF($P$2:$AD$2,$CP$4,P12:AD12) -> 0 | CQ12: =SUMIF($P$2:$AD$2,$CQ$4,P12:AD12) -> 0 | CR12: =SUMIF($P$2:$AD$2,$CR$4,P12:AD12) -> 0 | CT12: =SUMIF($P$2:$AD$2,$CL$4,X12:AL12) -> 0 | CU12: =SUMIF($P$2:$AD$2,$CM$4,X12:AL12) -> 0 | CV12: =SUMIF($P$2:$AD$2,$CN$4,X12:AL12) -> 0 | CW12: =SUMIF($P$2:$AD$2,$CO$4,X12:AL12) -> 0 | CX12: =SUMIF($P$2:$AD$2,$CP$4,X12:AL12) -> 0 | CY12: =SUMIF($P$2:$AD$2,$CQ$4,X12:AL12) -> 0 | CZ12: =SUMIF($P$2:$AD$2,$CR$4,X12:AL12) -> 0 | DB12: =SUMIF($P$2:$AD$2,$CL$4,AF12:AT12) -> 0 | DC12: =SUMIF($P$2:$AD$2,$CM$4,AF12:AT12) -> 0 | DD12: =SUMIF($P$2:$AD$2,$CN$4,AF12:AT12) -> 0 | DE12: =SUMIF($P$2:$AD$2,$CO$4,AF12:AT12) -> 0 | DF12: =SUMIF($P$2:$AD$2,$CP$4,AF12:AT12) -> 0 | DG12: =SUMIF($P$2:$AD$2,$CQ$4,AF12:AT12) -> 0 | DH12: =SUMIF($P$2:$AD$2,$CR$4,AF12:AT12) -> 0 | DL12: =SUM(AH12:AN12) -> 0 | DM12: =SUM(AP12:AV12) -> 0 | DN12: =SUM(AX12:BD12) -> 0 | DO12: =SUM(BF12:BL12) -> 0 | DP12: =SUM(BN12:BT12) -> 0 | DQ12: =SUM(BV12:CB12) -> 0 | DR12: =SUM(CD12:CJ12) -> 0 | DS12: =SUM(CL12:CR12) -> 0 | DT12: =SUM(CT12:CZ12) -> 0 | DU12: =SUM(DB12:DH12) -> 0
B13: 8 | C13: Square Tile | E13: D.W. Haber Ash Grey Teak (AG) DWFBWD2411SAG | F13: https://de.steelite.com/media/literature/brochures/dw-haber-fall-2019-23-oct-2019.pdf | I13: L 24” W 11” | L13: =SUM(N13:AE13) -> 0 | AH13: =SUMIF($P$2:$AD$2,$AH$4,P13:AD13) -> 0 | AI13: =SUMIF($P$2:$AD$2,$AI$4,P13:AD13) -> 0 | AJ13: =SUMIF($P$2:$AD$2,$AJ$4,P13:AD13) -> 0 | AK13: =SUMIF($P$2:$AD$2,$AK$4,P13:AD13) -> 0 | AL13: =SUMIF($P$2:$AD$2,$AL$4,P13:AD13) -> 0 | AM13: =SUMIF($P$2:$AD$2,$AM$4,P13:AD13) -> 0 | AN13: =SUMIF($P$2:$AD$2,$AN$4,P13:AD13) -> 0 | AP13: =SUMIF($P$2:$AD$2,$AP$4,P13:AD13) -> 0 | AQ13: =SUMIF($P$2:$AD$2,$AP$4,P13:AD13) -> 0 | AR13: =SUMIF($P$2:$AD$2,$AP$4,P13:AD13) -> 0 | AS13: =SUMIF($P$2:$AD$2,$AS$4,P13:AD13) -> 0 | AT13: =SUMIF($P$2:$AD$2,$AT$4,P13:AD13) -> 0 | AU13: =SUMIF($P$2:$AD$2,$AU$4,P13:AD13) -> 0 | AV13: =SUMIF($P$2:$AD$2,$AV$4,P13:AD13) -> 0 | AX13: =SUMIF($P$2:$AD$2,$AX$4,P13:AD13) -> 0 | AY13: =SUMIF($P$2:$AD$2,$AY$4,P13:AD13) -> 0 | AZ13: =SUMIF($P$2:$AD$2,$AZ$4,P13:AD13) -> 0 | BA13: =SUMIF($P$2:$AD$2,$BA$4,P13:AD13) -> 0 | BB13: =SUMIF($P$2:$AD$2,$BB$4,P13:AD13) -> 0 | BC13: =SUMIF($P$2:$AD$2,$BC$4,P13:AD13) -> 0 | BD13: =SUMIF($P$2:$AD$2,$BD$4,P13:AD13) -> 0 | BF13: =SUMIF($P$2:$AD$2,$BF$4,P13:AD13) -> 0 | BG13: =SUMIF($P$2:$AD$2,$BG$4,P13:AD13) -> 0 | BH13: =SUMIF($P$2:$AD$2,$BH$4,P13:AD13) -> 0 | BI13: =SUMIF($P$2:$AD$2,$BI$4,P13:AD13) -> 0 | BJ13: =SUMIF($P$2:$AD$2,$BJ$4,P13:AD13) -> 0 | BK13: =SUMIF($P$2:$AD$2,$BK$4,P13:AD13) -> 0 | BL13: =SUMIF($P$2:$AD$2,$BL$4,P13:AD13) -> 0 | BN13: =SUMIF($P$2:$AD$2,$BN$4,P13:AD13) -> 0 | BO13: =SUMIF($P$2:$AD$2,$BO$4,P13:AD13) -> 0 | BP13: =SUMIF($P$2:$AD$2,$BP$4,P13:AD13) -> 0 | BQ13: =SUMIF($P$2:$AD$2,$BQ$4,P13:AD13) -> 0 | BR13: =SUMIF($P$2:$AD$2,$BR$4,P13:AD13) -> 0 | BS13: =SUMIF($P$2:$AD$2,$BS$4,P13:AD13) -> 0 | BT13: =SUMIF($P$2:$AD$2,$BT$4,P13:AD13) -> 0 | BV13: =SUMIF($P$2:$AD$2,$BV$4,P13:AD13) -> 0 | BW13: =SUMIF($P$2:$AD$2,$BW$4,P13:AD13) -> 0 | BX13: =SUMIF($P$2:$AD$2,$BX$4,P13:AD13) -> 0 | BY13: =SUMIF($P$2:$AD$2,$BY$4,P13:AD13) -> 0 | BZ13: =SUMIF($P$2:$AD$2,$BZ$4,P13:AD13) -> 0 | CA13: =SUMIF($P$2:$AD$2,$CA$4,P13:AD13) -> 0 | CB13: =SUMIF($P$2:$AD$2,$CB$4,P13:AD13) -> 0 | CD13: =SUMIF($P$2:$AD$2,$CD$4,P13:AD13) -> 0 | CE13: =SUMIF($P$2:$AD$2,$CE$4,P13:AD13) -> 0 | CF13: =SUMIF($P$2:$AD$2,$CF$4,P13:AD13) -> 0 | CG13: =SUMIF($P$2:$AD$2,$CG$4,P13:AD13) -> 0 | CH13: =SUMIF($P$2:$AD$2,$CH$4,P13:AD13) -> 0 | CI13: =SUMIF($P$2:$AD$2,$CI$4,P13:AD13) -> 0 | CJ13: =SUMIF($P$2:$AD$2,$CJ$4,P13:AD13) -> 0 | CL13: =SUMIF($P$2:$AD$2,$CL$4,P13:AD13) -> 0 | CM13: =SUMIF($P$2:$AD$2,$CM$4,P13:AD13) -> 0 | CN13: =SUMIF($P$2:$AD$2,$CN$4,P13:AD13) -> 0 | CO13: =SUMIF($P$2:$AD$2,$CO$4,P13:AD13) -> 0 | CP13: =SUMIF($P$2:$AD$2,$CP$4,P13:AD13) -> 0 | CQ13: =SUMIF($P$2:$AD$2,$CQ$4,P13:AD13) -> 0 | CR13: =SUMIF($P$2:$AD$2,$CR$4,P13:AD13) -> 0 | CT13: =SUMIF($P$2:$AD$2,$CL$4,X13:AL13) -> 0 | CU13: =SUMIF($P$2:$AD$2,$CM$4,X13:AL13) -> 0 | CV13: =SUMIF($P$2:$AD$2,$CN$4,X13:AL13) -> 0 | CW13: =SUMIF($P$2:$AD$2,$CO$4,X13:AL13) -> 0 | CX13: =SUMIF($P$2:$AD$2,$CP$4,X13:AL13) -> 0 | CY13: =SUMIF($P$2:$AD$2,$CQ$4,X13:AL13) -> 0 | CZ13: =SUMIF($P$2:$AD$2,$CR$4,X13:AL13) -> 0 | DB13: =SUMIF($P$2:$AD$2,$CL$4,AF13:AT13) -> 0 | DC13: =SUMIF($P$2:$AD$2,$CM$4,AF13:AT13) -> 0 | DD13: =SUMIF($P$2:$AD$2,$CN$4,AF13:AT13) -> 0 | DE13: =SUMIF($P$2:$AD$2,$CO$4,AF13:AT13) -> 0 | DF13: =SUMIF($P$2:$AD$2,$CP$4,AF13:AT13) -> 0 | DG13: =SUMIF($P$2:$AD$2,$CQ$4,AF13:AT13) -> 0 | DH13: =SUMIF($P$2:$AD$2,$CR$4,AF13:AT13) -> 0 | DL13: =SUM(AH13:AN13) -> 0 | DM13: =SUM(AP13:AV13) -> 0 | DN13: =SUM(AX13:BD13) -> 0 | DO13: =SUM(BF13:BL13) -> 0 | DP13: =SUM(BN13:BT13) -> 0 | DQ13: =SUM(BV13:CB13) -> 0 | DR13: =SUM(CD13:CJ13) -> 0 | DS13: =SUM(CL13:CR13) -> 0 | DT13: =SUM(CT13:CZ13) -> 0 | DU13: =SUM(DB13:DH13) -> 0
B14: 9 | C14: Square Bread Basket Angled | E14: D.W. Haber Ash Grey Teak (AG) DWFBWDBASK1SAG | F14: https://de.steelite.com/media/literature/brochures/dw-haber-fall-2019-23-oct-2019.pdf | I14: L W 14” | L14: =SUM(N14:AE14) -> 0 | AH14: =SUMIF($P$2:$AD$2,$AH$4,P14:AD14) -> 0 | AI14: =SUMIF($P$2:$AD$2,$AI$4,P14:AD14) -> 0 | AJ14: =SUMIF($P$2:$AD$2,$AJ$4,P14:AD14) -> 0 | AK14: =SUMIF($P$2:$AD$2,$AK$4,P14:AD14) -> 0 | AL14: =SUMIF($P$2:$AD$2,$AL$4,P14:AD14) -> 0 | AM14: =SUMIF($P$2:$AD$2,$AM$4,P14:AD14) -> 0 | AN14: =SUMIF($P$2:$AD$2,$AN$4,P14:AD14) -> 0 | AP14: =SUMIF($P$2:$AD$2,$AP$4,P14:AD14) -> 0 | AQ14: =SUMIF($P$2:$AD$2,$AP$4,P14:AD14) -> 0 | AR14: =SUMIF($P$2:$AD$2,$AP$4,P14:AD14) -> 0 | AS14: =SUMIF($P$2:$AD$2,$AS$4,P14:AD14) -> 0 | AT14: =SUMIF($P$2:$AD$2,$AT$4,P14:AD14) -> 0 | AU14: =SUMIF($P$2:$AD$2,$AU$4,P14:AD14) -> 0 | AV14: =SUMIF($P$2:$AD$2,$AV$4,P14:AD14) -> 0 | AX14: =SUMIF($P$2:$AD$2,$AX$4,P14:AD14) -> 0 | AY14: =SUMIF($P$2:$AD$2,$AY$4,P14:AD14) -> 0 | AZ14: =SUMIF($P$2:$AD$2,$AZ$4,P14:AD14) -> 0 | BA14: =SUMIF($P$2:$AD$2,$BA$4,P14:AD14) -> 0 | BB14: =SUMIF($P$2:$AD$2,$BB$4,P14:AD14) -> 0 | BC14: =SUMIF($P$2:$AD$2,$BC$4,P14:AD14) -> 0 | BD14: =SUMIF($P$2:$AD$2,$BD$4,P14:AD14) -> 0 | BF14: =SUMIF($P$2:$AD$2,$BF$4,P14:AD14) -> 0 | BG14: =SUMIF($P$2:$AD$2,$BG$4,P14:AD14) -> 0 | BH14: =SUMIF($P$2:$AD$2,$BH$4,P14:AD14) -> 0 | BI14: =SUMIF($P$2:$AD$2,$BI$4,P14:AD14) -> 0 | BJ14: =SUMIF($P$2:$AD$2,$BJ$4,P14:AD14) -> 0 | BK14: =SUMIF($P$2:$AD$2,$BK$4,P14:AD14) -> 0 | BL14: =SUMIF($P$2:$AD$2,$BL$4,P14:AD14) -> 0 | BN14: =SUMIF($P$2:$AD$2,$BN$4,P14:AD14) -> 0 | BO14: =SUMIF($P$2:$AD$2,$BO$4,P14:AD14) -> 0 | BP14: =SUMIF($P$2:$AD$2,$BP$4,P14:AD14) -> 0 | BQ14: =SUMIF($P$2:$AD$2,$BQ$4,P14:AD14) -> 0 | BR14: =SUMIF($P$2:$AD$2,$BR$4,P14:AD14) -> 0 | BS14: =SUMIF($P$2:$AD$2,$BS$4,P14:AD14) -> 0 | BT14: =SUMIF($P$2:$AD$2,$BT$4,P14:AD14) -> 0 | BV14: =SUMIF($P$2:$AD$2,$BV$4,P14:AD14) -> 0 | BW14: =SUMIF($P$2:$AD$2,$BW$4,P14:AD14) -> 0 | BX14: =SUMIF($P$2:$AD$2,$BX$4,P14:AD14) -> 0 | BY14: =SUMIF($P$2:$AD$2,$BY$4,P14:AD14) -> 0 | BZ14: =SUMIF($P$2:$AD$2,$BZ$4,P14:AD14) -> 0 | CA14: =SUMIF($P$2:$AD$2,$CA$4,P14:AD14) -> 0 | CB14: =SUMIF($P$2:$AD$2,$CB$4,P14:AD14) -> 0 | CD14: =SUMIF($P$2:$AD$2,$CD$4,P14:AD14) -> 0 | CE14: =SUMIF($P$2:$AD$2,$CE$4,P14:AD14) -> 0 | CF14: =SUMIF($P$2:$AD$2,$CF$4,P14:AD14) -> 0 | CG14: =SUMIF($P$2:$AD$2,$CG$4,P14:AD14) -> 0 | CH14: =SUMIF($P$2:$AD$2,$CH$4,P14:AD14) -> 0 | CI14: =SUMIF($P$2:$AD$2,$CI$4,P14:AD14) -> 0 | CJ14: =SUMIF($P$2:$AD$2,$CJ$4,P14:AD14) -> 0 | CL14: =SUMIF($P$2:$AD$2,$CL$4,P14:AD14) -> 0 | CM14: =SUMIF($P$2:$AD$2,$CM$4,P14:AD14) -> 0 | CN14: =SUMIF($P$2:$AD$2,$CN$4,P14:AD14) -> 0 | CO14: =SUMIF($P$2:$AD$2,$CO$4,P14:AD14) -> 0 | CP14: =SUMIF($P$2:$AD$2,$CP$4,P14:AD14) -> 0 | CQ14: =SUMIF($P$2:$AD$2,$CQ$4,P14:AD14) -> 0 | CR14: =SUMIF($P$2:$AD$2,$CR$4,P14:AD14) -> 0 | CT14: =SUMIF($P$2:$AD$2,$CL$4,X14:AL14) -> 0 | CU14: =SUMIF($P$2:$AD$2,$CM$4,X14:AL14) -> 0 | CV14: =SUMIF($P$2:$AD$2,$CN$4,X14:AL14) -> 0 | CW14: =SUMIF($P$2:$AD$2,$CO$4,X14:AL14) -> 0 | CX14: =SUMIF($P$2:$AD$2,$CP$4,X14:AL14) -> 0 | CY14: =SUMIF($P$2:$AD$2,$CQ$4,X14:AL14) -> 0 | CZ14: =SUMIF($P$2:$AD$2,$CR$4,X14:AL14) -> 0 | DB14: =SUMIF($P$2:$AD$2,$CL$4,AF14:AT14) -> 0 | DC14: =SUMIF($P$2:$AD$2,$CM$4,AF14:AT14) -> 0 | DD14: =SUMIF($P$2:$AD$2,$CN$4,AF14:AT14) -> 0 | DE14: =SUMIF($P$2:$AD$2,$CO$4,AF14:AT14) -> 0 | DF14: =SUMIF($P$2:$AD$2,$CP$4,AF14:AT14) -> 0 | DG14: =SUMIF($P$2:$AD$2,$CQ$4,AF14:AT14) -> 0 | DH14: =SUMIF($P$2:$AD$2,$CR$4,AF14:AT14) -> 0 | DL14: =SUM(AH14:AN14) -> 0 | DM14: =SUM(AP14:AV14) -> 0 | DN14: =SUM(AX14:BD14) -> 0 | DO14: =SUM(BF14:BL14) -> 0 | DP14: =SUM(BN14:BT14) -> 0 | DQ14: =SUM(BV14:CB14) -> 0 | DR14: =SUM(CD14:CJ14) -> 0 | DS14: =SUM(CL14:CR14) -> 0 | DT14: =SUM(CT14:CZ14) -> 0 | DU14: =SUM(DB14:DH14) -> 0
B15: 10 | C15: Square Flat Basket | E15: D.W. Haber Ash Grey Teak (AG) DWFBWDBASK2SAG | F15: https://de.steelite.com/media/literature/brochures/dw-haber-fall-2019-23-oct-2019.pdf | I15: L W 14” | L15: =SUM(N15:AE15) -> 0 | AH15: =SUMIF($P$2:$AD$2,$AH$4,P15:AD15) -> 0 | AI15: =SUMIF($P$2:$AD$2,$AI$4,P15:AD15) -> 0 | AJ15: =SUMIF($P$2:$AD$2,$AJ$4,P15:AD15) -> 0 | AK15: =SUMIF($P$2:$AD$2,$AK$4,P15:AD15) -> 0 | AL15: =SUMIF($P$2:$AD$2,$AL$4,P15:AD15) -> 0 | AM15: =SUMIF($P$2:$AD$2,$AM$4,P15:AD15) -> 0 | AN15: =SUMIF($P$2:$AD$2,$AN$4,P15:AD15) -> 0 | AP15: =SUMIF($P$2:$AD$2,$AP$4,P15:AD15) -> 0 | AQ15: =SUMIF($P$2:$AD$2,$AP$4,P15:AD15) -> 0 | AR15: =SUMIF($P$2:$AD$2,$AP$4,P15:AD15) -> 0 | AS15: =SUMIF($P$2:$AD$2,$AS$4,P15:AD15) -> 0 | AT15: =SUMIF($P$2:$AD$2,$AT$4,P15:AD15) -> 0 | AU15: =SUMIF($P$2:$AD$2,$AU$4,P15:AD15) -> 0 | AV15: =SUMIF($P$2:$AD$2,$AV$4,P15:AD15) -> 0 | AX15: =SUMIF($P$2:$AD$2,$AX$4,P15:AD15) -> 0 | AY15: =SUMIF($P$2:$AD$2,$AY$4,P15:AD15) -> 0 | AZ15: =SUMIF($P$2:$AD$2,$AZ$4,P15:AD15) -> 0 | BA15: =SUMIF($P$2:$AD$2,$BA$4,P15:AD15) -> 0 | BB15: =SUMIF($P$2:$AD$2,$BB$4,P15:AD15) -> 0 | BC15: =SUMIF($P$2:$AD$2,$BC$4,P15:AD15) -> 0 | BD15: =SUMIF($P$2:$AD$2,$BD$4,P15:AD15) -> 0 | BF15: =SUMIF($P$2:$AD$2,$BF$4,P15:AD15) -> 0 | BG15: =SUMIF($P$2:$AD$2,$BG$4,P15:AD15) -> 0 | BH15: =SUMIF($P$2:$AD$2,$BH$4,P15:AD15) -> 0 | BI15: =SUMIF($P$2:$AD$2,$BI$4,P15:AD15) -> 0 | BJ15: =SUMIF($P$2:$AD$2,$BJ$4,P15:AD15) -> 0 | BK15: =SUMIF($P$2:$AD$2,$BK$4,P15:AD15) -> 0 | BL15: =SUMIF($P$2:$AD$2,$BL$4,P15:AD15) -> 0 | BN15: =SUMIF($P$2:$AD$2,$BN$4,P15:AD15) -> 0 | BO15: =SUMIF($P$2:$AD$2,$BO$4,P15:AD15) -> 0 | BP15: =SUMIF($P$2:$AD$2,$BP$4,P15:AD15) -> 0 | BQ15: =SUMIF($P$2:$AD$2,$BQ$4,P15:AD15) -> 0 | BR15: =SUMIF($P$2:$AD$2,$BR$4,P15:AD15) -> 0 | BS15: =SUMIF($P$2:$AD$2,$BS$4,P15:AD15) -> 0 | BT15: =SUMIF($P$2:$AD$2,$BT$4,P15:AD15) -> 0 | BV15: =SUMIF($P$2:$AD$2,$BV$4,P15:AD15) -> 0 | BW15: =SUMIF($P$2:$AD$2,$BW$4,P15:AD15) -> 0 | BX15: =SUMIF($P$2:$AD$2,$BX$4,P15:AD15) -> 0 | BY15: =SUMIF($P$2:$AD$2,$BY$4,P15:AD15) -> 0 | BZ15: =SUMIF($P$2:$AD$2,$BZ$4,P15:AD15) -> 0 | CA15: =SUMIF($P$2:$AD$2,$CA$4,P15:AD15) -> 0 | CB15: =SUMIF($P$2:$AD$2,$CB$4,P15:AD15) -> 0 | CD15: =SUMIF($P$2:$AD$2,$CD$4,P15:AD15) -> 0 | CE15: =SUMIF($P$2:$AD$2,$CE$4,P15:AD15) -> 0 | CF15: =SUMIF($P$2:$AD$2,$CF$4,P15:AD15) -> 0 | CG15: =SUMIF($P$2:$AD$2,$CG$4,P15:AD15) -> 0 | CH15: =SUMIF($P$2:$AD$2,$CH$4,P15:AD15) -> 0 | CI15: =SUMIF($P$2:$AD$2,$CI$4,P15:AD15) -> 0 | CJ15: =SUMIF($P$2:$AD$2,$CJ$4,P15:AD15) -> 0 | CL15: =SUMIF($P$2:$AD$2,$CL$4,P15:AD15) -> 0 | CM15: =SUMIF($P$2:$AD$2,$CM$4,P15:AD15) -> 0 | CN15: =SUMIF($P$2:$AD$2,$CN$4,P15:AD15) -> 0 | CO15: =SUMIF($P$2:$AD$2,$CO$4,P15:AD15) -> 0 | CP15: =SUMIF($P$2:$AD$2,$CP$4,P15:AD15) -> 0 | CQ15: =SUMIF($P$2:$AD$2,$CQ$4,P15:AD15) -> 0 | CR15: =SUMIF($P$2:$AD$2,$CR$4,P15:AD15) -> 0 | CT15: =SUMIF($P$2:$AD$2,$CL$4,X15:AL15) -> 0 | CU15: =SUMIF($P$2:$AD$2,$CM$4,X15:AL15) -> 0 | CV15: =SUMIF($P$2:$AD$2,$CN$4,X15:AL15) -> 0 | CW15: =SUMIF($P$2:$AD$2,$CO$4,X15:AL15) -> 0 | CX15: =SUMIF($P$2:$AD$2,$CP$4,X15:AL15) -> 0 | CY15: =SUMIF($P$2:$AD$2,$CQ$4,X15:AL15) -> 0 | CZ15: =SUMIF($P$2:$AD$2,$CR$4,X15:AL15) -> 0 | DB15: =SUMIF($P$2:$AD$2,$CL$4,AF15:AT15) -> 0 | DC15: =SUMIF($P$2:$AD$2,$CM$4,AF15:AT15) -> 0 | DD15: =SUMIF($P$2:$AD$2,$CN$4,AF15:AT15) -> 0 | DE15: =SUMIF($P$2:$AD$2,$CO$4,AF15:AT15) -> 0 | DF15: =SUMIF($P$2:$AD$2,$CP$4,AF15:AT15) -> 0 | DG15: =SUMIF($P$2:$AD$2,$CQ$4,AF15:AT15) -> 0 | DH15: =SUMIF($P$2:$AD$2,$CR$4,AF15:AT15) -> 0 | DL15: =SUM(AH15:AN15) -> 0 | DM15: =SUM(AP15:AV15) -> 0 | DN15: =SUM(AX15:BD15) -> 0 | DO15: =SUM(BF15:BL15) -> 0 | DP15: =SUM(BN15:BT15) -> 0 | DQ15: =SUM(BV15:CB15) -> 0 | DR15: =SUM(CD15:CJ15) -> 0 | DS15: =SUM(CL15:CR15) -> 0 | DT15: =SUM(CT15:CZ15) -> 0 | DU15: =SUM(DB15:DH15) -> 0
B16: 11 | C16: Bowl 10 cm | E16: Rosenthal Junto Pearl Grey | F16: https://www.rosenthal.de/de/p/bowl-10-cm-de-4/ | L16: =SUM(N16:AE16) -> 0 | AH16: =SUMIF($P$2:$AD$2,$AH$4,P16:AD16) -> 0 | AI16: =SUMIF($P$2:$AD$2,$AI$4,P16:AD16) -> 0 | AJ16: =SUMIF($P$2:$AD$2,$AJ$4,P16:AD16) -> 0 | AK16: =SUMIF($P$2:$AD$2,$AK$4,P16:AD16) -> 0 | AL16: =SUMIF($P$2:$AD$2,$AL$4,P16:AD16) -> 0 | AM16: =SUMIF($P$2:$AD$2,$AM$4,P16:AD16) -> 0 | AN16: =SUMIF($P$2:$AD$2,$AN$4,P16:AD16) -> 0 | AP16: =SUMIF($P$2:$AD$2,$AP$4,P16:AD16) -> 0 | AQ16: =SUMIF($P$2:$AD$2,$AP$4,P16:AD16) -> 0 | AR16: =SUMIF($P$2:$AD$2,$AP$4,P16:AD16) -> 0 | AS16: =SUMIF($P$2:$AD$2,$AS$4,P16:AD16) -> 0 | AT16: =SUMIF($P$2:$AD$2,$AT$4,P16:AD16) -> 0 | AU16: =SUMIF($P$2:$AD$2,$AU$4,P16:AD16) -> 0 | AV16: =SUMIF($P$2:$AD$2,$AV$4,P16:AD16) -> 0 | AX16: =SUMIF($P$2:$AD$2,$AX$4,P16:AD16) -> 0 | AY16: =SUMIF($P$2:$AD$2,$AY$4,P16:AD16) -> 0 | AZ16: =SUMIF($P$2:$AD$2,$AZ$4,P16:AD16) -> 0 | BA16: =SUMIF($P$2:$AD$2,$BA$4,P16:AD16) -> 0 | BB16: =SUMIF($P$2:$AD$2,$BB$4,P16:AD16) -> 0 | BC16: =SUMIF($P$2:$AD$2,$BC$4,P16:AD16) -> 0 | BD16: =SUMIF($P$2:$AD$2,$BD$4,P16:AD16) -> 0 | BF16: =SUMIF($P$2:$AD$2,$BF$4,P16:AD16) -> 0 | BG16: =SUMIF($P$2:$AD$2,$BG$4,P16:AD16) -> 0 | BH16: =SUMIF($P$2:$AD$2,$BH$4,P16:AD16) -> 0 | BI16: =SUMIF($P$2:$AD$2,$BI$4,P16:AD16) -> 0 | BJ16: =SUMIF($P$2:$AD$2,$BJ$4,P16:AD16) -> 0 | BK16: =SUMIF($P$2:$AD$2,$BK$4,P16:AD16) -> 0 | BL16: =SUMIF($P$2:$AD$2,$BL$4,P16:AD16) -> 0 | BN16: =SUMIF($P$2:$AD$2,$BN$4,P16:AD16) -> 0 | BO16: =SUMIF($P$2:$AD$2,$BO$4,P16:AD16) -> 0 | BP16: =SUMIF($P$2:$AD$2,$BP$4,P16:AD16) -> 0 | BQ16: =SUMIF($P$2:$AD$2,$BQ$4,P16:AD16) -> 0 | BR16: =SUMIF($P$2:$AD$2,$BR$4,P16:AD16) -> 0 | BS16: =SUMIF($P$2:$AD$2,$BS$4,P16:AD16) -> 0 | BT16: =SUMIF($P$2:$AD$2,$BT$4,P16:AD16) -> 0 | BV16: =SUMIF($P$2:$AD$2,$BV$4,P16:AD16) -> 0 | BW16: =SUMIF($P$2:$AD$2,$BW$4,P16:AD16) -> 0 | BX16: =SUMIF($P$2:$AD$2,$BX$4,P16:AD16) -> 0 | BY16: =SUMIF($P$2:$AD$2,$BY$4,P16:AD16) -> 0 | BZ16: =SUMIF($P$2:$AD$2,$BZ$4,P16:AD16) -> 0 | CA16: =SUMIF($P$2:$AD$2,$CA$4,P16:AD16) -> 0 | CB16: =SUMIF($P$2:$AD$2,$CB$4,P16:AD16) -> 0 | CD16: =SUMIF($P$2:$AD$2,$CD$4,P16:AD16) -> 0 | CE16: =SUMIF($P$2:$AD$2,$CE$4,P16:AD16) -> 0 | CF16: =SUMIF($P$2:$AD$2,$CF$4,P16:AD16) -> 0 | CG16: =SUMIF($P$2:$AD$2,$CG$4,P16:AD16) -> 0 | CH16: =SUMIF($P$2:$AD$2,$CH$4,P16:AD16) -> 0 | CI16: =SUMIF($P$2:$AD$2,$CI$4,P16:AD16) -> 0 | CJ16: =SUMIF($P$2:$AD$2,$CJ$4,P16:AD16) -> 0 | CL16: =SUMIF($P$2:$AD$2,$CL$4,P16:AD16) -> 0 | CM16: =SUMIF($P$2:$AD$2,$CM$4,P16:AD16) -> 0 | CN16: =SUMIF($P$2:$AD$2,$CN$4,P16:AD16) -> 0 | CO16: =SUMIF($P$2:$AD$2,$CO$4,P16:AD16) -> 0 | CP16: =SUMIF($P$2:$AD$2,$CP$4,P16:AD16) -> 0 | CQ16: =SUMIF($P$2:$AD$2,$CQ$4,P16:AD16) -> 0 | CR16: =SUMIF($P$2:$AD$2,$CR$4,P16:AD16) -> 0 | CT16: =SUMIF($P$2:$AD$2,$CL$4,X16:AL16) -> 0 | CU16: =SUMIF($P$2:$AD$2,$CM$4,X16:AL16) -> 0 | CV16: =SUMIF($P$2:$AD$2,$CN$4,X16:AL16) -> 0 | CW16: =SUMIF($P$2:$AD$2,$CO$4,X16:AL16) -> 0 | CX16: =SUMIF($P$2:$AD$2,$CP$4,X16:AL16) -> 0 | CY16: =SUMIF($P$2:$AD$2,$CQ$4,X16:AL16) -> 0 | CZ16: =SUMIF($P$2:$AD$2,$CR$4,X16:AL16) -> 0 | DB16: =SUMIF($P$2:$AD$2,$CL$4,AF16:AT16) -> 0 | DC16: =SUMIF($P$2:$AD$2,$CM$4,AF16:AT16) -> 0 | DD16: =SUMIF($P$2:$AD$2,$CN$4,AF16:AT16) -> 0 | DE16: =SUMIF($P$2:$AD$2,$CO$4,AF16:AT16) -> 0 | DF16: =SUMIF($P$2:$AD$2,$CP$4,AF16:AT16) -> 0 | DG16: =SUMIF($P$2:$AD$2,$CQ$4,AF16:AT16) -> 0 | DH16: =SUMIF($P$2:$AD$2,$CR$4,AF16:AT16) -> 0 | DL16: =SUM(AH16:AN16) -> 0 | DM16: =SUM(AP16:AV16) -> 0 | DN16: =SUM(AX16:BD16) -> 0 | DO16: =SUM(BF16:BL16) -> 0 | DP16: =SUM(BN16:BT16) -> 0 | DQ16: =SUM(BV16:CB16) -> 0 | DR16: =SUM(CD16:CJ16) -> 0 | DS16: =SUM(CL16:CR16) -> 0 | DT16: =SUM(CT16:CZ16) -> 0 | DU16: =SUM(DB16:DH16) -> 0
