Workbook

Sheet Master
B1: ORDER NUMBER 128 2019-01-23 - 2019-01-30 Equipment for the Rugby World Cup Showcase. Round up or down the number in order to make sure the boxes are filled up. Disposable we can order directly from Solia Japan. Need more option than on our website
C2: EQUIPMENT OVERVIEW Controlled by: Date: Signature: | J2: Disposable | L2: Qty total | N2: Press Cafe Ebene 0 | P2: Hauptküche Ebene 1 | Q2: Buffet 1.1 U Shape | R2: Buffet 1.2. I Shape | S2: Buffet 1.3. I Shape | T2: Buffet 1.4. U Shape | U2: Special Buffet I Burger Buffet | V2: Special Buffet II Handkäse Buffet | W2: Relais Küche Ebene 1 | Y2: Buffet 2.1. I Shape | Z2: Buffet 2.2. I Shape | AA2: Buffet 2.3.1. I Shape | AB2: Buffet 2.3.2 I Shape | AC2: Buffet 2.3. I Shape | AD2: Buffet 2.4. I Shape | AE2: Relais Küche Eben 2 | AG2: Relais Küche Ebene 3 | AH2: Buffet 3.1. I Shape | AI2: Buffet 3.2. I Shape | AJ2: Buffet 3.3. Live Cooking Table | AL2: Logen Eben 2 & 3 | AN2: Adler Viktoria Ebene 3 | AQ2: Legende | BE2: Buffet U Shape
C4: EQ BUFET & TABLE TOP | L4: =L2 -> Qty total | N4: =N2 -> Press Cafe Ebene 0 | P4: =P2 -> Hauptküche Ebene 1 | Q4: =AQ4 -> Buffet U Shape | R4: =AR4 -> Buffet I Shape 1 | S4: =AS4 -> Buffet I Shape I2 | T4: =AT4 -> F & B I Shape I3 | U4: =AS4 -> Buffet I Shape I2 | V4: =AR4 -> Buffet I Shape 1 | W4: =AQ4 -> Buffet U Shape | Y4: ='EQ Buffet & Table Top'!AR2 -> Buffet I Shape 1 | Z4: Buffet I Shape 1 | AA4: Buffet I Shape I6 | AB4: Buffet I Shape 1 | AC4: Buffet I Shape I5 | AD4: Buffet I Shape I4 | AE4: Relais Küche Ebene 2 | AG4: =AG2 -> Relais Küche Ebene 3 | AH4: =AH2 -> Buffet 3.1. I Shape | AI4: =AI2 -> Buffet 3.2. I Shape | AJ4: =AJ2 -> Buffet 3.3. Live Cooking Table | AL4: =AL2 -> Logen Eben 2 & 3 | AN4: =AN2 -> Adler Viktoria Ebene 3 | AQ4: Buffet U Shape | AR4: Buffet I Shape 1 | AS4: Buffet I Shape I2 | AT4: F & B I Shape I3 | AU4: Buffet I Shape I4 | AV4: Buffet I Shape I5 | AZ4: Buffet I Shape I6 | BA4: Buffet I Shape I7 | BB4: Buffet L Shape E2_1 Bar & Buffet | BC4: Buffet L Shape E2_2 Bar & Buffet
B5: # | C5: Designation | D5: Picture | G5: Power (kW) | H5: Price/Unit | I5: Size
B6: 1 | C6: ='EQ Buffet & Table Top'!C6 -> Square Riser | E6: ='EQ Buffet & Table Top'!E6 -> D.W. Haber Ash Grey Teak (AG) DWFB147WDAG | F6: ='EQ Buffet & Table Top'!F6 -> https://de.steelite.com/media/literature/brochures/dw-haber-fall-2019-23-oct-2019.pdf | G6: ='EQ Buffet & Table Top'!G6 -> 0 | H6: ='EQ Buffet & Table Top'!H6 -> 0 | I6: ='EQ Buffet & Table Top'!I6 -> L W 14” H 7” | L6: =SUM(N6:AN6) -> #VALUE! | N6: ='EQ Buffet & Table Top'!N6 -> 0 | Q6: =INDEX($AQ6:$BC6,MATCH(Q$4,$AQ$4:$BC$4,0)) -> 5 | R6: =INDEX($AQ6:$BC6,MATCH(R$4,$AQ$4:$BC$4,0)) -> 3 | S6: =INDEX($AQ6:$BC6,MATCH(S$4,$AQ$4:$BC$4,0)) -> 5 | T6: =INDEX($AQ6:$BC6,MATCH(T$4,$AQ$4:$BC$4,0)) -> 1 | U6: =INDEX($AQ6:$BC6,MATCH(U$4,$AQ$4:$BC$4,0)) -> 5 | V6: =INDEX($AQ6:$BC6,MATCH(V$4,$AQ$4:$BC$4,0)) -> 3 | W6: =INDEX($AQ6:$BC6,MATCH(W$4,$AQ$4:$BC$4,0)) -> 5 | Y6: =SUMIF($AQ$4:$BC$4,$Y$4,AU6) -> 4 | Z6: {=IF((Y4:AE4,AQ4,AQ6),IF(Y4:AE4,AR4,AR6))} -> #VALUE! | AA6: ='EQ Buffet & Table Top'!AA6 -> 1 | AB6: ='EQ Buffet & Table Top'!AB6 -> 0 | AC6: ='EQ Buffet & Table Top'!AC6 -> 0 | AD6: ='EQ Buffet & Table Top'!AD6 -> 0 | AE6: ='EQ Buffet & Table Top'!AD6 -> 0 | AG6: ='EQ Buffet & Table Top'!#REF! -> #REF! | AH6: {=SUMMWENN(AQ4:BC4,Y4:AE4,AQ6:BC6)} -> #NAME? | AI6: ='EQ Buffet & Table Top'!#REF! -> #REF! | AJ6: ='EQ Buffet & Table Top'!#REF! -> #REF! | AL6: ='EQ Buffet & Table Top'!#REF! -> #REF! | AN6: ='EQ Buffet & Table Top'!#REF! -> #REF! | AQ6: ='EQ Buffet & Table Top'!DL6 -> 5 | AR6: ='EQ Buffet & Table Top'!DM6 -> 3 | AS6: ='EQ Buffet & Table Top'!DN6 -> 5 | AT6: ='EQ Buffet & Table Top'!DO6 -> 1 | AU6: ='EQ Buffet & Table Top'!DP6 -> 4 | AV6: ='EQ Buffet & Table Top'!DQ6 -> 4 | AW6: ='EQ Buffet & Table Top'!DR6 -> 3 | AX6: ='EQ Buffet & Table Top'!DS6 -> 4 | ... BA6: ='EQ Buffet & Table Top'!DV6 -> 0 | BB6: ='EQ Buffet & Table Top'!DY6 -> 0 | BC6: ='EQ Buffet & Table Top'!DZ6 -> 0
B7: 2 | C7: ='EQ Buffet & Table Top'!C7 -> Square Riser | E7: ='EQ Buffet & Table Top'!E7 -> D.W. Haber Ash Grey Teak (AG) DWFB145WDAG | F7: ='EQ Buffet & Table Top'!F7 -> https://de.steelite.com/media/literature/brochures/dw-haber-fall-2019-23-oct-2019.pdf | G7: ='EQ Buffet & Table Top'!G7 -> 0 | H7: ='EQ Buffet & Table Top'!H7 -> 0 | I7: ='EQ Buffet & Table Top'!I7 -> L W 14” H 5” | L7: =SUM(N7:AN7) -> #REF! | N7: ='EQ Buffet & Table Top'!N7 -> 0 | Q7: =INDEX($AQ6:$BC6,MATCH(Q$4,$AQ$4:$BC$4,0)) -> 5 | R7: =SUMIF($AQ$4:$BC$4,$R$4,AR7) -> 0 | S7: =SUMIF($AQ$4:$BC$4,$S$4,AS7) -> 0 | T7: =SUMIF($AQ$4:$BC$4,$T$4,AT7) -> 0 | U7: =SUMIF($AQ$4:$BC$4,$U$4,AS7) -> 0 | V7: =SUMIF($AQ$4:$BC$4,$V$4,AR7) -> 0 | W7: =SUMIF($AQ$4:$BC$4,$W$4,AQ7) -> 0 | Y7: ='EQ Buffet & Table Top'!Y7 -> 0 | Z7: ='EQ Buffet & Table Top'!Z7 -> 0 | AA7: ='EQ Buffet & Table Top'!AA7 -> 0 | AB7: ='EQ Buffet & Table Top'!AB7 -> 0 | AC7: ='EQ Buffet & Table Top'!AC7 -> 0 | AD7: ='EQ Buffet & Table Top'!AD7 -> 0 | AE7: ='EQ Buffet & Table Top'!AD7 -> 0 | AG7: ='EQ Buffet & Table Top'!#REF! -> #REF! | AH7: ='EQ Buffet & Table Top'!#REF! -> #REF! | AI7: ='EQ Buffet & Table Top'!#REF! -> #REF! | AJ7: ='EQ Buffet & Table Top'!#REF! -> #REF! | AL7: ='EQ Buffet & Table Top'!#REF! -> #REF! | AN7: ='EQ Buffet & Table Top'!#REF! -> #REF! | AQ7: ='EQ Buffet & Table Top'!DL7 -> 0 | AR7: ='EQ Buffet & Table Top'!DM7 -> 0 | AS7: ='EQ Buffet & Table Top'!DN7 -> 0 | AT7: ='EQ Buffet & Table Top'!DO7 -> 0 | AU7: ='EQ Buffet & Table Top'!DP7 -> 0 | AV7: ='EQ Buffet & Table Top'!DQ7 -> 0 | AW7: ='EQ Buffet & Table Top'!DR7 -> 0 | AX7: ='EQ Buffet & Table Top'!DS7 -> 0 | ... BA7: ='EQ Buffet & Table Top'!DV7 -> 0 | BB7: ='EQ Buffet & Table Top'!DY7 -> 0 | BC7: ='EQ Buffet & Table Top'!DZ7 -> 0
B8: 3 | C8: ='EQ Buffet & Table Top'!C8 -> Square Riser | E8: ='EQ Buffet & Table Top'!E8 -> D.W. Haber Ash Grey Teak (AG) DWFB116WDAG | F8: ='EQ Buffet & Table Top'!F8 -> https://de.steelite.com/media/literature/brochures/dw-haber-fall-2019-23-oct-2019.pdf | G8: ='EQ Buffet & Table Top'!G8 -> 0 | H8: ='EQ Buffet & Table Top'!H8 -> 0 | I8: ='EQ Buffet & Table Top'!I8 -> L W 11” H 6” | L8: =SUM(N8:AN8) -> #REF! | N8: ='EQ Buffet & Table Top'!N8 -> 0 | Q8: =SUMIF($AQ$4:$BC$4,$Q$4,AQ8) -> 0 | R8: =SUMIF($AQ$4:$BC$4,$R$4,AR8) -> 0 | S8: =SUMIF($AQ$4:$BC$4,$S$4,AS8) -> 0 | T8: =SUMIF($AQ$4:$BC$4,$T$4,AT8) -> 0 | U8: =SUMIF($AQ$4:$BC$4,$U$4,AS8) -> 0 | V8: =SUMIF($AQ$4:$BC$4,$V$4,AR8) -> 0 | W8: =SUMIF($AQ$4:$BC$4,$W$4,AQ8) -> 0 | Y8: ='EQ Buffet & Table Top'!Y8 -> 0 | Z8: ='EQ Buffet & Table Top'!Z8 -> 0 | AA8: ='EQ Buffet & Table Top'!AA8 -> 0 | AB8: ='EQ Buffet & Table Top'!AB8 -> 0 | AC8: ='EQ Buffet & Table Top'!AC8 -> 0 | AD8: ='EQ Buffet & Table Top'!AD8 -> 0 | AE8: ='EQ Buffet & Table Top'!AD8 -> 0 | AG8: ='EQ Buffet & Table Top'!#REF! -> #REF! | AH8: ='EQ Buffet & Table Top'!#REF! -> #REF! | AI8: ='EQ Buffet & Table Top'!#REF! -> #REF! | AJ8: ='EQ Buffet & Table Top'!#REF! -> #REF! | AL8: ='EQ Buffet & Table Top'!#REF! -> #REF! | AN8: ='EQ Buffet & Table Top'!#REF! -> #REF! | AQ8: ='EQ Buffet & Table Top'!DL8 -> 0 | AR8: ='EQ Buffet & Table Top'!DM8 -> 0 | AS8: ='EQ Buffet & Table Top'!DN8 -> 0 | AT8: ='EQ Buffet & Table Top'!DO8 -> 0 | AU8: ='EQ Buffet & Table Top'!DP8 -> 0 | AV8: ='EQ Buffet & Table Top'!DQ8 -> 0 | AW8: ='EQ Buffet & Table Top'!DR8 -> 0 | AX8: ='EQ Buffet & Table Top'!DS8 -> 0 | ... BA8: ='EQ Buffet & Table Top'!DV8 -> 0 | BB8: ='EQ Buffet & Table Top'!DY8 -> 0 | BC8: ='EQ Buffet & Table Top'!DZ8 -> 0
B9: 4 | C9: ='EQ Buffet & Table Top'!C9 -> Square Riser | E9: ='EQ Buffet & Table Top'!E9 -> D.W. Haber Ash Grey Teak (AG) DWFB66WDAG | F9: ='EQ Buffet & Table Top'!F9 -> https://de.steelite.com/media/literature/brochures/dw-haber-fall-2019-23-oct-2019.pdf | G9: ='EQ Buffet & Table Top'!G9 -> 0 | H9: ='EQ Buffet & Table Top'!H9 -> 0 | I9: ='EQ Buffet & Table Top'!I9 -> L W 6” H 6” | L9: =SUM(N9:AN9) -> #REF! | N9: ='EQ Buffet & Table Top'!N9 -> 0 | Q9: =SUMIF($AQ$4:$BC$4,$Q$4,AQ9) -> 0 | R9: =SUMIF($AQ$4:$BC$4,$R$4,AR9) -> 0 | S9: =SUMIF($AQ$4:$BC$4,$S$4,AS9) -> 0 | T9: =SUMIF($AQ$4:$BC$4,$T$4,AT9) -> 0 | U9: =SUMIF($AQ$4:$BC$4,$U$4,AS9) -> 0 | V9: =SUMIF($AQ$4:$BC$4,$V$4,AR9) -> 0 | W9: =SUMIF($AQ$4:$BC$4,$W$4,AQ9) -> 0 | Y9: ='EQ Buffet & Table Top'!Y9 -> 0 | Z9: ='EQ Buffet & Table Top'!Z9 -> 0 | AA9: ='EQ Buffet & Table Top'!AA9 -> 0 | AB9: ='EQ Buffet & Table Top'!AB9 -> 0 | AC9: ='EQ Buffet & Table Top'!AC9 -> 0 | AD9: ='EQ Buffet & Table Top'!AD9 -> 0 | AE9: ='EQ Buffet & Table Top'!AD9 -> 0 | AG9: ='EQ Buffet & Table Top'!#REF! -> #REF! | AH9: ='EQ Buffet & Table Top'!#REF! -> #REF! | AI9: ='EQ Buffet & Table Top'!#REF! -> #REF! | AJ9: ='EQ Buffet & Table Top'!#REF! -> #REF! | AL9: ='EQ Buffet & Table Top'!#REF! -> #REF! | AN9: ='EQ Buffet & Table Top'!#REF! -> #REF! | AQ9: ='EQ Buffet & Table Top'!DL9 -> 0 | AR9: ='EQ Buffet & Table Top'!DM9 -> 0 | AS9: ='EQ Buffet & Table Top'!DN9 -> 0 | AT9: ='EQ Buffet & Table Top'!DO9 -> 0 | AU9: ='EQ Buffet & Table Top'!DP9 -> 0 | AV9: ='EQ Buffet & Table Top'!DQ9 -> 0 | AW9: ='EQ Buffet & Table Top'!DR9 -> 0 | AX9: ='EQ Buffet & Table Top'!DS9 -> 0 | ... BA9: ='EQ Buffet & Table Top'!DV9 -> 0 | BB9: ='EQ Buffet & Table Top'!DY9 -> 0 | BC9: ='EQ Buffet & Table Top'!DZ9 -> 0
B10: 5 | C10: ='EQ Buffet & Table Top'!C10 -> Square Tile | E10: ='EQ Buffet & Table Top'!E10 -> D.W. Haber Ash Grey Teak (AG) DWFBWD1414SAG | F10: ='EQ Buffet & Table Top'!F10 -> https://de.steelite.com/media/literature/brochures/dw-haber-fall-2019-23-oct-2019.pdf | G10: ='EQ Buffet & Table Top'!G10 -> 0 | H10: ='EQ Buffet & Table Top'!H10 -> 0 | I10: ='EQ Buffet & Table Top'!I10 -> L W 14” | L10: =SUM(N10:AN10) -> #REF! | N10: ='EQ Buffet & Table Top'!N10 -> 0 | Q10: =SUMIF($AQ$4:$BC$4,$Q$4,AQ10) -> 0 | R10: =SUMIF($AQ$4:$BC$4,$R$4,AR10) -> 0 | S10: =SUMIF($AQ$4:$BC$4,$S$4,AS10) -> 0 | T10: =SUMIF($AQ$4:$BC$4,$T$4,AT10) -> 0 | U10: =SUMIF($AQ$4:$BC$4,$U$4,AS10) -> 0 | V10: =SUMIF($AQ$4:$BC$4,$V$4,AR10) -> 0 | W10: =SUMIF($AQ$4:$BC$4,$W$4,AQ10) -> 0 | Y10: ='EQ Buffet & Table Top'!Y10 -> 0 | Z10: ='EQ Buffet & Table Top'!Z10 -> 0 | AA10: ='EQ Buffet & Table Top'!AA10 -> 0 | AB10: ='EQ Buffet & Table Top'!AB10 -> 0 | AC10: ='EQ Buffet & Table Top'!AC10 -> 0 | AD10: ='EQ Buffet & Table Top'!AD10 -> 0 | AE10: ='EQ Buffet & Table Top'!AD10 -> 0 | AG10: ='EQ Buffet & Table Top'!#REF! -> #REF! | AH10: ='EQ Buffet & Table Top'!#REF! -> #REF! | AI10: ='EQ Buffet & Table Top'!#REF! -> #REF! | AJ10: ='EQ Buffet & Table Top'!#REF! -> #REF! | AL10: ='EQ Buffet & Table Top'!#REF! -> #REF! | AN10: ='EQ Buffet & Table Top'!#REF! -> #REF! | AQ10: ='EQ Buffet & Table Top'!DL10 -> 0 | AR10: ='EQ Buffet & Table Top'!DM10 -> 0 | AS10: ='EQ Buffet & Table Top'!DN10 -> 0 | AT10: ='EQ Buffet & Table Top'!DO10 -> 0 | AU10: ='EQ Buffet & Table Top'!DP10 -> 0 | AV10: ='EQ Buffet & Table Top'!DQ10 -> 0 | AW10: ='EQ Buffet & Table Top'!DR10 -> 0 | AX10: ='EQ Buffet & Table Top'!DS10 -> 0 | ... BA10: ='EQ Buffet & Table Top'!DV10 -> 0 | BB10: ='EQ Buffet & Table Top'!DY10 -> 0 | BC10: ='EQ Buffet & Table Top'!DZ10 -> 0
B11: 6 | C11: ='EQ Buffet & Table Top'!C11 -> Square Tile | E11: ='EQ Buffet & Table Top'!E11 -> D.W. Haber Ash Grey Teak (AG) DWFBWD1111SAG | F11: ='EQ Buffet & Table Top'!F11 -> https://de.steelite.com/media/literature/brochures/dw-haber-fall-2019-23-oct-2019.pdf | G11: ='EQ Buffet & Table Top'!G11 -> 0 | H11: ='EQ Buffet & Table Top'!H11 -> 0 | I11: ='EQ Buffet & Table Top'!I11 -> L W 11” | L11: =SUM(N11:AN11) -> #REF! | N11: ='EQ Buffet & Table Top'!N11 -> 0 | Q11: =SUMIF($AQ$4:$BC$4,$Q$4,AQ11) -> 0 | R11: =SUMIF($AQ$4:$BC$4,$R$4,AR11) -> 0 | S11: =SUMIF($AQ$4:$BC$4,$S$4,AS11) -> 0 | T11: =SUMIF($AQ$4:$BC$4,$T$4,AT11) -> 0 | U11: =SUMIF($AQ$4:$BC$4,$U$4,AS11) -> 0 | V11: =SUMIF($AQ$4:$BC$4,$V$4,AR11) -> 0 | W11: =SUMIF($AQ$4:$BC$4,$W$4,AQ11) -> 0 | Y11: ='EQ Buffet & Table Top'!Y11 -> 0 | Z11: ='EQ Buffet & Table Top'!Z11 -> 0 | AA11: ='EQ Buffet & Table Top'!AA11 -> 0 | AB11: ='EQ Buffet & Table Top'!AB11 -> 0 | AC11: ='EQ Buffet & Table Top'!AC11 -> 0 | AD11: ='EQ Buffet & Table Top'!AD11 -> 0 | AE11: ='EQ Buffet & Table Top'!AD11 -> 0 | AG11: ='EQ Buffet & Table Top'!#REF! -> #REF! | AH11: ='EQ Buffet & Table Top'!#REF! -> #REF! | AI11: ='EQ Buffet & Table Top'!#REF! -> #REF! | AJ11: ='EQ Buffet & Table Top'!#REF! -> #REF! | AL11: ='EQ Buffet & Table Top'!#REF! -> #REF! | AN11: ='EQ Buffet & Table Top'!#REF! -> #REF! | AQ11: ='EQ Buffet & Table Top'!DL11 -> 0 | AR11: ='EQ Buffet & Table Top'!DM11 -> 0 | AS11: ='EQ Buffet & Table Top'!DN11 -> 0 | AT11: ='EQ Buffet & Table Top'!DO11 -> 0 | AU11: ='EQ Buffet & Table Top'!DP11 -> 0 | AV11: ='EQ Buffet & Table Top'!DQ11 -> 0 | AW11: ='EQ Buffet & Table Top'!DR11 -> 0 | AX11: ='EQ Buffet & Table Top'!DS11 -> 0 | ... BA11: ='EQ Buffet & Table Top'!DV11 -> 0 | BB11: ='EQ Buffet & Table Top'!DY11 -> 0 | BC11: ='EQ Buffet & Table Top'!DZ11 -> 0
B12: 7 | C12: ='EQ Buffet & Table Top'!C12 -> Square Tile | E12: ='EQ Buffet & Table Top'!E12 -> D.W. Haber Ash Grey Teak (AG) DWFBWD66SAG | F12: ='EQ Buffet & Table Top'!F12 -> https://de.steelite.com/media/literature/brochures/dw-haber-fall-2019-23-oct-2019.pdf | G12: ='EQ Buffet & Table Top'!G12 -> 0 | H12: ='EQ Buffet & Table Top'!H12 -> 0 | I12: ='EQ Buffet & Table Top'!I12 -> L W 6” | L12: =SUM(N12:AN12) -> #REF! | N12: ='EQ Buffet & Table Top'!N12 -> 0 | Q12: =SUMIF($AQ$4:$BC$4,$Q$4,AQ12) -> 0 | R12: =SUMIF($AQ$4:$BC$4,$R$4,AR12) -> 0 | S12: =SUMIF($AQ$4:$BC$4,$S$4,AS12) -> 0 | T12: =SUMIF($AQ$4:$BC$4,$T$4,AT12) -> 0 | U12: =SUMIF($AQ$4:$BC$4,$U$4,AS12) -> 0 | V12: =SUMIF($AQ$4:$BC$4,$V$4,AR12) -> 0 | W12: =SUMIF($AQ$4:$BC$4,$W$4,AQ12) -> 0 | Y12: ='EQ Buffet & Table Top'!Y12 -> 0 | Z12: ='EQ Buffet & Table Top'!Z12 -> 0 | AA12: ='EQ Buffet & Table Top'!AA12 -> 0 | AB12: ='EQ Buffet & Table Top'!AB12 -> 0 | AC12: ='EQ Buffet & Table Top'!AC12 -> 0 | AD12: ='EQ Buffet & Table Top'!AD12 -> 0 | AE12: ='EQ Buffet & Table Top'!AD12 -> 0 | AG12: ='EQ Buffet & Table Top'!#REF! -> #REF! | AH12: ='EQ Buffet & Table Top'!#REF! -> #REF! | AI12: ='EQ Buffet & Table Top'!#REF! -> #REF! | AJ12: ='EQ Buffet & Table Top'!#REF! -> #REF! | AL12: ='EQ Buffet & Table Top'!#REF! -> #REF! | AN12: ='EQ Buffet & Table Top'!#REF! -> #REF! | AQ12: ='EQ Buffet & Table Top'!DL12 -> 0 | AR12: ='EQ Buffet & Table Top'!DM12 -> 0 | AS12: ='EQ Buffet & Table Top'!DN12 -> 0 | AT12: ='EQ Buffet & Table Top'!DO12 -> 0 | AU12: ='EQ Buffet & Table Top'!DP12 -> 0 | AV12: ='EQ Buffet & Table Top'!DQ12 -> 0 | AW12: ='EQ Buffet & Table Top'!DR12 -> 0 | AX12: ='EQ Buffet & Table Top'!DS12 -> 0 | ... BA12: ='EQ Buffet & Table Top'!DV12 -> 0 | BB12: ='EQ Buffet & Table Top'!DY12 -> 0 | BC12: ='EQ Buffet & Table Top'!DZ12 -> 0
B13: 8 | C13: ='EQ Buffet & Table Top'!C13 -> Square Tile | E13: ='EQ Buffet & Table Top'!E13 -> D.W. Haber Ash Grey Teak (AG) DWFBWD2411SAG | F13: ='EQ Buffet & Table Top'!F13 -> https://de.steelite.com/media/literature/brochures/dw-haber-fall-2019-23-oct-2019.pdf | G13: ='EQ Buffet & Table Top'!G13 -> 0 | H13: ='EQ Buffet & Table Top'!H13 -> 0 | I13: ='EQ Buffet & Table Top'!I13 -> L 24” W 11” | L13: =SUM(N13:AN13) -> #REF! | N13: ='EQ Buffet & Table Top'!N13 -> 0 | Q13: =SUMIF($AQ$4:$BC$4,$Q$4,AQ13) -> 0 | R13: =SUMIF($AQ$4:$BC$4,$R$4,AR13) -> 0 | S13: =SUMIF($AQ$4:$BC$4,$S$4,AS13) -> 0 | T13: =SUMIF($AQ$4:$BC$4,$T$4,AT13) -> 0 | U13: =SUMIF($AQ$4:$BC$4,$U$4,AS13) -> 0 | V13: =SUMIF($AQ$4:$BC$4,$V$4,AR13) -> 0 | W13: =SUMIF($AQ$4:$BC$4,$W$4,AQ13) -> 0 | Y13: ='EQ Buffet & Table Top'!Y13 -> 0 | Z13: ='EQ Buffet & Table Top'!Z13 -> 0 | AA13: ='EQ Buffet & Table Top'!AA13 -> 0 | AB13: ='EQ Buffet & Table Top'!AB13 -> 0 | AC13: ='EQ Buffet & Table Top'!AC13 -> 0 | AD13: ='EQ Buffet & Table Top'!AD13 -> 0 | AE13: ='EQ Buffet & Table Top'!AD13 -> 0 | AG13: ='EQ Buffet & Table Top'!#REF! -> #REF! | AH13: ='EQ Buffet & Table Top'!#REF! -> #REF! | AI13: ='EQ Buffet & Table Top'!#REF! -> #REF! | AJ13: ='EQ Buffet & Table Top'!#REF! -> #REF! | AL13: ='EQ Buffet & Table Top'!#REF! -> #REF! | AN13: ='EQ Buffet & Table Top'!#REF! -> #REF! | AQ13: ='EQ Buffet & Table Top'!DL13 -> 0 | AR13: ='EQ Buffet & Table Top'!DM13 -> 0 | AS13: ='EQ Buffet & Table Top'!DN13 -> 0 | AT13: ='EQ Buffet & Table Top'!DO13 -> 0 | AU13: ='EQ Buffet & Table Top'!DP13 -> 0 | AV13: ='EQ Buffet & Table Top'!DQ13 -> 0 | AW13: ='EQ Buffet & Table Top'!DR13 -> 0 | AX13: ='EQ Buffet & Table Top'!DS13 -> 0 | ... BA13: ='EQ Buffet & Table Top'!DV13 -> 0 | BB13: ='EQ Buffet & Table Top'!DY13 -> 0 | BC13: ='EQ Buffet & Table Top'!DZ13 -> 0
B14: 9 | C14: ='EQ Buffet & Table Top'!C14 -> Square Bread Basket Angled | E14: ='EQ Buffet & Table Top'!E14 -> D.W. Haber Ash Grey Teak (AG) DWFBWDBASK1SAG | F14: ='EQ Buffet & Table Top'!F14 -> https://de.steelite.com/media/literature/brochures/dw-haber-fall-2019-23-oct-2019.pdf | G14: ='EQ Buffet & Table Top'!G14 -> 0 | H14: ='EQ Buffet & Table Top'!H14 -> 0 | I14: ='EQ Buffet & Table Top'!I14 -> L W 14” | L14: =SUM(N14:AN14) -> #REF! | N14: ='EQ Buffet & Table Top'!N14 -> 0 | Q14: =SUMIF($AQ$4:$BC$4,$Q$4,AQ14) -> 0 | R14: =SUMIF($AQ$4:$BC$4,$R$4,AR14) -> 0 | S14: =SUMIF($AQ$4:$BC$4,$S$4,AS14) -> 0 | T14: =SUMIF($AQ$4:$BC$4,$T$4,AT14) -> 0 | U14: =SUMIF($AQ$4:$BC$4,$U$4,AS14) -> 0 | V14: =SUMIF($AQ$4:$BC$4,$V$4,AR14) -> 0 | W14: =SUMIF($AQ$4:$BC$4,$W$4,AQ14) -> 0 | Y14: ='EQ Buffet & Table Top'!Y14 -> 0 | Z14: ='EQ Buffet & Table Top'!Z14 -> 0 | AA14: ='EQ Buffet & Table Top'!AA14 -> 0 | AB14: ='EQ Buffet & Table Top'!AB14 -> 0 | AC14: ='EQ Buffet & Table Top'!AC14 -> 0 | AD14: ='EQ Buffet & Table Top'!AD14 -> 0 | AE14: ='EQ Buffet & Table Top'!AD14 -> 0 | AG14: ='EQ Buffet & Table Top'!#REF! -> #REF! | AH14: ='EQ Buffet & Table Top'!#REF! -> #REF! | AI14: ='EQ Buffet & Table Top'!#REF! -> #REF! | AJ14: ='EQ Buffet & Table Top'!#REF! -> #REF! | AL14: ='EQ Buffet & Table Top'!#REF! -> #REF! | AN14: ='EQ Buffet & Table Top'!#REF! -> #REF! | AQ14: ='EQ Buffet & Table Top'!DL14 -> 0 | AR14: ='EQ Buffet & Table Top'!DM14 -> 0 | AS14: ='EQ Buffet & Table Top'!DN14 -> 0 | AT14: ='EQ Buffet & Table Top'!DO14 -> 0 | AU14: ='EQ Buffet & Table Top'!DP14 -> 0 | AV14: ='EQ Buffet & Table Top'!DQ14 -> 0 | AW14: ='EQ Buffet & Table Top'!DR14 -> 0 | AX14: ='EQ Buffet & Table Top'!DS14 -> 0 | ... BA14: ='EQ Buffet & Table Top'!DV14 -> 0 | BB14: ='EQ Buffet & Table Top'!DY14 -> 0 | BC14: ='EQ Buffet & Table Top'!DZ14 -> 0
B15: 10 | C15: ='EQ Buffet & Table Top'!C15 -> Square Flat Basket | E15: ='EQ Buffet & Table Top'!E15 -> D.W. Haber Ash Grey Teak (AG) DWFBWDBASK2SAG | F15: ='EQ Buffet & Table Top'!F15 -> https://de.steelite.com/media/literature/brochures/dw-haber-fall-2019-23-oct-2019.pdf | G15: ='EQ Buffet & Table Top'!G15 -> 0 | H15: ='EQ Buffet & Table Top'!H15 -> 0 | I15: ='EQ Buffet & Table Top'!I15 -> L W 14” | L15: =SUM(N15:AN15) -> #REF! | N15: ='EQ Buffet & Table Top'!N15 -> 0 | Q15: =SUMIF($AQ$4:$BC$4,$Q$4,AQ15) -> 0 | R15: =SUMIF($AQ$4:$BC$4,$R$4,AR15) -> 0 | S15: =SUMIF($AQ$4:$BC$4,$S$4,AS15) -> 0 | T15: =SUMIF($AQ$4:$BC$4,$T$4,AT15) -> 0 | U15: =SUMIF($AQ$4:$BC$4,$U$4,AS15) -> 0 | V15: =SUMIF($AQ$4:$BC$4,$V$4,AR15) -> 0 | W15: =SUMIF($AQ$4:$BC$4,$W$4,AQ15) -> 0 | Y15: ='EQ Buffet & Table Top'!Y15 -> 0 | Z15: ='EQ Buffet & Table Top'!Z15 -> 0 | AA15: ='EQ Buffet & Table Top'!AA15 -> 0 | AB15: ='EQ Buffet & Table Top'!AB15 -> 0 | AC15: ='EQ Buffet & Table Top'!AC15 -> 0 | AD15: ='EQ Buffet & Table Top'!AD15 -> 0 | AE15: ='EQ Buffet & Table Top'!AD15 -> 0 | AG15: ='EQ Buffet & Table Top'!#REF! -> #REF! | AH15: ='EQ Buffet & Table Top'!#REF! -> #REF! | AI15: ='EQ Buffet & Table Top'!#REF! -> #REF! | AJ15: ='EQ Buffet & Table Top'!#REF! -> #REF! | AL15: ='EQ Buffet & Table Top'!#REF! -> #REF! | AN15: ='EQ Buffet & Table Top'!#REF! -> #REF! | AQ15: ='EQ Buffet & Table Top'!DL15 -> 0 | AR15: ='EQ Buffet & Table Top'!DM15 -> 0 | AS15: ='EQ Buffet & Table Top'!DN15 -> 0 | AT15: ='EQ Buffet & Table Top'!DO15 -> 0 | AU15: ='EQ Buffet & Table Top'!DP15 -> 0 | AV15: ='EQ Buffet & Table Top'!DQ15 -> 0 | AW15: ='EQ Buffet & Table Top'!DR15 -> 0 | AX15: ='EQ Buffet & Table Top'!DS15 -> 0 | ... BA15: ='EQ Buffet & Table Top'!DV15 -> 0 | BB15: ='EQ Buffet & Table Top'!DY15 -> 0 | BC15: ='EQ Buffet & Table Top'!DZ15 -> 0
B16: 11 | C16: ='EQ Buffet & Table Top'!C16 -> Bowl 10 cm | E16: ='EQ Buffet & Table Top'!E16 -> Rosenthal Junto Pearl Grey | F16: ='EQ Buffet & Table Top'!F16 -> https://www.rosenthal.de/de/p/bowl-10-cm-de-4/ | G16: ='EQ Buffet & Table Top'!G16 -> 0 | H16: ='EQ Buffet & Table Top'!H16 -> 0 | I16: ='EQ Buffet & Table Top'!I16 -> 0 | L16: =SUM(N16:AN16) -> #REF! | N16: ='EQ Buffet & Table Top'!N16 -> 0 | Q16: =SUMIF($AQ$4:$BC$4,$Q$4,AQ16) -> 0 | R16: =SUMIF($AQ$4:$BC$4,$R$4,AR16) -> 0 | S16: =SUMIF($AQ$4:$BC$4,$S$4,AS16) -> 0 | T16: =SUMIF($AQ$4:$BC$4,$T$4,AT16) -> 0 | U16: =SUMIF($AQ$4:$BC$4,$U$4,AS16) -> 0 | V16: =SUMIF($AQ$4:$BC$4,$V$4,AR16) -> 0 | W16: =SUMIF($AQ$4:$BC$4,$W$4,AQ16) -> 0 | Y16: ='EQ Buffet & Table Top'!Y16 -> 0 | Z16: ='EQ Buffet & Table Top'!Z16 -> 0 | AA16: ='EQ Buffet & Table Top'!AA16 -> 0 | AB16: ='EQ Buffet & Table Top'!AB16 -> 0 | AC16: ='EQ Buffet & Table Top'!AC16 -> 0 | AD16: ='EQ Buffet & Table Top'!AD16 -> 0 | AE16: ='EQ Buffet & Table Top'!AD16 -> 0 | AG16: ='EQ Buffet & Table Top'!#REF! -> #REF! | AH16: ='EQ Buffet & Table Top'!#REF! -> #REF! | AI16: ='EQ Buffet & Table Top'!#REF! -> #REF! | AJ16: ='EQ Buffet & Table Top'!#REF! -> #REF! | AL16: ='EQ Buffet & Table Top'!#REF! -> #REF! | AN16: ='EQ Buffet & Table Top'!#REF! -> #REF! | AQ16: ='EQ Buffet & Table Top'!DL16 -> 0 | AR16: ='EQ Buffet & Table Top'!DM16 -> 0 | AS16: ='EQ Buffet & Table Top'!DN16 -> 0 | AT16: ='EQ Buffet & Table Top'!DO16 -> 0 | AU16: ='EQ Buffet & Table Top'!DP16 -> 0 | AV16: ='EQ Buffet & Table Top'!DQ16 -> 0 | AW16: ='EQ Buffet & Table Top'!DR16 -> 0 | AX16: ='EQ Buffet & Table Top'!DS16 -> 0 | ... BA16: ='EQ Buffet & Table Top'!DV16 -> 0 | BB16: ='EQ Buffet & Table Top'!DY16 -> 0 | BC16: ='EQ Buffet & Table Top'!DZ16 -> 0
B17: 12 | C17: ='EQ Buffet & Table Top'!C17 -> Bowl 12 cm | E17: ='EQ Buffet & Table Top'!E17 -> Rosenthal Junto Pearl Grey | F17: ='EQ Buffet & Table Top'!F17 -> https://www.rosenthal.de/de/p/bowl-12-cm-de-4/ | G17: ='EQ Buffet & Table Top'!G17 -> 0 | H17: ='EQ Buffet & Table Top'!H17 -> 0 | I17: ='EQ Buffet & Table Top'!I17 -> 0 | L17: =SUM(N17:AN17) -> #REF! | N17: ='EQ Buffet & Table Top'!N17 -> 0 | Q17: =SUMIF($AQ$4:$BC$4,$Q$4,AQ17) -> 0 | R17: =SUMIF($AQ$4:$BC$4,$R$4,AR17) -> 0 | S17: =SUMIF($AQ$4:$BC$4,$S$4,AS17) -> 0 | T17: =SUMIF($AQ$4:$BC$4,$T$4,AT17) -> 0 | U17: =SUMIF($AQ$4:$BC$4,$U$4,AS17) -> 0 | V17: =SUMIF($AQ$4:$BC$4,$V$4,AR17) -> 0 | W17: =SUMIF($AQ$4:$BC$4,$W$4,AQ17) -> 0 | Y17: ='EQ Buffet & Table Top'!Y17 -> 0 | Z17: ='EQ Buffet & Table Top'!Z17 -> 0 | AA17: ='EQ Buffet & Table Top'!AA17 -> 0 | AB17: ='EQ Buffet & Table Top'!AB17 -> 0 | AC17: ='EQ Buffet & Table Top'!AC17 -> 0 | AD17: ='EQ Buffet & Table Top'!AD17 -> 0 | AE17: ='EQ Buffet & Table Top'!AD17 -> 0 | AG17: ='EQ Buffet & Table Top'!#REF! -> #REF! | AH17: ='EQ Buffet & Table Top'!#REF! -> #REF! | AI17: ='EQ Buffet & Table Top'!#REF! -> #REF! | AJ17: ='EQ Buffet & Table Top'!#REF! -> #REF! | AL17: ='EQ Buffet & Table Top'!#REF! -> #REF! | AN17: ='EQ Buffet & Table Top'!#REF! -> #REF! | AQ17: ='EQ Buffet & Table Top'!DL17 -> 0 | AR17: ='EQ Buffet & Table Top'!DM17 -> 0 | AS17: ='EQ Buffet & Table Top'!DN17 -> 0 | AT17: ='EQ Buffet & Table Top'!DO17 -> 0 | AU17: ='EQ Buffet & Table Top'!DP17 -> 0 | AV17: ='EQ Buffet & Table Top'!DQ17 -> 0 | AW17: ='EQ Buffet & Table Top'!DR17 -> 0 | AX17: ='EQ Buffet & Table Top'!DS17 -> 0 | ... BA17: ='EQ Buffet & Table Top'!DV17 -> 0 | BB17: ='EQ Buffet & Table Top'!DY17 -> 0 | BC17: ='EQ Buffet & Table Top'!DZ17 -> 0
B18: 13 | C18: ='EQ Buffet & Table Top'!C18 -> Bowl 10 cm | E18: ='EQ Buffet & Table Top'!E18 -> Rosenthal Junto Ocean Blue | F18: ='EQ Buffet & Table Top'!F18 -> https://www.rosenthal.de/de/p/bowl-10-cm-de-5/ | G18: ='EQ Buffet & Table Top'!G18 -> 0 | H18: ='EQ Buffet & Table Top'!H18 -> 0 | I18: ='EQ Buffet & Table Top'!I18 -> 0 | L18: =SUM(N18:AN18) -> #REF! | N18: ='EQ Buffet & Table Top'!N18 -> 0 | Q18: =SUMIF($AQ$4:$BC$4,$Q$4,AQ18) -> 0 | R18: =SUMIF($AQ$4:$BC$4,$R$4,AR18) -> 0 | S18: =SUMIF($AQ$4:$BC$4,$S$4,AS18) -> 0 | T18: =SUMIF($AQ$4:$BC$4,$T$4,AT18) -> 0 | U18: =SUMIF($AQ$4:$BC$4,$U$4,AS18) -> 0 | V18: =SUMIF($AQ$4:$BC$4,$V$4,AR18) -> 0 | W18: =SUMIF($AQ$4:$BC$4,$W$4,AQ18) -> 0 | Y18: ='EQ Buffet & Table Top'!Y18 -> 0 | Z18: ='EQ Buffet & Table Top'!Z18 -> 0 | AA18: ='EQ Buffet & Table Top'!AA18 -> 0 | AB18: ='EQ Buffet & Table Top'!AB18 -> 0 | AC18: ='EQ Buffet & Table Top'!AC18 -> 0 | AD18: ='EQ Buffet & Table Top'!AD18 -> 0 | AE18: ='EQ Buffet & Table Top'!AD18 -> 0 | AG18: ='EQ Buffet & Table Top'!#REF! -> #REF! | AH18: ='EQ Buffet & Table Top'!#REF! -> #REF! | AI18: ='EQ Buffet & Table Top'!#REF! -> #REF! | AJ18: ='EQ Buffet & Table Top'!#REF! -> #REF! | AL18: ='EQ Buffet & Table Top'!#REF! -> #REF! | AN18: ='EQ Buffet & Table Top'!#REF! -> #REF! | AQ18: ='EQ Buffet & Table Top'!DL18 -> 0 | AR18: ='EQ Buffet & Table Top'!DM18 -> 0 | AS18: ='EQ Buffet & Table Top'!DN18 -> 0 | AT18: ='EQ Buffet & Table Top'!DO18 -> 0 | AU18: ='EQ Buffet & Table Top'!DP18 -> 0 | AV18: ='EQ Buffet & Table Top'!DQ18 -> 0 | AW18: ='EQ Buffet & Table Top'!DR18 -> 0 | AX18: ='EQ Buffet & Table Top'!DS18 -> 0 | ... BA18: ='EQ Buffet & Table Top'!DV18 -> 0 | BB18: ='EQ Buffet & Table Top'!DY18 -> 0 | BC18: ='EQ Buffet & Table Top'!DZ18 -> 0
B19: 14 | C19: ='EQ Buffet & Table Top'!C19 -> Bowl 12 cm | E19: ='EQ Buffet & Table Top'!E19 -> Rosenthal Junto Ocean Blue | F19: ='EQ Buffet & Table Top'!F19 -> https://www.rosenthal.de/de/p/bowl-12-cm-de-5/ | G19: ='EQ Buffet & Table Top'!G19 -> 0 | H19: ='EQ Buffet & Table Top'!H19 -> 0 | I19: ='EQ Buffet & Table Top'!I19 -> 0 | L19: =SUM(N19:AN19) -> #REF! | N19: ='EQ Buffet & Table Top'!N19 -> 0 | Q19: =SUMIF($AQ$4:$BC$4,$Q$4,AQ19) -> 0 | R19: =SUMIF($AQ$4:$BC$4,$R$4,AR19) -> 0 | S19: =SUMIF($AQ$4:$BC$4,$S$4,AS19) -> 0 | T19: =SUMIF($AQ$4:$BC$4,$T$4,AT19) -> 0 | U19: =SUMIF($AQ$4:$BC$4,$U$4,AS19) -> 0 | V19: =SUMIF($AQ$4:$BC$4,$V$4,AR19) -> 0 | W19: =SUMIF($AQ$4:$BC$4,$W$4,AQ19) -> 0 | Y19: ='EQ Buffet & Table Top'!Y19 -> 0 | Z19: ='EQ Buffet & Table Top'!Z19 -> 0 | AA19: ='EQ Buffet & Table Top'!AA19 -> 0 | AB19: ='EQ Buffet & Table Top'!AB19 -> 0 | AC19: ='EQ Buffet & Table Top'!AC19 -> 0 | AD19: ='EQ Buffet & Table Top'!AD19 -> 0 | AE19: ='EQ Buffet & Table Top'!AD19 -> 0 | AG19: ='EQ Buffet & Table Top'!#REF! -> #REF! | AH19: ='EQ Buffet & Table Top'!#REF! -> #REF! | AI19: ='EQ Buffet & Table Top'!#REF! -> #REF! | AJ19: ='EQ Buffet & Table Top'!#REF! -> #REF! | AL19: ='EQ Buffet & Table Top'!#REF! -> #REF! | AN19: ='EQ Buffet & Table Top'!#REF! -> #REF! | AQ19: ='EQ Buffet & Table Top'!DL19 -> 0 | AR19: ='EQ Buffet & Table Top'!DM19 -> 0 | AS19: ='EQ Buffet & Table Top'!DN19 -> 0 | AT19: ='EQ Buffet & Table Top'!DO19 -> 0 | AU19: ='EQ Buffet & Table Top'!DP19 -> 0 | AV19: ='EQ Buffet & Table Top'!DQ19 -> 0 | AW19: ='EQ Buffet & Table Top'!DR19 -> 0 | AX19: ='EQ Buffet & Table Top'!DS19 -> 0 | ... BA19: ='EQ Buffet & Table Top'!DV19 -> 0 | BB19: ='EQ Buffet & Table Top'!DY19 -> 0 | BC19: ='EQ Buffet & Table Top'!DZ19 -> 0
... B55: 50 | C55: ='EQ Buffet & Table Top'!C55 -> Cutlery Box | E55: ='EQ Buffet & Table Top'!E55 -> Rosenthal Junto Aquamarine | F55: ='EQ Buffet & Table Top'!F55 -> 0 | G55: ='EQ Buffet & Table Top'!G55 -> 0 | H55: ='EQ Buffet & Table Top'!H55 -> 0 | I55: ='EQ Buffet & Table Top'!I55 -> L: 26,5cm W: 16,2cm | L55: =SUM(N55:AN55) -> #REF! | N55: ='EQ Buffet & Table Top'!N55 -> 0 | Q55: =SUMIF($AQ$4:$BC$4,$Q$4,AQ55) -> 0 | R55: =SUMIF($AQ$4:$BC$4,$R$4,AR55) -> 0 | S55: =SUMIF($AQ$4:$BC$4,$S$4,AS55) -> 0 | T55: =SUMIF($AQ$4:$BC$4,$T$4,AT55) -> 0 | U55: =SUMIF($AQ$4:$BC$4,$U$4,AS55) -> 0 | V55: =SUMIF($AQ$4:$BC$4,$V$4,AR55) -> 0 | W55: =SUMIF($AQ$4:$BC$4,$W$4,AQ55) -> 0 | Y55: ='EQ Buffet & Table Top'!Y55 -> 0 | Z55: ='EQ Buffet & Table Top'!Z55 -> 0 | AA55: ='EQ Buffet & Table Top'!AA55 -> 0 | AB55: ='EQ Buffet & Table Top'!AB55 -> 0 | AC55: ='EQ Buffet & Table Top'!AC55 -> 0 | AD55: ='EQ Buffet & Table Top'!AD55 -> 0 | AE55: ='EQ Buffet & Table Top'!AD55 -> 0 | AG55: ='EQ Buffet & Table Top'!#REF! -> #REF! | AH55: ='EQ Buffet & Table Top'!#REF! -> #REF! | AI55: ='EQ Buffet & Table Top'!#REF! -> #REF! | AJ55: ='EQ Buffet & Table Top'!#REF! -> #REF! | AL55: ='EQ Buffet & Table Top'!#REF! -> #REF! | AN55: ='EQ Buffet & Table Top'!#REF! -> #REF! | AQ55: ='EQ Buffet & Table Top'!DL55 -> 0 | AR55: ='EQ Buffet & Table Top'!DM55 -> 0 | AS55: ='EQ Buffet & Table Top'!DN55 -> 0 | AT55: ='EQ Buffet & Table Top'!DO55 -> 0 | AU55: ='EQ Buffet & Table Top'!DP55 -> 0 | AV55: ='EQ Buffet & Table Top'!DQ55 -> 0 | AW55: ='EQ Buffet & Table Top'!DR55 -> 0 | AX55: ='EQ Buffet & Table Top'!DS55 -> 0 | ... BA55: ='EQ Buffet & Table Top'!DV55 -> 0 | BB55: ='EQ Buffet & Table Top'!DY55 -> 0 | BC55: ='EQ Buffet & Table Top'!DZ55 -> 0
C56: ='EQ Buffet & Table Top'!C4 -> EQ BUFET & TABLE TOP | N56: =N2 -> Press Cafe Ebene 0 | P56: =P2 -> Hauptküche Ebene 1 | Q56: =Q4 -> Buffet U Shape | R56: =R4 -> Buffet I Shape 1 | S56: =S4 -> Buffet I Shape I2 | T56: =T4 -> F & B I Shape I3 | U56: =U4 -> Buffet I Shape I2 | V56: =V4 -> Buffet I Shape 1 | W56: =W4 -> Buffet U Shape | Y56: =Y2 -> Buffet 2.1. I Shape | Z56: =Z2 -> Buffet 2.2. I Shape | AA56: =AA2 -> Buffet 2.3.1. I Shape | AB56: =AB2 -> Buffet 2.3.2 I Shape | AC56: =AC2 -> Buffet 2.3. I Shape | AD56: =AD2 -> Buffet 2.4. I Shape | AE56: =AE2 -> Relais Küche Eben 2 | AG56: =AG2 -> Relais Küche Ebene 3 | AH56: =AH2 -> Buffet 3.1. I Shape | AI56: =AI2 -> Buffet 3.2. I Shape | AJ56: =AJ2 -> Buffet 3.3. Live Cooking Table | AL56: =AL2 -> Logen Eben 2 & 3 | AN56: =AN2 -> Adler Viktoria Ebene 3 | AQ56: =AQ4 -> Buffet U Shape | AR56: =AR4 -> Buffet I Shape 1 | AS56: =AS4 -> Buffet I Shape I2 | AT56: =AT4 -> F & B I Shape I3 | AU56: =AU4 -> Buffet I Shape I4 | AV56: =AV4 -> Buffet I Shape I5 | AW56: =AW4 -> 0 | AX56: =AX4 -> 0 | ... BC56: =BC4 -> Buffet L Shape E2_2 Bar & Buffet
B57: # | C57: =$C$5 -> Designation | D57: =$D$5 -> Picture | E57: =$E$5 -> 0 | F57: =$F$5 -> 0 | G57: =$G$5 -> Power (kW) | H57: =$H$5 -> Price/Unit | I57: =$I$5 -> Size
B58: 51 | C58: ='EQ Buffet & Table Top'!C58 -> Oil and vinegar bottle | E58: ='EQ Buffet & Table Top'!E58 -> 0 | F58: ='EQ Buffet & Table Top'!F58 -> 0 | G58: ='EQ Buffet & Table Top'!G58 -> 0 | H58: ='EQ Buffet & Table Top'!H58 -> 0 | I58: ='EQ Buffet & Table Top'!I58 -> Volume 500 ml | L58: =SUM(N58:AN58) -> #REF! | N58: ='EQ Buffet & Table Top'!N58 -> 0 | Q58: =SUMIF($AQ$4:$BC$4,$Q$4,AQ58) -> 0 | R58: =SUMIF($AQ$4:$BC$4,$R$4,AR58) -> 0 | S58: =SUMIF($AQ$4:$BC$4,$S$4,AS58) -> 0 | T58: =SUMIF($AQ$4:$BC$4,$T$4,AT58) -> 0 | U58: =SUMIF($AQ$4:$BC$4,$U$4,AS58) -> 0 | V58: =SUMIF($AQ$4:$BC$4,$V$4,AR58) -> 0 | W58: =SUMIF($AQ$4:$BC$4,$W$4,AQ58) -> 0 | Y58: ='EQ Buffet & Table Top'!Y58 -> 0 | Z58: ='EQ Buffet & Table Top'!Z58 -> 0 | AA58: ='EQ Buffet & Table Top'!AA58 -> 0 | AB58: ='EQ Buffet & Table Top'!AB58 -> 0 | AC58: ='EQ Buffet & Table Top'!AC58 -> 0 | AD58: ='EQ Buffet & Table Top'!AD58 -> 0 | AE58: ='EQ Buffet & Table Top'!AD58 -> 0 | AG58: ='EQ Buffet & Table Top'!#REF! -> #REF! | AH58: ='EQ Buffet & Table Top'!#REF! -> #REF! | AI58: ='EQ Buffet & Table Top'!#REF! -> #REF! | AJ58: ='EQ Buffet & Table Top'!#REF! -> #REF! | AL58: ='EQ Buffet & Table Top'!#REF! -> #REF! | AN58: ='EQ Buffet & Table Top'!#REF! -> #REF! | AQ58: ='EQ Buffet & Table Top'!DL58 -> 0 | AR58: ='EQ Buffet & Table Top'!DM58 -> 0 | AS58: ='EQ Buffet & Table Top'!DN58 -> 0 | AT58: ='EQ Buffet & Table Top'!DO58 -> 0 | AU58: ='EQ Buffet & Table Top'!DP58 -> 0 | AV58: ='EQ Buffet & Table Top'!DQ58 -> 0 | AW58: ='EQ Buffet & Table Top'!DR58 -> 0 | AX58: ='EQ Buffet & Table Top'!DS58 -> 0 | ... BA58: ='EQ Buffet & Table Top'!DV58 -> 0 | BB58: ='EQ Buffet & Table Top'!DY58 -> 0 | BC58: ='EQ Buffet & Table Top'!DZ58 -> 0
B59: 52 | C59: ='EQ Buffet & Table Top'!C59 -> Salt & pepper mills | E59: ='EQ Buffet & Table Top'!E59 -> 0 | F59: ='EQ Buffet & Table Top'!F59 -> 0 | G59: ='EQ Buffet & Table Top'!G59 -> 0 | H59: ='EQ Buffet & Table Top'!H59 -> 0 | I59: ='EQ Buffet & Table Top'!I59 -> ⌀:3,5cm H: 7 cm | L59: =SUM(N59:AN59) -> #REF! | N59: ='EQ Buffet & Table Top'!N59 -> 0 | Q59: =SUMIF($AQ$4:$BC$4,$Q$4,AQ59) -> 0 | R59: =SUMIF($AQ$4:$BC$4,$R$4,AR59) -> 0 | S59: =SUMIF($AQ$4:$BC$4,$S$4,AS59) -> 0 | T59: =SUMIF($AQ$4:$BC$4,$T$4,AT59) -> 0 | U59: =SUMIF($AQ$4:$BC$4,$U$4,AS59) -> 0 | V59: =SUMIF($AQ$4:$BC$4,$V$4,AR59) -> 0 | W59: =SUMIF($AQ$4:$BC$4,$W$4,AQ59) -> 0 | Y59: ='EQ Buffet & Table Top'!Y59 -> 0 | Z59: ='EQ Buffet & Table Top'!Z59 -> 0 | AA59: ='EQ Buffet & Table Top'!AA59 -> 0 | AB59: ='EQ Buffet & Table Top'!AB59 -> 0 | AC59: ='EQ Buffet & Table Top'!AC59 -> 0 | AD59: ='EQ Buffet & Table Top'!AD59 -> 0 | AE59: ='EQ Buffet & Table Top'!AD59 -> 0 | AG59: ='EQ Buffet & Table Top'!#REF! -> #REF! | AH59: ='EQ Buffet & Table Top'!#REF! -> #REF! | AI59: ='EQ Buffet & Table Top'!#REF! -> #REF! | AJ59: ='EQ Buffet & Table Top'!#REF! -> #REF! | AL59: ='EQ Buffet & Table Top'!#REF! -> #REF! | AN59: ='EQ Buffet & Table Top'!#REF! -> #REF! | AQ59: ='EQ Buffet & Table Top'!DL59 -> 0 | AR59: ='EQ Buffet & Table Top'!DM59 -> 0 | AS59: ='EQ Buffet & Table Top'!DN59 -> 0 | AT59: ='EQ Buffet & Table Top'!DO59 -> 0 | AU59: ='EQ Buffet & Table Top'!DP59 -> 0 | AV59: ='EQ Buffet & Table Top'!DQ59 -> 0 | AW59: ='EQ Buffet & Table Top'!DR59 -> 0 | AX59: ='EQ Buffet & Table Top'!DS59 -> 0 | ... BA59: ='EQ Buffet & Table Top'!DV59 -> 0 | BB59: ='EQ Buffet & Table Top'!DY59 -> 0 | BC59: ='EQ Buffet & Table Top'!DZ59 -> 0
B60: 53 | C60: ='EQ Buffet & Table Top'!C60 -> Wooden base, 3 ceramic bowl | E60: ='EQ Buffet & Table Top'!E60 -> 0 | F60: ='EQ Buffet & Table Top'!F60 -> 0 | G60: ='EQ Buffet & Table Top'!G60 -> 0 | H60: ='EQ Buffet & Table Top'!H60 -> 0 | I60: ='EQ Buffet & Table Top'!I60 -> Bowl : ⌀:7cm H: 3,5cm Wooden Tray: L 30cm W:10cm H:2,5cm | L60: =SUM(N60:AN60) -> #REF! | N60: ='EQ Buffet & Table Top'!N60 -> 0 | Q60: =SUMIF($AQ$4:$BC$4,$Q$4,AQ60) -> 0 | R60: =SUMIF($AQ$4:$BC$4,$R$4,AR60) -> 0 | S60: =SUMIF($AQ$4:$BC$4,$S$4,AS60) -> 0 | T60: =SUMIF($AQ$4:$BC$4,$T$4,AT60) -> 0 | U60: =SUMIF($AQ$4:$BC$4,$U$4,AS60) -> 0 | V60: =SUMIF($AQ$4:$BC$4,$V$4,AR60) -> 0 | W60: =SUMIF($AQ$4:$BC$4,$W$4,AQ60) -> 0 | Y60: ='EQ Buffet & Table Top'!Y60 -> 0 | Z60: ='EQ Buffet & Table Top'!Z60 -> 0 | AA60: ='EQ Buffet & Table Top'!AA60 -> 0 | AB60: ='EQ Buffet & Table Top'!AB60 -> 0 | AC60: ='EQ Buffet & Table Top'!AC60 -> 0 | AD60: ='EQ Buffet & Table Top'!AD60 -> 0 | AE60: ='EQ Buffet & Table Top'!AD60 -> 0 | AG60: ='EQ Buffet & Table Top'!#REF! -> #REF! | AH60: ='EQ Buffet & Table Top'!#REF! -> #REF! | AI60: ='EQ Buffet & Table Top'!#REF! -> #REF! | AJ60: ='EQ Buffet & Table Top'!#REF! -> #REF! | AL60: ='EQ Buffet & Table Top'!#REF! -> #REF! | AN60: ='EQ Buffet & Table Top'!#REF! -> #REF! | AQ60: ='EQ Buffet & Table Top'!DL60 -> 0 | AR60: ='EQ Buffet & Table Top'!DM60 -> 0 | AS60: ='EQ Buffet & Table Top'!DN60 -> 0 | AT60: ='EQ Buffet & Table Top'!DO60 -> 0 | AU60: ='EQ Buffet & Table Top'!DP60 -> 0 | AV60: ='EQ Buffet & Table Top'!DQ60 -> 0 | AW60: ='EQ Buffet & Table Top'!DR60 -> 0 | AX60: ='EQ Buffet & Table Top'!DS60 -> 0 | ... BA60: ='EQ Buffet & Table Top'!DV60 -> 0 | BB60: ='EQ Buffet & Table Top'!DY60 -> 0 | BC60: ='EQ Buffet & Table Top'!DZ60 -> 0
B61: 54 | C61: ='EQ Buffet & Table Top'!C61 -> Wooden Box | E61: ='EQ Buffet & Table Top'!E61 -> 0 | F61: ='EQ Buffet & Table Top'!F61 -> 0 | G61: ='EQ Buffet & Table Top'!G61 -> 0 | H61: ='EQ Buffet & Table Top'!H61 -> 0 | I61: ='EQ Buffet & Table Top'!I61 -> L:36 cm W:26cm H:17 cm | L61: =SUM(N61:AN61) -> #REF! | N61: ='EQ Buffet & Table Top'!N61 -> 0 | Q61: =SUMIF($AQ$4:$BC$4,$Q$4,AQ61) -> 0 | R61: =SUMIF($AQ$4:$BC$4,$R$4,AR61) -> 0 | S61: =SUMIF($AQ$4:$BC$4,$S$4,AS61) -> 0 | T61: =SUMIF($AQ$4:$BC$4,$T$4,AT61) -> 0 | U61: =SUMIF($AQ$4:$BC$4,$U$4,AS61) -> 0 | V61: =SUMIF($AQ$4:$BC$4,$V$4,AR61) -> 0 | W61: =SUMIF($AQ$4:$BC$4,$W$4,AQ61) -> 0 | Y61: ='EQ Buffet & Table Top'!Y61 -> 0 | Z61: ='EQ Buffet & Table Top'!Z61 -> 0 | AA61: ='EQ Buffet & Table Top'!AA61 -> 0 | AB61: ='EQ Buffet & Table Top'!AB61 -> 0 | AC61: ='EQ Buffet & Table Top'!AC61 -> 0 | AD61: ='EQ Buffet & Table Top'!AD61 -> 0 | AE61: ='EQ Buffet & Table Top'!AD61 -> 0 | AG61: ='EQ Buffet & Table Top'!#REF! -> #REF! | AH61: ='EQ Buffet & Table Top'!#REF! -> #REF! | AI61: ='EQ Buffet & Table Top'!#REF! -> #REF! | AJ61: ='EQ Buffet & Table Top'!#REF! -> #REF! | AL61: ='EQ Buffet & Table Top'!#REF! -> #REF! | AN61: ='EQ Buffet & Table Top'!#REF! -> #REF! | AQ61: ='EQ Buffet & Table Top'!DL61 -> 0 | AR61: ='EQ Buffet & Table Top'!DM61 -> 0 | AS61: ='EQ Buffet & Table Top'!DN61 -> 0 | AT61: ='EQ Buffet & Table Top'!DO61 -> 0 | AU61: ='EQ Buffet & Table Top'!DP61 -> 0 | AV61: ='EQ Buffet & Table Top'!DQ61 -> 0 | AW61: ='EQ Buffet & Table Top'!DR61 -> 0 | AX61: ='EQ Buffet & Table Top'!DS61 -> 0 | ... BA61: ='EQ Buffet & Table Top'!DV61 -> 0 | BB61: ='EQ Buffet & Table Top'!DY61 -> 0 | BC61: ='EQ Buffet & Table Top'!DZ61 -> 0
B62: 55 | C62: ='EQ Buffet & Table Top'!C62 -> Wooden Box | E62: ='EQ Buffet & Table Top'!E62 -> 0 | F62: ='EQ Buffet & Table Top'!F62 -> 0 | G62: ='EQ Buffet & Table Top'!G62 -> 0 | H62: ='EQ Buffet & Table Top'!H62 -> 0 | I62: ='EQ Buffet & Table Top'!I62 -> L:26 cm W:16cm H:14 cm | L62: =SUM(N62:AN62) -> #REF! | N62: ='EQ Buffet & Table Top'!N62 -> 0 | Q62: =SUMIF($AQ$4:$BC$4,$Q$4,AQ62) -> 0 | R62: =SUMIF($AQ$4:$BC$4,$R$4,AR62) -> 0 | S62: =SUMIF($AQ$4:$BC$4,$S$4,AS62) -> 0 | T62: =SUMIF($AQ$4:$BC$4,$T$4,AT62) -> 0 | U62: =SUMIF($AQ$4:$BC$4,$U$4,AS62) -> 0 | V62: =SUMIF($AQ$4:$BC$4,$V$4,AR62) -> 0 | W62: =SUMIF($AQ$4:$BC$4,$W$4,AQ62) -> 0 | Y62: ='EQ Buffet & Table Top'!Y62 -> 0 | Z62: ='EQ Buffet & Table Top'!Z62 -> 0 | AA62: ='EQ Buffet & Table Top'!AA62 -> 0 | AB62: ='EQ Buffet & Table Top'!AB62 -> 0 | AC62: ='EQ Buffet & Table Top'!AC62 -> 0 | AD62: ='EQ Buffet & Table Top'!AD62 -> 0 | AE62: ='EQ Buffet & Table Top'!AD62 -> 0 | AG62: ='EQ Buffet & Table Top'!#REF! -> #REF! | AH62: ='EQ Buffet & Table Top'!#REF! -> #REF! | AI62: ='EQ Buffet & Table Top'!#REF! -> #REF! | AJ62: ='EQ Buffet & Table Top'!#REF! -> #REF! | AL62: ='EQ Buffet & Table Top'!#REF! -> #REF! | AN62: ='EQ Buffet & Table Top'!#REF! -> #REF! | AQ62: ='EQ Buffet & Table Top'!DL62 -> 0 | AR62: ='EQ Buffet & Table Top'!DM62 -> 0 | AS62: ='EQ Buffet & Table Top'!DN62 -> 0 | AT62: ='EQ Buffet & Table Top'!DO62 -> 0 | AU62: ='EQ Buffet & Table Top'!DP62 -> 0 | AV62: ='EQ Buffet & Table Top'!DQ62 -> 0 | AW62: ='EQ Buffet & Table Top'!DR62 -> 0 | AX62: ='EQ Buffet & Table Top'!DS62 -> 0 | ... BA62: ='EQ Buffet & Table Top'!DV62 -> 0 | BB62: ='EQ Buffet & Table Top'!DY62 -> 0 | BC62: ='EQ Buffet & Table Top'!DZ62 -> 0
B63: 56 | C63: ='EQ Buffet & Table Top'!C63 -> Cheese board | E63: ='EQ Buffet & Table Top'!E63 -> 0 | F63: ='EQ Buffet & Table Top'!F63 -> 0 | G63: ='EQ Buffet & Table Top'!G63 -> 0 | H63: ='EQ Buffet & Table Top'!H63 -> 0 | I63: ='EQ Buffet & Table Top'!I63 -> L:60 cm W:30 cm | L63: =SUM(N63:AN63) -> #REF! | N63: ='EQ Buffet & Table Top'!N63 -> 0 | Q63: =SUMIF($AQ$4:$BC$4,$Q$4,AQ63) -> 0 | R63: =SUMIF($AQ$4:$BC$4,$R$4,AR63) -> 0 | S63: =SUMIF($AQ$4:$BC$4,$S$4,AS63) -> 0 | T63: =SUMIF($AQ$4:$BC$4,$T$4,AT63) -> 0 | U63: =SUMIF($AQ$4:$BC$4,$U$4,AS63) -> 0 | V63: =SUMIF($AQ$4:$BC$4,$V$4,AR63) -> 0 | W63: =SUMIF($AQ$4:$BC$4,$W$4,AQ63) -> 0 | Y63: ='EQ Buffet & Table Top'!Y63 -> 0 | Z63: ='EQ Buffet & Table Top'!Z63 -> 0 | AA63: ='EQ Buffet & Table Top'!AA63 -> 0 | AB63: ='EQ Buffet & Table Top'!AB63 -> 0 | AC63: ='EQ Buffet & Table Top'!AC63 -> 0 | AD63: ='EQ Buffet & Table Top'!AD63 -> 0 | AE63: ='EQ Buffet & Table Top'!AD63 -> 0 | AG63: ='EQ Buffet & Table Top'!#REF! -> #REF! | AH63: ='EQ Buffet & Table Top'!#REF! -> #REF! | AI63: ='EQ Buffet & Table Top'!#REF! -> #REF! | AJ63: ='EQ Buffet & Table Top'!#REF! -> #REF! | AL63: ='EQ Buffet & Table Top'!#REF! -> #REF! | AN63: ='EQ Buffet & Table Top'!#REF! -> #REF! | AQ63: ='EQ Buffet & Table Top'!DL63 -> 0 | AR63: ='EQ Buffet & Table Top'!DM63 -> 0 | AS63: ='EQ Buffet & Table Top'!DN63 -> 0 | AT63: ='EQ Buffet & Table Top'!DO63 -> 0 | AU63: ='EQ Buffet & Table Top'!DP63 -> 0 | AV63: ='EQ Buffet & Table Top'!DQ63 -> 0 | AW63: ='EQ Buffet & Table Top'!DR63 -> 0 | AX63: ='EQ Buffet & Table Top'!DS63 -> 0 | ... BA63: ='EQ Buffet & Table Top'!DV63 -> 0 | BB63: ='EQ Buffet & Table Top'!DY63 -> 0 | BC63: ='EQ Buffet & Table Top'!DZ63 -> 0
B64: 57 | C64: ='EQ Buffet & Table Top'!C64 -> Cheese knife | E64: ='EQ Buffet & Table Top'!E64 -> 0 | F64: ='EQ Buffet & Table Top'!F64 -> 0 | G64: ='EQ Buffet & Table Top'!G64 -> 0 | H64: ='EQ Buffet & Table Top'!H64 -> 0 | I64: ='EQ Buffet & Table Top'!I64 -> L:23,8 cm - 21,8 cm - 15,9cm | L64: =SUM(N64:AN64) -> #REF! | N64: ='EQ Buffet & Table Top'!N64 -> 0 | Q64: =SUMIF($AQ$4:$BC$4,$Q$4,AQ64) -> 0 | R64: =SUMIF($AQ$4:$BC$4,$R$4,AR64) -> 0 | S64: =SUMIF($AQ$4:$BC$4,$S$4,AS64) -> 0 | T64: =SUMIF($AQ$4:$BC$4,$T$4,AT64) -> 0 | U64: =SUMIF($AQ$4:$BC$4,$U$4,AS64) -> 0 | V64: =SUMIF($AQ$4:$BC$4,$V$4,AR64) -> 0 | W64: =SUMIF($AQ$4:$BC$4,$W$4,AQ64) -> 0 | Y64: ='EQ Buffet & Table Top'!Y64 -> 0 | Z64: ='EQ Buffet & Table Top'!Z64 -> 0 | AA64: ='EQ Buffet & Table Top'!AA64 -> 0 | AB64: ='EQ Buffet & Table Top'!AB64 -> 0 | AC64: ='EQ Buffet & Table Top'!AC64 -> 0 | AD64: ='EQ Buffet & Table Top'!AD64 -> 0 | AE64: ='EQ Buffet & Table Top'!AD64 -> 0 | AG64: ='EQ Buffet & Table Top'!#REF! -> #REF! | AH64: ='EQ Buffet & Table Top'!#REF! -> #REF! | AI64: ='EQ Buffet & Table Top'!#REF! -> #REF! | AJ64: ='EQ Buffet & Table Top'!#REF! -> #REF! | AL64: ='EQ Buffet & Table Top'!#REF! -> #REF! | AN64: ='EQ Buffet & Table Top'!#REF! -> #REF! | AQ64: ='EQ Buffet & Table Top'!DL64 -> 0 | AR64: ='EQ Buffet & Table Top'!DM64 -> 0 | AS64: ='EQ Buffet & Table Top'!DN64 -> 0 | AT64: ='EQ Buffet & Table Top'!DO64 -> 0 | AU64: ='EQ Buffet & Table Top'!DP64 -> 0 | AV64: ='EQ Buffet & Table Top'!DQ64 -> 0 | AW64: ='EQ Buffet & Table Top'!DR64 -> 0 | AX64: ='EQ Buffet & Table Top'!DS64 -> 0 | ... BA64: ='EQ Buffet & Table Top'!DV64 -> 0 | BB64: ='EQ Buffet & Table Top'!DY64 -> 0 | BC64: ='EQ Buffet & Table Top'!DZ64 -> 0
B65: 58 | C65: ='EQ Buffet & Table Top'!C65 -> Bread tong | E65: ='EQ Buffet & Table Top'!E65 -> 0 | F65: ='EQ Buffet & Table Top'!F65 -> 0 | G65: ='EQ Buffet & Table Top'!G65 -> 0 | H65: ='EQ Buffet & Table Top'!H65 -> 0 | I65: ='EQ Buffet & Table Top'!I65 -> L: 18 cm W: 8cm H: 4cm | L65: =SUM(N65:AN65) -> #REF! | N65: ='EQ Buffet & Table Top'!N65 -> 0 | Q65: =SUMIF($AQ$4:$BC$4,$Q$4,AQ65) -> 0 | R65: =SUMIF($AQ$4:$BC$4,$R$4,AR65) -> 0 | S65: =SUMIF($AQ$4:$BC$4,$S$4,AS65) -> 0 | T65: =SUMIF($AQ$4:$BC$4,$T$4,AT65) -> 0 | U65: =SUMIF($AQ$4:$BC$4,$U$4,AS65) -> 0 | V65: =SUMIF($AQ$4:$BC$4,$V$4,AR65) -> 0 | W65: =SUMIF($AQ$4:$BC$4,$W$4,AQ65) -> 0 | Y65: ='EQ Buffet & Table Top'!Y65 -> 0 | Z65: ='EQ Buffet & Table Top'!Z65 -> 0 | AA65: ='EQ Buffet & Table Top'!AA65 -> 0 | AB65: ='EQ Buffet & Table Top'!AB65 -> 0 | AC65: ='EQ Buffet & Table Top'!AC65 -> 0 | AD65: ='EQ Buffet & Table Top'!AD65 -> 0 | AE65: ='EQ Buffet & Table Top'!AD65 -> 0 | AG65: ='EQ Buffet & Table Top'!#REF! -> #REF! | AH65: ='EQ Buffet & Table Top'!#REF! -> #REF! | AI65: ='EQ Buffet & Table Top'!#REF! -> #REF! | AJ65: ='EQ Buffet & Table Top'!#REF! -> #REF! | AL65: ='EQ Buffet & Table Top'!#REF! -> #REF! | AN65: ='EQ Buffet & Table Top'!#REF! -> #REF! | AQ65: ='EQ Buffet & Table Top'!DL65 -> 0 | AR65: ='EQ Buffet & Table Top'!DM65 -> 0 | AS65: ='EQ Buffet & Table Top'!DN65 -> 0 | AT65: ='EQ Buffet & Table Top'!DO65 -> 0 | AU65: ='EQ Buffet & Table Top'!DP65 -> 0 | AV65: ='EQ Buffet & Table Top'!DQ65 -> 0 | AW65: ='EQ Buffet & Table Top'!DR65 -> 0 | AX65: ='EQ Buffet & Table Top'!DS65 -> 0 | ... BA65: ='EQ Buffet & Table Top'!DV65 -> 0 | BB65: ='EQ Buffet & Table Top'!DY65 -> 0 | BC65: ='EQ Buffet & Table Top'!DZ65 -> 0
B66: 59 | C66: ='EQ Buffet & Table Top'!C66 -> Bread tong holder | E66: ='EQ Buffet & Table Top'!E66 -> 0 | F66: ='EQ Buffet & Table Top'!F66 -> 0 | G66: ='EQ Buffet & Table Top'!G66 -> 0 | H66: ='EQ Buffet & Table Top'!H66 -> 0 | I66: ='EQ Buffet & Table Top'!I66 -> L: 24 cm | L66: =SUM(N66:AN66) -> #REF! | N66: ='EQ Buffet & Table Top'!N66 -> 0 | Q66: =SUMIF($AQ$4:$BC$4,$Q$4,AQ66) -> 0 | R66: =SUMIF($AQ$4:$BC$4,$R$4,AR66) -> 0 | S66: =SUMIF($AQ$4:$BC$4,$S$4,AS66) -> 0 | T66: =SUMIF($AQ$4:$BC$4,$T$4,AT66) -> 0 | U66: =SUMIF($AQ$4:$BC$4,$U$4,AS66) -> 0 | V66: =SUMIF($AQ$4:$BC$4,$V$4,AR66) -> 0 | W66: =SUMIF($AQ$4:$BC$4,$W$4,AQ66) -> 0 | Y66: ='EQ Buffet & Table Top'!Y66 -> 0 | Z66: ='EQ Buffet & Table Top'!Z66 -> 0 | AA66: ='EQ Buffet & Table Top'!AA66 -> 0 | AB66: ='EQ Buffet & Table Top'!AB66 -> 0 | AC66: ='EQ Buffet & Table Top'!AC66 -> 0 | AD66: ='EQ Buffet & Table Top'!AD66 -> 0 | AE66: ='EQ Buffet & Table Top'!AD66 -> 0 | AG66: ='EQ Buffet & Table Top'!#REF! -> #REF! | AH66: ='EQ Buffet & Table Top'!#REF! -> #REF! | AI66: ='EQ Buffet & Table Top'!#REF! -> #REF! | AJ66: ='EQ Buffet & Table Top'!#REF! -> #REF! | AL66: ='EQ Buffet & Table Top'!#REF! -> #REF! | AN66: ='EQ Buffet & Table Top'!#REF! -> #REF! | AQ66: ='EQ Buffet & Table Top'!DL66 -> 0 | AR66: ='EQ Buffet & Table Top'!DM66 -> 0 | AS66: ='EQ Buffet & Table Top'!DN66 -> 0 | AT66: ='EQ Buffet & Table Top'!DO66 -> 0 | AU66: ='EQ Buffet & Table Top'!DP66 -> 0 | AV66: ='EQ Buffet & Table Top'!DQ66 -> 0 | AW66: ='EQ Buffet & Table Top'!DR66 -> 0 | AX66: ='EQ Buffet & Table Top'!DS66 -> 0 | ... BA66: ='EQ Buffet & Table Top'!DV66 -> 0 | BB66: ='EQ Buffet & Table Top'!DY66 -> 0 | BC66: ='EQ Buffet & Table Top'!DZ66 -> 0
B67: 60 | C67: ='EQ Buffet & Table Top'!C67 -> Service spoon | E67: ='EQ Buffet & Table Top'!E67 -> 0 | F67: ='EQ Buffet & Table Top'!F67 -> 0 | G67: ='EQ Buffet & Table Top'!G67 -> 0 | H67: ='EQ Buffet & Table Top'!H67 -> 0 | I67: ='EQ Buffet & Table Top'!I67 -> L: 25 cm | L67: =SUM(N67:AN67) -> #REF! | N67: ='EQ Buffet & Table Top'!N67 -> 0 | Q67: =SUMIF($AQ$4:$BC$4,$Q$4,AQ67) -> 0 | R67: =SUMIF($AQ$4:$BC$4,$R$4,AR67) -> 0 | S67: =SUMIF($AQ$4:$BC$4,$S$4,AS67) -> 0 | T67: =SUMIF($AQ$4:$BC$4,$T$4,AT67) -> 0 | U67: =SUMIF($AQ$4:$BC$4,$U$4,AS67) -> 0 | V67: =SUMIF($AQ$4:$BC$4,$V$4,AR67) -> 0 | W67: =SUMIF($AQ$4:$BC$4,$W$4,AQ67) -> 0 | Y67: ='EQ Buffet & Table Top'!Y67 -> 0 | Z67: ='EQ Buffet & Table Top'!Z67 -> 0 | AA67: ='EQ Buffet & Table Top'!AA67 -> 0 | AB67: ='EQ Buffet & Table Top'!AB67 -> 0 | AC67: ='EQ Buffet & Table Top'!AC67 -> 0 | AD67: ='EQ Buffet & Table Top'!AD67 -> 0 | AE67: ='EQ Buffet & Table Top'!AD67 -> 0 | AG67: ='EQ Buffet & Table Top'!#REF! -> #REF! | AH67: ='EQ Buffet & Table Top'!#REF! -> #REF! | AI67: ='EQ Buffet & Table Top'!#REF! -> #REF! | AJ67: ='EQ Buffet & Table Top'!#REF! -> #REF! | AL67: ='EQ Buffet & Table Top'!#REF! -> #REF! | AN67: ='EQ Buffet & Table Top'!#REF! -> #REF! | AQ67: ='EQ Buffet & Table Top'!DL67 -> 0 | AR67: ='EQ Buffet & Table Top'!DM67 -> 0 | AS67: ='EQ Buffet & Table Top'!DN67 -> 0 | AT67: ='EQ Buffet & Table Top'!DO67 -> 0 | AU67: ='EQ Buffet & Table Top'!DP67 -> 0 | AV67: ='EQ Buffet & Table Top'!DQ67 -> 0 | AW67: ='EQ Buffet & Table Top'!DR67 -> 0 | AX67: ='EQ Buffet & Table Top'!DS67 -> 0 | ... BA67: ='EQ Buffet & Table Top'!DV67 -> 0 | BB67: ='EQ Buffet & Table Top'!DY67 -> 0 | BC67: ='EQ Buffet & Table Top'!DZ67 -> 0
B68: 61 | C68: ='EQ Buffet & Table Top'!C68 -> Melamin tray slate optic | E68: ='EQ Buffet & Table Top'!E68 -> 0 | F68: ='EQ Buffet & Table Top'!F68 -> 0 | G68: ='EQ Buffet & Table Top'!G68 -> 0 | H68: ='EQ Buffet & Table Top'!H68 -> 0 | I68: ='EQ Buffet & Table Top'!I68 -> L:40 cm W:20cm | L68: =SUM(N68:AN68) -> #REF! | N68: ='EQ Buffet & Table Top'!N68 -> 0 | Q68: =SUMIF($AQ$4:$BC$4,$Q$4,AQ68) -> 0 | R68: =SUMIF($AQ$4:$BC$4,$R$4,AR68) -> 0 | S68: =SUMIF($AQ$4:$BC$4,$S$4,AS68) -> 0 | T68: =SUMIF($AQ$4:$BC$4,$T$4,AT68) -> 0 | U68: =SUMIF($AQ$4:$BC$4,$U$4,AS68) -> 0 | V68: =SUMIF($AQ$4:$BC$4,$V$4,AR68) -> 0 | W68: =SUMIF($AQ$4:$BC$4,$W$4,AQ68) -> 0 | Y68: ='EQ Buffet & Table Top'!Y68 -> 0 | Z68: ='EQ Buffet & Table Top'!Z68 -> 0 | AA68: ='EQ Buffet & Table Top'!AA68 -> 0 | AB68: ='EQ Buffet & Table Top'!AB68 -> 0 | AC68: ='EQ Buffet & Table Top'!AC68 -> 0 | AD68: ='EQ Buffet & Table Top'!AD68 -> 0 | AE68: ='EQ Buffet & Table Top'!AD68 -> 0 | AG68: ='EQ Buffet & Table Top'!#REF! -> #REF! | AH68: ='EQ Buffet & Table Top'!#REF! -> #REF! | AI68: ='EQ Buffet & Table Top'!#REF! -> #REF! | AJ68: ='EQ Buffet & Table Top'!#REF! -> #REF! | AL68: ='EQ Buffet & Table Top'!#REF! -> #REF! | AN68: ='EQ Buffet & Table Top'!#REF! -> #REF! | AQ68: ='EQ Buffet & Table Top'!DL68 -> 0 | AR68: ='EQ Buffet & Table Top'!DM68 -> 0 | AS68: ='EQ Buffet & Table Top'!DN68 -> 0 | AT68: ='EQ Buffet & Table Top'!DO68 -> 0 | AU68: ='EQ Buffet & Table Top'!DP68 -> 0 | AV68: ='EQ Buffet & Table Top'!DQ68 -> 0 | AW68: ='EQ Buffet & Table Top'!DR68 -> 0 | AX68: ='EQ Buffet & Table Top'!DS68 -> 0 | ... BA68: ='EQ Buffet & Table Top'!DV68 -> 0 | BB68: ='EQ Buffet & Table Top'!DY68 -> 0 | BC68: ='EQ Buffet & Table Top'!DZ68 -> 0
B69: 62 | C69: ='EQ Buffet & Table Top'!C69 -> Melamin tray slate optic | E69: ='EQ Buffet & Table Top'!E69 -> 0 | F69: ='EQ Buffet & Table Top'!F69 -> 0 | G69: ='EQ Buffet & Table Top'!G69 -> 0 | H69: ='EQ Buffet & Table Top'!H69 -> 0 | I69: ='EQ Buffet & Table Top'!I69 -> L:40 cm W:30cm | L69: =SUM(N69:AN69) -> #REF! | N69: ='EQ Buffet & Table Top'!N69 -> 0 | Q69: =SUMIF($AQ$4:$BC$4,$Q$4,AQ69) -> 0 | R69: =SUMIF($AQ$4:$BC$4,$R$4,AR69) -> 0 | S69: =SUMIF($AQ$4:$BC$4,$S$4,AS69) -> 0 | T69: =SUMIF($AQ$4:$BC$4,$T$4,AT69) -> 0 | U69: =SUMIF($AQ$4:$BC$4,$U$4,AS69) -> 0 | V69: =SUMIF($AQ$4:$BC$4,$V$4,AR69) -> 0 | W69: =SUMIF($AQ$4:$BC$4,$W$4,AQ69) -> 0 | Y69: ='EQ Buffet & Table Top'!Y69 -> 0 | Z69: ='EQ Buffet & Table Top'!Z69 -> 0 | AA69: ='EQ Buffet & Table Top'!AA69 -> 0 | AB69: ='EQ Buffet & Table Top'!AB69 -> 0 | AC69: ='EQ Buffet & Table Top'!AC69 -> 0 | AD69: ='EQ Buffet & Table Top'!AD69 -> 0 | AE69: ='EQ Buffet & Table Top'!AD69 -> 0 | AG69: ='EQ Buffet & Table Top'!#REF! -> #REF! | AH69: ='EQ Buffet & Table Top'!#REF! -> #REF! | AI69: ='EQ Buffet & Table Top'!#REF! -> #REF! | AJ69: ='EQ Buffet & Table Top'!#REF! -> #REF! | AL69: ='EQ Buffet & Table Top'!#REF! -> #REF! | AN69: ='EQ Buffet & Table Top'!#REF! -> #REF! | AQ69: ='EQ Buffet & Table Top'!DL69 -> 0 | AR69: ='EQ Buffet & Table Top'!DM69 -> 0 | AS69: ='EQ Buffet & Table Top'!DN69 -> 0 | AT69: ='EQ Buffet & Table Top'!DO69 -> 0 | AU69: ='EQ Buffet & Table Top'!DP69 -> 0 | AV69: ='EQ Buffet & Table Top'!DQ69 -> 0 | AW69: ='EQ Buffet & Table Top'!DR69 -> 0 | AX69: ='EQ Buffet & Table Top'!DS69 -> 0 | ... BA69: ='EQ Buffet & Table Top'!DV69 -> 0 | BB69: ='EQ Buffet & Table Top'!DY69 -> 0 | BC69: ='EQ Buffet & Table Top'!DZ69 -> 0
... B86: 79 | C86: ='EQ Buffet & Table Top'!C86 -> Glass Long Drink | E86: ='EQ Buffet & Table Top'!E86 -> 0 | F86: ='EQ Buffet & Table Top'!F86 -> 0 | G86: ='EQ Buffet & Table Top'!G86 -> 0 | H86: ='EQ Buffet & Table Top'!H86 -> 0 | I86: ='EQ Buffet & Table Top'!I86 -> Ø:70 mm H:150 mm | L86: =SUM(N86:AN86) -> #REF! | N86: ='EQ Buffet & Table Top'!N86 -> 0 | Q86: =SUMIF($AQ$4:$BC$4,$Q$4,AQ86) -> 0 | R86: =SUMIF($AQ$4:$BC$4,$R$4,AR86) -> 0 | S86: =SUMIF($AQ$4:$BC$4,$S$4,AS86) -> 0 | T86: =SUMIF($AQ$4:$BC$4,$T$4,AT86) -> 0 | U86: =SUMIF($AQ$4:$BC$4,$U$4,AS86) -> 0 | V86: =SUMIF($AQ$4:$BC$4,$V$4,AR86) -> 0 | W86: =SUMIF($AQ$4:$BC$4,$W$4,AQ86) -> 0 | Y86: ='EQ Buffet & Table Top'!Y86 -> 0 | Z86: ='EQ Buffet & Table Top'!Z86 -> 0 | AA86: ='EQ Buffet & Table Top'!AA86 -> 0 | AB86: ='EQ Buffet & Table Top'!AB86 -> 0 | AC86: ='EQ Buffet & Table Top'!AC86 -> 0 | AD86: ='EQ Buffet & Table Top'!AD86 -> 0 | AE86: ='EQ Buffet & Table Top'!AD86 -> 0 | AG86: ='EQ Buffet & Table Top'!#REF! -> #REF! | AH86: ='EQ Buffet & Table Top'!#REF! -> #REF! | AI86: ='EQ Buffet & Table Top'!#REF! -> #REF! | AJ86: ='EQ Buffet & Table Top'!#REF! -> #REF! | AL86: ='EQ Buffet & Table Top'!#REF! -> #REF! | AN86: ='EQ Buffet & Table Top'!#REF! -> #REF! | AQ86: ='EQ Buffet & Table Top'!DL86 -> 0 | AR86: ='EQ Buffet & Table Top'!DM86 -> 0 | AS86: ='EQ Buffet & Table Top'!DN86 -> 0 | AT86: ='EQ Buffet & Table Top'!DO86 -> 0 | AU86: ='EQ Buffet & Table Top'!DP86 -> 0 | AV86: ='EQ Buffet & Table Top'!DQ86 -> 0 | AW86: ='EQ Buffet & Table Top'!DR86 -> 0 | AX86: ='EQ Buffet & Table Top'!DS86 -> 0 | ... BA86: ='EQ Buffet & Table Top'!DV86 -> 0 | BB86: ='EQ Buffet & Table Top'!DY86 -> 0 | BC86: ='EQ Buffet & Table Top'!DZ86 -> 0
B87: Solia Disposable Equipment | L87: =L2 -> Qty total | N87: =N2 -> Press Cafe Ebene 0 | P87: =P2 -> Hauptküche Ebene 1 | Q87: =Q4 -> Buffet U Shape | R87: =R4 -> Buffet I Shape 1 | S87: =S4 -> Buffet I Shape I2 | T87: =T4 -> F & B I Shape I3 | U87: =U4 -> Buffet I Shape I2 | V87: =V4 -> Buffet I Shape 1 | W87: =W4 -> Buffet U Shape | Y87: =Y2 -> Buffet 2.1. I Shape | Z87: =Z2 -> Buffet 2.2. I Shape | AA87: =AA2 -> Buffet 2.3.1. I Shape | AB87: =AB2 -> Buffet 2.3.2 I Shape | AC87: =AC2 -> Buffet 2.3. I Shape | AD87: =AD2 -> Buffet 2.4. I Shape | AE87: =AE2 -> Relais Küche Eben 2 | AG87: =AG2 -> Relais Küche Ebene 3 | AH87: =AH2 -> Buffet 3.1. I Shape | AI87: =AI2 -> Buffet 3.2. I Shape | AJ87: =AJ2 -> Buffet 3.3. Live Cooking Table | AL87: =AL2 -> Logen Eben 2 & 3 | AN87: =AN2 -> Adler Viktoria Ebene 3 | AQ87: =SUM('EQ Buffet & Table Top'!AH87:AN87) -> 0 | AR87: =AR4 -> Buffet I Shape 1 | AS87: =AS4 -> Buffet I Shape I2 | AT87: =AT4 -> F & B I Shape I3 | AU87: =AU4 -> Buffet I Shape I4 | AV87: =AV4 -> Buffet I Shape I5 | AW87: =AW4 -> 0 | AX87: =AX4 -> 0 | AY87: =AY4 -> 0 | ... BC87: =BC4 -> Buffet L Shape E2_2 Bar & Buffet
B88: # | C88: =$C$5 -> Designation | D88: =$D$5 -> Picture | E88: =$E$5 -> 0 | F88: =$F$5 -> 0 | G88: =$G$5 -> Power (kW) | H88: =$H$5 -> Price/Unit | I88: =$I$5 -> Size | AQ88: =SUM('EQ Buffet & Table Top'!AH88:AN88) -> 0
B89: 80 | C89: ='EQ Buffet & Table Top'!C89 -> Imagine cup | E89: ='EQ Buffet & Table Top'!E89 -> 0 | F89: ='EQ Buffet & Table Top'!F89 -> 0 | G89: ='EQ Buffet & Table Top'!G89 -> 0 | H89: ='EQ Buffet & Table Top'!H89 -> 0 | I89: ='EQ Buffet & Table Top'!I89 -> 130x120x25 | J89: ='EQ Buffet & Table Top'!J89 -> x | L89: =SUM(N89:AN89) -> #REF! | N89: ='EQ Buffet & Table Top'!N89 -> 0 | O89: ='EQ Buffet & Table Top'!O89 -> 0 | Q89: =SUMIF($AQ$4:$BC$4,$Q$4,AQ89) -> 0 | R89: =SUMIF($AQ$4:$BC$4,$R$4,AR89) -> 0 | S89: =SUMIF($AQ$4:$BC$4,$S$4,AS89) -> 0 | T89: =SUMIF($AQ$4:$BC$4,$T$4,AT89) -> 0 | U89: =SUMIF($AQ$4:$BC$4,$U$4,AS89) -> 0 | V89: =SUMIF($AQ$4:$BC$4,$V$4,AR89) -> 0 | W89: =SUMIF($AQ$4:$BC$4,$W$4,AQ89) -> 0 | X89: ='EQ Buffet & Table Top'!X89 -> 0 | Y89: ='EQ Buffet & Table Top'!Y89 -> 0 | Z89: ='EQ Buffet & Table Top'!Z89 -> 0 | AA89: ='EQ Buffet & Table Top'!AA89 -> 0 | AB89: ='EQ Buffet & Table Top'!AB89 -> 0 | AC89: ='EQ Buffet & Table Top'!AC89 -> 0 | AD89: ='EQ Buffet & Table Top'!AD89 -> 0 | AE89: ='EQ Buffet & Table Top'!AD89 -> 0 | AF89: ='EQ Buffet & Table Top'!AE89 -> 0 | AG89: ='EQ Buffet & Table Top'!#REF! -> #REF! | AH89: ='EQ Buffet & Table Top'!#REF! -> #REF! | AI89: ='EQ Buffet & Table Top'!#REF! -> #REF! | AJ89: ='EQ Buffet & Table Top'!#REF! -> #REF! | AK89: ='EQ Buffet & Table Top'!#REF! -> #REF! | AL89: ='EQ Buffet & Table Top'!#REF! -> #REF! | AM89: ='EQ Buffet & Table Top'!#REF! -> #REF! | AN89: ='EQ Buffet & Table Top'!#REF! -> #REF! | AQ89: =SUM('EQ Buffet & Table Top'!AH89:AN89) -> 0 | AR89: ='EQ Buffet & Table Top'!DL89 -> 0 | AS89: ='EQ Buffet & Table Top'!DM89 -> 0 | AT89: ='EQ Buffet & Table Top'!DN89 -> 0 | AU89: ='EQ Buffet & Table Top'!DO89 -> 0 | AV89: ='EQ Buffet & Table Top'!DP89 -> 0 | AW89: ='EQ Buffet & Table Top'!DQ89 -> 0 | AX89: ='EQ Buffet & Table Top'!DR89 -> 0 | AY89: ='EQ Buffet & Table Top'!DS89 -> 0 | ... BB89: ='EQ Buffet & Table Top'!DV89 -> 0 | BC89: ='EQ Buffet & Table Top'!DY89 -> 0
B90: 81 | C90: ='EQ Buffet & Table Top'!C90 -> Tin can silver | E90: ='EQ Buffet & Table Top'!E90 -> 0 | F90: ='EQ Buffet & Table Top'!F90 -> 0 | G90: ='EQ Buffet & Table Top'!G90 -> 0 | H90: ='EQ Buffet & Table Top'!H90 -> 0 | I90: ='EQ Buffet & Table Top'!I90 -> H59,5 Ø60,8 | J90: ='EQ Buffet & Table Top'!J90 -> x | L90: =SUM(N90:AN90) -> #REF! | N90: ='EQ Buffet & Table Top'!N90 -> 0 | O90: ='EQ Buffet & Table Top'!O90 -> 0 | Q90: =SUMIF($AQ$4:$BC$4,$Q$4,AQ90) -> 0 | R90: =SUMIF($AQ$4:$BC$4,$R$4,AR90) -> 0 | S90: =SUMIF($AQ$4:$BC$4,$S$4,AS90) -> 0 | T90: =SUMIF($AQ$4:$BC$4,$T$4,AT90) -> 0 | U90: =SUMIF($AQ$4:$BC$4,$U$4,AS90) -> 0 | V90: =SUMIF($AQ$4:$BC$4,$V$4,AR90) -> 0 | W90: =SUMIF($AQ$4:$BC$4,$W$4,AQ90) -> 0 | X90: ='EQ Buffet & Table Top'!X90 -> 0 | Y90: ='EQ Buffet & Table Top'!Y90 -> 0 | Z90: ='EQ Buffet & Table Top'!Z90 -> 0 | AA90: ='EQ Buffet & Table Top'!AA90 -> 0 | AB90: ='EQ Buffet & Table Top'!AB90 -> 0 | AC90: ='EQ Buffet & Table Top'!AC90 -> 0 | AD90: ='EQ Buffet & Table Top'!AD90 -> 0 | AE90: ='EQ Buffet & Table Top'!AD90 -> 0 | AF90: ='EQ Buffet & Table Top'!AE90 -> 0 | AG90: ='EQ Buffet & Table Top'!#REF! -> #REF! | AH90: ='EQ Buffet & Table Top'!#REF! -> #REF! | AI90: ='EQ Buffet & Table Top'!#REF! -> #REF! | AJ90: ='EQ Buffet & Table Top'!#REF! -> #REF! | AK90: ='EQ Buffet & Table Top'!#REF! -> #REF! | AL90: ='EQ Buffet & Table Top'!#REF! -> #REF! | AM90: ='EQ Buffet & Table Top'!#REF! -> #REF! | AN90: ='EQ Buffet & Table Top'!#REF! -> #REF! | AQ90: =SUM('EQ Buffet & Table Top'!AH90:AN90) -> 0 | AR90: ='EQ Buffet & Table Top'!DL90 -> 0 | AS90: ='EQ Buffet & Table Top'!DM90 -> 0 | AT90: ='EQ Buffet & Table Top'!DN90 -> 0 | AU90: ='EQ Buffet & Table Top'!DO90 -> 0 | AV90: ='EQ Buffet & Table Top'!DP90 -> 0 | AW90: ='EQ Buffet & Table Top'!DQ90 -> 0 | AX90: ='EQ Buffet & Table Top'!DR90 -> 0 | AY90: ='EQ Buffet & Table Top'!DS90 -> 0 | ... BB90: ='EQ Buffet & Table Top'!DV90 -> 0 | BC90: ='EQ Buffet & Table Top'!DY90 -> 0
B91: 82 | C91: ='EQ Buffet & Table Top'!C91 -> Tin can transparent | E91: ='EQ Buffet & Table Top'!E91 -> 0 | F91: ='EQ Buffet & Table Top'!F91 -> 0 | G91: ='EQ Buffet & Table Top'!G91 -> 0 | H91: ='EQ Buffet & Table Top'!H91 -> 0 | I91: ='EQ Buffet & Table Top'!I91 -> H37,4 Ø74,5 mm Capacity: 100 ml | J91: ='EQ Buffet & Table Top'!J91 -> x | L91: =SUM(N91:AN91) -> #REF! | N91: ='EQ Buffet & Table Top'!N91 -> 0 | O91: ='EQ Buffet & Table Top'!O91 -> 0 | Q91: =SUMIF($AQ$4:$BC$4,$Q$4,AQ91) -> 0 | R91: =SUMIF($AQ$4:$BC$4,$R$4,AR91) -> 0 | S91: =SUMIF($AQ$4:$BC$4,$S$4,AS91) -> 0 | T91: =SUMIF($AQ$4:$BC$4,$T$4,AT91) -> 0 | U91: =SUMIF($AQ$4:$BC$4,$U$4,AS91) -> 0 | V91: =SUMIF($AQ$4:$BC$4,$V$4,AR91) -> 0 | W91: =SUMIF($AQ$4:$BC$4,$W$4,AQ91) -> 0 | X91: ='EQ Buffet & Table Top'!X91 -> 0 | Y91: ='EQ Buffet & Table Top'!Y91 -> 0 | Z91: ='EQ Buffet & Table Top'!Z91 -> 0 | AA91: ='EQ Buffet & Table Top'!AA91 -> 0 | AB91: ='EQ Buffet & Table Top'!AB91 -> 0 | AC91: ='EQ Buffet & Table Top'!AC91 -> 0 | AD91: ='EQ Buffet & Table Top'!AD91 -> 0 | AE91: ='EQ Buffet & Table Top'!AD91 -> 0 | AF91: ='EQ Buffet & Table Top'!AE91 -> 0 | AG91: ='EQ Buffet & Table Top'!#REF! -> #REF! | AH91: ='EQ Buffet & Table Top'!#REF! -> #REF! | AI91: ='EQ Buffet & Table Top'!#REF! -> #REF! | AJ91: ='EQ Buffet & Table Top'!#REF! -> #REF! | AK91: ='EQ Buffet & Table Top'!#REF! -> #REF! | AL91: ='EQ Buffet & Table Top'!#REF! -> #REF! | AM91: ='EQ Buffet & Table Top'!#REF! -> #REF! | AN91: ='EQ Buffet & Table Top'!#REF! -> #REF! | AQ91: =SUM('EQ Buffet & Table Top'!AH91:AN91) -> 0 | AR91: ='EQ Buffet & Table Top'!DL91 -> 0 | AS91: ='EQ Buffet & Table Top'!DM91 -> 0 | AT91: ='EQ Buffet & Table Top'!DN91 -> 0 | AU91: ='EQ Buffet & Table Top'!DO91 -> 0 | AV91: ='EQ Buffet & Table Top'!DP91 -> 0 | AW91: ='EQ Buffet & Table Top'!DQ91 -> 0 | AX91: ='EQ Buffet & Table Top'!DR91 -> 0 | AY91: ='EQ Buffet & Table Top'!DS91 -> 0 | ... BB91: ='EQ Buffet & Table Top'!DV91 -> 0 | BC91: ='EQ Buffet & Table Top'!DY91 -> 0
