Workbook

Sheet DATEN
A1: Nahrung: | B1: Kategorie | C1: kcal | D1: Kohlenhydrate | E1: Protein | F1: Fett
A2: Nahrung 1 | B2: Nahrung | C2: =0.67 -> 0.67 | D2: 0.07 | E2: 0.012 | F2: 0.038
A3: Nahrung 2 | B3: Nahrung | C3: 0.77 | D3: 0.078 | E3: 0.021 | F3: 0.039
A4: Nahrung 3 | B4: Nahrung | C4: 0.66 | D4: 0.068 | E4: 0.014 | F4: 0.035
A5: Nahrung 4 | B5: Nahrung | C5: 0.62 | D5: 0.064 | E5: 0.007 | F5: 0.036
A6: Nahrung 5 | B6: Nahrung | C6: 0.8 | D6: 0.084 | E6: 0.026 | F6: 0.039
A7: Nahrung 6 | B7: Nahrung | C7: 0.8 | D7: 0.084 | E7: 0.026 | F7: 0.04
A8: Nahrung 7 | B8: Nahrung | C8: 0.67 | D8: 0.071 | E8: 0.016 | F8: 0.036
A9: Nahrung 8 | B9: Nahrung | C9: 0.67 | D9: 0.073 | E9: 0.014 | F9: 0.036
A10: Nahrung 9 | B10: Nahrung | C10: 0.75 | D10: 0.075 | E10: 0.02 | F10: 0.04
A11: Nahrung 10 | B11: Nahrung | C11: 0.7 | D11: 0.076 | E11: 0.021 | F11: 0.035
A12: Nahrung 11 | B12: Nahrung | C12: 0.84 | D12: 0.0912 | E12: 0.0252 | F12: 0.042
A13: Nahrung 12 | B13: Nahrung | C13: 0.67 | D13: 0.072 | E13: 0.018 | F13: 0.034
A14: Nahrung 13 | B14: Nahrung | C14: 0.864 | D14: 0.116 | E14: 0.02 | F14: 0.036
... A36: Zusatz Prozent | B36: Zusatz | C36: 3.9 | D36: 0.9 | E36: 0.07 | F36: 0.01

Sheet Rechner
A1: R e c h n e r
A3: Name, Vorname: | B3: Testmann, Hubert | F3: Datum: | G3: =TODAY() -> 43717
A4: Geburtsdatum: | B4: 43466 | F4: Alter in Tagen: | G4: =IF($B$4="","",DAYS360($B$4,$G$3)) -> 248
A6: SSW der Geburt: | B6: 39+4
A7: Gewicht in Kg: | B7: 10
A9: Nahrung | B9: Kategorie | C9: Anzahl | D9: Menge | F9: Menge Ges. | G9: Kcal | H9: Kohlenhydrate | I9: Protein | J9: Fett
A10: Nahrung 3 | B10: =IFERROR(VLOOKUP($A10,DATEN!$A$1:$F$349,2,FALSE),0) -> Nahrung | C10: 1 | D10: 10 | F10: =IF($A10="Reisschleim",$C10*SUM($F$10:$F$12),IF($C10="",$D10,IF($D10="",$C10,$C10*$D10))) -> 10 | G10: =IF($B10="Nahrung",$F10*(VLOOKUP($A10,DATEN!$A$1:$F$49,3,FALSE)),IF($B10="Zusatz",$F10*(VLOOKUP($A10,DATEN!$A$1:$F$49,3,FALSE)),IF($B10="Infusion",$F10*(VLOOKUP($A10,DATEN!$A$1:$F$49,3,FALSE)),""))) -> 6.6 | H10: =IF($B10="Nahrung",$F10*(VLOOKUP($A10,DATEN!$A$1:$F$49,4,FALSE)),IF($B10="Zusatz",$F10*(VLOOKUP($A10,DATEN!$A$1:$F$49,4,FALSE)),IF($B10="Infusion",$F10*(VLOOKUP($A10,DATEN!$A$1:$F$49,4,FALSE)),""))) -> 0.68 | I10: =IF($B10="Nahrung",$F10*(VLOOKUP($A10,DATEN!$A$1:$F$49,5,FALSE)),IF($B10="Zusatz",$F10*(VLOOKUP($A10,DATEN!$A$1:$F$49,5,FALSE)),IF($B10="Infusion",$F10*(VLOOKUP($A10,DATEN!$A$1:$F$49,5,FALSE)),""))) -> 0.14 | J10: =IF($B10="Nahrung",$F10*(VLOOKUP($A10,DATEN!$A$1:$F$49,6,FALSE)),IF($B10="Zusatz",$F10*(VLOOKUP($A10,DATEN!$A$1:$F$49,6,FALSE)),IF($B10="Infusion",$F10*(VLOOKUP($A10,DATEN!$A$1:$F$49,6,FALSE)),""))) -> 0.35
A11: Nahrung 2 | B11: =IFERROR(VLOOKUP($A11,DATEN!$A$1:$F$349,2,FALSE),0) -> Nahrung | C11: 1 | D11: 10 | F11: =IF($A11="Reisschleim",$C11*SUM($F$10:$F$12),IF($C11="",$D11,IF($D11="",$C11,$C11*$D11))) -> 10 | G11: =IF($B11="Nahrung",$F11*(VLOOKUP($A11,DATEN!$A$1:$F$49,3,FALSE)),IF($B11="Zusatz",$F11*(VLOOKUP($A11,DATEN!$A$1:$F$49,3,FALSE)),IF($B11="Infusion",$F11*(VLOOKUP($A11,DATEN!$A$1:$F$49,3,FALSE)),""))) -> 7.7 | H11: =IF($B11="Nahrung",$F11*(VLOOKUP($A11,DATEN!$A$1:$F$49,4,FALSE)),IF($B11="Zusatz",$F11*(VLOOKUP($A11,DATEN!$A$1:$F$49,4,FALSE)),IF($B11="Infusion",$F11*(VLOOKUP($A11,DATEN!$A$1:$F$49,4,FALSE)),""))) -> 0.78 | I11: =IF($B11="Nahrung",$F11*(VLOOKUP($A11,DATEN!$A$1:$F$49,5,FALSE)),IF($B11="Zusatz",$F11*(VLOOKUP($A11,DATEN!$A$1:$F$49,5,FALSE)),IF($B11="Infusion",$F11*(VLOOKUP($A11,DATEN!$A$1:$F$49,5,FALSE)),""))) -> 0.21 | J11: =IF($B11="Nahrung",$F11*(VLOOKUP($A11,DATEN!$A$1:$F$49,6,FALSE)),IF($B11="Zusatz",$F11*(VLOOKUP($A11,DATEN!$A$1:$F$49,6,FALSE)),IF($B11="Infusion",$F11*(VLOOKUP($A11,DATEN!$A$1:$F$49,6,FALSE)),""))) -> 0.39
A12: Nahrung 7 | B12: =IFERROR(VLOOKUP($A12,DATEN!$A$1:$F$349,2,FALSE),0) -> Nahrung | C12: 1 | D12: 10 | F12: =IF($A12="Reisschleim",$C12*SUM($F$10:$F$11),IF($C12="",$D12,IF($D12="",$C12,$C12*$D12))) -> 10 | G12: =IF($B12="Nahrung",$F12*(VLOOKUP($A12,DATEN!$A$1:$F$49,3,FALSE)),IF($B12="Zusatz",$F12*(VLOOKUP($A12,DATEN!$A$1:$F$49,3,FALSE)),IF($B12="Infusion",$F12*(VLOOKUP($A12,DATEN!$A$1:$F$49,3,FALSE)),""))) -> 6.7 | H12: =IF($B12="Nahrung",$F12*(VLOOKUP($A12,DATEN!$A$1:$F$49,4,FALSE)),IF($B12="Zusatz",$F12*(VLOOKUP($A12,DATEN!$A$1:$F$49,4,FALSE)),IF($B12="Infusion",$F12*(VLOOKUP($A12,DATEN!$A$1:$F$49,4,FALSE)),""))) -> 0.71 | I12: =IF($B12="Nahrung",$F12*(VLOOKUP($A12,DATEN!$A$1:$F$49,5,FALSE)),IF($B12="Zusatz",$F12*(VLOOKUP($A12,DATEN!$A$1:$F$49,5,FALSE)),IF($B12="Infusion",$F12*(VLOOKUP($A12,DATEN!$A$1:$F$49,5,FALSE)),""))) -> 0.16 | J12: =IF($B12="Nahrung",$F12*(VLOOKUP($A12,DATEN!$A$1:$F$49,6,FALSE)),IF($B12="Zusatz",$F12*(VLOOKUP($A12,DATEN!$A$1:$F$49,6,FALSE)),IF($B12="Infusion",$F12*(VLOOKUP($A12,DATEN!$A$1:$F$49,6,FALSE)),""))) -> 0.36
A13: Zusatz Prozent | B13: =IFERROR(VLOOKUP($A13,DATEN!$A$1:$F$349,2,FALSE),0) -> Zusatz | C13: 0.01 | D13: =IF(A13="Zusatz Prozent","") | F13: =IF($A13="Zusatz Prozent",$C13*SUM($F$10:$F$12),"") -> 0.3 | G13: =IF($A$13="Zusatz Prozent",$F$13*3.9,"") -> 1.17 | H13: =IF($A$13="Zusatz Prozent",$F$13*0.9,"") -> 0.27 | I13: =IF($A$13="Zusatz Prozent",$F$13*0.07,"") -> 0.021 | J13: =IF($A$13="Zusatz Prozent",$F$13*0.01,"") -> 0.003
B14: =IFERROR(VLOOKUP($A14,DATEN!$A$1:$F$349,2,FALSE),0) -> 0 | F14: =IF($A14="Reisschleim",$C14*SUM($F$10:$F$12),IF($C14="",$D14,IF($D14="",$C14,$C14*$D14))) -> 0 | G14: =IF($B14="Nahrung",$F14*(VLOOKUP($A14,DATEN!$A$1:$F$49,3,FALSE)),IF($B14="Zusatz",$F14*(VLOOKUP($A14,DATEN!$A$1:$F$49,3,FALSE)),IF($B14="Infusion",$F14*(VLOOKUP($A14,DATEN!$A$1:$F$49,3,FALSE)),""))) | H14: =IF($B14="Nahrung",$F14*(VLOOKUP($A14,DATEN!$A$1:$F$49,4,FALSE)),IF($B14="Zusatz",$F14*(VLOOKUP($A14,DATEN!$A$1:$F$49,4,FALSE)),IF($B14="Infusion",$F14*(VLOOKUP($A14,DATEN!$A$1:$F$49,4,FALSE)),""))) | I14: =IF($B14="Nahrung",$F14*(VLOOKUP($A14,DATEN!$A$1:$F$49,5,FALSE)),IF($B14="Zusatz",$F14*(VLOOKUP($A14,DATEN!$A$1:$F$49,5,FALSE)),IF($B14="Infusion",$F14*(VLOOKUP($A14,DATEN!$A$1:$F$49,5,FALSE)),""))) | J14: =IF($B14="Nahrung",$F14*(VLOOKUP($A14,DATEN!$A$1:$F$49,6,FALSE)),IF($B14="Zusatz",$F14*(VLOOKUP($A14,DATEN!$A$1:$F$49,6,FALSE)),IF($B14="Infusion",$F14*(VLOOKUP($A14,DATEN!$A$1:$F$49,6,FALSE)),"")))
D15: Gesamt | F15: =SUMIF($B$10:$B$14,"<>Zusatz",$F$10:$F$14) -> 30 | G15: =SUM(G10:G14) -> 22.17 | H15: =SUM(H10:H14) -> 2.44 | I15: =SUM(I10:I14) -> 0.531 | J15: =SUM(J10:J14) -> 1.103
D16: pro kg | F16: =IF(ISERROR(F15/$B$7),0,F15/$B$7) -> 3 | G16: =IF(ISERROR(G15/$B$7),0,G15/$B$7) -> 2.217 | H16: =IF(ISERROR(H15/$B$7),0,H15/$B$7) -> 0.244 | I16: =IF(ISERROR(I15/$B$7),0,I15/$B$7) -> 0.0531 | J16: =IF(ISERROR(J15/$B$7),0,J15/$B$7) -> 0.1103
D17: (Normwerte je Altersklasse berücksichtigen)
