Workbook

Sheet Artikel
A1: Artikel | B1: =$A$1&COLUMN(A1) -> Artikel1 | C1: =$A$1&COLUMN(B1) -> Artikel2 | D1: =$A$1&COLUMN(C1) -> Artikel3 | E1: =$A$1&COLUMN(D1) -> Artikel4 | F1: =$A$1&COLUMN(E1) -> Artikel5 | G1: =$A$1&COLUMN(F1) -> Artikel6 | H1: =$A$1&COLUMN(G1) -> Artikel7 | I1: =$A$1&COLUMN(H1) -> Artikel8 | ... K1: =$A$1&COLUMN(J1) -> Artikel10
A2: Menge | B2: 1 | C2: 10 | D2: 9 | E2: 8 | F2: 2 | G2: 5 | H2: 6 | I2: 3 | J2: 4 | K2: 7
A3: Preis | B3: =$A$3&B$1 -> PreisArtikel1 | C3: =$A$3&C$1 -> PreisArtikel2 | D3: =$A$3&D$1 -> PreisArtikel3 | E3: =$A$3&E$1 -> PreisArtikel4 | F3: =$A$3&F$1 -> PreisArtikel5 | G3: =$A$3&G$1 -> PreisArtikel6 | H3: =$A$3&H$1 -> PreisArtikel7 | I3: =$A$3&I$1 -> PreisArtikel8 | ... K3: =$A$3&K$1 -> PreisArtikel10

Sheet Auswertung
A1: =INDIRECT("Artikel!"&ADDRESS(COLUMN(Artikel!A1),ROW(Artikel!A1),4,1)) -> Artikel | B1: =INDIRECT("Artikel!"&ADDRESS(COLUMN(Artikel!B1),ROW(Artikel!B1),4,1)) -> Menge | C1: =INDIRECT("Artikel!"&ADDRESS(COLUMN(Artikel!C1),ROW(Artikel!C1),4,1)) -> Preis
A2: =INDIRECT("Artikel!"&ADDRESS(COLUMN(Artikel!A2),ROW(Artikel!A2),4,1)) -> Artikel1 | B2: =INDIRECT("Artikel!"&ADDRESS(COLUMN(Artikel!B2),ROW(Artikel!B2),4,1)) -> 1 | C2: =INDIRECT("Artikel!"&ADDRESS(COLUMN(Artikel!C2),ROW(Artikel!C2),4,1)) -> PreisArtikel1
A3: =INDIRECT("Artikel!"&ADDRESS(COLUMN(Artikel!A6),ROW(Artikel!A6),4,1)) -> Artikel5 | B3: =INDIRECT("Artikel!"&ADDRESS(COLUMN(Artikel!B6),ROW(Artikel!B6),4,1)) -> 2 | C3: =INDIRECT("Artikel!"&ADDRESS(COLUMN(Artikel!C6),ROW(Artikel!C6),4,1)) -> PreisArtikel5
A4: =INDIRECT("Artikel!"&ADDRESS(COLUMN(Artikel!A9),ROW(Artikel!A9),4,1)) -> Artikel8 | B4: =INDIRECT("Artikel!"&ADDRESS(COLUMN(Artikel!B9),ROW(Artikel!B9),4,1)) -> 3 | C4: =INDIRECT("Artikel!"&ADDRESS(COLUMN(Artikel!C9),ROW(Artikel!C9),4,1)) -> PreisArtikel8
A5: =INDIRECT("Artikel!"&ADDRESS(COLUMN(Artikel!A10),ROW(Artikel!A10),4,1)) -> Artikel9 | B5: =INDIRECT("Artikel!"&ADDRESS(COLUMN(Artikel!B10),ROW(Artikel!B10),4,1)) -> 4 | C5: =INDIRECT("Artikel!"&ADDRESS(COLUMN(Artikel!C10),ROW(Artikel!C10),4,1)) -> PreisArtikel9
A6: =INDIRECT("Artikel!"&ADDRESS(COLUMN(Artikel!A7),ROW(Artikel!A7),4,1)) -> Artikel6 | B6: =INDIRECT("Artikel!"&ADDRESS(COLUMN(Artikel!B7),ROW(Artikel!B7),4,1)) -> 5 | C6: =INDIRECT("Artikel!"&ADDRESS(COLUMN(Artikel!C7),ROW(Artikel!C7),4,1)) -> PreisArtikel6
A7: =INDIRECT("Artikel!"&ADDRESS(COLUMN(Artikel!A8),ROW(Artikel!A8),4,1)) -> Artikel7 | B7: =INDIRECT("Artikel!"&ADDRESS(COLUMN(Artikel!B8),ROW(Artikel!B8),4,1)) -> 6 | C7: =INDIRECT("Artikel!"&ADDRESS(COLUMN(Artikel!C8),ROW(Artikel!C8),4,1)) -> PreisArtikel7
A8: =INDIRECT("Artikel!"&ADDRESS(COLUMN(Artikel!A11),ROW(Artikel!A11),4,1)) -> Artikel10 | B8: =INDIRECT("Artikel!"&ADDRESS(COLUMN(Artikel!B11),ROW(Artikel!B11),4,1)) -> 7 | C8: =INDIRECT("Artikel!"&ADDRESS(COLUMN(Artikel!C11),ROW(Artikel!C11),4,1)) -> PreisArtikel10
A9: =INDIRECT("Artikel!"&ADDRESS(COLUMN(Artikel!A5),ROW(Artikel!A5),4,1)) -> Artikel4 | B9: =INDIRECT("Artikel!"&ADDRESS(COLUMN(Artikel!B5),ROW(Artikel!B5),4,1)) -> 8 | C9: =INDIRECT("Artikel!"&ADDRESS(COLUMN(Artikel!C5),ROW(Artikel!C5),4,1)) -> PreisArtikel4
A10: =INDIRECT("Artikel!"&ADDRESS(COLUMN(Artikel!A4),ROW(Artikel!A4),4,1)) -> Artikel3 | B10: =INDIRECT("Artikel!"&ADDRESS(COLUMN(Artikel!B4),ROW(Artikel!B4),4,1)) -> 9 | C10: =INDIRECT("Artikel!"&ADDRESS(COLUMN(Artikel!C4),ROW(Artikel!C4),4,1)) -> PreisArtikel3
A11: =INDIRECT("Artikel!"&ADDRESS(COLUMN(Artikel!A3),ROW(Artikel!A3),4,1)) -> Artikel2 | B11: =INDIRECT("Artikel!"&ADDRESS(COLUMN(Artikel!B3),ROW(Artikel!B3),4,1)) -> 10 | C11: =INDIRECT("Artikel!"&ADDRESS(COLUMN(Artikel!C3),ROW(Artikel!C3),4,1)) -> PreisArtikel2

Sheet Auswertung2
A1: ="Artikel!"&ADDRESS(COLUMN(A1),ROW(A1),4,1) -> Artikel!A1 | B1: ="Artikel!"&ADDRESS(COLUMN(B1),ROW(B1),4,1) -> Artikel!A2 | C1: ="Artikel!"&ADDRESS(COLUMN(C1),ROW(C1),4,1) -> Artikel!A3 | E1: Artikel!A1 | F1: Artikel!A2 | G1: Artikel!A3 | I1: =Artikel!A1 -> Artikel | J1: =Artikel!A2 -> Menge | K1: =Artikel!A3 -> Preis
A2: ="Artikel!"&ADDRESS(COLUMN(A2),ROW(A2),4,1) -> Artikel!B1 | B2: ="Artikel!"&ADDRESS(COLUMN(B2),ROW(B2),4,1) -> Artikel!B2 | C2: ="Artikel!"&ADDRESS(COLUMN(C2),ROW(C2),4,1) -> Artikel!B3 | E2: Artikel!B1 | F2: Artikel!B2 | G2: Artikel!B3 | I2: =Artikel!B1 -> Artikel1 | J2: =Artikel!B2 -> 1 | K2: =Artikel!B3 -> PreisArtikel1
A3: ="Artikel!"&ADDRESS(COLUMN(A3),ROW(A3),4,1) -> Artikel!C1 | B3: ="Artikel!"&ADDRESS(COLUMN(B3),ROW(B3),4,1) -> Artikel!C2 | C3: ="Artikel!"&ADDRESS(COLUMN(C3),ROW(C3),4,1) -> Artikel!C3 | E3: Artikel!C1 | F3: Artikel!C2 | G3: Artikel!C3 | I3: =Artikel!C1 -> Artikel2 | J3: =Artikel!C2 -> 10 | K3: =Artikel!C3 -> PreisArtikel2
A4: ="Artikel!"&ADDRESS(COLUMN(A4),ROW(A4),4,1) -> Artikel!D1 | B4: ="Artikel!"&ADDRESS(COLUMN(B4),ROW(B4),4,1) -> Artikel!D2 | C4: ="Artikel!"&ADDRESS(COLUMN(C4),ROW(C4),4,1) -> Artikel!D3 | E4: Artikel!D1 | F4: Artikel!D2 | G4: Artikel!D3 | I4: =Artikel!D1 -> Artikel3 | J4: =Artikel!D2 -> 9 | K4: =Artikel!D3 -> PreisArtikel3
A5: ="Artikel!"&ADDRESS(COLUMN(A5),ROW(A5),4,1) -> Artikel!E1 | B5: ="Artikel!"&ADDRESS(COLUMN(B5),ROW(B5),4,1) -> Artikel!E2 | C5: ="Artikel!"&ADDRESS(COLUMN(C5),ROW(C5),4,1) -> Artikel!E3 | E5: Artikel!E1 | F5: Artikel!E2 | G5: Artikel!E3 | I5: =Artikel!E1 -> Artikel4 | J5: =Artikel!E2 -> 8 | K5: =Artikel!E3 -> PreisArtikel4
A6: ="Artikel!"&ADDRESS(COLUMN(A6),ROW(A6),4,1) -> Artikel!F1 | B6: ="Artikel!"&ADDRESS(COLUMN(B6),ROW(B6),4,1) -> Artikel!F2 | C6: ="Artikel!"&ADDRESS(COLUMN(C6),ROW(C6),4,1) -> Artikel!F3 | E6: Artikel!F1 | F6: Artikel!F2 | G6: Artikel!F3 | I6: =Artikel!F1 -> Artikel5 | J6: =Artikel!F2 -> 2 | K6: =Artikel!F3 -> PreisArtikel5
A7: ="Artikel!"&ADDRESS(COLUMN(A7),ROW(A7),4,1) -> Artikel!G1 | B7: ="Artikel!"&ADDRESS(COLUMN(B7),ROW(B7),4,1) -> Artikel!G2 | C7: ="Artikel!"&ADDRESS(COLUMN(C7),ROW(C7),4,1) -> Artikel!G3 | E7: Artikel!G1 | F7: Artikel!G2 | G7: Artikel!G3 | I7: =Artikel!G1 -> Artikel6 | J7: =Artikel!G2 -> 5 | K7: =Artikel!G3 -> PreisArtikel6
A8: ="Artikel!"&ADDRESS(COLUMN(A8),ROW(A8),4,1) -> Artikel!H1 | B8: ="Artikel!"&ADDRESS(COLUMN(B8),ROW(B8),4,1) -> Artikel!H2 | C8: ="Artikel!"&ADDRESS(COLUMN(C8),ROW(C8),4,1) -> Artikel!H3 | E8: Artikel!H1 | F8: Artikel!H2 | G8: Artikel!H3 | I8: =Artikel!H1 -> Artikel7 | J8: =Artikel!H2 -> 6 | K8: =Artikel!H3 -> PreisArtikel7
A9: ="Artikel!"&ADDRESS(COLUMN(A9),ROW(A9),4,1) -> Artikel!I1 | B9: ="Artikel!"&ADDRESS(COLUMN(B9),ROW(B9),4,1) -> Artikel!I2 | C9: ="Artikel!"&ADDRESS(COLUMN(C9),ROW(C9),4,1) -> Artikel!I3 | E9: Artikel!I1 | F9: Artikel!I2 | G9: Artikel!I3 | I9: =Artikel!I1 -> Artikel8 | J9: =Artikel!I2 -> 3 | K9: =Artikel!I3 -> PreisArtikel8
A10: ="Artikel!"&ADDRESS(COLUMN(A10),ROW(A10),4,1) -> Artikel!J1 | B10: ="Artikel!"&ADDRESS(COLUMN(B10),ROW(B10),4,1) -> Artikel!J2 | C10: ="Artikel!"&ADDRESS(COLUMN(C10),ROW(C10),4,1) -> Artikel!J3 | E10: Artikel!J1 | F10: Artikel!J2 | G10: Artikel!J3 | I10: =Artikel!J1 -> Artikel9 | J10: =Artikel!J2 -> 4 | K10: =Artikel!J3 -> PreisArtikel9
A11: ="Artikel!"&ADDRESS(COLUMN(A11),ROW(A11),4,1) -> Artikel!K1 | B11: ="Artikel!"&ADDRESS(COLUMN(B11),ROW(B11),4,1) -> Artikel!K2 | C11: ="Artikel!"&ADDRESS(COLUMN(C11),ROW(C11),4,1) -> Artikel!K3 | E11: Artikel!K1 | F11: Artikel!K2 | G11: Artikel!K3 | I11: =Artikel!K1 -> Artikel10 | J11: =Artikel!K2 -> 7 | K11: =Artikel!K3 -> PreisArtikel10
A13: Formel | E13: Werte einfügen | I13: Suchen/Ersetzen
I14: nach "Artikel!" suchen und durch "=Artikel!" ersetzen
