Workbook

Sheet Test
I1: Station | O1: VWD | P1: UGVD | Q1: MVD | R1: OGVD | T1: VWD - UGVD | U1: OGVD - VWD | V1: MVD - VWD | W1: MVD - VWD - UGVD | Y1: 1. VWD >= UGVD & < MVD | Z1: 2. VWD >= MVD & < OGVD | AA1: 3. VWD >= OVD | AB1: 4. VWD < UGVD
I2: K1 | O2: 1 | P2: 0 | Q2: 1 | R2: 0 | T2: =O2-P2 -> 1 | U2: =R2-O2 -> -1 | V2: =Q2-O2 -> 0 | W2: =Q2-O2-P2 -> 0 | Y2: =IF(AND(O2>=P2,O2<Q2),"Ja","") | Z2: =IF(AND(O2>=Q2,O2<R2),"Ja","") | AA2: =IF(O2>=R2,"Ja","") -> Ja | AB2: =IF(O2<P2,"Ja","")
I3: K1 | O3: 1 | P3: 0 | Q3: 1 | R3: 0 | T3: =O3-P3 -> 1 | U3: =R3-O3 -> -1 | V3: =Q3-O3 -> 0 | W3: =Q3-O3-P3 -> 0 | Y3: =IF(AND(O3>=P3,O3<Q3),"Ja","") | Z3: =IF(AND(O3>=Q3,O3<R3),"Ja","") | AA3: =IF(O3>=R3,"Ja","") -> Ja | AB3: =IF(O3<P3,"Ja","")
I4: K1 | O4: 1 | P4: 0 | Q4: 1 | R4: 0 | T4: =O4-P4 -> 1 | U4: =R4-O4 -> -1 | V4: =Q4-O4 -> 0 | W4: =Q4-O4-P4 -> 0 | Y4: =IF(AND(O4>=P4,O4<Q4),"Ja","") | Z4: =IF(AND(O4>=Q4,O4<R4),"Ja","") | AA4: =IF(O4>=R4,"Ja","") -> Ja | AB4: =IF(O4<P4,"Ja","")
I5: K1 | O5: 1 | P5: 0 | Q5: 1 | R5: 0 | T5: =O5-P5 -> 1 | U5: =R5-O5 -> -1 | V5: =Q5-O5 -> 0 | W5: =Q5-O5-P5 -> 0 | Y5: =IF(AND(O5>=P5,O5<Q5),"Ja","") | Z5: =IF(AND(O5>=Q5,O5<R5),"Ja","") | AA5: =IF(O5>=R5,"Ja","") -> Ja | AB5: =IF(O5<P5,"Ja","")
I6: K1 | O6: 1 | P6: 0 | Q6: 1 | R6: 0 | T6: =O6-P6 -> 1 | U6: =R6-O6 -> -1 | V6: =Q6-O6 -> 0 | W6: =Q6-O6-P6 -> 0 | Y6: =IF(AND(O6>=P6,O6<Q6),"Ja","") | Z6: =IF(AND(O6>=Q6,O6<R6),"Ja","") | AA6: =IF(O6>=R6,"Ja","") -> Ja | AB6: =IF(O6<P6,"Ja","")
I7: K1 | O7: 18 | P7: 0 | Q7: 9.3 | R7: 15 | T7: =O7-P7 -> 18 | U7: =R7-O7 -> -3 | V7: =Q7-O7 -> -8.7 | W7: =Q7-O7-P7 -> -8.7 | Y7: =IF(AND(O7>=P7,O7<Q7),"Ja","") | Z7: =IF(AND(O7>=Q7,O7<R7),"Ja","") | AA7: =IF(O7>=R7,"Ja","") -> Ja | AB7: =IF(O7<P7,"Ja","")
I8: K1 | O8: 13 | P8: 0 | Q8: 9.3 | R8: 15 | T8: =O8-P8 -> 13 | U8: =R8-O8 -> 2 | V8: =Q8-O8 -> -3.7 | W8: =Q8-O8-P8 -> -3.7 | Y8: =IF(AND(O8>=P8,O8<Q8),"Ja","") | Z8: =IF(AND(O8>=Q8,O8<R8),"Ja","") -> Ja | AA8: =IF(O8>=R8,"Ja","") | AB8: =IF(O8<P8,"Ja","")
I9: K1 | O9: 1 | P9: 0 | Q9: 1 | R9: 0 | T9: =O9-P9 -> 1 | U9: =R9-O9 -> -1 | V9: =Q9-O9 -> 0 | W9: =Q9-O9-P9 -> 0 | Y9: =IF(AND(O9>=P9,O9<Q9),"Ja","") | Z9: =IF(AND(O9>=Q9,O9<R9),"Ja","") | AA9: =IF(O9>=R9,"Ja","") -> Ja | AB9: =IF(O9<P9,"Ja","")
I10: K1 | O10: 1 | P10: 0 | Q10: 1 | R10: 0 | T10: =O10-P10 -> 1 | U10: =R10-O10 -> -1 | V10: =Q10-O10 -> 0 | W10: =Q10-O10-P10 -> 0 | Y10: =IF(AND(O10>=P10,O10<Q10),"Ja","") | Z10: =IF(AND(O10>=Q10,O10<R10),"Ja","") | AA10: =IF(O10>=R10,"Ja","") -> Ja | AB10: =IF(O10<P10,"Ja","")
I11: K1 | O11: 1 | P11: 0 | Q11: 1 | R11: 0 | T11: =O11-P11 -> 1 | U11: =R11-O11 -> -1 | V11: =Q11-O11 -> 0 | W11: =Q11-O11-P11 -> 0 | Y11: =IF(AND(O11>=P11,O11<Q11),"Ja","") | Z11: =IF(AND(O11>=Q11,O11<R11),"Ja","") | AA11: =IF(O11>=R11,"Ja","") -> Ja | AB11: =IF(O11<P11,"Ja","")
I12: K1 | O12: 6 | P12: 0 | Q12: 3.8 | R12: 9 | T12: =O12-P12 -> 6 | U12: =R12-O12 -> 3 | V12: =Q12-O12 -> -2.2 | W12: =Q12-O12-P12 -> -2.2 | Y12: =IF(AND(O12>=P12,O12<Q12),"Ja","") | Z12: =IF(AND(O12>=Q12,O12<R12),"Ja","") -> Ja | AA12: =IF(O12>=R12,"Ja","") | AB12: =IF(O12<P12,"Ja","")
I13: K1 | O13: 1 | P13: 0 | Q13: 1 | R13: 0 | T13: =O13-P13 -> 1 | U13: =R13-O13 -> -1 | V13: =Q13-O13 -> 0 | W13: =Q13-O13-P13 -> 0 | Y13: =IF(AND(O13>=P13,O13<Q13),"Ja","") | Z13: =IF(AND(O13>=Q13,O13<R13),"Ja","") | AA13: =IF(O13>=R13,"Ja","") -> Ja | AB13: =IF(O13<P13,"Ja","")
... I3962: K4 | O3962: 70 | P3962: 20 | Q3962: 63.1 | R3962: 81 | T3962: =O3962-P3962 -> 50 | U3962: =R3962-O3962 -> 11 | V3962: =Q3962-O3962 -> -6.9 | W3962: =Q3962-O3962-P3962 -> -26.9 | Y3962: =IF(AND(O3962>=P3962,O3962<Q3962),"Ja","") | Z3962: =IF(AND(O3962>=Q3962,O3962<R3962),"Ja","") -> Ja | AA3962: =IF(O3962>=R3962,"Ja","") | AB3962: =IF(O3962<P3962,"Ja","")
W3966: Anzahl JA | Y3966: =COUNTIF(Y2:Y3962,"Ja") -> 2772 | Z3966: =COUNTIF(Z2:Z3962,"Ja") -> 885 | AA3966: =COUNTIF(AA2:AA3962,"Ja") -> 302 | AB3966: =COUNTIF(AB2:AB3962,"Ja") -> 8 | AD3966: =SUM(Y3966:AC3966) -> 3967

Sheet Auswertung
A1: A u s w e r t u ng V e r w e i l d a u e r
C3: Gesamt | E3: K1 | G3: K2 | I3: K3 | K3: K4 | N3: Kontroll-Sa.
A4: Platz | B4: Bedingung | C4: Anzahl | D4: Prozent | E4: Anzahl | F4: Prozent | G4: Anzahl | H4: Prozent | I4: Anzahl | J4: Prozent | K4: Anzahl | L4: Prozent
B5: Anzahl Fälle | C5: =COUNTA(Test!$I$2:$I$5000) -> 3961 | E5: =COUNTIF(Test!$I$2:$I$4999,"K1") -> 1317 | G5: =COUNTIF(Test!$I$2:$I$4999,"K2") -> 2051 | I5: =COUNTIF(Test!$I$2:$I$4999,"K3") -> 512 | K5: =COUNTIF(Test!$I$2:$I$4999,"K4") -> 81 | N5: =SUM(E5:L5) -> 3961
A7: 1 | B7: VWD >= UGVD & < MVD | C7: =COUNTIF(Test!$Y$2:$Y$5000,"Ja") -> 2772 | D7: =ROUND(C7*100/C$5,3) -> 69.982 | E7: =COUNTIFS(Test!$I$2:$I$5000,"K1",Test!$Y$2:$Y$5000,"Ja") -> 985 | F7: =ROUND(E7*100/E$5,3) -> 74.791 | G7: =COUNTIFS(Test!$I$2:$I$4999,"K2",Test!$Y$2:$Y$4999,"Ja") -> 1503 | H7: =ROUND(G7*100/G$5,3) -> 73.281 | I7: =COUNTIFS(Test!$I$2:$I$4999,"K3",Test!$Y$2:$Y$4999,"Ja") -> 242 | J7: =ROUND(I7*100/I$5,3) -> 47.266 | K7: =COUNTIFS(Test!$I$2:$I$4999,"K4",Test!$Y$2:$Y$4999,"Ja") -> 42 | L7: =ROUND(K7*100/K$5,3) -> 51.852 | N7: =SUM(E7,G7,I7,K7) -> 2772 | O7: =SUM(F7,H7,J7,L7) -> 247.19
A8: 2 | B8: VWD >= MVD & < OGVD | C8: =COUNTIF(Test!$Z$2:$Z$5000,"Ja") -> 885 | D8: =ROUND(C8*100/C$5,3) -> 22.343 | E8: =COUNTIFS(Test!$I$2:$I$5000,"K1",Test!$Z$2:$Z$5000,"Ja") -> 233 | F8: =ROUND(E8*100/E$5,3) -> 17.692 | G8: =COUNTIFS(Test!$I$2:$I$4999,"K2",Test!$Z$2:$Z$4999,"Ja") -> 437 | H8: =ROUND(G8*100/G$5,3) -> 21.307 | I8: =COUNTIFS(Test!$I$2:$I$5000,"K3",Test!$Z$2:$Z$5000,"Ja") -> 192 | J8: =ROUND(I8*100/I$5,3) -> 37.5 | K8: =COUNTIFS(Test!$I$2:$I$4999,"K4",Test!$Z$2:$Z$4999,"Ja") -> 23 | L8: =ROUND(K8*100/K$5,3) -> 28.395 | N8: =SUM(E8,G8,I8,K8) -> 885 | O8: =SUM(F8,H8,J8,L8) -> 104.894
A9: 3 | B9: VWD >= OVD | C9: =COUNTIF(Test!$AA$2:$AA$5000,"Ja") -> 302 | D9: =ROUND(C9*100/C$5,3) -> 7.624 | E9: =COUNTIFS(Test!$I$2:$I$5000,"K1",Test!$AA$2:$AA$5000,"Ja") -> 96 | F9: =ROUND(E9*100/E$5,3) -> 7.289 | G9: =COUNTIFS(Test!$I$2:$I$5000,"K2",Test!$AA$2:$AA$5000,"Ja") -> 109 | H9: =ROUND(G9*100/G$5,3) -> 5.314 | I9: =COUNTIFS(Test!$I$2:$I$5000,"K3",Test!$AA$2:$AA$5000,"Ja") -> 77 | J9: =ROUND(I9*100/I$5,3) -> 15.039 | K9: =COUNTIFS(Test!$I$2:$I$5000,"K4",Test!$AA$2:$AA$5000,"Ja") -> 20 | L9: =ROUND(K9*100/K$5,3) -> 24.691 | N9: =SUM(E9,G9,I9,K9) -> 302 | O9: =SUM(F9,H9,J9,L9) -> 52.333
A10: 4 | B10: VWD < UGVD | C10: =COUNTIF(Test!$AB$2:$AB$5000,"Ja") -> 8 | D10: =ROUND(C10*100/C$5,3) -> 0.202 | E10: =COUNTIFS(Test!$I$2:$I$5000,"K1",Test!$AB$2:$AB$5000,"Ja") -> 3 | F10: =ROUND(E10*100/E$5,3) -> 0.228 | G10: =COUNTIFS(Test!$I$2:$I$5000,"K2",Test!$AB$2:$AB$5000,"Ja") -> 2 | H10: =ROUND(G10*100/G$5,3) -> 0.098 | I10: =COUNTIFS(Test!$I$2:$I$5000,"K3",Test!$AB$2:$AB$5000,"Ja") -> 1 | J10: =ROUND(I10*100/I$5,3) -> 0.195 | K10: =COUNTIFS(Test!$I$2:$I$5000,"K4",Test!$AB$2:$AB$5000,"Ja") -> 2 | L10: =ROUND(K10*100/K$5,3) -> 2.469 | N10: =SUM(E10,G10,I10,K10) -> 8 | O10: =SUM(F10,H10,J10,L10) -> 2.99
B12: Summe | C12: =SUM(C7:C10) -> 3967 | D12: =SUM(D7:D10) -> 100.151 | E12: =SUM(E7:E10) -> 1317 | F12: =SUM(F7:F10) -> 100 | G12: =SUM(G7:G10) -> 2051 | H12: =SUM(H7:H10) -> 100 | I12: =SUM(I7:I10) -> 512 | J12: =SUM(J7:J10) -> 100 | ... L12: =SUM(L7:L10) -> 107.407 | N12: =SUM(N7:N11) -> 3967 | O12: =SUM(O7:O11) -> 407.407
